{"text_format":"1","workbook":"xlsx","n_sheets":8,"sheets":["Horário Geral ","Horário Geral (Semana 2)","Horário Docente","Horário do Espaço","Horário da Turma","Uso dos Espaços","Professores","Plan1"],"not_rendered":{"charts":0,"images":0,"macros":1,"external_links":0,"defined_names":0,"comments":0,"pivot_tables":0},"unopened":[],"bounds":{"document_bytes":16777216,"sheet_cells":100000,"rows_first":2000,"rows_last":500,"rows_between":2000,"halvings":0,"cell_chars":16384,"cell_head_chars":4096},"cells_cut":0,"cells_raw":0,"read":"whole","date_system":"1900"}

{"sheet":"Horário Geral ","index":0,"n_rows":218,"n_cols":42,"rows_kept":218,"cut":false,"hidden":false,"merged":[[7,6,7,17],[7,18,7,29],[4,6,4,41],[6,2,6,5],[6,6,6,17],[6,18,6,29],[6,30,6,41],[7,2,8,2],[7,3,8,3],[7,30,7,41],[7,4,8,4],[7,5,8,5],[9,2,20,2],[9,3,14,3],[15,3,20,3],[21,3,26,3],[27,3,31,3],[103,2,120,2],[121,2,138,2],[139,2,156,2],[21,2,32,2],[33,2,44,2],[57,2,68,2],[69,2,84,2],[85,2,102,2],[33,3,38,3],[39,3,44,3],[45,2,56,2],[45,3,50,3],[63,3,68,3],[51,3,56,3],[57,3,62,3],[139,3,144,3],[145,3,150,3],[151,3,156,3],[69,3,72,3],[73,3,78,3],[79,3,84,3],[85,3,90,3],[91,3,96,3],[97,3,102,3],[103,3,108,3],[109,3,114,3],[115,3,120,3],[121,3,126,3],[127,3,132,3],[133,3,138,3]]}
[]
[]
[]
[]
[]
[]
[null,null,null,null,null,null,"HORÁRIOS DE AULAS/ATENDIMENTOS SÍNCRONOS",null,null,null,null,null,null,null,null,null,null,null,"HORÁRIOS DE AULAS/ATENDIMENTOS SÍNCRONOS",null,null,null,null,null,null,null,null,null,null,null,"HORÁRIOS DE AULAS/ATENDIMENTOS SÍNCRONOS"]
[null,null,"Dia","Turno","Aula","Horário","EDIFICAÇÕES",null,null,null,null,null,null,null,null,null,null,null,"ELETROMECÂNICA",null,null,null,null,null,null,null,null,null,null,null,"INFORMÁTICA"]
[null,null,null,null,null,null,"1º A EDIF.","Professor(a)","1º B EDIF.","Professor(a)","2º A EDIF","Professor(a)","2º B EDIF","Professor(a)","3º A EDIF","Professor(a)","3º B EDIF","Professor(a)","1º A ELETRO","Professor(a)","1º B ELETRO","Professor(a)","2º A ELETRO","Professor(a)","2ª B ELETRO","Professor(a)","3º A ELETRO","Professor(a)","3º B ELETRO","Professor(a)","1º A INFO","Professor(a)","1º B INFO","Professor(a)","2º A INFO","Professor(a)","2º B INFO","Professor(a)","3º A INFO","Professor(a)","3º B INFO","Professor(a)"]
[null,null,"SEGUNDA","MATUTINO","1ª","08:00 às 8:40","L. INGLESA","M. Helena",null,null,"GEOGRAFIA","Jaqueline",null,null,"PROJ.ESTRUTURA","Michel",null,null,"GEOGRAFIA","Marcel",null,null,"MATEMÁTICA","Luiz",null,null,"L. PORTUGUESA","Moisés","L. PORTUGUESA","Moisés","L. INGLESA","M. Helena",null,null,"POO","Douglas",null,null,"FILOSOFIA","Alvino"]
[null,null,null,null,"2ª","08:50 às 9:30","GEOGRAFIA","Marcel",null,null,"L. INGLESA","M. Helena",null,null,"SOCIOLOGIA","Aline R.",null,null,"BIOLOGIA","Camila",null,null,"FILOSOFIA","Alvino",null,null,"INST.INDUS.","Shinzato","INST.INDUS.","Shinzato","ED. FÍSICA","Paulo S.",null,null,"L. INGLESA","M. Helena",null,null,"FÍSICA","Marisa"]
[null,null,null,null,"3ª","09:40 às 10:20","TECNO CONST","Sabóia",null,null,"ED. FÍSICA","Silvio",null,null,"PATOLOGIAS","Júnior",null,null,"METROLOGIA","Eduardo D.",null,null,"BIOLOGIA","Camila",null,null,"PLANEJAMENTO","Shinzato","PLANEJAMENTO","Shinzato","I.T.I","Douglas",null,null,"FILOSOFIA","Alvino",null,null,"L. PORTUGUESA","Moisés"]
[null,null,null,null,"4ª","10:30 às 11:10","-","-",null,null,"ESTABILIDADE","Michel",null,null,"L. PORTUGUESA","Moisés",null,null,"L. INGLESA","M. Helena",null,null,"MAQ.ELÉTRICAS","Adriana",null,null,"FILOSOFIA","Alvino","FILOSOFIA","Alvino","SOCIOLOGIA","Ricardo A.",null,null,"GEOGRAFIA","Jaqueline",null,null,"P. WEB","Bruno"]
[null,null,null,null,"5ª","11:20 às 12:00","-","-",null,null,"-","-",null,null,"FILOSOFIA","Alvino",null,null,"-","-",null,null,"-","-",null,null,"-","-","-","-","-","-",null,null,"-","-",null,null,"-","-"]
[]
[null,null,null,"VESPERTINO","1ª","14:00 às 14:40",null,null,"L. INGLESA","M. Helena",null,null,"SOCIOLOGIA","Ricardo A.",null,null,"PROJ.ESTRUTURA","Michel",null,null,"L. INGLESA","M. Helena",null,null,"MATEMÁTICA","Luiz",null,null,null,null,null,null,"L. INGLESA","M. Helena",null,null,"QUÍMICA","Rodrigo S.",null,null,"FILOSOFIA","Alvino"]
[null,null,null,null,"2ª","14:50 às 15:30",null,null,"SOCIOLOGIA","Ricardo A.",null,null,"ESTABILIDADE","Michel",null,null,"FILOSOFIA","Alvino",null,null,"GEOGRAFIA","Marcel",null,null,"BIOLOGIA","Camila",null,null,null,null,null,null,"LÓGICA","Wagner",null,null,"BANCO DE DADOS I","Bruno",null,null,"FÍSICA","Marisa"]
[null,null,null,null,"3ª","15:40 às 16:20",null,null,"ARTE","Fabiani",null,null,"GEOGRAFIA","Jaqueline",null,null,"L. ESPANHOLA","Dayane",null,null,"METROLOGIA","Eduardo D.",null,null,"FILOSOFIA","Alvino",null,null,null,null,null,null,"ARTE","Fabiani",null,null,"POO","Douglas",null,null,"QUÍMICA","Rodrigo S."]
[null,null,null,null,"4ª","16:30 às 17:10",null,null,"TECNO CONST","Sabóia",null,null,"FILOSOFIA","Alvino",null,null,"PATOLOGIAS","Júnior",null,null,"BIOLOGIA","Camila",null,null,"MAQ.ELÉTRICAS","Adriana",null,null,null,null,null,null,"I.T.I","Douglas",null,null,"FUNDAMENTOS","Wagner",null,null,"P. WEB","Bruno"]
[null,null,null,null,"5ª","17:20 às 18:00",null,null,"-","-",null,null,"-","-",null,null,"-","-",null,null,"-","-",null,null,"-","-",null,null,null,null,null,null,"-","-",null,null,"FILOSOFIA","Alvino",null,null,"-","-"]
[]
[null,null,"TERÇA","MATUTINO","1ª","08:00 às 8:40","MATEMÁTICA","Valdir",null,null,"BIOLOGIA","Angélica",null,null,"L. ESPANHOLA","Dayane",null,null,"MATEMÁTICA","Valmir",null,null,"GEOGRAFIA","Jaqueline",null,null,"FÍSICA","Ricardo V.","MATEMÁTICA","Sérgio","FÍSICA","Marisa",null,null,"BIOLOGIA","Angélica",null,null,"MATEMÁTICA","Edinalcio"]
[null,null,null,null,"2ª","08:50 às 9:30","BIOLOGIA","Angélica",null,null,"HISTÓRIA/Espanhol","Heloísa",null,null,"ED. FÍSICA","Flávio",null,null,"ELETRICIDADE","Adriana",null,null,"L. INGLESA","M. Helena",null,null,"MATEMÁTICA","Sérgio","FÍSICA","Ricardo V.","MATEMÁTICA","Valdir",null,null,"SOCIOLOGIA","Ricardo A.",null,null,"QUÍMICA","Rodrigo S."]
[null,null,null,null,"3ª","09:40 às 10:20","SOCIOLOGIA","Ricardo A.",null,null,"MATEMÁTICA","Edinalcio",null,null,"INST.HID.SANIT","Sabóia",null,null,"FÍSICA","Ricardo V.",null,null,"MAQ.HIDR.","Eduardo D.",null,null,"ELETROTÉCNICA","Adriana","ELETROTÉCNICA","Adriana","QUÍMICA","Rodrigo S.",null,null,"MATEMÁTICA","Edinalcio",null,null,"PROJ DES SIST","Bruno"]
[null,null,null,null,"4ª","10:30 às 11:10","ED. FÍSICA","Paulo S.",null,null,"SOCIOLOGIA","Ricardo A.",null,null,"MATEMÁTICA","Edinalcio",null,null,"SOCIOLOGIA","Aline R.",null,null,"L. ESPANHOLA","Heloísa",null,null,"EMPREEND","Valéria","EMPREEND","Valéria","BIOLOGIA","Camila",null,null,"BANCO DE DADOS I","Bruno",null,null,"ED. FÍSICA","Flávio"]
[null,null,null,null,"5ª","11:20 às 12:00","FILOSOFIA","Osvaldo",null,null,"-","-",null,null,"-","-",null,null,"-","-",null,null,"FÍSICA","Ricardo V.",null,null,"L. ESPANHOLA","Dayane","L. ESPANHOLA","Dayane","-","-",null,null,"-","-",null,null,"-","-"]
[]
[null,null,null,"VESPERTINO","1ª","14:00 às 14:40",null,null,"MATEMÁTICA","Valdir",null,null,"MATEMÁTICA","Valmir",null,null,"QUÍMICA","Rodrigo S.",null,null,"ELETRICIDADE","Adriana",null,null,"GEOGRAFIA","Jaqueline",null,null,null,null,null,null,"BIOLOGIA","Camila",null,null,"SOCIOLOGIA","Ricardo A.",null,null,"L. PORTUGUESA","Moisés"]
[null,null,null,null,"2ª","14:50 às 15:30",null,null,"BIOLOGIA","Angélica",null,null,"L. INGLESA","M. Helena",null,null,"EMPREEND","Valéria",null,null,"FÍSICA","Ricardo V.",null,null,"L. INGLESA","M. Helena",null,null,null,null,null,null,"MATEMÁTICA","Valdir",null,null,"MATEMÁTICA","Sérgio",null,null,"EMPREEND","Valéria"]
[null,null,null,null,"3ª","15:40 às 16:20",null,null,"FILOSOFIA","Osvaldo",null,null,"BIOLOGIA","Angélica",null,null,"ED. FÍSICA","Flávio",null,null,"L. PORTUGUESA","Rosa",null,null,"MAQ.HIDR.","Eduardo D.",null,null,null,null,null,null,"QUÍMICA","Rodrigo S.",null,null,"BIOLOGIA","Angélica",null,null,"ED. FÍSICA","Flávio"]
[null,null,null,null,"4ª","16:30 às 17:10",null,null,"-","-",null,null,"L. ESPANHOLA","Heloísa",null,null,"L. PORTUGUESA","Moisés",null,null,"SOCIOLOGIA","Aline R.",null,null,"L. ESPANHOLA","Heloísa",null,null,null,null,null,null,"SOCIOLOGIA","Ricardo A.",null,null,"GEOGRAFIA","Jaqueline",null,null,"PROJ DES SIST","Bruno"]
[null,null,null,null,"5ª","17:20 às 18:00",null,null,"-","-",null,null,"QUÍMICA","Camila",null,null,"-","-",null,null,"FILOSOFIA","Osvaldo",null,null,"FÍSICA","Ricardo V.",null,null,null,null,null,null,"-","-",null,null,"-","-",null,null,"-","-"]
[]
[null,null,"QUARTA","MATUTINO","1ª","08:00 às 8:50"]
[null,null,null,null,"2ª","09:00 às 9:50"]
[null,null,null,null,"3ª","10:00 às 10:50"]
[null,null,null,null,"4ª","11:00 às 11:50"]
[]
[]
[null,null,null,"VESPERTINO","1ª","14:00 às 14:50"]
[null,null,null,null,"2ª","15:00 às 15:50"]
[null,null,null,null,"3ª","16:00 às 16:50"]
[null,null,null,null,"4ª","17:00 às 17:50"]
[]
[]
[null,null,"QUINTA","MATUTINO","1ª","08:00 às 8:40","QUÍMICA","Rodrigo S.",null,null,"QUÍMICA","Camila",null,null,"GER. AMBIENTAL",null,null,null,"L. PORTUGUESA","Rosa",null,null,"OPP","Osvaldo",null,null,"AUTOMAÇÃO","Ewerton","AUTOMAÇÃO","Ewerton","LÓGICA","Wagner",null,null,"FÍSICA","Marisa",null,null,"L. ESPANHOLA","Dayane"]
[null,null,null,null,"2ª","08:50 às 9:30","MAT CONSTRUÇÃO","Júnior",null,null,"OPP","Osvaldo",null,null,"EMPREEND","Valéria",null,null,"QUÍMICA","Camila ",null,null,"SOCIOLOGIA","Aline R.",null,null,"RESIS.ENSAIO DE MAT.","Jairo","RESIS.ENSAIO DE MAT.","Jairo","GEOGRAFIA","Marcel",null,null,"QUÍMICA","Rodrigo S.",null,null,"EMPREEND","Valéria"]
[null,null,null,null,"3ª","09:40 às 10:20","LEGISLAÇÃO","Tiago",null,null,"L. ESPANHOLA","Heloísa",null,null,"QUÍMICA","Camila ",null,null,"ELETRÔNICA","Ewerton",null,null,"L. PORTUGUESA","Elaine",null,null,"MAQ.HIDR.","Eduardo D.","MAQ.HIDR.","Eduardo D.","FILOSOFIA","Osvaldo",null,null,"L. ESPANHOLA","Heloísa",null,null,"SOCIOLOGIA","Ricardo A."]
[null,null,null,null,"4ª","10:30 às 11:10","-","-",null,null,"GEREN.OBRAS","Tiago",null,null,"INST.HID.SANIT","Sabóia",null,null,"FILOSOFIA","Osvaldo",null,null,"MECÂNICA TÉCNICA","Jairo",null,null,"ED. FÍSICA","Flávio","ED. FÍSICA","Flávio","-","-",null,null,"FUNDAMENTOS","Wagner",null,null,"BANCO DE DADOS II","Douglas"]
[null,null,null,null,"5ª","11:20 às 12:00","-","-",null,null,"TOPOGRAFIA","Tiago",null,null,"FÍSICA","-",null,null,"-","-",null,null,"INST.ELÉTRICAS","Ewerton",null,null,"SOCIOLOGIA","Aline R.","SOCIOLOGIA","Aline R.","-","-",null,null,"OPP","Osvaldo",null,null,"-","-"]
[]
[null,null,null,"VESPERTINO","1ª","14:00 às 14:40",null,null,"DESENHO","Artur",null,null,"PROJ.ARQUI",null,null,null,"GER. AMBIENTAL",null,null,null,"ARTE","Fabiani",null,null,"OPP","Osvaldo",null,null,null,null,null,null,"L. PORTUGUESA","Adriana",null,null,"L. INGLESA","M. Helena",null,null,"MATEMÁTICA","Sérgio"]
[null,null,null,null,"2ª","14:50 às 15:30",null,null,"QUÍMICA","Rodrigo S.",null,null,"OPP","Osvaldo",null,null,"MATEMÁTICA","Sérgio",null,null,"QUÍMICA","Camila ",null,null,"SOCIOLOGIA","Aline R.",null,null,null,null,null,null,"GEOGRAFIA","Marcel",null,null,"HISTÓRIA/Espanhol","Heloísa",null,null,"L. ESPANHOLA","Dayane"]
[null,null,null,null,"3ª","15:40 às 16:20",null,null,"MAT CONSTRUÇÃO","Júnior",null,null,"TOPOGRAFIA","Tiago",null,null,"PLAN. ORÇ.","Sankeis",null,null,"ELETRÔNICA","Ewerton",null,null,"HISTÓRIA/Espanhol","Heloísa",null,null,null,null,null,null,"FILOSOFIA","Osvaldo",null,null,"L. ESPANHOLA","Heloísa",null,null,"SOCIOLOGIA","Ricardo A."]
[null,null,null,null,"4ª","16:30 às 17:10",null,null,"LEGISLAÇÃO","Tiago",null,null,"FÍSICA","Melqui",null,null,"PROJ. INST. ELÉT.","Sankeis",null,null,"MATEMÁTICA","Valmir",null,null,"MECÂNICA TÉCNICA","Jairo",null,null,null,null,null,null,"-","-",null,null,"OPP","Osvaldo",null,null,"BANCO DE DADOS II","Douglas"]
[null,null,null,null,"5ª","17:20 às 18:00",null,null,"-","-",null,null,"-","-",null,null,"FÍSICA","Melqui",null,null,"-","-",null,null,"INST.ELÉTRICAS","Ewerton",null,null,null,null,null,null,"-","-",null,null,"-","-"]
[]
[null,null,"SEXTA","MATUTINO","1ª","08:00 às 8:40","DESENHO","Artur",null,null,"PROJ.ARQUI",null,null,null,"PLAN. ORÇ.","Sankeis",null,null,"ED. FÍSICA","Paulo S.",null,null,"QUÍMICA","Camila ",null,null,"HISTÓRIA","Éder","HISTÓRIA","Éder","I.M.C","Arno",null,null,"HISTÓRIA/Espanhol","Heloísa",null,null,"SEG.TRABALHO","Tiago"]
[null,null,null,null,"2ª","08:50 às 9:30","L. PORTUGUESA","Adriana",null,null,"L. PORTUGUESA","Rosa",null,null,"PROJ. INST. ELÉT.","Sankeis",null,null,"DESENHO","Carlos",null,null,"HISTÓRIA/Espanhol","Heloísa",null,null,"MAQ. TÉRMICAS","Carlos","MAQ. TÉRMICAS","Carlos","ARTE","Fabiani",null,null,"L. PORTUGUESA","Elaine",null,null,"REDES","Arno"]
[null,null,null,null,"3ª","09:40 às 10:20","FÍSICA","Melqui",null,null,"FILOSOFIA","Alvino",null,null,"HISTÓRIA","Éder",null,null,"P. DE FABRICAÇÃO","Jairo",null,null,"ED. FÍSICA","Silvio",null,null,"EL.MAQUINAS","Carlos","EL.MAQUINAS","Carlos","L. PORTUGUESA","Adriana",null,null,"BANCO DE DADOS I","Bruno",null,null,"HISTÓRIA","Éder"]
[null,null,null,null,"4ª","10:30 às 11:10","ARTE","Fabiani",null,null,"FÍSICA","Melqui",null,null,"MEC. SOLOS","Sabóia",null,null,"ARTE","Fabiani",null,null,"CIÊNC. MAT.","Shinzato",null,null,"QUÍMICA","Camila ","QUÍMICA","Camila ","-","-",null,null,"ED. FÍSICA","Silvio"]
[null,null,null,null,"5ª","11:20 às 12:00","-","-",null,null,"-","-",null,null,"-","-",null,null,"-","-",null,null,"-","-",null,null,"-","-","-","-","-","-",null,null,"-","-"]
[]
[null,null,null,"VESPERTINO","1ª","14:00 às 14:40",null,null,"L. PORTUGUESA","Adriana",null,null,"L. PORTUGUESA","Rosa",null,null,"HISTÓRIA","Éder",null,null,"DESENHO","Carlos",null,null,"QUÍMICA","Camila ",null,null,null,null,null,null,"I.M.C","Arno",null,null,"L. PORTUGUESA","Elaine",null,null,"HISTÓRIA","Éder"]
[null,null,null,null,"2ª","14:50 às 15:30",null,null,"ED. FÍSICA","Paulo S.",null,null,"GEREN.OBRAS","Tiago",null,null,"SOCIOLOGIA","Aline R.",null,null,"ED. FÍSICA","Paulo S.",null,null,"L. PORTUGUESA","Elaine",null,null,null,null,null,null,"FÍSICA","Marisa",null,null,"ED. FÍSICA","Silvio",null,null,"REDES","Arno"]
[null,null,null,null,"3ª","15:40 às 16:20",null,null,"GEOGRAFIA","Marcel",null,null,"ED. FÍSICA","Silvio",null,null,"INST.HID.SANIT","Sabóia",null,null,"P. DE FABRICAÇÃO","Jairo",null,null,"ED. FÍSICA","Silvio",null,null,null,null,null,null,"ED. FÍSICA","Paulo S.",null,null,"FÍSICA","Marisa",null,null,"SEG.TRABALHO","Tiago"]
[null,null,null,null,"4ª","16:30 às 17:10",null,null,"FÍSICA","Melqui",null,null,"HISTÓRIA/Espanhol","Heloísa",null,null,"MEC. SOLOS","Sabóia",null,null,"-","-",null,null,"CIÊNC. MAT.","Shinzato",null,null,null,null,null,null,"-","-",null,null,"-","-",null,null,"-","-"]
[null,null,null,null,"5ª","17:20 às 18:00",null,null,"-","-",null,null,"-","-",null,null,"-","-",null,null,"-","-",null,null,"-","-",null,null,null,null,null,null,"-","-",null,null,"-","-",null,null,"-","-"]
[]
[]
[]
[]
[]
[]
[]
[]
[]
[]
[]
[]
[]
[]
[]
[]
[]
[]
[]
[]
[]
[]
[]
[]
[]
[]
[]
[]
[]
[]
[]
[]
[]
[]
[]
[]
[]
[]
[]
[]
[]
[]
[]
[]
[]
[]
[]
[]
[]
[]
[]
[]
[]
[]
[]
[]
[]
[]
[]
[]
[]
[]
[]
[]
[]
[]
[]
[]
[]
[]
[]
[]
[]
[]
[]
[]
[]
[]
[]
[]
[]
[]
[]
[]
[]
[]
[]
[]
[]
[]
[]
[]
[null,null,null,null,null,null,null,null,null,null,null,null,null,null,null,null,null,null,null,null,null,null,null,null,null,null,null,null,null,null,null,"BLOCO B – TERREO"]
[null,null,null,null,null,null,null,null,null,null,null,null,null,null,null,null,null,null,null,null,null,null,null,null,null,null,null,null,null,null,null,"SALA 2 – FÍSICA 31"]
[null,null,null,null,null,null,null,null,null,null,null,null,null,null,null,null,null,null,null,null,null,null,null,null,null,null,null,null,null,null,null,"SALA 5 - QUÍMICA 31"]
[null,null,null,null,null,null,"BLOCO B – TERREO"]
[null,null,null,null,null,null,"SALA 2 – FÍSICA 31",null,null,null,null,null,null,null,null,null,null,null,null,null,null,null,null,null,null,null,null,null,null,null,null,"BLOCO B – 1º PISO"]
[null,null,null,null,null,null,"SALA 5 - QUÍMICA 31",null,null,null,null,null,null,null,null,null,null,null,null,null,null,null,null,null,null,null,null,null,null,null,null,"SALA 1 – INGLÊS E ESPANHOL 36"]
[null,null,null,null,null,null,null,null,null,null,null,null,null,null,null,null,null,null,null,null,null,null,null,null,null,null,null,null,null,null,null,"SALA – 2 –PORTUGUES- INFORM"]
[null,null,null,null,null,null,"BLOCO B – 1º PISO",null,null,null,null,null,null,null,null,null,null,null,null,null,null,null,null,null,null,null,null,null,null,null,null,"SALA 3 – PORTUGUES – Edifações e Eletro 27"]
[null,null,null,null,null,null,"SALA 1 – INGLÊS E ESPANHOL 36",null,null,null,null,null,null,null,null,null,null,null,null,null,null,null,null,null,null,null,null,null,null,null,null,"SALA 4 – HISTORIA E FILOSOFIA 22"]
[null,null,null,null,null,null,"SALA – 2 –PORTUGUES- INFORM",null,null,null,null,null,null,null,null,null,null,null,null,null,null,null,null,null,null,null,null,null,null,null,null,"SALA 5 - DISCIPLINAS TÉCNICAS – EDIFICAÇÕES E OPP"]
[null,null,null,null,null,null,"SALA 3 – PORTUGUES – Edifações e Eletro 27",null,null,null,null,null,null,null,null,null,null,null,null,null,null,null,null,null,null,null,null,null,null,null,null,"SALA 6 – SOCIOLOGIA E EMPREENDEDORISMO 36"]
[null,null,null,null,null,null,"SALA 4 – HISTORIA E FILOSOFIA 22"]
[null,null,null,null,null,null,"SALA 5 - DISCIPLINAS TÉCNICAS – EDIFICAÇÕES E OPP",null,null,null,null,null,null,null,null,null,null,null,null,null,null,null,null,null,null,null,null,null,null,null,null,"BLOCO C – TERREO"]
[null,null,null,null,null,null,"SALA 6 – SOCIOLOGIA E EMPREENDEDORISMO 36",null,null,null,null,null,null,null,null,null,null,null,null,null,null,null,null,null,null,null,null,null,null,null,null,"SALA 2 – DISCIPLINAS TÉCNICAS ELETROMECÂNICA E OPP"]
[]
[null,null,null,null,null,null,"BLOCO C – TERREO",null,null,null,null,null,null,null,null,null,null,null,null,null,null,null,null,null,null,null,null,null,null,null,null,"BLOCO C – 1º PISO"]
[null,null,null,null,null,null,"SALA 2 – DISCIPLINAS TÉCNICAS ELETROMECÂNICA E OPP",null,null,null,null,null,null,null,null,null,null,null,null,null,null,null,null,null,null,null,null,null,null,null,null,"SALA 1 – BIOLOGIA 26"]
[null,null,null,null,null,null,null,null,null,null,null,null,null,null,null,null,null,null,null,null,null,null,null,null,null,null,null,null,null,null,null,"SALA 2 – GEOGRAFIA 26  EMPREEDEDORISMO "]
[null,null,null,null,null,null,"BLOCO C – 1º PISO",null,null,null,null,null,null,null,null,null,null,null,null,null,null,null,null,null,null,null,null,null,null,null,null,"SALA 3 –  MATEMÁTICA – EDIFICAÇÕES E ELETRO E ARQUITETURA 33"]
[null,null,null,null,null,null,"SALA 1 – BIOLOGIA 26",null,null,null,null,null,null,null,null,null,null,null,null,null,null,null,null,null,null,null,null,null,null,null,null,"SALA 4 –  DISCIPLINAS TÉCNICAS – EDIFICAÇÕES E ARQUITETURA"]
[null,null,null,null,null,null,"SALA 2 – GEOGRAFIA 26  EMPREEDEDORISMO ",null,null,null,null,null,null,null,null,null,null,null,null,null,null,null,null,null,null,null,null,null,null,null,null,"SALA 5 – DISCIPLINAS TECNICAS ELETROMECANICA  "]
[null,null,null,null,null,null,"SALA 3 –  MATEMÁTICA – EDIFICAÇÕES E ELETRO E ARQUITETURA 33",null,null,null,null,null,null,null,null,null,null,null,null,null,null,null,null,null,null,null,null,null,null,null,null,"SALA 6 – MATEMÁTICA (CURSO INFORMÁTICA) E ARTE 21 + 16 = 37"]
[null,null,null,null,null,null,"SALA 4 –  DISCIPLINAS TÉCNICAS – EDIFICAÇÕES E ARQUITETURA"]
[null,null,null,null,null,null,"SALA 5 – DISCIPLINAS TECNICAS ELETROMECANICA  "]
[null,null,null,null,null,null,"SALA 6 – MATEMÁTICA (CURSO INFORMÁTICA) E ARTE 21 + 16 = 37"]
[]
[]
[]
[]
[]
[]
[]
[]
[]
[]
[]
[]
[]
[]
[]
[]
[]
[]
[]
[]
[]
[]
[]
[]
[]
[]
[]
[]
[]
[]
[]
[]
[99,98,97,96,95,94,93,92,90,null,87,86,84,83,81,80,78,77,75,74,null,71,66,65,63,62,60,59,57,56,54,53,51,50,48,47,45,44,42,41,39,38]

{"sheet":"Horário Geral (Semana 2)","index":1,"n_rows":134,"n_cols":223,"rows_kept":134,"cut":false,"hidden":true,"merged":[[7,97,7,108],[7,110,7,119],[4,6,4,119],[7,6,7,23],[7,24,7,44],[7,45,7,68],[7,70,7,73],[7,75,7,86],[7,88,7,96],[27,2,44,2],[45,2,62,2],[63,2,80,2],[81,2,98,2],[9,2,26,2],[9,3,14,3],[15,3,20,3],[21,3,26,3],[27,3,32,3],[33,3,38,3],[39,3,44,3],[87,3,92,3],[93,3,98,3],[45,3,50,3],[51,3,56,3],[57,3,62,3],[63,3,68,3],[69,3,74,3],[75,3,80,3],[81,3,86,3]]}
[null,null,null,null,null,null,null,null,null,null,null,null,null,null,null,null,null,null,null,null,null,null,null,null,null,null,null,null,null,null,null,null,null,null,null,null,null,null,null,null,null,null,null,null,null,null,null,null,null,null,null,null,null,null,null,null,null,null,null,null,null,null,null,null,null,null,null,null,null,null,null,null,null,null,null,null,null,null,null,null,null,null,null,null,null,null,null,null,null,null,null,null,null,null,null,null,null,null,null,null,null,null,null,null,null,null,null,null,null,null,null,null,null,null,null,null,null,null,null,null,null,null,null,null,null,null,null,null,null,null,null,null,null,null,null,null,null,null,null,null,null,null,null,null,null,null,null,null,null,null,null,null,null,null,"PROFESSORES"]
[]
[]
[]
[null,null,null,null,null,null,"HORÁRIOS  2018",null,null,null,null,null,null,null,null,null,null,null,null,null,null,null,null,null,null,null,null,null,null,null,null,null,null,null,null,null,null,null,null,null,null,null,null,null,null,null,null,null,null,null,null,null,null,null,null,null,null,null,null,null,null,null,null,null,null,null,null,null,null,null,null,null,null,null,null,null,null,null,null,null,null,null,null,null,null,null,null,null,null,null,null,null,null,null,null,null,null,null,null,null,null,null,null,null,null,null,null,null,null,null,null,null,null,null,null,null,null,null,null,null,null,null,"ESPAÇOS",null,null,null,null,null,null,null,null,null,null,null,null,null,null,null,null,null,null,null,null,null,null,null,null,null,null,null,null,null,null,null,{"$f":"SUM(EY10:EY87)","v":14},10,12,9,13,10,5,14,9,8,12,18,16,null,{"$f":"SUM(FM10:FM87)","v":10},4,8,0,16,12,12,13,14,15,0,14,7,9,10,13,14,12,0,19,6,20,9,12,6,13,0,17,16,13,9,15,15,4,16,8,0,7,0,6,11,11,8,13,14,20,14,9,5,12,20]
[null,null,null,null,null,null,null,null,null,null,null,null,null,null,null,null,null,null,null,null,null,null,null,null,null,null,null,null,null,null,null,null,null,null,null,null,null,null,null,null,null,null,null,null,null,null,null,null,null,null,null,null,null,null,null,null,null,null,null,null,null,null,null,null,null,null,null,null,null,null,null,null,null,null,null,null,null,null,null,null,null,null,null,null,null,null,null,null,null,null,null,null,null,null,null,null,null,null,null,null,null,null,null,null,null,null,null,null,null,null,null,null,null,null,null,null,null,null,null,null,null,null,null,null,null,null,null,null,null,null,null,null,null,null,null,null,null,null,null,null,null,null,null,null,null,null,null,null,null,null,null,null,null,null,{"$f":"SUM(#REF!)","v":{"$error":"#REF!"}},{"$error":"#REF!"},{"$error":"#REF!"},{"$error":"#REF!"},{"$error":"#REF!"},{"$error":"#REF!"},{"$error":"#REF!"},{"$error":"#REF!"},{"$error":"#REF!"},{"$error":"#REF!"},{"$error":"#REF!"},{"$error":"#REF!"},{"$error":"#REF!"},null,{"$f":"SUM(#REF!)","v":{"$error":"#REF!"}},{"$error":"#REF!"},{"$error":"#REF!"},{"$error":"#REF!"},{"$error":"#REF!"},{"$error":"#REF!"},{"$error":"#REF!"},{"$error":"#REF!"},{"$error":"#REF!"},{"$error":"#REF!"},{"$error":"#REF!"},{"$error":"#REF!"},{"$error":"#REF!"},{"$error":"#REF!"},{"$error":"#REF!"},{"$error":"#REF!"},{"$error":"#REF!"},{"$error":"#REF!"},{"$error":"#REF!"},{"$error":"#REF!"},{"$error":"#REF!"},{"$error":"#REF!"},{"$error":"#REF!"},{"$error":"#REF!"},{"$error":"#REF!"},{"$error":"#REF!"},{"$error":"#REF!"},{"$error":"#REF!"},{"$error":"#REF!"},{"$error":"#REF!"},{"$error":"#REF!"},{"$error":"#REF!"},{"$error":"#REF!"},{"$error":"#REF!"},{"$error":"#REF!"},{"$error":"#REF!"},{"$error":"#REF!"},{"$error":"#REF!"},{"$error":"#REF!"},{"$error":"#REF!"},{"$error":"#REF!"},{"$error":"#REF!"},{"$error":"#REF!"},{"$error":"#REF!"},{"$error":"#REF!"},{"$error":"#REF!"},{"$error":"#REF!"},{"$error":"#REF!"},{"$error":"#REF!"},{"$error":"#REF!"},{"$error":"#REF!"}]
[null,null,null,null,null,null,null,null,null,null,null,null,null,null,null,null,null,null,null,null,null,null,null,null,null,null,null,null,null,null,null,null,null,null,null,null,null,null,null,null,null,null,null,null,null,null,null,null,null,null,null,null,null,null,null,null,null,null,null,null,null,null,null,null,null,null,null,null,null,null,null,null,null,null,null,null,null,null,null,null,null,null,null,null,null,null,null,null,null,null,null,null,null,null,null,null,null,null,null,null,null,null,null,null,null,null,null,null,null,null,null,null,null,null,null,null,null,null,null,null,null,null,null,null,null,null,null,null,null,null,null,null,null,null,null,null,null,null,null,null,null,null,null,null,null,null,null,null,null,null,null,null,null,null,{"$f":"SUM(#REF!)","v":{"$error":"#REF!"}},{"$error":"#REF!"},{"$error":"#REF!"},{"$error":"#REF!"},{"$error":"#REF!"},{"$error":"#REF!"},{"$error":"#REF!"},{"$error":"#REF!"},{"$error":"#REF!"},{"$error":"#REF!"},{"$error":"#REF!"},{"$error":"#REF!"},{"$error":"#REF!"},null,{"$f":"SUM(#REF!)","v":{"$error":"#REF!"}},{"$error":"#REF!"},{"$error":"#REF!"},{"$error":"#REF!"},{"$error":"#REF!"},{"$error":"#REF!"},{"$error":"#REF!"},{"$error":"#REF!"},{"$error":"#REF!"},{"$error":"#REF!"},{"$error":"#REF!"},{"$error":"#REF!"},{"$error":"#REF!"},{"$error":"#REF!"},{"$error":"#REF!"},{"$error":"#REF!"},{"$error":"#REF!"},{"$error":"#REF!"},{"$error":"#REF!"},{"$error":"#REF!"},{"$error":"#REF!"},{"$error":"#REF!"},{"$error":"#REF!"},{"$error":"#REF!"},{"$error":"#REF!"},{"$error":"#REF!"},{"$error":"#REF!"},{"$error":"#REF!"},{"$error":"#REF!"},{"$error":"#REF!"},{"$error":"#REF!"},{"$error":"#REF!"},{"$error":"#REF!"},{"$error":"#REF!"},{"$error":"#REF!"},{"$error":"#REF!"},{"$error":"#REF!"},{"$error":"#REF!"},{"$error":"#REF!"},{"$error":"#REF!"},{"$error":"#REF!"},{"$error":"#REF!"},{"$error":"#REF!"},{"$error":"#REF!"},{"$error":"#REF!"},{"$error":"#REF!"},{"$error":"#REF!"},{"$error":"#REF!"},{"$error":"#REF!"},{"$error":"#REF!"},{"$error":"#REF!"}]
[null,null,null,null,null,null,"EDIFICAÇÕES",null,null,null,null,null,null,null,null,null,null,null,null,null,null,null,null,null,"ELETROMECÂNICA",null,null,null,null,null,null,null,null,null,null,null,null,null,null,null,null,null,null,null,null,"INFORMÁTICA",null,null,null,null,null,null,null,null,null,null,null,null,null,null,null,null,null,null,null,null,null,null,null,null,"ELETROMECÂNICA SUBSEQUENTE",null,null,null,null,"ARQUITETURA",null,null,null,null,null,null,null,null,null,null,null,null,"ADS",null,null,null,null,null,null,null,null,"MATEMÁTICA",null,null,null,null,null,null,null,null,null,null,null,null,"PROJETOS/ATIVIDADES",null,null,null,null,null,null,null,null,null,null,null,null,null,null,null,null,null,null,null,null,null,null,null,null,null,null,null,null,null,null,null,null,null,null,null,null,null,null,null,null,null,null,null,{"$f":"SUM(EY10:EY101)","v":28},20,24,18,32,24,20,28,22,24,24,36,32,null,{"$f":"SUM(FM10:FM101)","v":32},16,24,0,32,24,24,26,28,30,0,32,16,24,20,32,28,28,0,38,20,40,24,24,20,32,0,34,32,26,28,30,30,16,32,24,0,18,0,20,22,30,22,38,32,40,28,18,10,24,40,null,null,{"$f":"SUM(EY8:HK8)","v":1540}]
["CHOQUE DE SALA","CHOQUE DE AULAS","Dia","TURNO","Aula","Horário","1º A EDIF.","Professor","Sala","1º B EDIF.","Professor","Sala","2º A EDIF","Professor","Sala","2º B EDIF","Professor","Sala","3º A EDIF","Professor","Sala","3º B EDIF","Professor","Sala","1º A ELETRO","Professor","Sala","1º B ELETRO","Professor","Sala","1º C ELETRO","Professor","Sala","2º A ELETRO","Professor","Sala","2º B ELETRO","Professor","Sala","2º C ELETRO","Professor","Sala","3º A ELETRO","Professor","Sala","1º A INFO","Professor","Sala","1º B INFO","Professor","Sala","1º C INFO","Professor","Sala","2º A INFO","Professor","Sala","2º B INFO","Professor","Sala","2º C INFO","Professor","Sala","3º A INFO","Professor","Sala","3º B INFO","Professor","Sala",null,2019,"Professor","Professor","Sala",null,2019,"Professor","Professor","Sala",2018,"Professor","Professor","Sala",2017,"Professor","Professor","Sala",null,2019,"Professor","Sala",2018,"Professor","Sala",2017,"Professor","Sala",2019,"Professor","Sala",2018,"Professor","Sala",2017,"Professor","Sala",2016,"Professor","Sala",null,2019,"Professor","Professor","Sala","Sala",2019,"Professor","Professor","Sala","Sala",null,null,"BS1","BS2","BS3","BS4","BS5","BS6","BT1","BT2","BT3","BT4","BT5","BT6","CS1","CS2","CS3","CS4","CS5","CS6","CT1","CT2","CT3","CT4","CT5","CT6","AL1","AL2","AL3","AL4","AL5","QD","DES",null,"Adriana","Alvino","Sergio","Ariane","Tiago","Benedito","Bruno","Carlos","Claudinei","Consuelo","Daniely","Diego ","Douglas ","Edgar","Eder","Edilberto","Edinalcio","Eduardo D","Eduardo L","Eduardo Q","Elton","Elza ","Ewerton","Ezequiel","Fabiana","Fabiani","Fátima","Fernanda O","Flavio","Gicelma","Gilberto","Gleiser","Heloísa","Inácio","Inildo","Débora ","Jean","Jéssica","Juliano","Júnior","Laura","Liliane","Marco A","Marcos M","Marisa","Melqui","Michel ","Ney","Paulo ","Roberto","Rodrigo A","Rodrigo B","Rosa","Saboia","Sandra","Sankeis","Silvana ","Silvanella","Silvio","Tatiana","Telma","Vanuza","Vera","Wagner","Warley","Gustavo","Anne","Valmir","Fernanda B"]
[{"$f":"IF(OR(DS10=2,DT10=2,DU10=2,DV10=2,DW10=2,DX10=2,DY10=2,DZ10=2,EA10=2,EB10=2,EC10=2,ED10=2,EE10=2,EF10=2,EG10=2,EH10=2,EI10=2,EJ10=2,EK10=2,EL10=2,EM10=2,EN10=2,EO10=2,EP10=2,EQ10=2,ER10=2,ES10=2,ET10=2,EU10=2,EV10=2,EW10=2), \"CHOQUE DE SALA\",\"\")","v":""},{"$f":"IF(OR(EY10=2,EZ10=2,FA10=2,FB10=2,FC10=2,FD10=2,FE10=2,FF10=2,FG10=2,FH10=2,FI10=2,FJ10=2,FK10=2,FM10=2,FL10=2,FN10=2,FO10=2,FP10=2,FQ10=2, FR10=2,FS10=2,FT10=2,FU10=2,FV10=2,FW10=2,FX10=2,FY10=2,FZ10=2,GA10=2,GB10=2,GC10=2,GD10=2,GE10=2,GF10=2,GG10=2,GH10=2,GI10=2,GJ10=2,GK10=2,GL10=2,GM10=2,GN10=2,GO10=2,GP10=2,GQ10=2,GR10=2,GS10=2,GT10=2,GU10=2,GV10=2,GW10=2,GX10=2,GY10=2,GZ10=2,HA10=2,HB10=2,HC10=2,HD10=2,HE10=2,HF10=2,HG10=2,HH10=2,HI10=2,HJ10=2,HK10=2,HL10=2,HM10=2,HN10=2,HO10=2  ),\"CHOQUE DE AULA\",\"\")","v":""},"SEGUNDA","MATUTINO","1ª","07:00:00","TECNO CONST","Saboia","BS5",null,null,null,"L PORTUGUESA","Liliane","BS3",null,null,null,"PROJ ESTRUT","Michel ","CS4",null,null,null,"ELETRI","Adriana","CT2","PROC FAB","Eduardo L","CS5",null,null,null,"QUIM","Silvanella","BT5","MÁQ HIDRÁU",null,"CS6",null,null,null,"MATEMÁTICA","Sergio","CS3","FÍSICA III","Marisa","BT2","BIO","Tatiana","CS1",null,null,null,"L ESPANHOLA","Heloisa","BS1","GEOGRAFIA","Consuelo","CS2",null,null,null,"L PORTUGUESA","Sandra","BS2",null,null,null,null,"-","-","-","-",null,"-","-","-","-","-","-","-","-","-","-","-","-",null,"-","-","-","-","-","-","-","-","-","-","-","-","-","-","-","-","-","-","-","-","-",null,null,null,null,null,null,null,null,null,null,null,null,null,{"$f":"COUNTIF($G10:$DP10,\"BS1\")","v":1},{"$f":"COUNTIF($G10:$DP10,\"BS2\")","v":1},{"$f":"COUNTIF($G10:$DP10,\"BS3\")","v":1},{"$f":"COUNTIF($G10:$DP10,\"BS4\")","v":0},{"$f":"COUNTIF($G10:$DP10,\"BS5\")","v":1},{"$f":"COUNTIF($G10:$DP10,\"BS6\")","v":0},{"$f":"COUNTIF($G10:$DP10,\"BT1\")","v":0},{"$f":"COUNTIF($G10:$DP10,\"BT2\")","v":1},{"$f":"COUNTIF($G10:$DP10,\"BT3\")","v":0},{"$f":"COUNTIF($G10:$DP10,\"BT4\")","v":0},{"$f":"COUNTIF($G10:$DP10,\"BT5\")","v":1},{"$f":"COUNTIF($G10:$DP10,\"BT6\")","v":0},{"$f":"COUNTIF($G10:$DP10,\"CS1\")","v":1},{"$f":"COUNTIF($G10:$DP10,\"CS2\")","v":1},{"$f":"COUNTIF($G10:$DP10,\"CS3\")","v":1},{"$f":"COUNTIF($G10:$DP10,\"CS4\")","v":1},{"$f":"COUNTIF($G10:$DP10,\"CS5\")","v":1},{"$f":"COUNTIF($G10:$DP10,\"CS6\")","v":1},{"$f":"COUNTIF($G10:$DP10,\"CT1\")","v":0},{"$f":"COUNTIF($G10:$DP10,\"CT2\")","v":1},{"$f":"COUNTIF($G10:$DP10,\"CT3\")","v":0},{"$f":"COUNTIF($G10:$DP10,\"CT4\")","v":0},{"$f":"COUNTIF($G10:$DP10,\"CT5\")","v":0},{"$f":"COUNTIF($G10:$DP10,\"CT6\")","v":0},{"$f":"COUNTIF($G10:$DP10,\"AL1\")","v":0},{"$f":"COUNTIF($G10:$DP10,\"AL2\")","v":0},{"$f":"COUNTIF($G10:$DP10,\"AL3\")","v":0},{"$f":"COUNTIF($G10:$DP10,\"AL4\")","v":0},{"$f":"COUNTIF($G10:$DP10,\"AL5\")","v":0},{"$f":"COUNTIF($G10:$DP10,\"QD\")","v":0},{"$f":"COUNTIF($G10:$DP10,\"DES\")","v":0},null,{"$f":"COUNTIF($G10:$DP10,EY$9)","v":1},0,1,0,0,0,0,0,0,1,0,0,0,0,0,0,0,0,1,0,0,0,0,0,0,0,0,0,0,0,0,0,0,0,0,0,0,0,0,0,0,1,0,0,1,0,1,0,0,0,0,0,0,1,1,0,0,1,0,1,0,0,0,0,0,0,0,0,0]
["","",null,null,"2ª","07:50:00","TECNO CONST","Saboia","BS5",null,null,null,"L PORTUGUESA","Liliane","BS3",null,null,null,"PROJ ESTRUT","Michel ","CS4",null,null,null,"ELETRI","Adriana","CT2","PROC FAB","Eduardo L","CS5",null,null,null,"QUIM","Silvanella","BT5","MÁQ HIDRÁU",null,"CS6",null,null,null,"MATEMÁTICA","Sergio","CS3","FÍSICA III","Marisa","BT2","BIO","Tatiana","CS1",null,null,null,"FUND ANÁL SIST","Inácio","AL3","GEOGRAFIA","Consuelo","CS2",null,null,null,"L ESPANHOLA","Heloisa","BS1",null,null,null,null,"-","-","-","-",null,"-","-","-","-","-","-","-","-","-","-","-","-",null,"-","-","-","-","-","-","-","-","-","-","-","-","-","-","-","-","-","-","-","-","-",null,null,null,null,null,null,null,null,null,null,null,null,null,1,0,1,0,1,0,0,1,0,0,1,0,1,1,1,1,1,1,0,1,0,0,0,0,0,0,1,0,0,0,0,null,{"$f":"COUNTIF($G11:$DP11,EY$9)","v":1},0,1,0,0,0,0,0,0,1,0,0,0,0,0,0,0,0,1,0,0,0,0,0,0,0,0,0,0,0,0,0,0,1,0,0,0,0,0,0,0,1,0,0,1,0,1,0,0,0,0,0,0,1,0,0,0,1,0,1,0,0,0,0,0,0,0,0,0]
["","",null,null,"3ª","08:40:00","MAT DE CONS","Júnior","BS5",null,null,null,"FILOSOFIA","Alvino","BS6",null,null,null,"PROJ ESTRUT","Michel ","CS4",null,null,null,"PROC FAB","Eduardo L","CS5","QUIM","Silvanella","BT5",null,null,null,"MÁQ ELÉTRIC","Adriana","CT2","MEC.TÉC.",null,"CS6",null,null,null,"ED.FÍSICA","Flavio","QD","BIO","Tatiana","CS1","INTROD TECNO","Douglas ","AL5",null,null,null,"FUND ANÁL SIST","Inácio","AL3","L PORTUGUESA","Liliane","BS2",null,null,null,"L ESPANHOLA","Heloisa","BS1",null,null,null,null,"-","-","-","-",null,"-","-","-","-","-","-","-","-","-","-","-","-",null,"-","-","-","-","-","-","-","-","-","-","-","-","-","-","-","-","-","-","-","-","-",null,null,null,null,null,null,null,null,null,null,null,null,null,1,1,0,0,1,1,0,0,0,0,1,0,1,0,0,1,1,1,0,1,0,0,0,0,0,0,1,0,1,1,0,null,{"$f":"COUNTIF($G12:$DP12,EY$9)","v":1},1,0,0,0,0,0,0,0,0,0,0,1,0,0,0,0,0,1,0,0,0,0,0,0,0,0,0,1,0,0,0,0,1,0,0,0,0,0,1,0,1,0,0,0,0,1,0,0,0,0,0,0,0,0,0,0,1,0,1,0,0,0,0,0,0,0,0,0]
["","",null,null,"4ª","09:45:00","MAT DE CONS","Júnior","BS5",null,null,null,"ESTABILIDADE ","Michel ","CS4",null,null,null,"FILOSOFIA","Alvino","BS6",null,null,null,"PROC FAB","Eduardo L","CS5","QUIM","Silvanella","BT5",null,null,null,"MÁQ ELÉTRIC","Adriana","CT2","MATEMÁTICA","Warley","CS3",null,null,null,"ED.FÍSICA","Flavio","QD","BIO","Tatiana","CS1","INTROD TECNO","Douglas ","AL5",null,null,null,"FUND ANÁL SIST","Inácio","AL3","L ESPANHOLA","Heloisa","BS1",null,null,null,"FÍSICA III","Marisa","BT2",null,null,null,null,"-","-","-","-",null,"-","-","-","-","-","-","-","-","-","-","-","-",null,"-","-","-","-","-","-","-","-","-","-","-","-","-","-","-","-","-","-","-","-","-",null,null,null,null,null,null,null,null,null,null,null,null,null,1,0,0,0,1,1,0,1,0,0,1,0,1,0,1,1,1,0,0,1,0,0,0,0,0,0,1,0,1,1,0,null,{"$f":"COUNTIF($G13:$DP13,EY$9)","v":1},1,0,0,0,0,0,0,0,0,0,0,1,0,0,0,0,0,1,0,0,0,0,0,0,0,0,0,1,0,0,0,0,1,0,0,0,0,0,1,0,0,0,0,1,0,1,0,0,0,0,0,0,0,0,0,0,1,0,1,0,0,0,0,1,0,0,0,0]
["","",null,null,"5ª","10:35:00","L PORTUGUES","Anne","BS3",null,null,null,"ESTABILIDADE ","Michel ","CS4",null,null,null,"PATOLOGIAS","Júnior","BS5",null,null,null,"QUIM","Silvanella","BT5","GEOGRAFIA","Débora ","CS2",null,null,null,"MÁQ HIDRÁU",null,"CT2","MATEMÁTICA","Warley","CS3",null,null,null,"INST IND","Eduardo L","CS5","INTROD TECNO","Douglas ","AL5","FÍSICA III","Marisa","BT2",null,null,null,"L PORTUGUESA","Liliane","BS2","L INGLESA","Gicelma","BS1",null,null,null,"P WEB","Gilberto","AL1",null,null,null,null,"-","-","-","-",null,"-","-","-","-","-","-","-","-","-","-","-","-",null,"-","-","-","-","-","-","-","-","-","-","-","-","-","-","-","-","-","-","-","-","-",null,null,null,null,null,null,null,null,null,null,null,null,null,1,1,1,0,1,0,0,1,0,0,1,0,0,1,1,1,1,0,0,1,0,0,0,0,1,0,0,0,1,0,0,null,{"$f":"COUNTIF($G14:$DP14,EY$9)","v":0},0,0,0,0,0,0,0,0,0,0,0,1,0,0,0,0,0,1,0,0,0,0,0,0,0,0,0,0,1,1,0,0,0,0,1,0,0,0,1,0,1,0,0,1,0,1,0,0,0,0,0,0,0,0,0,0,1,0,0,0,0,0,0,1,0,1,0,0]
["","",null,null,"6ª","11:25:00","L PORTUGUES","Anne","BS3",null,null,null,"ESTABILIDADE ","Michel ","CS4",null,null,null,"PATOLOGIAS","Júnior","BS5",null,null,null,"QUIM","Silvanella","BT5","GEOGRAFIA","Débora ","CS2",null,null,null,"MÁQ HIDRÁU",null,"CT2","FILOSOFIA","Alvino","BS6",null,null,null,"INST IND","Eduardo L","CS5","INTROD TECNO","Douglas ","AL5","FÍSICA III","Marisa","BT2",null,null,null,"L PORTUGUESA","Liliane","BS2","MATEMÁTICA","Warley","CS6",null,null,null,"P WEB","Gilberto","AL1",null,null,null,null,"-","-","-","-",null,"-","-","-","-","-","-","-","-","-","-","-","-",null,"-","-","-","-","-","-","-","-","-","-","-","-","-","-","-","-","-","-","-","-","-",null,null,null,null,null,null,null,null,null,null,null,null,null,0,1,1,0,1,1,0,1,0,0,1,0,0,1,0,1,1,1,0,1,0,0,0,0,1,0,0,0,1,0,0,null,{"$f":"COUNTIF($G15:$DP15,EY$9)","v":0},1,0,0,0,0,0,0,0,0,0,0,1,0,0,0,0,0,1,0,0,0,0,0,0,0,0,0,0,0,1,0,0,0,0,1,0,0,0,1,0,1,0,0,1,0,1,0,0,0,0,0,0,0,0,0,0,1,0,0,0,0,0,0,1,0,1,0,0]
["","",null,"VESPERTINO","1ª","13:10:00",null,null,null,"QUIM","Diego ","BT5",null,null,null,"MATEMÁTICA","Telma","CS3",null,null,null,"MECÂNICA SOLO","Tiago","CS4",null,null,null,null,null,null,"BIO","Daniely","CS1",null,null,null,null,null,null,"L PORTUGUES","Ezequiel","BS3",null,null,null,null,null,null,null,null,null,"ED.FÍSICA","Paulo ","QD",null,null,null,null,null,null,"L ESPANHOLA","Heloisa","BS1",null,null,null,"L PORTUGUESA","Sandra","BS2",null,"-","-","-","-",null,null,null,null,null,null,null,null,null,null,null,null,null,null,"-","-","-","-","-","-","-","-","-","-","-","-","-","-","-","-","-","-","-","-","-",null,null,null,null,null,null,null,null,null,null,null,null,null,1,1,1,0,0,0,0,0,0,0,1,0,1,0,1,1,0,0,0,0,0,0,0,0,0,0,0,0,0,1,0,null,{"$f":"COUNTIF($G16:$DP16,EY$9)","v":0},0,0,0,1,0,0,0,0,0,1,1,0,0,0,0,0,0,0,0,0,0,0,1,0,0,0,0,0,0,0,0,0,0,0,0,0,0,0,0,0,0,0,0,0,0,0,0,1,0,0,0,0,0,1,0,0,0,0,0,1,0,0,0,0,0,0,0,0]
["","",null,null,"2ª","14:00:00",null,null,null,"QUIM","Diego ","BT5",null,null,null,"MATEMÁTICA","Telma","CS3",null,null,null,"MECÂNICA SOLO","Tiago","CS4","SOCIO","Eduardo Q","CS2","FILOSOFIA",null,"BS6","BIO","Daniely","CS1",null,null,null,null,null,null,"L PORTUGUES","Ezequiel","BS3",null,null,null,null,null,null,null,null,null,"ED.FÍSICA","Paulo ","QD",null,null,null,null,null,null,"MATEMÁTICA","Warley","CS6",null,null,null,"L PORTUGUESA","Sandra","BS2",null,"-","-","-","-",null,null,null,null,null,null,null,null,null,null,null,null,null,null,"-","-","-","-","-","-","-","-","-","-","-","-","-","-","-","-","-","-","-","-","-",null,null,null,null,null,null,null,null,null,null,null,null,null,0,1,1,0,0,1,0,0,0,0,1,0,1,1,1,1,0,1,0,0,0,0,0,0,0,0,0,0,0,1,0,null,{"$f":"COUNTIF($G17:$DP17,EY$9)","v":0},0,0,0,1,0,0,0,0,0,1,1,0,0,0,0,0,0,0,1,0,0,0,1,0,0,0,0,0,0,0,0,0,0,0,0,0,0,0,0,0,0,0,0,0,0,0,0,1,0,0,0,0,0,1,0,0,0,0,0,1,0,0,0,1,0,0,0,0]
["","",null,null,"3ª","14:50:00",null,null,null,"ED.FÍSICA","Paulo ","QD",null,null,null,"QUIM","Diego ","BT5",null,null,null,"L PORTUGUES","Elza ","BS3","SOCIO","Eduardo Q","CS2","FILOSOFIA",null,"BS6","MATEMÁTICA","Warley","CS3",null,null,null,null,null,null,"BIO","Tatiana","CS1",null,null,null,null,null,null,null,null,null,"LÓGICA","Wagner","AL5",null,null,null,null,null,null,"HISTÓRIA","Eder","BS4",null,null,null,"P WEB","Gilberto","AL1",null,"-","-","-","-",null,null,null,null,null,null,null,null,null,null,null,null,null,null,"-","-","-","-","-","-","-","-","-","-","-","-","-","-","-","-","-","-","-","-","-",null,null,null,null,null,null,null,null,null,null,null,null,null,0,0,1,1,0,1,0,0,0,0,1,0,1,1,1,0,0,0,0,0,0,0,0,0,1,0,0,0,1,1,0,null,{"$f":"COUNTIF($G18:$DP18,EY$9)","v":0},0,0,0,0,0,0,0,0,0,0,1,0,0,1,0,0,0,0,1,0,1,0,0,0,0,0,0,0,0,1,0,0,0,0,0,0,0,0,0,0,0,0,0,0,0,0,0,1,0,0,0,0,0,0,0,0,0,0,1,0,0,0,1,1,0,0,0,0]
["","",null,null,"4ª","15:55:00",null,null,null,"ED.FÍSICA","Paulo ","QD",null,null,null,"QUIM","Diego ","BT5",null,null,null,"PROJ INST ELÉT","Sankeis","BS5","FILOSOFIA",null,"BS6","SOCIO","Eduardo Q","CS2","MATEMÁTICA","Warley","CS3",null,null,null,null,null,null,"BIO","Tatiana","CS1",null,null,null,null,null,null,null,null,null,"LÓGICA","Wagner","AL5",null,null,null,null,null,null,"HISTÓRIA","Eder","BS4",null,null,null,"P WEB","Gilberto","AL1",null,"-","-","-","-",null,"INT.ARQUITETURA","Silvana ",null,"BT2",null,null,null,null,"TOPO","Tiago",null,"CS4",null,"-","-","-","-","-","-","-","-","-","-","-","-","-","-","-","-","-","-","-","-","-",null,null,null,null,null,null,null,null,null,null,null,null,null,0,0,0,1,1,1,0,1,0,0,1,0,1,1,1,1,0,0,0,0,0,0,0,0,1,0,0,0,1,1,0,null,{"$f":"COUNTIF($G19:$DP19,EY$9)","v":0},0,0,0,1,0,0,0,0,0,0,1,0,0,1,0,0,0,0,1,0,0,0,0,0,0,0,0,0,0,1,0,0,0,0,0,0,0,0,0,0,0,0,0,0,0,0,0,1,0,0,0,0,0,0,1,1,0,0,1,0,0,0,1,1,0,0,0,0]
["","",null,null,"5ª","16:45:00",null,null,null,"MATEMÁTICA","Warley","CS3",null,null,null,"L PORTUGUESA","Liliane","BS3",null,null,null,"PROJ INST ELÉT","Sankeis","BS5","FILOSOFIA",null,"BS6","SOCIO","Eduardo Q","CS2","ED.FÍSICA","Paulo ","QD",null,null,null,null,null,null,"MÁQ HIDRÁU",null,"CT2",null,null,null,null,null,null,null,null,null,"ARTE","Fabiani","CS6",null,null,null,null,null,null,"L PORTUGUES","Danúbia ","BS2",null,null,null,"L ESPANHOLA","Heloisa","BS1",null,"-","-","-","-",null,"INT.ARQUITETURA","Silvana ",null,"BT2",null,null,null,null,"TOPO","Tiago",null,"CS4",null,"-","-","-","-","-","-","-","-","-","-","-","-","-","-","-","-","-","-","-","-","-",null,null,null,null,null,null,null,null,null,null,null,null,null,1,1,1,0,1,1,0,1,0,0,0,0,0,1,1,1,0,1,0,1,0,0,0,0,0,0,0,0,0,1,0,null,{"$f":"COUNTIF($G20:$DP20,EY$9)","v":0},0,0,0,1,0,0,0,0,0,0,0,0,0,0,0,0,0,0,1,0,0,0,0,0,1,0,0,0,0,0,0,0,0,0,0,0,0,0,0,0,1,0,0,0,0,0,0,1,0,0,0,0,0,0,1,1,0,0,0,0,0,0,0,1,0,0,0,0]
["","",null,null,"6ª","17:35:00",null,null,null,"MATEMÁTICA","Warley","CS3",null,null,null,"GERENCIAM","Tiago","CS4",null,null,null,"FILOSOFIA","Alvino","BS6",null,null,null,null,null,null,"ED.FÍSICA","Paulo ","QD",null,null,null,null,null,null,"MÁQ HIDRÁU",null,"CT2",null,null,null,null,null,null,null,null,null,"ARTE","Fabiani","CS6",null,null,null,null,null,null,"L PORTUGUES","Danúbia ","BS2",null,null,null,"L ESPANHOLA","Heloisa","BS1",null,"-","-","-","-",null,"INT.ARQUITETURA","Silvana ",null,"BT2",null,null,null,null,null,null,null,null,null,"-","-","-","-","-","-","-","-","-","-","-","-","-","-","-","-","-","-","-","-","-",null,null,null,null,null,null,null,null,null,null,null,null,null,1,1,0,0,0,1,0,1,0,0,0,0,0,0,1,1,0,1,0,1,0,0,0,0,0,0,0,0,0,1,0,null,{"$f":"COUNTIF($G21:$DP21,EY$9)","v":0},1,0,0,1,0,0,0,0,0,0,0,0,0,0,0,0,0,0,0,0,0,0,0,0,1,0,0,0,0,0,0,0,0,0,0,0,0,0,0,0,0,0,0,0,0,0,0,1,0,0,0,0,0,0,0,1,0,0,0,0,0,0,0,1,0,0,0,0]
["","",null,"NOTURNO","1ª","18:10:00",null,null,null,null,null,null,null,null,null,null,null,null,null,null,null,null,null,null,null,null,null,null,null,null,null,null,null,null,null,null,null,null,null,null,null,null,null,null,null,null,null,null,null,null,null,null,null,null,null,null,null,null,null,null,null,null,null,null,null,null,null,null,null,null,null,null,null,null,null,null,null,null,null,"SIST. ESTRUTURAL I","Michel ",null,"BS3","ESTRUT CONCRE A I","Júnior",null,"BS5",null,null,null,null,null,null,null,null,null,null,null,null,null,null,null,null,null,null,null,null,null,null,null,null,null,null,null,null,null,null,null,null,null,null,null,0,0,1,0,1,0,0,0,0,0,0,0,0,0,0,0,0,0,0,0,0,0,0,0,0,0,0,0,0,0,0,null,{"$f":"COUNTIF($G22:$DP22,EY$9)","v":0},0,0,0,0,0,0,0,0,0,0,0,0,0,0,0,0,0,0,0,0,0,0,0,0,0,0,0,0,0,0,0,0,0,0,0,0,0,0,1,0,0,0,0,0,0,1,0,0,0,0,0,0,0,0,0,0,0,0,0,0,0,0,0,0,0,0,0,0]
["","",null,null,"2ª","19:00:00",null,null,null,null,null,null,null,null,null,null,null,null,null,null,null,null,null,null,null,null,null,null,null,null,null,null,null,null,null,null,null,null,null,null,null,null,null,null,null,null,null,null,null,null,null,null,null,null,null,null,null,null,null,null,null,null,null,null,null,null,null,null,null,null,"ELETRICIDADE","RODRIGO ALÉCIO","CT2",null,null,"DESENHO ARQ.I","Fernanda O",null,"Des","SIST. ESTRUTURAL I","Michel ",null,"BS3","ESTRUT CONCRE A I","Júnior",null,"BS5",null,"INGLÊS INSTRUM","Ezequiel","BS1","BANCO DE DADOS","Gleiser",null,"DES. DISPOSIT. MÓVEIS","Marco A",null,"HISTÓRIA DA EDU","Fátima",null,"FUNDAMENTOS MAT III","Claudinei",null,"METODO ENS MAT II","Inildo",null,"DESENHO GEO","Telma",null,null,null,null,null,null,null,null,null,null,null,null,null,null,1,0,1,0,1,0,0,0,0,0,0,0,0,0,0,0,0,0,0,1,0,0,0,0,0,0,0,0,0,0,1,null,{"$f":"COUNTIF($G23:$DP23,EY$9)","v":0},0,0,0,0,0,0,0,1,0,0,0,0,0,0,0,0,0,0,0,0,0,0,1,0,0,1,1,0,0,0,1,0,0,1,0,0,0,0,1,0,0,1,0,0,0,1,0,0,0,0,0,0,0,0,0,0,0,0,0,1,0,0,0,0,0,0,0,0]
["","",null,null,"3ª","19:50:00",null,null,null,null,null,null,null,null,null,null,null,null,null,null,null,null,null,null,null,null,null,null,null,null,null,null,null,null,null,null,null,null,null,null,null,null,null,null,null,null,null,null,null,null,null,null,null,null,null,null,null,null,null,null,null,null,null,null,null,null,null,null,null,null,"ELETRICIDADE","RODRIGO ALÉCIO","CT2",null,null,"DESENHO ARQ.I","Fernanda O",null,"Des","SIST. ESTRUTURAL I","Michel ",null,"BS3","ESTRUT CONCRE A I","Júnior",null,"BS5",null,"INGLÊS INSTRUM","Ezequiel","BS1","BANCO DE DADOS","Gleiser",null,"DES. DISPOSIT. MÓVEIS","Marco A",null,"HISTÓRIA DA EDU","Fátima",null,"FUNDAMENTOS MAT III","Claudinei",null,"METODO ENS MAT II","Inildo",null,"DESENHO GEO","Telma",null,null,null,null,null,null,null,null,null,null,null,null,null,null,1,0,1,0,1,0,0,0,0,0,0,0,0,0,0,0,0,0,0,1,0,0,0,0,0,0,0,0,0,0,1,null,{"$f":"COUNTIF($G24:$DP24,EY$9)","v":0},0,0,0,0,0,0,0,1,0,0,0,0,0,0,0,0,0,0,0,0,0,0,1,0,0,1,1,0,0,0,1,0,0,1,0,0,0,0,1,0,0,1,0,0,0,1,0,0,0,0,0,0,0,0,0,0,0,0,0,1,0,0,0,0,0,0,0,0]
["","",null,null,"4ª","20:55:00",null,null,null,null,null,null,null,null,null,null,null,null,null,null,null,null,null,null,null,null,null,null,null,null,null,null,null,null,null,null,null,null,null,null,null,null,null,null,null,null,null,null,null,null,null,null,null,null,null,null,null,null,null,null,null,null,null,null,null,null,null,null,null,null,"ELETRICIDADE","RODRIGO ALÉCIO","CT2",null,null,"DESENHO ARQ.I","Fernanda O",null,"Des","SOCIO E GEO URB","Fernanda B",null,"BS3",null,null,null,null,null,"ALGORÍTIMOS","Marco A","AL5","POO","Juliano",null,"DES. PROJ. CIEN. TEC.","Bruno",null,"GEO PLANA E ESPAC","Telma",null,"PSICOLOGIA DA EDUCA","Fátima",null,"GEO EUCLIDIANA","Claudinei",null,"ÁLGEBRA LINEAR II","Sergio",null,null,null,null,null,null,null,null,null,null,null,null,null,null,0,0,1,0,0,0,0,0,0,0,0,0,0,0,0,0,0,0,0,1,0,0,0,0,0,0,0,0,1,0,1,null,{"$f":"COUNTIF($G25:$DP25,EY$9)","v":0},0,1,0,0,0,1,0,1,0,0,0,0,0,0,0,0,0,0,0,0,0,0,0,0,0,1,1,0,0,0,0,0,0,0,0,0,0,1,0,0,0,1,0,0,0,0,0,0,0,0,0,0,0,0,0,0,0,0,0,1,0,0,0,0,0,0,0,1]
["","",null,null,"5ª","21:45:00",null,null,null,null,null,null,null,null,null,null,null,null,null,null,null,null,null,null,null,null,null,null,null,null,null,null,null,null,null,null,null,null,null,null,null,null,null,null,null,null,null,null,null,null,null,null,null,null,null,null,null,null,null,null,null,null,null,null,null,null,null,null,null,null,"ELETRÔNICA","RODRIGO ALÉCIO","CT2",null,null,null,null,null,null,"SOCIO E GEO URB","Fernanda B",null,"BS3",null,null,null,null,null,"ALGORÍTIMOS","Marco A","AL5","POO","Juliano",null,"DES. PROJ. CIEN. TEC.","Bruno",null,"GEO PLANA E ESPAC","Telma",null,"PSICOLOGIA DA EDUCA","Fátima",null,"GEO EUCLIDIANA","Claudinei",null,"ÁLGEBRA LINEAR II","Sergio",null,null,null,null,null,null,null,null,null,null,null,null,null,null,0,0,1,0,0,0,0,0,0,0,0,0,0,0,0,0,0,0,0,1,0,0,0,0,0,0,0,0,1,0,0,null,{"$f":"COUNTIF($G26:$DP26,EY$9)","v":0},0,1,0,0,0,1,0,1,0,0,0,0,0,0,0,0,0,0,0,0,0,0,0,0,0,1,0,0,0,0,0,0,0,0,0,0,0,1,0,0,0,1,0,0,0,0,0,0,0,0,0,0,0,0,0,0,0,0,0,1,0,0,0,0,0,0,0,1]
["","",null,null,"6ª","-",null,null,null,null,null,null,null,null,null,null,null,null,null,null,null,null,null,null,null,null,null,null,null,null,null,null,null,null,null,null,null,null,null,null,null,null,null,null,null,null,null,null,null,null,null,null,null,null,null,null,null,null,null,null,null,null,null,null,null,null,null,null,null,null,null,null,null,null,null,null,null,null,null,null,null,null,null,null,null,null,null,null,null,null,null,null,null,null,null,null,null,null,null,null,null,null,null,null,null,null,null,null,null,null,null,null,null,null,null,null,null,null,null,null,null,null,0,0,0,0,0,0,0,0,0,0,0,0,0,0,0,0,0,0,0,0,0,0,0,0,0,0,0,0,0,0,0,null,{"$f":"COUNTIF($G27:$DP27,EY$9)","v":0},0,0,0,0,0,0,0,0,0,0,0,0,0,0,0,0,0,0,0,0,0,0,0,0,0,0,0,0,0,0,0,0,0,0,0,0,0,0,0,0,0,0,0,0,0,0,0,0,0,0,0,0,0,0,0,0,0,0,0,0,0,0,0,0,0,0,0,0]
["","","TERÇA","MATUTINO","1ª","07:00:00","ED.FÍSICA","Paulo ","QD",null,null,null,"HISTÓRIA","Elton","BS4",null,null,null,"MATEMÁTICA","Edinalcio","CS3",null,null,null,"DESENHO ","Carlos","Des","L PORTUGUES","Wilson","BS3","SOCIO","Eduardo Q",null,"MEC.TÉC.",null,"CS6","FÍSICA","Gustavo","BT2","OPP",null,"BS5","ELETROTÉCN","Adriana","CT2","GEOGRAFIA","Débora ","CS2","L INGLESA","Gicelma","BS1",null,null,null,"POO","Douglas ","AL3","BIO","Tatiana","CS1",null,null,null,"L PORTUGUESA","Sandra","BS2",null,null,null,null,"-","-","-","-",null,"-","-","-","-","-","-","-","-","-","-","-","-",null,"-","-","-","-","-","-","-","-","-","-","-","-","-","-","-","-","-","-","-","-","-",null,null,null,null,null,null,null,null,null,null,null,null,null,1,1,1,1,1,0,0,1,0,0,0,0,1,1,1,0,0,1,0,1,0,0,0,0,0,0,1,0,0,1,1,null,{"$f":"COUNTIF($G28:$DP28,EY$9)","v":1},0,0,0,0,0,0,1,0,0,0,0,1,0,0,0,1,0,0,1,1,0,0,0,0,0,0,0,0,1,0,0,0,0,0,1,0,0,0,0,0,0,0,0,0,0,0,0,1,0,0,0,0,0,1,0,0,0,0,1,0,0,0,0,0,1,0,0,0]
["","",null,null,"2ª","07:50:00","ED.FÍSICA","Paulo ","QD",null,null,null,"HISTÓRIA","Elton","BS4",null,null,null,"MATEMÁTICA","Edinalcio","CS3",null,null,null,"DESENHO","Carlos","Des","L PORTUGUES","Wilson","BS3","SOCIO","Eduardo Q",null,"FILOSOFIA","Alvino",null,"FÍSICA","Gustavo","BT2","OPP",null,"BS5","ELETROTÉCN","Adriana","CT2","GEOGRAFIA","Débora ","CS2","L INGLESA","Gicelma","BS1",null,null,null,"POO","Douglas ","AL3","BIO","Tatiana","CS1",null,null,null,"L PORTUGUESA","Sandra","BS2",null,null,null,null,"-","-","-","-",null,"-","-","-","-","-","-","-","-","-","-","-","-",null,"-","-","-","-","-","-","-","-","-","-","-","-","-","-","-","-","-","-","-","-","-",null,null,null,null,null,null,null,null,null,null,null,null,null,1,1,1,1,1,0,0,1,0,0,0,0,1,1,1,0,0,0,0,1,0,0,0,0,0,0,1,0,0,1,1,null,{"$f":"COUNTIF($G29:$DP29,EY$9)","v":1},1,0,0,0,0,0,1,0,0,0,0,1,0,0,0,1,0,0,1,1,0,0,0,0,0,0,0,0,1,0,0,0,0,0,1,0,0,0,0,0,0,0,0,0,0,0,0,1,0,0,0,0,0,1,0,0,0,0,1,0,0,0,0,0,1,0,0,0]
["","",null,null,"3ª","08:40:00","GEOGRAFIA","Débora ","CS2",null,null,null,"MATEMÁTICA","Telma","CS3",null,null,null,"L PORTUGUES","Elza ","BS3",null,null,null,"BIO","Tatiana","CS1","FÍSICA","Gustavo","BT2","FILOSOFIA","Alvino","BS6","HISTÓRIA","Elton","BS4","ED.FÍSICA","Silvio","QD","SOCIO","Eduardo Q",null,"ELEMEN MÁQ","Carlos","CS5","L INGLESA","Gicelma","BS1","LÓGICA","Wagner","AL5",null,null,null,"MATEMÁTICA","Edinalcio","CS6","POO","Douglas ","AL3",null,null,null,"MATEMÁTICA","Valmir","CT5",null,null,null,null,"-","-","-","-",null,"-","-","-","-","-","-","-","-","-","-","-","-",null,"-","-","-","-","-","-","-","-","-","-","-","-","-","-","-","-","-","-","-","-","-",null,null,null,null,null,null,null,null,null,null,null,null,null,1,0,1,1,0,1,0,1,0,0,0,0,1,1,1,0,1,1,0,0,0,0,1,0,0,0,1,0,1,1,0,null,{"$f":"COUNTIF($G30:$DP30,EY$9)","v":0},1,0,0,0,0,0,1,0,0,0,0,1,0,0,0,1,0,0,1,1,1,0,0,0,0,0,0,0,1,0,0,0,0,0,1,0,0,0,0,0,0,0,0,0,0,0,0,0,0,0,0,0,0,0,0,0,0,1,1,1,0,0,1,0,1,0,1,0]
["","",null,null,"4ª","09:45:00","GEOGRAFIA","Débora ","CS2",null,null,null,"MATEMÁTICA","Telma","CS3",null,null,null,"L PORTUGUES","Elza ","BS3",null,null,null,"BIO","Tatiana","CS1","FÍSICA","Gustavo","BT2","FILOSOFIA","Alvino","BS6","HISTÓRIA","Elton","BS4","ED.FÍSICA","Silvio","QD","SOCIO","Eduardo Q",null,"ELEMEN MÁQ","Carlos","CS5","L INGLESA","Gicelma","BS1","LÓGICA","Wagner","AL5",null,null,null,"MATEMÁTICA","Edinalcio","CS6","POO","Douglas ","AL3",null,null,null,"PROJ DES SIST","Bruno","AL1",null,null,null,null,"-","-","-","-",null,"-","-","-","-","-","-","-","-","-","-","-","-",null,"-","-","-","-","-","-","-","-","-","-","-","-","-","-","-","-","-","-","-","-","-",null,null,null,null,null,null,null,null,null,null,null,null,null,1,0,1,1,0,1,0,1,0,0,0,0,1,1,1,0,1,1,0,0,0,0,0,0,1,0,1,0,1,1,0,null,{"$f":"COUNTIF($G31:$DP31,EY$9)","v":0},1,0,0,0,0,1,1,0,0,0,0,1,0,0,0,1,0,0,1,1,1,0,0,0,0,0,0,0,1,0,0,0,0,0,1,0,0,0,0,0,0,0,0,0,0,0,0,0,0,0,0,0,0,0,0,0,0,1,1,1,0,0,1,0,1,0,0,0]
["","",null,null,"5ª","10:35:00","MATEMÁTICA","Jean","CS3",null,null,null,"BIO","Daniely","CS1",null,null,null,"PROJ INST ELÉT","Sankeis","CS4",null,null,null,"GEOGRAFIA","Débora ","CS2","L INGLESA","Gicelma","BS1",null,null,null,"ED.FÍSICA","Silvio","QD","L PORTUGUES","Elza ","BS3",null,null,null,"L PORTUGUESA","Sandra","BS2","LÓGICA","Wagner","AL5","MATEMÁTICA","Valmir","CS6",null,null,null,"FÍSICA III","Marisa","BT2","HISTÓRIA","Elton","BS4",null,null,null,"PROJ DES SIST","Bruno","AL1",null,null,null,null,"-","-","-","-",null,"-","-","-","-","-","-","-","-","-","-","-","-",null,"-","-","-","-","-","-","-","-","-","-","-","-","-","-","-","-","-","-","-","-","-",null,null,null,null,null,null,null,null,null,null,null,null,null,1,1,1,1,0,0,0,1,0,0,0,0,1,1,1,1,0,1,0,0,0,0,0,0,1,0,0,0,1,1,0,null,{"$f":"COUNTIF($G32:$DP32,EY$9)","v":0},0,0,0,0,0,1,0,0,0,1,0,0,0,0,0,0,0,0,0,1,1,0,0,0,0,0,0,0,1,0,0,0,0,0,1,1,0,0,0,0,0,0,0,1,0,0,0,0,0,0,0,0,0,1,1,0,0,1,0,0,0,0,1,0,0,0,1,0]
["","",null,null,"6ª","11:25:00","MATEMÁTICA","Jean","CS3",null,null,null,"BIO","Daniely","CS1",null,null,null,"PROJ INST ELÉT","Sankeis","CS4",null,null,null,"GEOGRAFIA","Débora ","CS2","L INGLESA","Gicelma","BS1",null,null,null,"ED.FÍSICA","Silvio","QD","L PORTUGUES","Elza ","BS3",null,null,null,"L PORTUGUESA","Sandra","BS2","LÓGICA","Wagner","AL5","MATEMÁTICA","Valmir","CS6",null,null,null,"FÍSICA III","Marisa","BT2","HISTÓRIA","Elton","BS4",null,null,null,"PROJ DES SIST","Bruno","AL1",null,null,null,null,"-","-","-","-",null,"-","-","-","-","-","-","-","-","-","-","-","-",null,"-","-","-","-","-","-","-","-","-","-","-","-","-","-","-","-","-","-","-","-","-",null,null,null,null,null,null,null,null,null,null,null,null,null,1,1,1,1,0,0,0,1,0,0,0,0,1,1,1,1,0,1,0,0,0,0,0,0,1,0,0,0,1,1,0,null,{"$f":"COUNTIF($G33:$DP33,EY$9)","v":0},0,0,0,0,0,1,0,0,0,1,0,0,0,0,0,0,0,0,0,1,1,0,0,0,0,0,0,0,1,0,0,0,0,0,1,1,0,0,0,0,0,0,0,1,0,0,0,0,0,0,0,0,0,1,1,0,0,1,0,0,0,0,1,0,0,0,1,0]
["","",null,"VESPERTINO","1ª","13:10:00",null,null,null,"ARTE","Fabiani","CS6",null,null,null,"L PORTUGUESA","Liliane","BS3",null,null,null,"MATEMÁTICA","Sergio","CS3",null,null,null,null,null,null,"DESENHO ","Carlos","Des",null,null,null,null,null,null,"FILOSOFIA","Alvino","BS6",null,null,null,null,null,null,null,null,null,"L PORTUGUESA","Anne","BS2",null,null,null,null,null,null,"POO","Douglas ","AL3",null,null,null,"ED.FÍSICA","Flavio","QD",null,"-","-","-","-",null,null,null,null,null,null,null,null,null,null,null,null,null,null,"-","-","-","-","-","-","-","-","-","-","-","-","-","-","-","-","-","-","-","-","-",null,null,null,null,null,null,null,null,null,null,null,null,null,0,1,1,0,0,1,0,0,0,0,0,0,0,0,1,0,0,1,0,0,0,0,0,0,0,0,1,0,0,1,1,null,{"$f":"COUNTIF($G34:$DP34,EY$9)","v":0},1,1,0,0,0,0,1,0,0,0,0,1,0,0,0,0,0,0,0,0,0,0,0,0,1,0,0,1,0,0,0,0,0,0,0,0,0,0,0,0,1,0,0,0,0,0,0,0,0,0,0,0,0,0,0,0,0,0,0,0,0,0,0,0,0,1,0,0]
["","",null,null,"2ª","14:00:00",null,null,null,"ARTE","Fabiani","CS6",null,null,null,"L PORTUGUESA","Liliane","BS3",null,null,null,"MATEMÁTICA","Sergio","CS3",null,null,null,null,null,null,"DESENHO","Carlos","Des","SOCIO","Eduardo Q","BS6","OPP",null,null,"L INGLESA","Gicelma","BS1",null,null,null,null,null,null,null,null,null,"L PORTUGUESA","Anne","BS2",null,null,null,null,null,null,"POO","Douglas ","AL3",null,null,null,"ED.FÍSICA","Flavio","QD",null,"-","-","-","-",null,null,null,null,null,null,null,null,null,null,null,null,null,null,"-","-","-","-","-","-","-","-","-","-","-","-","-","-","-","-","-","-","-","-","-",null,null,null,null,null,null,null,null,null,null,null,null,null,1,1,1,0,0,1,0,0,0,0,0,0,0,0,1,0,0,1,0,0,0,0,0,0,0,0,1,0,0,1,1,null,{"$f":"COUNTIF($G35:$DP35,EY$9)","v":0},0,1,0,0,0,0,1,0,0,0,0,1,0,0,0,0,0,0,1,0,0,0,0,0,1,0,0,1,1,0,0,0,0,0,0,0,0,0,0,0,1,0,0,0,0,0,0,0,0,0,0,0,0,0,0,0,0,0,0,0,0,0,0,0,0,1,0,0]
["","",null,null,"3ª","14:50:00",null,null,null,"MAT DE CONS","Júnior","BS5",null,null,null,"MATEMÁTICA","Telma","CS3",null,null,null,"ED.FÍSICA","Flavio","QD",null,null,null,null,null,null,"L INGLESA","Gicelma","BS1","SOCIO","Eduardo Q","BS6","OPP",null,null,"CIÊNC MAT","Eduardo L","CS5",null,null,null,null,null,null,null,null,null,"LÓGICA","Wagner","AL5",null,null,null,null,null,null,"MATEMÁTICA","Warley","CS6",null,null,null,"L PORTUGUESA","Sandra","BS2",null,"-","-","-","-",null,null,null,null,null,"MOD. TRIDIMENCIO.","Ariane",null,"Ateliê",null,null,null,null,null,"-","-","-","-","-","-","-","-","-","-","-","-","-","-","-","-","-","-","-","-","-",null,null,null,null,null,null,null,null,null,null,null,null,null,1,1,0,0,1,1,0,0,0,0,0,0,0,0,1,0,1,1,0,0,0,0,0,0,0,0,0,0,1,1,0,null,{"$f":"COUNTIF($G36:$DP36,EY$9)","v":0},0,0,1,0,0,0,0,0,0,0,0,0,0,0,0,0,0,1,1,0,0,0,0,0,0,0,0,1,1,0,0,0,0,0,0,0,0,0,1,0,0,0,0,0,0,0,0,0,0,0,0,0,0,1,0,0,0,0,0,1,0,0,1,1,0,0,0,0]
["","",null,null,"4ª","15:55:00",null,null,null,"MAT DE CONS","Júnior","BS5",null,null,null,"BIO","Daniely","CS1",null,null,null,"ED.FÍSICA","Flavio","QD",null,null,null,null,null,null,"L INGLESA","Gicelma","BS1","OPP",null,null,"SOCIO","Eduardo Q","BS6","CIÊNC MAT","Eduardo L","CS5",null,null,null,null,null,null,null,null,null,"LÓGICA","Wagner","AL5",null,null,null,null,null,null,"MATEMÁTICA","Warley","CS6",null,null,null,"MATEMÁTICA","Valmir","CS3",null,"-","-","-","-",null,null,null,null,null,"MOD. TRIDIMENCIO.","Ariane",null,"Ateliê",null,null,null,null,null,"-","-","-","-","-","-","-","-","-","-","-","-","-","-","-","-","-","-","-","-","-",null,null,null,null,null,null,null,null,null,null,null,null,null,1,0,0,0,1,1,0,0,0,0,0,0,1,0,1,0,1,1,0,0,0,0,0,0,0,0,0,0,1,1,0,null,{"$f":"COUNTIF($G37:$DP37,EY$9)","v":0},0,0,1,0,0,0,0,0,0,1,0,0,0,0,0,0,0,1,1,0,0,0,0,0,0,0,0,1,1,0,0,0,0,0,0,0,0,0,1,0,0,0,0,0,0,0,0,0,0,0,0,0,0,0,0,0,0,0,0,0,0,0,1,1,0,0,1,0]
["","",null,null,"5ª","16:45:00",null,null,null,"L PORTUGUES","Anne","BS3",null,null,null,"BIO","Daniely","CS1",null,null,null,"L ESPANHOLA","Heloisa","BS1",null,null,null,null,null,null,"PROC FAB","Eduardo L","CS5","OPP",null,null,"SOCIO","Eduardo Q","BS6","MATEMÁTICA","Warley","CS3",null,null,null,null,null,null,null,null,null,"MATEMÁTICA","Valmir","CS6",null,null,null,null,null,null,"GEOGRAFIA","Consuelo","CS2",null,null,null,"REDES DE COM","Inácio","AL1",null,"-","-","-","-",null,"FÍSICA APLICADA","Melqui",null,"BT2","MOD. TRIDIMENCIO.","Ariane",null,"Ateliê",null,null,null,null,null,"-","-","-","-","-","-","-","-","-","-","-","-","-","-","-","-","-","-","-","-","-",null,null,null,null,null,null,null,null,null,null,null,null,null,1,0,1,0,0,1,0,1,0,0,0,0,1,1,1,0,1,1,0,0,0,0,0,0,1,0,0,0,0,0,0,null,{"$f":"COUNTIF($G38:$DP38,EY$9)","v":0},0,0,1,0,0,0,0,0,1,1,0,0,0,0,0,0,0,1,1,0,0,0,0,0,0,0,0,0,0,0,0,0,1,0,0,0,0,0,0,0,0,0,0,0,1,0,0,0,0,0,0,0,0,0,0,0,0,0,0,0,0,0,0,1,0,1,1,0]
["","",null,null,"6ª","17:35:00",null,null,null,"TECNO CONST","Saboia","BS5",null,null,null,"FILOSOFIA","Alvino","BS6",null,null,null,"L ESPANHOLA","Heloisa","BS1",null,null,null,null,null,null,"PROC FAB","Eduardo L","CS5",null,null,null,null,null,null,"MATEMÁTICA","Warley","CS3",null,null,null,null,null,null,null,null,null,"MATEMÁTICA","Valmir","CS6",null,null,null,null,null,null,"GEOGRAFIA","Consuelo","CS2",null,null,null,"REDES DE COM","Inácio","AL1",null,"-","-","-","-",null,"FÍSICA APLICADA","Melqui",null,"BT2",null,null,null,null,null,null,null,null,null,"-","-","-","-","-","-","-","-","-","-","-","-","-","-","-","-","-","-","-","-","-",null,null,null,null,null,null,null,null,null,null,null,null,null,1,0,0,0,1,1,0,1,0,0,0,0,0,1,1,0,1,1,0,0,0,0,0,0,1,0,0,0,0,0,0,null,{"$f":"COUNTIF($G39:$DP39,EY$9)","v":0},1,0,0,0,0,0,0,0,1,0,0,0,0,0,0,0,0,1,0,0,0,0,0,0,0,0,0,0,0,0,0,0,1,0,0,0,0,0,0,0,0,0,0,0,1,0,0,0,0,0,0,0,1,0,0,0,0,0,0,0,0,0,0,1,0,0,1,0]
["","",null,"NOTURNO","1ª","18:10:00",null,null,null,null,null,null,null,null,null,null,null,null,null,null,null,null,null,null,null,null,null,null,null,null,null,null,null,null,null,null,null,null,null,null,null,null,null,null,null,null,null,null,null,null,null,null,null,null,null,null,null,null,null,null,null,null,null,null,null,null,null,null,null,null,null,null,null,null,null,null,null,null,null,"PROJ DE ARQUIT II","Silvana ",null,"Des","PAISAGISMO II","Fernanda O",null,"Ateliê",null,null,null,null,null,null,null,null,null,null,null,null,null,null,null,null,null,null,null,null,null,null,null,null,null,null,null,null,null,null,null,null,null,null,null,0,0,0,0,0,0,0,0,0,0,0,0,0,0,0,0,0,0,0,0,0,0,0,0,0,0,0,0,0,0,1,null,{"$f":"COUNTIF($G40:$DP40,EY$9)","v":0},0,0,0,0,0,0,0,0,0,0,0,0,0,0,0,0,0,0,0,0,0,0,0,0,0,0,1,0,0,0,0,0,0,0,0,0,0,0,0,0,0,0,0,0,0,0,0,0,0,0,0,0,0,0,0,1,0,0,0,0,0,0,0,0,0,0,0,0]
["","",null,null,"2ª","19:00:00",null,null,null,null,null,null,null,null,null,null,null,null,null,null,null,null,null,null,null,null,null,null,null,null,null,null,null,null,null,null,null,null,null,null,null,null,null,null,null,null,null,null,null,null,null,null,null,null,null,null,null,null,null,null,null,null,null,null,null,null,null,null,null,null,"CIÊNC DOS MAT E MET","Ney","CT2",null,null,"COM. EXPRESSÃO","Liliane",null,"BS4","PROJ DE ARQUIT II","Silvana ",null,"Des","PAISAGISMO II","Fernanda O",null,"Ateliê",null,"INGLÊS INSTRUM","Ezequiel","BS1","POO","Juliano",null,"DES. DISPOSIT. MÓVEIS","Marco A",null,"FUNDAMENTOS MAT I","Jean",null,"POLÍTICAS PÚBLICAS","Vera",null,"INFO APLICADA","Roberto",null,"ANÁLISE REAL","Inildo",null,null,null,null,null,null,null,null,null,null,null,null,null,null,1,0,0,1,0,0,0,0,0,0,0,0,0,0,0,0,0,0,0,1,0,0,0,0,0,0,0,0,0,0,1,null,{"$f":"COUNTIF($G41:$DP41,EY$9)","v":0},0,0,0,0,0,0,0,0,0,0,0,0,0,0,0,0,0,0,0,0,0,0,1,0,0,0,1,0,0,0,0,0,0,1,0,1,0,1,0,0,1,1,0,0,0,0,1,0,1,0,0,0,0,0,0,1,0,0,0,0,0,1,0,0,0,0,0,0]
["","",null,null,"3ª","19:50:00",null,null,null,null,null,null,null,null,null,null,null,null,null,null,null,null,null,null,null,null,null,null,null,null,null,null,null,null,null,null,null,null,null,null,null,null,null,null,null,null,null,null,null,null,null,null,null,null,null,null,null,null,null,null,null,null,null,null,null,null,null,null,null,null,"CIÊNC DOS MAT E MET","Ney","CT2",null,null,"COM. EXPRESSÃO","Liliane",null,"BS4","PROJ DE ARQUIT II","Silvana ",null,"Des","PAISAGISMO II","Fernanda O",null,"Ateliê",null,"INGLÊS INSTRUM","Ezequiel","BS1","POO","Juliano",null,"DES. DISPOSIT. MÓVEIS","Marco A",null,"FUNDAMENTOS MAT I","Jean",null,"POLÍTICAS PÚBLICAS","Vera",null,"INFO APLICADA","Roberto",null,"ANÁLISE REAL","Inildo",null,null,null,null,null,null,null,null,null,null,null,null,null,null,1,0,0,1,0,0,0,0,0,0,0,0,0,0,0,0,0,0,0,1,0,0,0,0,0,0,0,0,0,0,1,null,{"$f":"COUNTIF($G42:$DP42,EY$9)","v":0},0,0,0,0,0,0,0,0,0,0,0,0,0,0,0,0,0,0,0,0,0,0,1,0,0,0,1,0,0,0,0,0,0,1,0,1,0,1,0,0,1,1,0,0,0,0,1,0,1,0,0,0,0,0,0,1,0,0,0,0,0,1,0,0,0,0,0,0]
["","",null,null,"4ª","20:55:00",null,null,null,null,null,null,null,null,null,null,null,null,null,null,null,null,null,null,null,null,null,null,null,null,null,null,null,null,null,null,null,null,null,null,null,null,null,null,null,null,null,null,null,null,null,null,null,null,null,null,null,null,null,null,null,null,null,null,null,null,null,null,null,null,"CIÊNC DOS MAT E MET","Ney","CT2",null,null,"COM. EXPRESSÃO","Liliane",null,"BS4","PROJ DE ARQUIT II","Silvana ",null,"Des","TEO E HIST. ARQ IV","Rodrigo B",null,"BS5",null,"ALGORÍTIMOS","Marco A","AL5","ENGENHARIA SOF","Roberto",null,"RELAÇÕES ÉTNICO-R",null,"BS2","FILOSOFIA DA EDUCA","Vera",null,"CÁLCULO DIF INTEG II","Marcos M",null,"CÁLCULO DIF INTEG IV","Jean",null,"ÁLGEBRA I","Sergio",null,null,null,null,null,null,null,null,null,null,null,null,null,null,0,1,0,1,1,0,0,0,0,0,0,0,0,0,0,0,0,0,0,1,0,0,0,0,0,0,0,0,1,0,1,null,{"$f":"COUNTIF($G43:$DP43,EY$9)","v":0},0,1,0,0,0,0,0,0,0,0,0,0,0,0,0,0,0,0,0,0,0,0,0,0,0,0,0,0,0,0,0,0,0,0,0,1,0,0,0,0,1,1,1,0,0,0,1,0,1,0,1,0,0,0,0,1,0,0,0,0,0,1,0,0,0,0,0,0]
["","",null,null,"5ª","21:45:00",null,null,null,null,null,null,null,null,null,null,null,null,null,null,null,null,null,null,null,null,null,null,null,null,null,null,null,null,null,null,null,null,null,null,null,null,null,null,null,null,null,null,null,null,null,null,null,null,null,null,null,null,null,null,null,null,null,null,null,null,null,null,null,null,"CIÊNC DOS MAT E MET","Ney","CT2",null,null,null,null,null,null,"PROJ DE ARQUIT II","Silvana ",null,"Des","TEO E HIST. ARQ IV","Rodrigo B",null,"BS5",null,"ALGORÍTIMOS","Marco A","AL5","ENGENHARIA SOF","Roberto",null,"RELAÇÕES ÉTNICO-R",null,"BS2","FILOSOFIA DA EDUCA","Vera",null,"CÁLCULO DIF INTEG II","Marcos M",null,"CÁLCULO DIF INTEG IV","Jean",null,"ÁLGEBRA I","Sergio",null,null,null,null,null,null,null,null,null,null,null,null,null,null,0,1,0,0,1,0,0,0,0,0,0,0,0,0,0,0,0,0,0,1,0,0,0,0,0,0,0,0,1,0,1,null,{"$f":"COUNTIF($G44:$DP44,EY$9)","v":0},0,1,0,0,0,0,0,0,0,0,0,0,0,0,0,0,0,0,0,0,0,0,0,0,0,0,0,0,0,0,0,0,0,0,0,1,0,0,0,0,0,1,1,0,0,0,1,0,1,0,1,0,0,0,0,1,0,0,0,0,0,1,0,0,0,0,0,0]
["","",null,null,"6ª","-",null,null,null,null,null,null,null,null,null,null,null,null,null,null,null,null,null,null,null,null,null,null,null,null,null,null,null,null,null,null,null,null,null,null,null,null,null,null,null,null,null,null,null,null,null,null,null,null,null,null,null,null,null,null,null,null,null,null,null,null,null,null,null,null,null,null,null,null,null,null,null,null,null,null,null,null,null,null,null,null,null,null,null,null,null,null,null,null,null,null,null,null,null,null,null,null,null,null,null,null,null,null,null,null,null,null,null,null,null,null,null,null,null,null,null,null,0,0,0,0,0,0,0,0,0,0,0,0,0,0,0,0,0,0,0,0,0,0,0,0,0,0,0,0,0,0,0,null,{"$f":"COUNTIF($G45:$DP45,EY$9)","v":0},0,0,0,0,0,0,0,0,0,0,0,0,0,0,0,0,0,0,0,0,0,0,0,0,0,0,0,0,0,0,0,0,0,0,0,0,0,0,0,0,0,0,0,0,0,0,0,0,0,0,0,0,0,0,0,0,0,0,0,0,0,0,0,0,0,0,0,0]
["","","QUARTA","MATUTINO","1ª","07:00:00","QUIM","Diego ","BT5",null,null,null,"FÍSICA ","Melqui","BT2",null,null,null,"HISTÓRIA","Eder","BS4",null,null,null,"L PORTUGUES","Dinalva","BS3","MATEMÁTICA","Marcos M","CS3",null,null,null,"BIO","Daniely","CS1","MÁQ ELÉTRIC","Adriana","CT2",null,null,null,"MÁQ TERM","Carlos","CS5","MATEMÁTICA","Valmir","CS6","L PORTUGUES","Anne","BS2",null,null,null,"POO","Douglas ","AL5","FUND ANÁL SIST","Inácio","AL3",null,null,null,"ED.FÍSICA","Flavio","QD","SOCIO","Edgar","BS6",null,"-","-","-","-",null,"-","-","-","-","-","-","-","-","-","-","-","-",null,"-","-","-","-","-","-","-","-","-","-","-","-","-","-","-","-","-","-","-","-","-",null,null,null,null,null,null,null,null,null,null,null,null,null,0,1,1,1,0,1,0,1,0,0,1,0,1,0,1,0,1,1,0,1,0,0,0,0,0,0,1,0,1,1,0,null,{"$f":"COUNTIF($G46:$DP46,EY$9)","v":1},0,0,0,0,0,0,1,0,0,1,1,1,1,1,0,0,0,0,0,0,0,0,0,0,0,0,0,1,0,0,0,0,1,0,0,0,0,0,0,0,0,0,1,0,1,0,0,0,0,0,0,0,0,0,0,0,0,0,0,0,0,0,0,0,0,1,1,0]
["","",null,null,"2ª","07:50:00","QUIM","Diego ","BT5",null,null,null,"FÍSICA ","Melqui","BT2",null,null,null,"HISTÓRIA","Eder","BS4",null,null,null,"L PORTUGUES","Dinalva","BS3","MATEMÁTICA","Marcos M","CS3",null,null,null,"BIO","Daniely","CS1","MÁQ ELÉTRIC","Adriana","CT2",null,null,null,"MÁQ TERM","Carlos","CS5","MATEMÁTICA","Valmir","CS6","L PORTUGUES","Anne","BS2",null,null,null,"POO","Douglas ","AL5","FUND ANÁL SIST","Inácio","AL3",null,null,null,"ED.FÍSICA","Flavio","QD","SOCIO","Edgar","BS6",null,"-","-","-","-",null,"-","-","-","-","-","-","-","-","-","-","-","-",null,"-","-","-","-","-","-","-","-","-","-","-","-","-","-","-","-","-","-","-","-","-",null,null,null,null,null,null,null,null,null,null,null,null,null,0,1,1,1,0,1,0,1,0,0,1,0,1,0,1,0,1,1,0,1,0,0,0,0,0,0,1,0,1,1,0,null,{"$f":"COUNTIF($G47:$DP47,EY$9)","v":1},0,0,0,0,0,0,1,0,0,1,1,1,1,1,0,0,0,0,0,0,0,0,0,0,0,0,0,1,0,0,0,0,1,0,0,0,0,0,0,0,0,0,1,0,1,0,0,0,0,0,0,0,0,0,0,0,0,0,0,0,0,0,0,0,0,1,1,0]
["","",null,null,"3ª","08:40:00","L PORTUGUES","Anne","BS2",null,null,null,"ED.FÍSICA","Silvio","QD",null,null,null,"FÍSICA ","Melqui","BT2",null,null,null,"MATEMÁTICA","Marcos M","CS3","ELETRI","Adriana","CT2",null,null,null,"L ESPANHOLA","Vanuza","BS1","BIO","Daniely","CS1",null,null,null,"HISTÓRIA","Eder","BS4","IMC","Benedito","AL2","ARTE","Fabiani","CS6",null,null,null,"FILOSOFIA","Alvino","BS6","FUND ANÁL SIST","Inácio","AL3",null,null,null,"QUIM","Diego ","CT5","SAÚDE E SEG","RESIS.ENS",null,null,"-","-","-","-",null,"-","-","-","-","-","-","-","-","-","-","-","-",null,"-","-","-","-","-","-","-","-","-","-","-","-","-","-","-","-","-","-","-","-","-",null,null,null,null,null,null,null,null,null,null,null,null,null,1,1,0,1,0,1,0,1,0,0,0,0,1,0,1,0,0,1,0,1,0,0,1,0,0,1,1,0,0,1,0,null,{"$f":"COUNTIF($G48:$DP48,EY$9)","v":1},1,0,0,0,1,0,0,0,0,1,1,0,0,1,0,0,0,0,0,0,0,0,0,0,1,0,0,0,0,0,0,0,1,0,0,0,0,0,0,0,0,0,1,0,1,0,0,0,0,0,0,0,0,0,0,0,0,1,0,0,1,0,0,0,0,1,0,0]
["","",null,null,"4ª","09:45:00","TECNO CONST","Saboia","BS5",null,null,null,"ED.FÍSICA","Silvio","QD",null,null,null,"QUIM","Diego ","BT5",null,null,null,"MATEMÁTICA","Marcos M","CS3","ELETRI","Adriana","CT2",null,null,null,"GEOGRAFIA","Débora ","CS2","BIO","Daniely","CS1",null,null,null,"HISTÓRIA","Eder","BS4","IMC","Benedito","AL2","ARTE","Fabiani","CS6",null,null,null,"L INGLESA","Gicelma","BS1","POO","Douglas ","AL3",null,null,null,"FILOSOFIA",null,"BS6","SAÚDE E SEG","RESIS.ENS",null,null,"-","-","-","-",null,"-","-","-","-","-","-","-","-","-","-","-","-",null,"-","-","-","-","-","-","-","-","-","-","-","-","-","-","-","-","-","-","-","-","-",null,null,null,null,null,null,null,null,null,null,null,null,null,1,0,0,1,1,1,0,0,0,0,1,0,1,1,1,0,0,1,0,1,0,0,0,0,0,1,1,0,0,1,0,null,{"$f":"COUNTIF($G49:$DP49,EY$9)","v":1},0,0,0,0,1,0,0,0,0,1,1,1,0,1,0,0,0,0,0,0,0,0,0,0,1,0,0,0,1,0,0,0,0,0,1,0,0,0,0,0,0,0,1,0,0,0,0,0,0,0,0,0,1,0,0,0,0,1,0,0,0,0,0,0,0,0,0,0]
["","",null,null,"5ª","10:35:00","ARTE","Fabiani","CS6",null,null,null,"QUIM","Diego ","BT5",null,null,null,"PROJ HIDRAUL","Saboia","BS5",null,null,null,"L INGLESA","Gicelma","BS1","DESENHO","Carlos","Des",null,null,null,"GEOGRAFIA","Débora ","CS2","CIÊNC MAT","Eduardo L","CS5",null,null,null,"RESIST E ENS",null,"CT2","L PORTUGUESA","Anne","BS2","IMC","Benedito","AL2",null,null,null,"ED.FÍSICA","Silvio","QD","POO","Douglas ","AL3",null,null,null,"HISTÓRIA","Eder","BS4",null,null,null,null,"-","-","-","-",null,"-","-","-","-","-","-","-","-","-","-","-","-",null,"-","-","-","-","-","-","-","-","-","-","-","-","-","-","-","-","-","-","-","-","-",null,null,null,null,null,null,null,null,null,null,null,null,null,1,1,0,1,1,0,0,0,0,0,1,0,0,1,0,0,1,1,0,1,0,0,0,0,0,1,1,0,0,1,1,null,{"$f":"COUNTIF($G50:$DP50,EY$9)","v":0},0,0,0,0,1,0,1,0,0,0,1,1,0,1,0,0,0,1,0,0,0,0,0,0,1,0,0,0,1,0,0,0,0,0,1,0,0,0,0,0,0,0,0,0,0,0,0,0,0,0,0,0,1,0,0,0,0,1,0,0,0,0,0,0,0,1,0,0]
["","",null,null,"6ª","11:25:00","ARTE","Fabiani","CS6",null,null,null,"QUIM","Diego ","BT5",null,null,null,"PROJ HIDRAUL","Saboia","BS5",null,null,null,"L INGLESA","Gicelma","BS1","DESENHO","Carlos","Des",null,null,null,"MATEMÁTICA","Marcos M","CS4","CIÊNC MAT","Eduardo L","CS5",null,null,null,"RESIST E ENS",null,"CT2","L PORTUGUESA","Anne","BS2","IMC","Benedito","AL2",null,null,null,"ED.FÍSICA","Silvio","QD","FILOSOFIA",null,"BS6",null,null,null,"HISTÓRIA","Eder","BS4",null,null,null,null,"-","-","-","-",null,"-","-","-","-","-","-","-","-","-","-","-","-",null,"-","-","-","-","-","-","-","-","-","-","-","-","-","-","-","-","-","-","-","-","-",null,null,null,null,null,null,null,null,null,null,null,null,null,1,1,0,1,1,1,0,0,0,0,1,0,0,0,0,1,1,1,0,1,0,0,0,0,0,1,0,0,0,1,1,null,{"$f":"COUNTIF($G51:$DP51,EY$9)","v":0},0,0,0,0,1,0,1,0,0,0,1,0,0,1,0,0,0,1,0,0,0,0,0,0,1,0,0,0,1,0,0,0,0,0,0,0,0,0,0,0,0,0,1,0,0,0,0,0,0,0,0,0,1,0,0,0,0,1,0,0,0,0,0,0,0,1,0,0]
["","",null,"VESPERTINO","1ª","13:10:00",null,null,null,"L INGLESA","Ezequiel","BS1",null,null,null,"HISTÓRIA","Elton","BS4",null,null,null,"PROJ ESTRUT","Michel ","CS4",null,null,null,null,null,null,"FÍSICA","Gustavo","BT2",null,null,null,null,null,null,"MÁQ ELÉTRIC","Adriana","CT2",null,null,null,null,null,null,null,null,null,"BIO","Tatiana","CS1",null,null,null,null,null,null,"POO","Douglas ","AL3",null,null,null,"P WEB","Gilberto","AL1",null,"-","-","-","-",null,"DESENHO ARQ.I","Fernanda O",null,"Des",null,null,null,null,null,null,null,null,null,"-","-","-","-","-","-","-","-","-","-","-","-","-","-","-","-","-","-","-","-","-",null,null,null,null,null,null,null,null,null,null,null,null,null,1,0,0,1,0,0,0,1,0,0,0,0,1,0,0,1,0,0,0,1,0,0,0,0,1,0,1,0,0,0,1,null,{"$f":"COUNTIF($G52:$DP52,EY$9)","v":1},0,0,0,0,0,0,0,0,0,0,0,1,0,0,0,0,0,0,0,1,0,0,1,0,0,0,1,0,0,1,0,0,0,0,0,0,0,0,0,0,0,0,0,0,0,1,0,0,0,0,0,0,0,0,0,0,0,0,1,0,0,0,0,0,1,0,0,0]
["","",null,null,"2ª","14:00:00",null,null,null,"L INGLESA","Ezequiel","BS1",null,null,null,"HISTÓRIA","Elton","BS4",null,null,null,"PROJ ESTRUT","Michel ","CS4",null,null,null,null,null,null,"FÍSICA","Gustavo","BT2",null,null,null,null,null,null,"MÁQ ELÉTRIC","Adriana","CT2",null,null,null,null,null,null,null,null,null,"BIO","Tatiana","CS1",null,null,null,null,null,null,"POO","Douglas ","AL3","SOCIO","Edgar","BS6","P WEB","Gilberto","AL1",null,"-","-","-","-",null,"DESENHO ARQ.I","Fernanda O",null,"Des",null,null,null,null,null,null,null,null,null,"-","-","-","-","-","-","-","-","-","-","-","-","-","-","-","-","-","-","-","-","-",null,null,null,null,null,null,null,null,null,null,null,null,null,1,0,0,1,0,1,0,1,0,0,0,0,1,0,0,1,0,0,0,1,0,0,0,0,1,0,1,0,0,0,1,null,{"$f":"COUNTIF($G53:$DP53,EY$9)","v":1},0,0,0,0,0,0,0,0,0,0,0,1,1,0,0,0,0,0,0,1,0,0,1,0,0,0,1,0,0,1,0,0,0,0,0,0,0,0,0,0,0,0,0,0,0,1,0,0,0,0,0,0,0,0,0,0,0,0,1,0,0,0,0,0,1,0,0,0]
["","",null,null,"3ª","14:50:00",null,null,null,"BIO","Tatiana","CS1",null,null,null,"L INGLESA","Ezequiel","BS1",null,null,null,"PROJ ESTRUT","Michel ","CS4",null,null,null,null,null,null,"ELETRI","Adriana","CT2",null,null,null,null,null,null,"FÍSICA","Gustavo","BT2",null,null,null,null,null,null,null,null,null,"INTROD TECNO","Inácio","AL5",null,null,null,null,null,null,"ED.FÍSICA","Silvio","QD","SOCIO","Edgar","BS6","BANCO DE DA","Gleiser","AL1",null,"-","-","-","-",null,"DESENHO ARQ.I","Fernanda O",null,"Des",null,null,null,null,null,null,null,null,null,"-","-","-","-","-","-","-","-","-","-","-","-","-","-","-","-","-","-","-","-","-",null,null,null,null,null,null,null,null,null,null,null,null,null,1,0,0,0,0,1,0,1,0,0,0,0,1,0,0,1,0,0,0,1,0,0,0,0,1,0,0,0,1,1,1,null,{"$f":"COUNTIF($G54:$DP54,EY$9)","v":1},0,0,0,0,0,0,0,0,0,0,0,0,1,0,0,0,0,0,0,0,0,0,1,0,0,0,1,0,0,0,1,0,1,0,0,0,0,0,0,0,0,0,0,0,0,1,0,0,0,0,0,0,0,0,0,0,0,1,1,0,0,0,0,0,1,0,0,0]
["","",null,null,"4ª","15:55:00",null,null,null,"BIO","Tatiana","CS1",null,null,null,"ESTABILIDADE ","Michel ","CS4",null,null,null,"MATEMÁTICA","Sergio","CS3",null,null,null,null,null,null,"ELETRI","Adriana","CT2",null,null,null,null,null,null,"FÍSICA","Gustavo","BT2",null,null,null,null,null,null,null,null,null,"INTROD TECNO","Inácio","AL5",null,null,null,null,null,null,"ED.FÍSICA","Silvio","QD","SAÚDE E SEG","RESIS.ENS",null,"BANCO DE DA","Gleiser","AL1",null,"-","-","-","-",null,"MATEMÁTICA","Claudinei",null,"BS1","DESENHO ARQ.II","Fernanda B",null,"Des","TOPO","Tiago",null,"BS5",null,"-","-","-","-","-","-","-","-","-","-","-","-","-","-","-","-","-","-","-","-","-",null,null,null,null,null,null,null,null,null,null,null,null,null,1,0,0,0,1,0,0,1,0,0,0,0,1,0,1,1,0,0,0,1,0,0,0,0,1,0,0,0,1,1,1,null,{"$f":"COUNTIF($G55:$DP55,EY$9)","v":1},0,1,0,1,0,0,0,1,0,0,0,0,0,0,0,0,0,0,0,0,0,0,0,0,0,0,0,0,0,0,1,0,1,0,0,0,0,0,0,0,0,0,0,0,0,1,0,0,0,0,0,0,0,0,0,0,0,1,1,0,0,0,0,0,1,0,0,1]
["","",null,null,"5ª","16:45:00",null,null,null,"GEOGRAFIA","Débora ","CS2",null,null,null,"ESTABILIDADE ","Michel ","CS4",null,null,null,"L PORTUGUES","Elza ","BS3",null,null,null,null,null,null,"PORTUGUÊS","Jenyffer","BS2",null,null,null,null,null,null,"ED.FÍSICA","Silvio","QD",null,null,null,null,null,null,null,null,null,"QUIM","Silvanella","BT5",null,null,null,null,null,null,"BANCO DE DA","Gleiser","AL3","SAÚDE E SEG","RESIS.ENS",null,"EMPREENDED",null,"BS6",null,"-","-","-","-",null,"MATEMÁTICA","Claudinei",null,"BS1","DESENHO ARQ.II","Fernanda B",null,"Des","TOPO","Tiago",null,"BS5",null,"-","-","-","-","-","-","-","-","-","-","-","-","-","-","-","-","-","-","-","-","-",null,null,null,null,null,null,null,null,null,null,null,null,null,1,1,1,0,1,1,0,0,0,0,1,0,0,1,0,1,0,0,0,0,0,0,0,0,0,0,1,0,0,1,1,null,{"$f":"COUNTIF($G56:$DP56,EY$9)","v":0},0,0,0,1,0,0,0,1,0,0,0,0,0,0,0,0,0,0,0,0,1,0,0,0,0,0,0,0,0,0,1,0,0,0,1,0,0,0,0,0,0,0,0,0,0,1,0,0,0,0,0,0,0,0,0,0,1,1,0,0,0,0,0,0,0,0,0,1]
["","",null,null,"6ª","17:35:00",null,null,null,"GEOGRAFIA","Débora ","CS2",null,null,null,"ESTABILIDADE ","Michel ","CS4",null,null,null,"L PORTUGUES","Elza ","BS3",null,null,null,null,null,null,"PORTUGUÊS","Jenyffer","BS2",null,null,null,null,null,null,"ED.FÍSICA","Silvio","QD",null,null,null,null,null,null,null,null,null,"QUIM","Silvanella","BT5",null,null,null,null,null,null,"BANCO DE DA","Gleiser","AL3",null,null,null,"EMPREENDED",null,"BS6",null,"-","-","-","-",null,null,null,null,null,"DESENHO ARQ.II","Fernanda B",null,"Des",null,null,null,null,null,"-","-","-","-","-","-","-","-","-","-","-","-","-","-","-","-","-","-","-","-","-",null,null,null,null,null,null,null,null,null,null,null,null,null,0,1,1,0,0,1,0,0,0,0,1,0,0,1,0,1,0,0,0,0,0,0,0,0,0,0,1,0,0,1,1,null,{"$f":"COUNTIF($G57:$DP57,EY$9)","v":0},0,0,0,0,0,0,0,0,0,0,0,0,0,0,0,0,0,0,0,0,1,0,0,0,0,0,0,0,0,0,1,0,0,0,1,0,0,0,0,0,0,0,0,0,0,1,0,0,0,0,0,0,0,0,0,0,1,1,0,0,0,0,0,0,0,0,0,1]
["","",null,"NOTURNO","1ª","18:10:00",null,null,null,null,null,null,null,null,null,null,null,null,null,null,null,null,null,null,null,null,null,null,null,null,null,null,null,null,null,null,null,null,null,null,null,null,null,null,null,null,null,null,null,null,null,null,null,null,null,null,null,null,null,null,null,null,null,null,null,null,null,null,null,null,null,null,null,null,null,"MET.TRAB.CIENT","Ariane",null,"Ateliê",null,null,null,null,"SISTEMAS PREDIAIS","Sankeis",null,"BS5",null,null,null,null,null,null,null,null,null,null,null,null,null,null,null,null,null,null,null,null,null,null,null,null,null,null,null,null,null,null,null,null,null,null,null,0,0,0,0,1,0,0,0,0,0,0,0,0,0,0,0,0,0,0,0,0,0,0,0,0,0,0,0,0,0,0,null,{"$f":"COUNTIF($G58:$DP58,EY$9)","v":0},0,0,1,0,0,0,0,0,0,0,0,0,0,0,0,0,0,0,0,0,0,0,0,0,0,0,0,0,0,0,0,0,0,0,0,0,0,0,0,0,0,0,0,0,0,0,0,0,0,0,0,0,0,0,1,0,0,0,0,0,0,0,0,0,0,0,0,0]
["","",null,null,"2ª","19:00:00",null,null,null,null,null,null,null,null,null,null,null,null,null,null,null,null,null,null,null,null,null,null,null,null,null,null,null,null,null,null,null,null,null,null,null,null,null,null,null,null,null,null,null,null,null,null,null,null,null,null,null,null,null,null,null,null,null,null,null,null,null,null,null,null,"ELETRÔNICA","RODRIGO ALÉCIO","CT2",null,null,"MET.TRAB.CIENT","Ariane",null,"Ateliê","ERGONOMIA E ACES","Jéssica",null,"BS3","SISTEMAS PREDIAIS","Sankeis",null,"BS5",null,"L PORTUGUESA","Liliane","BS1","ESTRUT. DADOS","Marco A",null,"REDES DE COMPUTAD","Gilberto",null,"PORTUGUÊS INSTRUM","Sandra",null,"GEO ANALÍTICA VETO","Edinalcio",null,"GEO EUCLIDIANA","Claudinei",null,"DESENHO GEO","Telma",null,null,null,null,null,null,null,null,null,null,null,null,null,null,1,0,1,0,1,0,0,0,0,0,0,0,0,0,0,0,0,0,0,1,0,0,0,0,0,0,0,0,0,0,0,null,{"$f":"COUNTIF($G59:$DP59,EY$9)","v":0},0,0,1,0,0,0,0,1,0,0,0,0,0,0,0,1,0,0,0,0,0,0,0,0,0,0,0,0,0,1,0,0,0,0,0,0,1,0,0,0,1,1,0,0,0,0,0,0,0,0,0,0,0,1,1,0,0,0,0,1,0,0,0,0,0,0,0,0]
["","",null,null,"3ª","19:50:00",null,null,null,null,null,null,null,null,null,null,null,null,null,null,null,null,null,null,null,null,null,null,null,null,null,null,null,null,null,null,null,null,null,null,null,null,null,null,null,null,null,null,null,null,null,null,null,null,null,null,null,null,null,null,null,null,null,null,null,null,null,null,null,null,"ELETRÔNICA","RODRIGO ALÉCIO","CT2",null,null,"MET.TRAB.CIENT","Ariane",null,"Ateliê","ERGONOMIA E ACES","Jéssica",null,"BS3","ARQ. NO BRASIL I","Rodrigo B",null,"BS5",null,"L PORTUGUESA","Liliane","BS1","ESTRUT. DADOS","Marco A",null,"REDES DE COMPUTAD","Gilberto",null,"GEO PLANA E ESPAC","Telma",null,"GEO ANALÍTICA VETO","Edinalcio",null,"FÍSICA I","Melqui",null,"FÍSICA III","Gustavo ",null,null,null,null,null,null,null,null,null,null,null,null,null,null,1,0,1,0,1,0,0,0,0,0,0,0,0,0,0,0,0,0,0,1,0,0,0,0,0,0,0,0,0,0,0,null,{"$f":"COUNTIF($G60:$DP60,EY$9)","v":0},0,0,1,0,0,0,0,0,0,0,0,0,0,0,0,1,0,0,0,0,0,0,0,0,0,0,0,0,0,1,0,0,0,0,0,0,1,0,0,0,1,1,0,0,1,0,0,0,0,0,1,0,0,0,0,0,0,0,0,1,0,0,0,0,0,0,0,0]
["","",null,null,"4ª","20:55:00",null,null,null,null,null,null,null,null,null,null,null,null,null,null,null,null,null,null,null,null,null,null,null,null,null,null,null,null,null,null,null,null,null,null,null,null,null,null,null,null,null,null,null,null,null,null,null,null,null,null,null,null,null,null,null,null,null,null,null,null,null,null,null,null,"MATEMÁTICA APLIC","Warley","CT2",null,null,null,null,null,null,"ERGONOMIA E ACES","Jéssica",null,"BS3","ARQ. NO BRASIL I","Rodrigo B",null,"BS5",null,"ORGANIZ. COMPU","Gilberto","AL5","FUNDAMENTOS","Juliano",null,"DES. PROG. WEB","Marco A",null,"GEO PLANA E ESPAC","Telma",null,"FUNDAMENTOS MAT III","Claudinei",null,"FÍSICA I","Melqui",null,"FÍSICA III","Gustavo ",null,null,null,null,null,null,null,null,null,null,null,null,null,null,0,0,1,0,1,0,0,0,0,0,0,0,0,0,0,0,0,0,0,1,0,0,0,0,0,0,0,0,1,0,0,null,{"$f":"COUNTIF($G61:$DP61,EY$9)","v":0},0,0,0,0,0,0,0,1,0,0,0,0,0,0,0,0,0,0,0,0,0,0,0,0,0,0,0,0,0,1,0,0,0,0,0,0,1,1,0,0,0,1,0,0,1,0,0,0,0,0,1,0,0,0,0,0,0,0,0,1,0,0,0,1,0,0,0,0]
["","",null,null,"5ª","21:45:00",null,null,null,null,null,null,null,null,null,null,null,null,null,null,null,null,null,null,null,null,null,null,null,null,null,null,null,null,null,null,null,null,null,null,null,null,null,null,null,null,null,null,null,null,null,null,null,null,null,null,null,null,null,null,null,null,null,null,null,null,null,null,null,null,"MATEMÁTICA APLIC","Warley","CT2",null,null,null,null,null,null,null,null,null,null,null,null,null,null,null,"ORGANIZ. COMPU","Gilberto","AL5","FUNDAMENTOS","Juliano",null,"DES. PROG. WEB","Marco A",null,"GEO PLANA E ESPAC","Telma",null,"FUNDAMENTOS MAT III","Claudinei",null,"FÍSICA I","Melqui",null,"FÍSICA III","Gustavo ",null,null,null,null,null,null,null,null,null,null,null,null,null,null,0,0,0,0,0,0,0,0,0,0,0,0,0,0,0,0,0,0,0,1,0,0,0,0,0,0,0,0,1,0,0,null,{"$f":"COUNTIF($G62:$DP62,EY$9)","v":0},0,0,0,0,0,0,0,1,0,0,0,0,0,0,0,0,0,0,0,0,0,0,0,0,0,0,0,0,0,1,0,0,0,0,0,0,0,1,0,0,0,1,0,0,1,0,0,0,0,0,0,0,0,0,0,0,0,0,0,1,0,0,0,1,0,0,0,0]
["","",null,null,"6ª","-",null,null,null,null,null,null,null,null,null,null,null,null,null,null,null,null,null,null,null,null,null,null,null,null,null,null,null,null,null,null,null,null,null,null,null,null,null,null,null,null,null,null,null,null,null,null,null,null,null,null,null,null,null,null,null,null,null,null,null,null,null,null,null,null,null,null,null,null,null,null,null,null,null,null,null,null,null,null,null,null,null,null,null,null,null,null,null,null,null,null,null,null,null,null,null,null,null,null,null,null,null,null,null,null,null,null,null,null,null,null,null,null,null,null,null,null,0,0,0,0,0,0,0,0,0,0,0,0,0,0,0,0,0,0,0,0,0,0,0,0,0,0,0,0,0,0,0,null,{"$f":"COUNTIF($G63:$DP63,EY$9)","v":0},0,0,0,0,0,0,0,0,0,0,0,0,0,0,0,0,0,0,0,0,0,0,0,0,0,0,0,0,0,0,0,0,0,0,0,0,0,0,0,0,0,0,0,0,0,0,0,0,0,0,0,0,0,0,0,0,0,0,0,0,0,0,0,0,0,0,0,0]
["","","QUINTA","MATUTINO","1ª","07:00:00","L INGLESA","Ezequiel","BS1",null,null,null,"GEOGRAFIA","Consuelo","CS2",null,null,null,"ED.FÍSICA","Flavio","QD",null,null,null,"FÍSICA","Gustavo","BT2","BIO","Daniely","CS1",null,null,null,"INST ELÉTRI","Ewerton","CT2","QUIM","Silvanella","BT5",null,null,null,"EMPREENDED",null,null,"L PORTUGUESA","Anne","BS2","MATEMÁTICA","Valmir","CS3",null,null,null,"BANCO DE DA","Gleiser","AL3","MATEMÁTICA","Warley","CS6",null,null,null,"REDES DE COM","Inácio","AL1",null,null,null,null,"-","-","-","-",null,"-","-","-","-","-","-","-","-","-","-","-","-",null,"-","-","-","-","-","-","-","-","-","-","-","-","-","-","-","-","-","-","-","-","-",null,null,null,null,null,null,null,null,null,null,null,null,null,1,1,0,0,0,0,0,1,0,0,1,0,1,1,1,0,0,1,0,1,0,0,0,0,1,0,1,0,0,1,0,null,{"$f":"COUNTIF($G64:$DP64,EY$9)","v":0},0,0,0,0,0,0,0,0,1,1,0,0,0,0,0,0,0,0,0,0,0,1,1,0,0,0,0,1,0,0,1,0,1,0,0,0,0,0,0,0,0,0,0,0,0,0,0,0,0,0,0,0,0,0,0,0,1,0,0,0,0,0,0,1,1,1,1,0]
["","",null,null,"2ª","07:50:00","L INGLESA","Ezequiel","BS1",null,null,null,"GEOGRAFIA","Consuelo","CS2",null,null,null,"ED.FÍSICA","Flavio","QD",null,null,null,"FÍSICA","Gustavo","BT2","BIO","Daniely","CS1",null,null,null,"INST ELÉTRI","Ewerton","CT2","QUIM","Silvanella","BT5",null,null,null,"EMPREENDED",null,null,"MATEMÁTICA","Valmir","CS3","L PORTUGUESA","Anne","BS2",null,null,null,"BANCO DE DA","Gleiser","AL3","MATEMÁTICA","Warley","CS6",null,null,null,"REDES DE COM","Inácio","AL1",null,null,null,null,"-","-","-","-",null,"-","-","-","-","-","-","-","-","-","-","-","-",null,"-","-","-","-","-","-","-","-","-","-","-","-","-","-","-","-","-","-","-","-","-",null,null,null,null,null,null,null,null,null,null,null,null,null,1,1,0,0,0,0,0,1,0,0,1,0,1,1,1,0,0,1,0,1,0,0,0,0,1,0,1,0,0,1,0,null,{"$f":"COUNTIF($G65:$DP65,EY$9)","v":0},0,0,0,0,0,0,0,0,1,1,0,0,0,0,0,0,0,0,0,0,0,1,1,0,0,0,0,1,0,0,1,0,1,0,0,0,0,0,0,0,0,0,0,0,0,0,0,0,0,0,0,0,0,0,0,0,1,0,0,0,0,0,0,1,1,1,1,0]
["","",null,null,"3ª","08:40:00","BIO","Tatiana","CS1",null,null,null,"L PORTUGUESA","Liliane","BS3",null,null,null,"MECÂNICA SOLO","Tiago","CS4",null,null,null,"ED.FÍSICA","Paulo ","QD","METROLOGIA","Ney ","CT2",null,null,null,"L INGLESA","Ezequiel","BS1","MATEMÁTICA","Warley","CS3",null,null,null,"FÍSICA","Gustavo","BT2","LÓGICA","Wagner","AL5","QUIM","Silvanella","BT5",null,null,null,"MATEMÁTICA","Edinalcio","CS6","BANCO DE DA","Gleiser","AL3",null,null,null,"MATEMÁTICA","Valmir","CT5",null,null,null,null,"-","-","-","-",null,"-","-","-","-","-","-","-","-","-","-","-","-",null,"-","-","-","-","-","-","-","-","-","-","-","-","-","-","-","-","-","-","-","-","-",null,null,null,null,null,null,null,null,null,null,null,null,null,1,0,1,0,0,0,0,1,0,0,1,0,1,0,1,1,0,1,0,1,0,0,1,0,0,0,1,0,1,1,0,null,{"$f":"COUNTIF($G66:$DP66,EY$9)","v":0},0,0,0,1,0,0,0,0,0,0,0,0,0,0,0,1,0,0,0,0,0,0,1,0,0,0,0,0,0,0,1,0,0,0,0,0,0,0,0,0,1,0,0,0,0,0,0,1,0,0,0,0,0,0,0,0,1,0,1,0,0,0,1,1,1,0,1,0]
["","",null,null,"4ª","09:45:00","BIO","Tatiana","CS1",null,null,null,"MATEMÁTICA","Telma","CS3",null,null,null,"MECÂNICA SOLO","Tiago","CS4",null,null,null,"ED.FÍSICA","Paulo ","QD","METROLOGIA","Ney ","CT2",null,null,null,"L PORTUGUES","Elza ","BS3","L INGLESA","Ezequiel","BS1",null,null,null,"MATEMÁTICA","Sergio","CS6","LÓGICA","Wagner","AL5","QUIM","Silvanella","BT5",null,null,null,"L PORTUGUESA","Liliane","BS2","BANCO DE DA","Gleiser","AL3",null,null,null,"MATEMÁTICA","Valmir","CT5",null,null,null,null,"-","-","-","-",null,"-","-","-","-","-","-","-","-","-","-","-","-",null,"-","-","-","-","-","-","-","-","-","-","-","-","-","-","-","-","-","-","-","-","-",null,null,null,null,null,null,null,null,null,null,null,null,null,1,1,1,0,0,0,0,0,0,0,1,0,1,0,1,1,0,1,0,1,0,0,1,0,0,0,1,0,1,1,0,null,{"$f":"COUNTIF($G67:$DP67,EY$9)","v":0},0,1,0,1,0,0,0,0,0,0,0,0,0,0,0,0,0,0,0,0,1,0,1,0,0,0,0,0,0,0,1,0,0,0,0,0,0,0,0,0,1,0,0,0,0,0,0,1,0,0,0,0,0,0,0,0,1,0,1,1,0,0,1,0,0,0,1,0]
["","",null,null,"5ª","10:35:00","MATEMÁTICA","Jean","CS3",null,null,null,"GERENCIAM","Tiago","CS4",null,null,null,"L PORTUGUES","Elza ","BS3",null,null,null,"METROLOGIA","Ney ","CT2","ED.FÍSICA","Paulo ","QD",null,null,null,"FÍSICA","Gustavo","BT2","INST ELÉTRI","Ewerton","CS5",null,null,null,"QUIM","Silvanella","BT5","ARTE","Fabiani","CS6","LÓGICA","Wagner","AL5",null,null,null,"GEOGRAFIA","Consuelo","CS2","L PORTUGUESA","Liliane","BS2",null,null,null,"P WEB","Gilberto","AL1",null,null,null,null,"-","-","-","-",null,"-","-","-","-","-","-","-","-","-","-","-","-",null,"-","-","-","-","-","-","-","-","-","-","-","-","-","-","-","-","-","-","-","-","-",null,null,null,null,null,null,null,null,null,null,null,null,null,0,1,1,0,0,0,0,1,0,0,1,0,0,1,1,1,1,1,0,1,0,0,0,0,1,0,0,0,1,1,0,null,{"$f":"COUNTIF($G68:$DP68,EY$9)","v":0},0,0,0,1,0,0,0,0,1,0,0,0,0,0,0,0,0,0,0,0,1,1,0,0,1,0,0,0,0,1,0,0,0,0,0,1,0,0,0,0,1,0,0,0,0,0,0,1,0,0,0,0,0,0,0,0,1,0,0,0,0,0,1,0,1,0,0,0]
["","",null,null,"6ª","11:25:00","LEGISLAÇÃO","Tiago","CS4",null,null,null,"L INGLESA","Ezequiel","BS1",null,null,null,"MATEMÁTICA","Edinalcio","CS3",null,null,null,"METROLOGIA","Ney ","CT2","ED.FÍSICA","Paulo ","QD",null,null,null,"FÍSICA","Gustavo","BT2","INST ELÉTRI","Ewerton","CS5",null,null,null,"L PORTUGUES","Elza ","BS3","ARTE","Fabiani","CS6","LÓGICA","Wagner","AL5",null,null,null,"GEOGRAFIA","Consuelo","CS2","L PORTUGUESA","Liliane","BS2",null,null,null,"P WEB","Gilberto","AL1",null,null,null,null,"-","-","-","-",null,"-","-","-","-","-","-","-","-","-","-","-","-",null,"-","-","-","-","-","-","-","-","-","-","-","-","-","-","-","-","-","-","-","-","-",null,null,null,null,null,null,null,null,null,null,null,null,null,1,1,1,0,0,0,0,1,0,0,0,0,0,1,1,1,1,1,0,1,0,0,0,0,1,0,0,0,1,1,0,null,{"$f":"COUNTIF($G69:$DP69,EY$9)","v":0},0,0,0,1,0,0,0,0,1,0,0,0,0,0,0,1,0,0,0,0,1,1,1,0,1,0,0,0,0,1,0,0,0,0,0,0,0,0,0,0,1,0,0,0,0,0,0,1,0,0,0,0,0,0,0,0,0,0,0,0,0,0,1,0,1,0,0,0]
["","",null,"VESPERTINO","1ª","13:10:00",null,null,null,"L PORTUGUES","Anne","BS3",null,null,null,"FÍSICA ","Melqui","BT2",null,null,null,"EMPREENDED",null,null,null,null,null,null,null,null,"MATEMÁTICA","Warley","CS3",null,null,null,null,null,null,"L ESPANHOLA","Vanuza","BS1",null,null,null,null,null,null,null,null,null,"GEOGRAFIA","Débora ","CS2",null,null,null,null,null,null,"FILOSOFIA",null,"BS6",null,null,null,"REDES DE COM","Inácio","AL1",null,"-","-","-","-",null,"-","-","-","-","-","-","-","-","-","-","-","-",null,"-","-","-","-","-","-","-","-","-","-","-","-","-","-","-","-","-","-","-","-","-",null,null,null,null,null,null,null,null,null,null,null,null,null,1,0,1,0,0,1,0,1,0,0,0,0,0,1,1,0,0,0,0,0,0,0,0,0,1,0,0,0,0,0,0,null,{"$f":"COUNTIF($G70:$DP70,EY$9)","v":0},0,0,0,0,0,0,0,0,0,0,0,0,0,0,0,0,0,0,0,0,0,0,0,0,0,0,0,0,0,0,0,0,1,0,1,0,0,0,0,0,0,0,0,0,1,0,0,0,0,0,0,0,0,0,0,0,0,0,0,0,1,0,0,1,0,1,0,0]
["","",null,null,"2ª","14:00:00",null,null,null,"L PORTUGUES","Anne","BS3",null,null,null,"FÍSICA ","Melqui","BT2",null,null,null,"EMPREENDED",null,null,null,null,null,null,null,null,"PORTUGUÊS","Jenyffer","BS2",null,null,null,null,null,null,"INST ELÉTRI","Ewerton","CT2",null,null,null,null,null,null,null,null,null,"GEOGRAFIA","Débora ","CS2","OPP",null,"BS4","SOCIO","Edgar","BS6","BIO","Tatiana","CS1",null,null,null,"REDES DE COM","Inácio","AL1",null,"-","-","-","-",null,"-","-","-","-","-","-","-","-","-","-","-","-",null,"-","-","-","-","-","-","-","-","-","-","-","-","-","-","-","-","-","-","-","-","-",null,null,null,null,null,null,null,null,null,null,null,null,null,0,1,1,1,0,1,0,1,0,0,0,0,1,1,0,0,0,0,0,1,0,0,0,0,1,0,0,0,0,0,0,null,{"$f":"COUNTIF($G71:$DP71,EY$9)","v":0},0,0,0,0,0,0,0,0,0,0,0,0,1,0,0,0,0,0,0,0,0,1,0,0,0,0,0,0,0,0,0,0,1,0,1,0,0,0,0,0,0,0,0,0,1,0,0,0,0,0,0,0,0,0,0,0,0,0,1,0,0,0,0,0,0,1,0,0]
["","",null,null,"3ª","14:50:00",null,null,null,"MAT DE CONS","Júnior","BS5",null,null,null,"L ESPANHOLA","Vanuza","BS1",null,null,null,"FÍSICA ","Melqui","BT2",null,null,null,null,null,null,"GEOGRAFIA","Débora ","CS2",null,null,null,null,null,null,"INST ELÉTRI","Ewerton","CT2",null,null,null,null,null,null,null,null,null,"L PORTUGUESA","Anne","BS2","OPP",null,"BS4","SOCIO","Edgar","BS6","BIO","Tatiana","CS1",null,null,null,"QUIM","Diego ","BT5",null,"-","-","-","-",null,"-","-","-","-","-","-","-","-","-","-","-","-",null,"-","-","-","-","-","-","-","-","-","-","-","-","-","-","-","-","-","-","-","-","-",null,null,null,null,null,null,null,null,null,null,null,null,null,1,1,0,1,1,1,0,1,0,0,1,0,1,1,0,0,0,0,0,1,0,0,0,0,0,0,0,0,0,0,0,null,{"$f":"COUNTIF($G72:$DP72,EY$9)","v":0},0,0,0,0,0,0,0,0,0,0,1,0,1,0,0,0,0,0,0,0,0,1,0,0,0,0,0,0,0,0,0,0,0,0,1,0,0,0,1,0,0,0,0,0,1,0,0,0,0,0,0,0,0,0,0,0,0,0,1,0,1,0,0,0,0,1,0,0]
["","",null,null,"4ª","15:55:00",null,null,null,"MATEMÁTICA","Warley","CS3",null,null,null,"PROJ ARQUIT","Jéssica","Des",null,null,null,"QUIM","Diego ","BT5",null,null,null,null,null,null,"GEOGRAFIA","Débora ","CS2",null,null,null,null,null,null,"L PORTUGUES","Ezequiel","BS3",null,null,null,null,null,null,null,null,null,"IMC","Benedito","AL2","SOCIO","Edgar","BS6","OPP",null,"BS4","FUND ANÁL SIST","Inácio","AL3",null,null,null,"MATEMÁTICA","Valmir","CS6",null,"-","-","-","-",null,"-","-","-","-","INFORMÁTICA II","Rodrigo B",null,"AL5","-","-","-","-",null,"-","-","-","-","-","-","-","-","-","-","-","-","-","-","-","-","-","-","-","-","-",null,null,null,null,null,null,null,null,null,null,null,null,null,0,0,1,1,0,1,0,0,0,0,1,0,0,1,1,0,0,1,0,0,0,0,0,0,0,1,1,0,1,0,1,null,{"$f":"COUNTIF($G73:$DP73,EY$9)","v":0},0,0,0,0,1,0,0,0,0,0,1,0,1,0,0,0,0,0,0,0,0,0,1,0,0,0,0,0,0,0,0,0,1,0,1,0,1,0,0,0,0,0,0,0,0,0,0,0,0,0,1,0,0,0,0,0,0,0,0,0,0,0,0,1,0,0,1,0]
["","",null,null,"5ª","16:45:00",null,null,null,"FÍSICA ","Melqui","BT2",null,null,null,"PROJ ARQUIT","Jéssica","Des",null,null,null,"PATOLOGIAS","Júnior","BS5",null,null,null,null,null,null,"ELETRO","Ewerton","CT2",null,null,null,null,null,null,"MATEMÁTICA","Warley","CS3",null,null,null,null,null,null,null,null,null,"IMC","Benedito","AL2","SOCIO","Edgar","BS6","OPP",null,"BS4","FUND ANÁL SIST","Inácio","AL3",null,null,null,"MATEMÁTICA","Valmir","CS6",null,"-","-","-","-",null,"-","-","-","-","INFORMÁTICA II","Rodrigo B",null,"AL5","-","-","-","-",null,"-","-","-","-","-","-","-","-","-","-","-","-","-","-","-","-","-","-","-","-","-",null,null,null,null,null,null,null,null,null,null,null,null,null,0,0,0,1,1,1,0,1,0,0,0,0,0,0,1,0,0,1,0,1,0,0,0,0,0,1,1,0,1,0,1,null,{"$f":"COUNTIF($G74:$DP74,EY$9)","v":0},0,0,0,0,1,0,0,0,0,0,0,0,1,0,0,0,0,0,0,0,0,1,0,0,0,0,0,0,0,0,0,0,1,0,0,0,1,0,1,0,0,0,0,0,1,0,0,0,0,0,1,0,0,0,0,0,0,0,0,0,0,0,0,1,0,0,1,0]
["","",null,null,"6ª","17:35:00",null,null,null,"FÍSICA ","Melqui","BT2",null,null,null,"PROJ ARQUIT","Jéssica","Des",null,null,null,"PATOLOGIAS","Júnior","BS5",null,null,null,null,null,null,"ELETRO","Ewerton","CT2",null,null,null,null,null,null,"MEC.TÉC.",null,"CS5",null,null,null,null,null,null,null,null,null,"MATEMÁTICA","Valmir","CS6",null,null,null,null,null,null,"FUND ANÁL SIST","Inácio","AL3",null,null,null,"FILOSOFIA",null,"BS6",null,"-","-","-","-",null,"-","-","-","-","INFORMÁTICA II","Rodrigo B",null,"AL5","-","-","-","-",null,"-","-","-","-","-","-","-","-","-","-","-","-","-","-","-","-","-","-","-","-","-",null,null,null,null,null,null,null,null,null,null,null,null,null,0,0,0,0,1,1,0,1,0,0,0,0,0,0,0,0,1,1,0,1,0,0,0,0,0,0,1,0,1,0,1,null,{"$f":"COUNTIF($G75:$DP75,EY$9)","v":0},0,0,0,0,0,0,0,0,0,0,0,0,0,0,0,0,0,0,0,0,0,1,0,0,0,0,0,0,0,0,0,0,1,0,0,0,1,0,1,0,0,0,0,0,1,0,0,0,0,0,1,0,0,0,0,0,0,0,0,0,0,0,0,0,0,0,1,0]
["","",null,"NOTURNO","1ª","18:10:00",null,null,null,null,null,null,null,null,null,null,null,null,null,null,null,null,null,null,null,null,null,null,null,null,null,null,null,null,null,null,null,null,null,null,null,null,null,null,null,null,null,null,null,null,null,null,null,null,null,null,null,null,null,null,null,null,null,null,null,null,null,null,null,null,null,null,null,null,null,"PROJ. ALTERNAT.","Ariane",null,"Ateliê",null,null,null,null,"PROJ DE ARQUIT IV","Fernanda B",null,"BT6",null,null,null,null,null,null,null,null,null,null,null,null,null,null,null,null,null,null,null,null,null,null,null,null,null,null,null,null,null,null,null,null,null,null,null,0,0,0,0,0,0,0,0,0,0,0,1,0,0,0,0,0,0,0,0,0,0,0,0,0,0,0,0,0,0,0,null,{"$f":"COUNTIF($G76:$DP76,EY$9)","v":0},0,0,1,0,0,0,0,0,0,0,0,0,0,0,0,0,0,0,0,0,0,0,0,0,0,0,0,0,0,0,0,0,0,0,0,0,0,0,0,0,0,0,0,0,0,0,0,0,0,0,0,0,0,0,0,0,0,0,0,0,0,0,0,0,0,0,0,1]
["","",null,null,"2ª","19:00:00",null,null,null,null,null,null,null,null,null,null,null,null,null,null,null,null,null,null,null,null,null,null,null,null,null,null,null,null,null,null,null,null,null,null,null,null,null,null,null,null,null,null,null,null,null,null,null,null,null,null,null,null,null,null,null,null,null,null,null,null,null,null,null,null,"DESENHO TÉCNICO","Carlos","DES",null,null,"PROJ. ALTERNAT.","Ariane",null,"Ateliê","TECNO DA CONSTR","Sankeis",null,"BS3","PROJ DE ARQUIT IV","Fernanda B",null,"BT6",null,"MATEMÁTICA C.","Edilberto","BS1","ENGENHARIA SOF","Roberto",null,"DES. PROG. WEB","Marco A",null,"PORTUGUÊS INSTRUM","Sandra",null,"POLÍTICAS PÚBLICAS","Vera",null,"METODO ENS MAT II","Inildo",null,"ÁLGEBRA I","Sergio",null,null,null,null,null,null,null,null,null,null,null,null,null,null,1,0,1,0,0,0,0,0,0,0,0,1,0,0,0,0,0,0,0,0,0,0,0,0,0,0,0,0,0,0,1,null,{"$f":"COUNTIF($G77:$DP77,EY$9)","v":0},0,1,1,0,0,0,1,0,0,0,0,0,0,0,1,0,0,0,0,0,0,0,0,0,0,0,0,0,0,0,0,0,0,1,0,0,0,0,0,0,0,1,0,0,0,0,0,0,1,0,0,0,0,1,1,0,0,0,0,0,0,1,0,0,0,0,0,1]
["","",null,null,"3ª","19:50:00",null,null,null,null,null,null,null,null,null,null,null,null,null,null,null,null,null,null,null,null,null,null,null,null,null,null,null,null,null,null,null,null,null,null,null,null,null,null,null,null,null,null,null,null,null,null,null,null,null,null,null,null,null,null,null,null,null,null,null,null,null,null,null,null,"DESENHO TÉCNICO","Carlos","DES",null,null,"PROJ. ALTERNAT.","Ariane",null,"Ateliê","TECNO DA CONSTR","Sankeis",null,"BS3","PROJ DE ARQUIT IV","Fernanda B",null,"BT6",null,"MATEMÁTICA C.","Edilberto","BS1","ENGENHARIA SOF","Roberto",null,"DES. PROG. WEB","Marco A",null,"PORTUGUÊS INSTRUM","Sandra",null,"PSICOLOGIA DA EDUCA","Fátima",null,"METODO ENS MAT II","Inildo",null,"ÁLGEBRA LINEAR II","Sergio",null,null,null,null,null,null,null,null,null,null,null,null,null,null,1,0,1,0,0,0,0,0,0,0,0,1,0,0,0,0,0,0,0,0,0,0,0,0,0,0,0,0,0,0,1,null,{"$f":"COUNTIF($G78:$DP78,EY$9)","v":0},0,1,1,0,0,0,1,0,0,0,0,0,0,0,1,0,0,0,0,0,0,0,0,0,0,1,0,0,0,0,0,0,0,1,0,0,0,0,0,0,0,1,0,0,0,0,0,0,1,0,0,0,0,1,1,0,0,0,0,0,0,0,0,0,0,0,0,1]
["","",null,null,"4ª","20:55:00",null,null,null,null,null,null,null,null,null,null,null,null,null,null,null,null,null,null,null,null,null,null,null,null,null,null,null,null,null,null,null,null,null,null,null,null,null,null,null,null,null,null,null,null,null,null,null,null,null,null,null,null,null,null,null,null,null,null,null,null,null,null,null,null,"DESENHO TÉCNICO","Carlos","DES",null,null,"ESTÉT. HIST. ARTEI","Eder",null,"BS4","TECNO DA CONSTR","Sankeis",null,"BS3","PROJ DE ARQUIT IV","Fernanda B",null,"BT6",null,"FUNDAM. DE TI","Roberto","AL5","ESTRUT. DADOS","Marco A",null,"REDES DE COMPUTAD","Gilberto",null,"METOD TRAB CIENT","Fátima",null,"CÁLCULO DIF INTEG II","Marcos M",null,"CÁLCULO DIF INTEG IV","Jean",null,"OFICINA MAT PEDAG","Edilberto",null,null,null,null,null,null,null,null,null,null,null,null,null,null,0,0,1,1,0,0,0,0,0,0,0,1,0,0,0,0,0,0,0,0,0,0,0,0,0,0,0,0,1,0,1,null,{"$f":"COUNTIF($G79:$DP79,EY$9)","v":0},0,0,0,0,0,0,1,0,0,0,0,0,0,1,1,0,0,0,0,0,0,0,0,0,0,1,0,0,0,1,0,0,0,0,0,1,0,0,0,0,0,1,1,0,0,0,0,0,1,0,0,0,0,0,1,0,0,0,0,0,0,0,0,0,0,0,0,1]
["","",null,null,"5ª","21:45:00",null,null,null,null,null,null,null,null,null,null,null,null,null,null,null,null,null,null,null,null,null,null,null,null,null,null,null,null,null,null,null,null,null,null,null,null,null,null,null,null,null,null,null,null,null,null,null,null,null,null,null,null,null,null,null,null,null,null,null,null,null,null,null,null,"DESENHO TÉCNICO","Carlos","DES",null,null,"ESTÉT. HIST. ARTEI","Eder",null,"BS4",null,null,null,null,"PROJ DE ARQUIT IV","Fernanda B",null,"BT6",null,"FUNDAM. DE TI","Roberto","AL5","ESTRUT. DADOS","Marco A",null,"REDES DE COMPUTAD","Gilberto",null,"METOD TRAB CIENT","Fátima",null,"CÁLCULO DIF INTEG II","Marcos M",null,"CÁLCULO DIF INTEG IV","Jean",null,"OFICINA MAT PEDAG","Edilberto",null,null,null,null,null,null,null,null,null,null,null,null,null,null,0,0,0,1,0,0,0,0,0,0,0,1,0,0,0,0,0,0,0,0,0,0,0,0,0,0,0,0,1,0,1,null,{"$f":"COUNTIF($G80:$DP80,EY$9)","v":0},0,0,0,0,0,0,1,0,0,0,0,0,0,1,1,0,0,0,0,0,0,0,0,0,0,1,0,0,0,1,0,0,0,0,0,1,0,0,0,0,0,1,1,0,0,0,0,0,1,0,0,0,0,0,0,0,0,0,0,0,0,0,0,0,0,0,0,1]
["","",null,null,"6ª","-",null,null,null,null,null,null,null,null,null,null,null,null,null,null,null,null,null,null,null,null,null,null,null,null,null,null,null,null,null,null,null,null,null,null,null,null,null,null,null,null,null,null,null,null,null,null,null,null,null,null,null,null,null,null,null,null,null,null,null,null,null,null,null,null,null,null,null,null,null,null,null,null,null,null,null,null,null,null,null,null,null,null,null,null,null,null,null,null,null,null,null,null,null,null,null,null,null,null,null,null,null,null,null,null,null,null,null,null,null,null,null,null,null,null,null,null,0,0,0,0,0,0,0,0,0,0,0,0,0,0,0,0,0,0,0,0,0,0,0,0,0,0,0,0,0,0,0,null,{"$f":"COUNTIF($G81:$DP81,EY$9)","v":0},0,0,0,0,0,0,0,0,0,0,0,0,0,0,0,0,0,0,0,0,0,0,0,0,0,0,0,0,0,0,0,0,0,0,0,0,0,0,0,0,0,0,0,0,0,0,0,0,0,0,0,0,0,0,0,0,0,0,0,0,0,0,0,0,0,0,0,0]
["","","SEXTA","MATUTINO","1ª","07:00:00","DESENHO","Jéssica","Des",null,null,null,"TOPO","Tiago","CS4",null,null,null,"PLAN ORÇ OBRA","Sankeis","AL3",null,null,null,"ELETRO","Ewerton","CT2","L PORTUGUES","Wilson","BS2",null,null,null,"L PORTUGUES","Elza ","BS3","HISTÓRIA","Elton","BS4",null,null,null,"L ESPANHOLA","Vanuza","BS1","ED.FÍSICA","Paulo ","QD","GEOGRAFIA","Débora ","CS2",null,null,null,"QUIM","Diego ","BT5","FÍSICA III","Marisa","BT2",null,null,null,"REDES DE COM","Inácio","AL1",null,null,null,null,"-","-","-","-",null,"-","-","-","-","-","-","-","-","-","-","-","-",null,"-","-","-","-","-","-","-","-","-","-","-","-","-","-","-","-","-","-","-","-","-",null,null,null,null,null,null,null,null,null,null,null,null,null,1,1,1,1,0,0,0,1,0,0,1,0,0,1,0,1,0,0,0,1,0,0,0,0,1,0,1,0,0,1,1,null,{"$f":"COUNTIF($G82:$DP82,EY$9)","v":0},0,0,0,1,0,0,0,0,0,0,1,0,0,0,0,0,0,0,0,1,1,1,0,0,0,0,0,0,0,0,0,0,1,0,1,0,1,0,0,0,0,0,0,1,0,0,0,1,0,0,0,0,0,0,1,0,0,0,0,0,1,0,0,0,0,0,0,0]
["","",null,null,"2ª","07:50:00","DESENHO","Jéssica","Des",null,null,null,"TOPO","Tiago","CS4",null,null,null,"PLAN ORÇ OBRA","Sankeis","AL3",null,null,null,"ELETRO","Ewerton","CT2","MATEMÁTICA","Marcos M","CS3",null,null,null,"L PORTUGUES","Elza ","BS3","HISTÓRIA","Elton","BS4",null,null,null,"L ESPANHOLA","Vanuza","BS1","ED.FÍSICA","Paulo ","QD","GEOGRAFIA","Débora ","CS2",null,null,null,"QUIM","Diego ","BT5","FÍSICA III","Marisa","BT2",null,null,null,"REDES DE COM","Inácio","AL1",null,null,null,null,"-","-","-","-",null,"-","-","-","-","-","-","-","-","-","-","-","-",null,"-","-","-","-","-","-","-","-","-","-","-","-","-","-","-","-","-","-","-","-","-",null,null,null,null,null,null,null,null,null,null,null,null,null,1,0,1,1,0,0,0,1,0,0,1,0,0,1,1,1,0,0,0,1,0,0,0,0,1,0,1,0,0,1,1,null,{"$f":"COUNTIF($G83:$DP83,EY$9)","v":0},0,0,0,1,0,0,0,0,0,0,1,0,0,0,0,0,0,0,0,1,1,1,0,0,0,0,0,0,0,0,0,0,1,0,1,0,1,0,0,0,0,0,1,1,0,0,0,1,0,0,0,0,0,0,1,0,0,0,0,0,1,0,0,0,0,0,0,0]
["","",null,null,"3ª","08:40:00","DESENHO","Jéssica","Des",null,null,null,"L ESPANHOLA","Vanuza","BS1",null,null,null,"EMPREENDED",null,null,null,null,null,"ARTE","Fabiani","CS6","ELETRO","Ewerton","CT2",null,null,null,"MATEMÁTICA","Marcos M","CS3","L PORTUGUES","Elza ","BS3",null,null,null,"PCM","Eduardo L","CS5","IMC","Benedito","AL2","ED.FÍSICA","Paulo ","QD",null,null,null,"BIO","Tatiana","CS1","QUIM","Diego ","BT5",null,null,null,"BANCO DE DA","Gleiser","AL3",null,null,null,null,"-","-","-","-",null,"-","-","-","-","-","-","-","-","-","-","-","-",null,"-","-","-","-","-","-","-","-","-","-","-","-","-","-","-","-","-","-","-","-","-",null,null,null,null,null,null,null,null,null,null,null,null,null,1,0,1,0,0,0,0,0,0,0,1,0,1,0,1,0,1,1,0,1,0,0,0,0,0,1,1,0,0,1,1,null,{"$f":"COUNTIF($G84:$DP84,EY$9)","v":0},0,0,0,0,1,0,0,0,0,0,1,0,0,0,0,0,0,1,0,0,1,1,0,0,1,0,0,0,0,0,1,0,0,0,0,0,1,0,0,0,0,0,1,0,0,0,0,1,0,0,0,0,0,0,0,0,0,0,1,0,1,0,0,0,0,0,0,0]
["","",null,null,"4ª","09:45:00","MAT DE CONS","Júnior","BS5",null,null,null,"PROJ ARQUIT","Jéssica","Des",null,null,null,"EMPREENDED",null,null,null,null,null,"ARTE","Fabiani","CS6","ELETRO","Ewerton","CT2",null,null,null,"MATEMÁTICA","Marcos M","CS3","L ESPANHOLA","Vanuza","BS1",null,null,null,"PCM","Eduardo L","CS5","IMC","Benedito","AL2","ED.FÍSICA","Paulo ","QD",null,null,null,"BIO","Tatiana","CS1","QUIM","Diego ","BT5",null,null,null,"BANCO DE DA","Gleiser","AL3",null,null,null,null,"-","-","-","-",null,"-","-","-","-","-","-","-","-","-","-","-","-",null,"-","-","-","-","-","-","-","-","-","-","-","-","-","-","-","-","-","-","-","-","-",null,null,null,null,null,null,null,null,null,null,null,null,null,1,0,0,0,1,0,0,0,0,0,1,0,1,0,1,0,1,1,0,1,0,0,0,0,0,1,1,0,0,1,1,null,{"$f":"COUNTIF($G85:$DP85,EY$9)","v":0},0,0,0,0,1,0,0,0,0,0,1,0,0,0,0,0,0,1,0,0,0,1,0,0,1,0,0,0,0,0,1,0,0,0,0,0,1,0,1,0,0,0,1,0,0,0,0,1,0,0,0,0,0,0,0,0,0,0,1,0,1,0,0,0,0,0,0,0]
["","",null,null,"5ª","10:35:00","FÍSICA ","Melqui","BT2",null,null,null,"PROJ ARQUIT","Jéssica","Des",null,null,null,"L ESPANHOLA","Vanuza","BS1",null,null,null,"MATEMÁTICA","Marcos M","CS3","ARTE","Fabiani","CS6",null,null,null,"CIÊNC MAT","Eduardo L","CS5","GEOGRAFIA","Débora ","CS2",null,null,null,"AUTO","Ewerton","AL3","QUIM","Diego ","BT5","IMC","Benedito","AL2",null,null,null,"HISTÓRIA","Elton","BS4","ED.FÍSICA","Silvio","QD",null,null,null,"EMPREENDED",null,"BS6",null,null,null,null,"-","-","-","-",null,"-","-","-","-","-","-","-","-","-","-","-","-",null,"-","-","-","-","-","-","-","-","-","-","-","-","-","-","-","-","-","-","-","-","-",null,null,null,null,null,null,null,null,null,null,null,null,null,1,0,0,1,0,1,0,1,0,0,1,0,0,1,1,0,1,1,0,0,0,0,0,0,0,1,1,0,0,1,1,null,{"$f":"COUNTIF($G86:$DP86,EY$9)","v":0},0,0,0,0,1,0,0,0,0,0,1,0,0,0,0,0,0,1,0,1,0,1,0,0,1,0,0,0,0,0,0,0,0,0,1,0,1,0,0,0,0,0,1,0,1,0,0,0,0,0,0,0,0,0,0,0,0,1,0,0,1,0,0,0,0,0,0,0]
["","",null,null,"6ª","11:25:00","FÍSICA ","Melqui","BT2",null,null,null,"PROJ ARQUIT","Jéssica","Des",null,null,null,"L ESPANHOLA","Vanuza","BS1",null,null,null,"L PORTUGUES","Dinalva","BS3","ARTE","Fabiani","CS6",null,null,null,"CIÊNC MAT","Eduardo L","CS5","GEOGRAFIA","Débora ","CS2",null,null,null,"AUTO","Ewerton","AL3","QUIM","Diego ","BT5","IMC","Benedito","AL2",null,null,null,"HISTÓRIA","Elton","BS4","ED.FÍSICA","Silvio","QD",null,null,null,"EMPREENDED",null,"BS6",null,null,null,null,"-","-","-","-",null,"-","-","-","-","-","-","-","-","-","-","-","-",null,"-","-","-","-","-","-","-","-","-","-","-","-","-","-","-","-","-","-","-","-","-",null,null,null,null,null,null,null,null,null,null,null,null,null,1,0,1,1,0,1,0,1,0,0,1,0,0,1,0,0,1,1,0,0,0,0,0,0,0,1,1,0,0,1,1,null,{"$f":"COUNTIF($G87:$DP87,EY$9)","v":0},0,0,0,0,1,0,0,0,0,0,1,0,0,0,0,0,0,1,0,1,0,1,0,0,1,0,0,0,0,0,0,0,0,0,1,0,1,0,0,0,0,0,0,0,1,0,0,0,0,0,0,0,0,0,0,0,0,1,0,0,1,0,0,0,0,0,0,0]
["","",null,"VESPERTINO","1ª","13:10:00",null,null,null,"LEGISLAÇÃO","Tiago","CS4",null,null,null,"GEOGRAFIA","Consuelo","CS2",null,null,null,"PLAN ORÇ OBRA","Sankeis","AL3",null,null,null,null,null,null,"METROLOGIA","Ney ","CT2",null,null,null,null,null,null,"HISTÓRIA","Eder","BS4",null,null,null,null,null,null,null,null,null,"L INGLESA","Gicelma","BS1",null,null,null,null,null,null,"QUIM","Silvanella","BT5",null,null,null,"FÍSICA III","Marisa","BT2",null,"-","-","-","-",null,"PLÁSTICA","Silvana ",null,"Ateliê","MAT. CONST. I","Júnior",null,"BS3","CONFORTO AMB. II","Fernanda B",null,"CS5",null,"-","-","-","-","-","-","-","-","-","-","-","-","-","-","-","-","-","-","-","-","-",null,null,null,null,null,null,null,null,null,null,null,null,null,1,0,1,1,0,0,0,1,0,0,1,0,0,1,0,1,1,0,0,1,0,0,0,0,0,0,1,0,0,0,0,null,{"$f":"COUNTIF($G88:$DP88,EY$9)","v":0},0,0,0,1,0,0,0,0,1,0,0,0,0,1,0,0,0,0,0,0,0,0,0,0,0,0,0,0,1,0,0,0,0,0,0,0,0,0,1,0,0,0,0,1,0,0,0,0,0,0,0,0,0,0,1,1,1,0,0,0,0,0,0,0,0,0,0,1]
["","",null,null,"2ª","14:00:00",null,null,null,"TECNO CONST","Saboia","BS5",null,null,null,"GEOGRAFIA","Consuelo","CS2",null,null,null,"PLAN ORÇ OBRA","Sankeis","AL3",null,null,null,null,null,null,"METROLOGIA","Ney ","CT2",null,null,null,null,null,null,"HISTÓRIA","Eder","BS4",null,null,null,null,null,null,null,null,null,"L INGLESA","Gicelma","BS1",null,null,null,null,null,null,"QUIM","Silvanella","BT5",null,null,null,"PROJ DES SIST","Bruno","AL1",null,"-","-","-","-",null,"PLÁSTICA","Silvana ",null,"Ateliê","MAT. CONST. I","Júnior",null,"BS3","CONFORTO AMB. II","Fernanda B",null,"CS5",null,"-","-","-","-","-","-","-","-","-","-","-","-","-","-","-","-","-","-","-","-","-",null,null,null,null,null,null,null,null,null,null,null,null,null,1,0,1,1,1,0,0,0,0,0,1,0,0,1,0,0,1,0,0,1,0,0,0,0,1,0,1,0,0,0,0,null,{"$f":"COUNTIF($G89:$DP89,EY$9)","v":0},0,0,0,0,0,1,0,0,1,0,0,0,0,1,0,0,0,0,0,0,0,0,0,0,0,0,0,0,1,0,0,0,0,0,0,0,0,0,1,0,0,0,0,0,0,0,0,0,0,0,0,0,1,0,1,1,1,0,0,0,0,0,0,0,0,0,0,1]
["","",null,null,"3ª","14:50:00",null,null,null,"TECNO CONST","Saboia","BS5",null,null,null,"TOPO","Tiago","CS4",null,null,null,"HISTÓRIA","Eder","BS4",null,null,null,null,null,null,"QUIM","Silvanella","BT5",null,null,null,null,null,null,"GEOGRAFIA","Consuelo","CS2",null,null,null,null,null,null,null,null,null,"IMC","Benedito","AL2",null,null,null,null,null,null,"FÍSICA III","Marisa","BT2",null,null,null,"PROJ DES SIST","Bruno","AL1",null,"-","-","-","-",null,"PLÁSTICA","Silvana ",null,"Ateliê","MAT. CONST. I","Júnior",null,"BS3","CONFORTO AMB. II","Fernanda B",null,"CS5",null,"-","-","-","-","-","-","-","-","-","-","-","-","-","-","-","-","-","-","-","-","-",null,null,null,null,null,null,null,null,null,null,null,null,null,0,0,1,1,1,0,0,1,0,0,1,0,0,1,0,1,1,0,0,0,0,0,0,0,1,1,0,0,0,0,0,null,{"$f":"COUNTIF($G90:$DP90,EY$9)","v":0},0,0,0,1,1,1,0,0,1,0,0,0,0,1,0,0,0,0,0,0,0,0,0,0,0,0,0,0,0,0,0,0,0,0,0,0,0,0,1,0,0,0,0,1,0,0,0,0,0,0,0,0,1,0,0,1,1,0,0,0,0,0,0,0,0,0,0,1]
["","",null,null,"4ª","15:55:00",null,null,null,"DESENHO ","Fernanda O","Des",null,null,null,"TOPO","Tiago","CS4",null,null,null,"HISTÓRIA","Eder","BS4",null,null,null,null,null,null,"QUIM","Silvanella","BT5",null,null,null,null,null,null,"GEOGRAFIA","Consuelo","CS2",null,null,null,null,null,null,null,null,null,"IMC","Benedito","AL2",null,null,null,null,null,null,"FÍSICA III","Marisa","BT2",null,null,null,"PROJ DES SIST","Bruno","AL1",null,"-","-","-","-",null,"MATEMÁTICA","Claudinei",null,"BS6","HISTÓRIA DA ARQ. I","Rodrigo B",null,"BS3","SISTEMAS PREDIAIS","Sankeis",null,"CS5",null,"-","-","-","-","-","-","-","-","-","-","-","-","-","-","-","-","-","-","-","-","-",null,null,null,null,null,null,null,null,null,null,null,null,null,0,0,1,1,0,1,0,1,0,0,1,0,0,1,0,1,1,0,0,0,0,0,0,0,1,1,0,0,0,0,1,null,{"$f":"COUNTIF($G91:$DP91,EY$9)","v":0},0,0,0,1,1,1,0,1,1,0,0,0,0,1,0,0,0,0,0,0,0,0,0,0,0,0,1,0,0,0,0,0,0,0,0,0,0,0,0,0,0,0,0,1,0,0,0,0,0,0,1,0,0,0,1,0,1,0,0,0,0,0,0,0,0,0,0,0]
["","",null,null,"5ª","16:45:00",null,null,null,"DESENHO ","Fernanda O","Des",null,null,null,"ED.FÍSICA","Silvio","QD",null,null,null,"PROJ HIDRAUL","Saboia","BS5",null,null,null,null,null,null,"ARTE","Fabiani","CS6",null,null,null,null,null,null,"QUIM","Silvanella","BT5",null,null,null,null,null,null,null,null,null,"FÍSICA III","Marisa","BT2",null,null,null,null,null,null,"L INGLESA","Gicelma","BS1",null,null,null,"HISTÓRIA","Eder","BS4",null,"-","-","-","-",null,"MATEMÁTICA","Claudinei",null,"BS6","HISTÓRIA DA ARQ. I","Rodrigo B",null,"BS3","SISTEMAS PREDIAIS","Sankeis",null,"CS5",null,"-","-","-","-","-","-","-","-","-","-","-","-","-","-","-","-","-","-","-","-","-",null,null,null,null,null,null,null,null,null,null,null,null,null,1,0,1,1,1,1,0,1,0,0,1,0,0,0,0,0,1,1,0,0,0,0,0,0,0,0,0,0,0,1,1,null,{"$f":"COUNTIF($G92:$DP92,EY$9)","v":0},0,0,0,0,0,0,0,1,0,0,0,0,0,1,0,0,0,0,0,0,0,0,0,0,1,0,1,0,1,0,0,0,0,0,0,0,0,0,0,0,0,0,0,1,0,0,0,0,0,0,1,0,1,0,1,0,1,1,0,0,0,0,0,0,0,0,0,0]
["","",null,null,"6ª","17:35:00",null,null,null,"DESENHO ","Fernanda O","Des",null,null,null,"ED.FÍSICA","Silvio","QD",null,null,null,"PROJ HIDRAUL","Saboia","BS5",null,null,null,null,null,null,"ARTE","Fabiani","CS6",null,null,null,null,null,null,"QUIM","Silvanella","BT5",null,null,null,null,null,null,null,null,null,"FÍSICA III","Marisa","BT2",null,null,null,null,null,null,"L PORTUGUES","Danúbia ","BS3",null,null,null,"HISTÓRIA","Eder","BS4",null,"-","-","-","-",null,null,null,null,null,null,null,null,null,null,null,null,null,null,"-","-","-","-","-","-","-","-","-","-","-","-","-","-","-","-","-","-","-","-","-",null,null,null,null,null,null,null,null,null,null,null,null,null,0,0,1,1,1,0,0,1,0,0,1,0,0,0,0,0,0,1,0,0,0,0,0,0,0,0,0,0,0,1,1,null,{"$f":"COUNTIF($G93:$DP93,EY$9)","v":0},0,0,0,0,0,0,0,0,0,0,0,0,0,1,0,0,0,0,0,0,0,0,0,0,1,0,1,0,0,0,0,0,0,0,0,0,0,0,0,0,0,0,0,1,0,0,0,0,0,0,0,0,1,0,0,0,1,1,0,0,0,0,0,0,0,0,0,0]
["","",null,"NOTURNO","1ª","18:10:00",null,null,null,null,null,null,null,null,null,null,null,null,null,null,null,null,null,null,null,null,null,null,null,null,null,null,null,null,null,null,null,null,null,null,null,null,null,null,null,null,null,null,null,null,null,null,null,null,null,null,null,null,null,null,null,null,null,null,null,null,null,null,null,null,null,null,null,null,null,"-","-","-","-","-","-","-","-","-","-","-","-",null,null,null,null,null,null,null,null,null,null,null,null,null,null,null,null,null,null,null,null,null,null,null,null,null,null,null,null,null,null,null,null,null,null,null,0,0,0,0,0,0,0,0,0,0,0,0,0,0,0,0,0,0,0,0,0,0,0,0,0,0,0,0,0,0,0,null,{"$f":"COUNTIF($G94:$DP94,EY$9)","v":0},0,0,0,0,0,0,0,0,0,0,0,0,0,0,0,0,0,0,0,0,0,0,0,0,0,0,0,0,0,0,0,0,0,0,0,0,0,0,0,0,0,0,0,0,0,0,0,0,0,0,0,0,0,0,0,0,0,0,0,0,0,0,0,0,0,0,0,0]
["","",null,null,"2ª","19:00:00",null,null,null,null,null,null,null,null,null,null,null,null,null,null,null,null,null,null,null,null,null,null,null,null,null,null,null,null,null,null,null,null,null,null,null,null,null,null,null,null,null,null,null,null,null,null,null,null,null,null,null,null,null,null,null,null,null,null,null,null,null,null,null,null,"METROL E MEC TEC","Ney","CT2",null,null,"-","-","-","-","-","-","-","-","-","-","-","-",null,"MATEMÁTICA C.","Edilberto","BS1","BANCO DE DADOS","Gleiser",null,"QUAL. TESTE DE SOFT","Juliano",null,"METOD TRAB CIENT","Fátima",null,"GEO ANALÍTICA VETO","Edinalcio",null,"INFO APLICADA","Roberto",null,"ANÁLISE REAL","Inildo",null,null,null,null,null,null,null,null,null,null,null,null,null,null,1,0,0,0,0,0,0,0,0,0,0,0,0,0,0,0,0,0,0,1,0,0,0,0,0,0,0,0,0,0,0,null,{"$f":"COUNTIF($G95:$DP95,EY$9)","v":0},0,0,0,0,0,0,0,0,0,0,0,0,0,0,1,1,0,0,0,0,0,0,0,0,0,1,0,0,0,0,1,0,0,1,0,0,0,1,0,0,0,0,0,0,0,0,1,0,1,0,0,0,0,0,0,0,0,0,0,0,0,0,0,0,0,0,0,0]
["","",null,null,"3ª","19:50:00",null,null,null,null,null,null,null,null,null,null,null,null,null,null,null,null,null,null,null,null,null,null,null,null,null,null,null,null,null,null,null,null,null,null,null,null,null,null,null,null,null,null,null,null,null,null,null,null,null,null,null,null,null,null,null,null,null,null,null,null,null,null,null,null,"METROL E MEC TEC","Ney","CT2",null,null,"-","-","-","-","-","-","-","-","-","-","-","-",null,"MATEMÁTICA C.","Edilberto","BS1","BANCO DE DADOS","Gleiser",null,"QUAL. TESTE DE SOFT","Juliano",null,"FUNDAMENTOS MAT I","Jean",null,"GEO ANALÍTICA VETO","Edinalcio",null,"INFO APLICADA","Roberto",null,"ANÁLISE REAL","Inildo",null,null,null,null,null,null,null,null,null,null,null,null,null,null,1,0,0,0,0,0,0,0,0,0,0,0,0,0,0,0,0,0,0,1,0,0,0,0,0,0,0,0,0,0,0,null,{"$f":"COUNTIF($G96:$DP96,EY$9)","v":0},0,0,0,0,0,0,0,0,0,0,0,0,0,0,1,1,0,0,0,0,0,0,0,0,0,0,0,0,0,0,1,0,0,1,0,1,0,1,0,0,0,0,0,0,0,0,1,0,1,0,0,0,0,0,0,0,0,0,0,0,0,0,0,0,0,0,0,0]
["","",null,null,"4ª","20:55:00",null,null,null,null,null,null,null,null,null,null,null,null,null,null,null,null,null,null,null,null,null,null,null,null,null,null,null,null,null,null,null,null,null,null,null,null,null,null,null,null,null,null,null,null,null,null,null,null,null,null,null,null,null,null,null,null,null,null,null,null,null,null,null,null,"METROL E MEC TEC","Ney","CT2",null,null,"-","-","-","-","-","-","-","-","-","-","-","-",null,"LEVANT. REQUIS.","Roberto","AL5","FUNDAMENTOS","Juliano",null,"OPTATIVA I","Bruno","BS2","FUNDAMENTOS MAT I","Jean",null,"ESTATÍSTICA","Edinalcio",null,"METODO ENS MAT II","Inildo",null,"OFICINA MAT PEDAG","Edilberto",null,null,null,null,null,null,null,null,null,null,null,null,null,null,0,1,0,0,0,0,0,0,0,0,0,0,0,0,0,0,0,0,0,1,0,0,0,0,0,0,0,0,1,0,0,null,{"$f":"COUNTIF($G97:$DP97,EY$9)","v":0},0,0,0,0,0,1,0,0,0,0,0,0,0,0,1,1,0,0,0,0,0,0,0,0,0,0,0,0,0,0,0,0,0,1,0,1,0,1,0,0,0,0,0,0,0,0,1,0,1,0,0,0,0,0,0,0,0,0,0,0,0,0,0,0,0,0,0,0]
["","",null,null,"5ª","21:45:00",null,null,null,null,null,null,null,null,null,null,null,null,null,null,null,null,null,null,null,null,null,null,null,null,null,null,null,null,null,null,null,null,null,null,null,null,null,null,null,null,null,null,null,null,null,null,null,null,null,null,null,null,null,null,null,null,null,null,null,null,null,null,null,null,"METROL E MEC TEC","Ney","CT2",null,null,"-","-","-","-","-","-","-","-","-","-","-","-",null,"LEVANT. REQUIS.","Roberto","AL5","FUNDAMENTOS","Juliano",null,"OPTATIVA I","Bruno","BS2","FUNDAMENTOS MAT I","Jean",null,"ESTATÍSTICA","Edinalcio",null,"METODO ENS MAT II","Inildo",null,"OFICINA MAT PEDAG","Edilberto",null,null,null,null,null,null,null,null,null,null,null,null,null,null,0,1,0,0,0,0,0,0,0,0,0,0,0,0,0,0,0,0,0,1,0,0,0,0,0,0,0,0,1,0,0,null,{"$f":"COUNTIF($G98:$DP98,EY$9)","v":0},0,0,0,0,0,1,0,0,0,0,0,0,0,0,1,1,0,0,0,0,0,0,0,0,0,0,0,0,0,0,0,0,0,1,0,1,0,1,0,0,0,0,0,0,0,0,1,0,1,0,0,0,0,0,0,0,0,0,0,0,0,0,0,0,0,0,0,0]
["","",null,null,"6ª","-",null,null,null,null,null,null,null,null,null,null,null,null,null,null,null,null,null,null,null,null,null,null,null,null,null,null,null,null,null,null,null,null,null,null,null,null,null,null,null,null,null,null,null,null,null,null,null,null,null,null,null,null,null,null,null,null,null,null,null,null,null,null,null,null,null,null,null,null,null,"-","-","-","-","-","-","-","-","-","-","-","-",null,null,null,null,null,null,null,null,null,null,null,null,null,null,null,null,null,null,null,null,null,null,null,null,null,null,null,null,null,null,null,null,null,null,null,0,0,0,0,0,0,0,0,0,0,0,0,0,0,0,0,0,0,0,0,0,0,0,0,0,0,0,0,0,0,0,null,{"$f":"COUNTIF($G99:$DP99,EY$9)","v":0},0,0,0,0,0,0,0,0,0,0,0,0,0,0,0,0,0,0,0,0,0,0,0,0,0,0,0,0,0,0,0,0,0,0,0,0,0,0,0,0,0,0,0,0,0,0,0,0,0,0,0,0,0,0,0,0,0,0,0,0,0,0,0,0,0,0,0,0]
[null,null,null,null,null,null,null,null,null,null,null,null,null,null,null,null,null,null,null,null,null,null,null,null,null,null,null,null,null,null,null,null,null,null,null,null,null,null,null,null,null,null,null,null,null,null,null,null,null,null,null,null,null,null,null,null,null,null,null,null,null,null,null,null,null,null,null,null,null,null,null,null,null,null,null,null,null,null,null,null,null,null,null,null,null,null,null,null,null,null,null,null,null,null,null,null,null,null,null,null,null,null,null,null,null,null,null,null,null,null,null,null,null,null,null,null,null,null,null,null,null,null,null,null,null,null,null,null,null,null,null,null,null,null,null,null,null,null,null,null,null,null,null,null,null,null,null,null,null,null,null,null,null,"TOTAL DE AULAS",{"$f":"SUM(EY10:EY98)","v":14},10,12,9,16,12,10,14,11,12,12,18,16,8,16,8,12,0,16,12,12,13,14,15,0,16,8,12,10,16,14,14,0,19,10,20,12,12,10,16,0,17,16,13,14,15,15,8,16,12,0,9,0,10,11,15,11,19,16,20,14,9,5,12,20,13,15,15,13]
[{"$f":"IF(OR(DS101=2,DT101=2,DU101=2,DV101=2,DW101=2,DX101=2,DY101=2,DZ101=2,EA101=2,EB101=2,EC101=2,ED101=2,EE101=2,EF101=2,EG101=2,EH101=2,EI101=2,EJ101=2,EK101=2,EL101=2,EM101=2,EN101=2,EO101=2,EP101=2,EQ101=2,ER101=2,ES101=2,ET101=2,EU101=2,EV101=2,EW101=2), \"CHOQUE DE SALA\",\"\")","v":""},{"$f":"IF(OR(EY101=2,EZ101=2,FA101=2,FB101=2,FC101=2,FD101=2,FE101=2,FF101=2,FG101=2,FH101=2,FI101=2,FJ101=2,FK101=2,FM101=2,FL101=2,FN101=2,FO101=2,FP101=2,FQ101=2, FR101=2,FS101=2,FT101=2,FU101=2,FV101=2,FW101=2,FX101=2,FY101=2,FZ101=2,GA101=2,GB101=2,GC101=2,GD101=2,GE101=2,GF101=2,GG101=2,GH101=2,GI101=2,GJ101=2,GK101=2,GL101=2,GM101=2,GN101=2,GO101=2,GP101=2,GQ101=2,GR101=2,GS101=2,GT101=2,GU101=2,GV101=2,GW101=2,GX101=2,GY101=2,GZ101=2,HA101=2,HB101=2,HC101=2,HD101=2,HE101=2,HF101=2,HG101=2,HH101=2,HI101=2,HJ101=2,HK101=2,HL101=2,HM101=2,HN101=2 ),\"CHOQUE DE AULA\",\"\")","v":""}]
[]
[null,null,null,null,null,null,null,null,null,null,null,null,null,null,null,null,null,null,null,null,null,null,null,null,null,null,null,null,null,null,null,null,null,null,null,null,null,null,null,null,null,null,null,null,null,null,null,null,null,null,null,null,null,null,null,null,null,null,null,null,null,null,null,null,null,null,null,null,null,null,null,null,null,null,null,null,null,null,null,null,null,null,null,null,null,null,null,null,null,null,null,null,null,null,null,null,null,null,null,null,null,null,null,null,null,null,null,null,null,null,null,null,null,null,null,null,null,null,null,null,null,null,null,null,null,null,null,null,null,null,null,null,null,null,null,null,null,null,null,null,null,null,null,null,null,null,null,null,null,null,null,null,null,null,{"$f":"SUM(EY10:EY102)","v":28},20,24,18,32,24,20,28,22,24,24,36,32,null,{"$f":"SUM(FM10:FM102)","v":32},16,24,0,32,24,24,26,28,30,0,32,16,24,20,32,28,28,0,38,20,40,24,24,20,32,0,34,32,26,28,30,30,16,32,24,0,18,0,20,22,30,22,38,32,40,28,18,10,24,40]
[]
[null,null,null,null,null,null,null,"BLOCO B – TERREO"]
[null,null,null,null,null,null,null,"SALA 2 – FÍSICA 31"]
[null,null,null,null,null,null,null,"SALA 5 - QUÍMICA 31"]
[]
[null,null,null,null,null,null,null,"BLOCO B – 1º PISO"]
[null,null,null,null,null,null,null,"SALA 1 – INGLÊS E ESPANHOL 36"]
[null,null,null,null,null,null,null,"SALA – 2 –PORTUGUES- INFORM"]
[null,null,null,null,null,null,null,"SALA 3 – PORTUGUES – Edifações e Eletro 27"]
[null,null,null,null,null,null,null,"SALA 4 – HISTORIA E FILOSOFIA 22"]
[null,null,null,null,null,null,null,"SALA 5 - DISCIPLINAS TÉCNICAS – EDIFICAÇÕES E OPP"]
[null,null,null,null,null,null,null,"SALA 6 – SOCIOLOGIA E EMPREENDEDORISMO 36"]
[]
[null,null,null,null,null,null,null,"BLOCO C – TERREO"]
[null,null,null,null,null,null,null,"SALA 2 – DISCIPLINAS TÉCNICAS ELETROMECÂNICA E OPP"]
[]
[null,null,null,null,null,null,null,"BLOCO C – 1º PISO"]
[null,null,null,null,null,null,null,"SALA 1 – BIOLOGIA 26"]
[null,null,null,null,null,null,null,"SALA 2 – GEOGRAFIA 26  EMPREEDEDORISMO "]
[null,null,null,null,null,null,null,"SALA 3 –  MATEMÁTICA – EDIFICAÇÕES E ELETRO E ARQUITETURA 33"]
[null,null,null,null,null,null,null,"SALA 4 –  DISCIPLINAS TÉCNICAS – EDIFICAÇÕES E ARQUITETURA"]
[null,null,null,null,null,null,null,"SALA 5 – DISCIPLINAS TECNICAS ELETROMECANICA  "]
[null,null,null,null,null,null,null,"SALA 6 – MATEMÁTICA (CURSO INFORMÁTICA) E ARTE 21 + 16 = 37"]
[]
[]
[]
[]
[]
[]
[]
[null,null,null,null,null,null,null," "]

{"sheet":"Horário Docente","index":2,"n_rows":19,"n_cols":17,"rows_kept":19,"cut":false,"hidden":true,"merged":[[3,0,7,0],[8,0,13,0],[14,0,18,0],[0,0,0,16],[1,0,2,1],[1,2,1,4],[1,5,1,7],[1,8,1,10],[1,11,1,13],[1,14,1,16]]}
["Docente: Elaine"]
["]",null,"2ª Feira",null,null,"3ª Feira",null,null,"4ª Feira",null,null,"5ª Feira",null,null,"6ª Feira"]
[null,null,"Disciplina","Turma","Sala","Disciplina","Turma","Sala","Disciplina","Turma","Sala","Disciplina","Turma","Sala","Disciplina","Turma","Sala"]
["Manhã","7:10 - 8:00","L. PORTUGUESA","3º A ELETRO","CS6",null,null,null,"L. PORTUGUESA","3º A ELETRO","BT3","L. PORTUGUESA","2º A ELETRO","BT3","L. PORTUGUESA","2º A ELETRO","BT3"]
[null,"8:00 - 8:50","L. PORTUGUESA","2º A ELETRO","CS6"]
[null,"8:50 - 9:40",null,null,null,null,null,null,null,null,null,"L. PORTUGUESA","3º A ELETRO","CS3"]
[null,"9:55 - 10:45","L. PORTUGUESA","3º B ELETRO","BS2",null,null,null,null,null,null,null,null,null,"L. PORTUGUESA","3º B ELETRO","BS3"]
[null,"10:45 - 11:35",null,null,null,"L. PORTUGUESA","1º A EDIF.","BS3"]
["Tarde","13:10 - 14:00","L. PORTUGUESA","2ª B ELETRO","CS2","L. PORTUGUESA","2ª B ELETRO","BS3"]
[null,"14:00 - 14:50","L. PORTUGUESA","2ª B ELETRO","CS2"]
[null,"14:50 - 15:40","L. PORTUGUESA","1º B EDIF.","CS2",null,null,null,null,null,null,"L. PORTUGUESA","3º B ELETRO","BS3"]
[null,"15:55 - 16:45",null,null,null,"L. PORTUGUESA","1º A EDIF.","BS3",null,null,null,null,null,null,"L. PORTUGUESA","1º B EDIF.","BT3"]
[null,"16:45 - 17:35",null,null,null,"L. PORTUGUESA","1º A EDIF.","BS3","L. PORTUGUESA","1º B EDIF.","BS3"]
[null,"17:35  - 18:25"]
["Noite","18:10 - 19:00"]
[null,"19:00 - 19:50"]
[null,"19:50 - 20:40"]
[null,"20:55 - 21:45"]
[null,"21:45 - 22:35"]

{"sheet":"Horário do Espaço","index":3,"n_rows":19,"n_cols":17,"rows_kept":19,"cut":false,"hidden":true,"merged":[[3,0,7,0],[8,0,13,0],[14,0,18,0],[0,0,0,16],[1,0,2,1],[1,2,1,4],[1,5,1,7],[1,8,1,10],[1,11,1,13],[1,14,1,16]]}
["Sala: Talita"]
["]",null,"2ª Feira",null,null,"3ª Feira",null,null,"4ª Feira",null,null,"5ª Feira",null,null,"6ª Feira"]
[null,null,"Disciplina","Turma","Sala","Disciplina","Turma","Sala","Disciplina","Turma","Sala","Disciplina","Turma","Sala","Disciplina","Turma","Sala"]
["Manhã","7:10 - 8:00"]
[null,"8:00 - 8:50"]
[null,"8:50 - 9:40"]
[null,"9:55 - 10:45"]
[null,"10:45 - 11:35"]
["Tarde","13:10 - 14:00"]
[null,"14:00 - 14:50"]
[null,"14:50 - 15:40"]
[null,"15:55 - 16:45"]
[null,"16:45 - 17:35"]
[null,"17:35 - 18:25"]
["Noite","18:10 - 19:00"]
[null,"19:00 - 19:50"]
[null,"19:50 - 20:40"]
[null,"20:55 - 21:45"]
[null,"21:45 - 22:35"]

{"sheet":"Horário da Turma","index":4,"n_rows":19,"n_cols":17,"rows_kept":19,"cut":false,"hidden":true,"merged":[[3,0,7,0],[8,0,13,0],[14,0,18,0],[0,0,0,16],[1,0,2,1],[1,2,1,4],[1,5,1,7],[1,8,1,10],[1,11,1,13],[1,14,1,16]]}
["Turma: Arquitetura/2020"]
["]",null,"2ª Feira",null,null,"3ª Feira",null,null,"4ª Feira",null,null,"5ª Feira",null,null,"6ª Feira"]
[null,null,"Disciplina","Docente","Sala","Disciplina","Docente","Sala","Disciplina","Docente","Sala","Disciplina","Docente","Sala","Disciplina","Docente","Sala"]
["Manhã","7:10 - 8:00"]
[null,"8:00 - 8:50"]
[null,"8:50 - 9:40"]
[null,"9:55 - 10:45"]
[null,"10:45 - 11:35"]
["Tarde","13:10 - 14:00","Extensão","Jéssica","BT4","Desenho Arq. I A","Regina","Des",null,null,null,null,null,null,"Met.Trab. Cient","Jackson","DES"]
[null,"14:00 - 14:50","Extensão","Jéssica","BT4","Desenho Arq. I A","Regina","Des",null,null,null,null,null,null,"Met.Trab. Cient","Jackson","DES"]
[null,"14:50 - 15:40","Extensão","Jéssica","BT4","Desenho Arq. I A","Regina","Des","Desenho Arq. I B","Jackson","Des","Proj. Alternativo","Jéssica","BT4","Met.Trab. Cient","Jackson","DES"]
[null,"15:55 - 16:45","Extensão","Jéssica","BT4","Desenho Arq. I B","Jckson","Des","Desenho Arq. I B","Jackson","Des","Proj. Alternativo","Jéssica","BT4","Matemática","Claudinei","BS4"]
[null,"16:45 - 17:35","Extensão","Jéssica","BT4","Desenho Arq. I B","Jckson","Des","Desenho Arq. I B","Jackson","Des","Proj. Alternativo","Jéssica","BT4","Matemática","Claudinei","BS4"]
[null,"17:35 - 18:25",null,null,null,"Desenho Arq. I B","Jckson","Des"]
["Noite","18:10 - 19:00","Int. Arquitetura","Jonathan","BS4",null,null,null,"Est, Hit. Arte","Eder","BS4","Desenho Arq. I A","Regina","Des"]
[null,"19:00 - 19:50","Int. Arquitetura","Jonathan","BS4","Com. Expressão","Profa.","BS4","Est, Hit. Arte","Eder","BS4","Desenho Arq. I A","Regina","Des"]
[null,"19:50 - 20:40","Int. Arquitetura","Jonathan","BS4","Com. Expressão","Profa.","BS4","Plastica","Jackson","BT4","Desenho Arq. I A","Regina","Des"]
[null,"20:55 - 21:45","Matemática","Claudinei","BS4","Com. Expressão","Profa.","BS4","Plastica","Jackson","BT4","Física Aplicada","Melquisedeque","BS4"]
[null,"21:45 - 22:35","Matemática","Claudinei","BS4",null,null,null,"Plastica","Jackson","BT4","Física Aplicada","Melquisedeque","BS4"]

{"sheet":"Uso dos Espaços","index":5,"n_rows":109,"n_cols":34,"rows_kept":109,"cut":false,"hidden":true,"merged":[[91,0,96,0],[97,0,102,0],[103,0,108,0],[5,0,10,0],[11,0,16,0],[17,0,23,0],[24,0,29,0],[30,0,36,0],[79,0,84,0],[85,0,90,0]]}
[]
[]
["MANHÃ"]
[]
[null,"Aula","Horário",{"$f":"'Horário Geral (Semana 2)'!DS9","v":"BS1"},{"$f":"'Horário Geral (Semana 2)'!DT9","v":"BS2"},{"$f":"'Horário Geral (Semana 2)'!DU9","v":"BS3"},{"$f":"'Horário Geral (Semana 2)'!DV9","v":"BS4"},{"$f":"'Horário Geral (Semana 2)'!DW9","v":"BS5"},{"$f":"'Horário Geral (Semana 2)'!DX9","v":"BS6"},{"$f":"'Horário Geral (Semana 2)'!DY9","v":"BT1"},{"$f":"'Horário Geral (Semana 2)'!DZ9","v":"BT2"},{"$f":"'Horário Geral (Semana 2)'!EA9","v":"BT3"},{"$f":"'Horário Geral (Semana 2)'!EB9","v":"BT4"},{"$f":"'Horário Geral (Semana 2)'!EC9","v":"BT5"},{"$f":"'Horário Geral (Semana 2)'!ED9","v":"BT6"},{"$f":"'Horário Geral (Semana 2)'!EE9","v":"CS1"},{"$f":"'Horário Geral (Semana 2)'!EF9","v":"CS2"},{"$f":"'Horário Geral (Semana 2)'!EG9","v":"CS3"},{"$f":"'Horário Geral (Semana 2)'!EH9","v":"CS4"},{"$f":"'Horário Geral (Semana 2)'!EI9","v":"CS5"},{"$f":"'Horário Geral (Semana 2)'!EJ9","v":"CS6"},{"$f":"'Horário Geral (Semana 2)'!EK9","v":"CT1"},{"$f":"'Horário Geral (Semana 2)'!EL9","v":"CT2"},{"$f":"'Horário Geral (Semana 2)'!EM9","v":"CT3"},{"$f":"'Horário Geral (Semana 2)'!EN9","v":"CT4"},{"$f":"'Horário Geral (Semana 2)'!EO9","v":"CT5"},{"$f":"'Horário Geral (Semana 2)'!EP9","v":"CT6"},{"$f":"'Horário Geral (Semana 2)'!EQ9","v":"AL1"},{"$f":"'Horário Geral (Semana 2)'!ER9","v":"AL2"},{"$f":"'Horário Geral (Semana 2)'!ES9","v":"AL3"},{"$f":"'Horário Geral (Semana 2)'!ET9","v":"AL4"},{"$f":"'Horário Geral (Semana 2)'!EU9","v":"AL5"},{"$f":"'Horário Geral (Semana 2)'!EV9","v":"QD"},{"$f":"'Horário Geral (Semana 2)'!EW9","v":"DES"}]
["SEG","1ª","07:30:00",{"$f":"'Horário Geral (Semana 2)'!DS10","v":1},{"$f":"'Horário Geral (Semana 2)'!DT10","v":1},{"$f":"'Horário Geral (Semana 2)'!DU10","v":1},{"$f":"'Horário Geral (Semana 2)'!DV10","v":0},{"$f":"'Horário Geral (Semana 2)'!DW10","v":1},{"$f":"'Horário Geral (Semana 2)'!DX10","v":0},{"$f":"'Horário Geral (Semana 2)'!DY10","v":0},{"$f":"'Horário Geral (Semana 2)'!DZ10","v":1},{"$f":"'Horário Geral (Semana 2)'!EA10","v":0},{"$f":"'Horário Geral (Semana 2)'!EB10","v":0},{"$f":"'Horário Geral (Semana 2)'!EC10","v":1},{"$f":"'Horário Geral (Semana 2)'!ED10","v":0},{"$f":"'Horário Geral (Semana 2)'!EE10","v":1},{"$f":"'Horário Geral (Semana 2)'!EF10","v":1},{"$f":"'Horário Geral (Semana 2)'!EG10","v":1},{"$f":"'Horário Geral (Semana 2)'!EH10","v":1},{"$f":"'Horário Geral (Semana 2)'!EI10","v":1},{"$f":"'Horário Geral (Semana 2)'!EJ10","v":1},{"$f":"'Horário Geral (Semana 2)'!EK10","v":0},{"$f":"'Horário Geral (Semana 2)'!EL10","v":1},{"$f":"'Horário Geral (Semana 2)'!EM10","v":0},{"$f":"'Horário Geral (Semana 2)'!EN10","v":0},{"$f":"'Horário Geral (Semana 2)'!EO10","v":0},{"$f":"'Horário Geral (Semana 2)'!EP10","v":0},{"$f":"'Horário Geral (Semana 2)'!EQ10","v":0},{"$f":"'Horário Geral (Semana 2)'!ER10","v":0},{"$f":"'Horário Geral (Semana 2)'!ES10","v":0},{"$f":"'Horário Geral (Semana 2)'!ET10","v":0},{"$f":"'Horário Geral (Semana 2)'!EU10","v":0},{"$f":"'Horário Geral (Semana 2)'!EV10","v":0},{"$f":"'Horário Geral (Semana 2)'!EW10","v":0}]
[null,"2ª","08:15:00",{"$f":"'Horário Geral (Semana 2)'!DS11","v":1},{"$f":"'Horário Geral (Semana 2)'!DT11","v":0},{"$f":"'Horário Geral (Semana 2)'!DU11","v":1},{"$f":"'Horário Geral (Semana 2)'!DV11","v":0},{"$f":"'Horário Geral (Semana 2)'!DW11","v":1},{"$f":"'Horário Geral (Semana 2)'!DX11","v":0},{"$f":"'Horário Geral (Semana 2)'!DY11","v":0},{"$f":"'Horário Geral (Semana 2)'!DZ11","v":1},{"$f":"'Horário Geral (Semana 2)'!EA11","v":0},{"$f":"'Horário Geral (Semana 2)'!EB11","v":0},{"$f":"'Horário Geral (Semana 2)'!EC11","v":1},{"$f":"'Horário Geral (Semana 2)'!ED11","v":0},{"$f":"'Horário Geral (Semana 2)'!EE11","v":1},{"$f":"'Horário Geral (Semana 2)'!EF11","v":1},{"$f":"'Horário Geral (Semana 2)'!EG11","v":1},{"$f":"'Horário Geral (Semana 2)'!EH11","v":1},{"$f":"'Horário Geral (Semana 2)'!EI11","v":1},{"$f":"'Horário Geral (Semana 2)'!EJ11","v":1},{"$f":"'Horário Geral (Semana 2)'!EK11","v":0},{"$f":"'Horário Geral (Semana 2)'!EL11","v":1},{"$f":"'Horário Geral (Semana 2)'!EM11","v":0},{"$f":"'Horário Geral (Semana 2)'!EN11","v":0},{"$f":"'Horário Geral (Semana 2)'!EO11","v":0},{"$f":"'Horário Geral (Semana 2)'!EP11","v":0},{"$f":"'Horário Geral (Semana 2)'!EQ11","v":0},{"$f":"'Horário Geral (Semana 2)'!ER11","v":0},{"$f":"'Horário Geral (Semana 2)'!ES11","v":1},{"$f":"'Horário Geral (Semana 2)'!ET11","v":0},{"$f":"'Horário Geral (Semana 2)'!EU11","v":0},{"$f":"'Horário Geral (Semana 2)'!EV11","v":0},{"$f":"'Horário Geral (Semana 2)'!EW11","v":0}]
[null,"3ª","09:00:00",{"$f":"'Horário Geral (Semana 2)'!DS12","v":1},{"$f":"'Horário Geral (Semana 2)'!DT12","v":1},{"$f":"'Horário Geral (Semana 2)'!DU12","v":0},{"$f":"'Horário Geral (Semana 2)'!DV12","v":0},{"$f":"'Horário Geral (Semana 2)'!DW12","v":1},{"$f":"'Horário Geral (Semana 2)'!DX12","v":1},{"$f":"'Horário Geral (Semana 2)'!DY12","v":0},{"$f":"'Horário Geral (Semana 2)'!DZ12","v":0},{"$f":"'Horário Geral (Semana 2)'!EA12","v":0},{"$f":"'Horário Geral (Semana 2)'!EB12","v":0},{"$f":"'Horário Geral (Semana 2)'!EC12","v":1},{"$f":"'Horário Geral (Semana 2)'!ED12","v":0},{"$f":"'Horário Geral (Semana 2)'!EE12","v":1},{"$f":"'Horário Geral (Semana 2)'!EF12","v":0},{"$f":"'Horário Geral (Semana 2)'!EG12","v":0},{"$f":"'Horário Geral (Semana 2)'!EH12","v":1},{"$f":"'Horário Geral (Semana 2)'!EI12","v":1},{"$f":"'Horário Geral (Semana 2)'!EJ12","v":1},{"$f":"'Horário Geral (Semana 2)'!EK12","v":0},{"$f":"'Horário Geral (Semana 2)'!EL12","v":1},{"$f":"'Horário Geral (Semana 2)'!EM12","v":0},{"$f":"'Horário Geral (Semana 2)'!EN12","v":0},{"$f":"'Horário Geral (Semana 2)'!EO12","v":0},{"$f":"'Horário Geral (Semana 2)'!EP12","v":0},{"$f":"'Horário Geral (Semana 2)'!EQ12","v":0},{"$f":"'Horário Geral (Semana 2)'!ER12","v":0},{"$f":"'Horário Geral (Semana 2)'!ES12","v":1},{"$f":"'Horário Geral (Semana 2)'!ET12","v":0},{"$f":"'Horário Geral (Semana 2)'!EU12","v":1},{"$f":"'Horário Geral (Semana 2)'!EV12","v":1},{"$f":"'Horário Geral (Semana 2)'!EW12","v":0}]
[null,"4ª","10:00:00",{"$f":"'Horário Geral (Semana 2)'!DS13","v":1},{"$f":"'Horário Geral (Semana 2)'!DT13","v":0},{"$f":"'Horário Geral (Semana 2)'!DU13","v":0},{"$f":"'Horário Geral (Semana 2)'!DV13","v":0},{"$f":"'Horário Geral (Semana 2)'!DW13","v":1},{"$f":"'Horário Geral (Semana 2)'!DX13","v":1},{"$f":"'Horário Geral (Semana 2)'!DY13","v":0},{"$f":"'Horário Geral (Semana 2)'!DZ13","v":1},{"$f":"'Horário Geral (Semana 2)'!EA13","v":0},{"$f":"'Horário Geral (Semana 2)'!EB13","v":0},{"$f":"'Horário Geral (Semana 2)'!EC13","v":1},{"$f":"'Horário Geral (Semana 2)'!ED13","v":0},{"$f":"'Horário Geral (Semana 2)'!EE13","v":1},{"$f":"'Horário Geral (Semana 2)'!EF13","v":0},{"$f":"'Horário Geral (Semana 2)'!EG13","v":1},{"$f":"'Horário Geral (Semana 2)'!EH13","v":1},{"$f":"'Horário Geral (Semana 2)'!EI13","v":1},{"$f":"'Horário Geral (Semana 2)'!EJ13","v":0},{"$f":"'Horário Geral (Semana 2)'!EK13","v":0},{"$f":"'Horário Geral (Semana 2)'!EL13","v":1},{"$f":"'Horário Geral (Semana 2)'!EM13","v":0},{"$f":"'Horário Geral (Semana 2)'!EN13","v":0},{"$f":"'Horário Geral (Semana 2)'!EO13","v":0},{"$f":"'Horário Geral (Semana 2)'!EP13","v":0},{"$f":"'Horário Geral (Semana 2)'!EQ13","v":0},{"$f":"'Horário Geral (Semana 2)'!ER13","v":0},{"$f":"'Horário Geral (Semana 2)'!ES13","v":1},{"$f":"'Horário Geral (Semana 2)'!ET13","v":0},{"$f":"'Horário Geral (Semana 2)'!EU13","v":1},{"$f":"'Horário Geral (Semana 2)'!EV13","v":1},{"$f":"'Horário Geral (Semana 2)'!EW13","v":0}]
[null,"5ª","10:45:00",{"$f":"'Horário Geral (Semana 2)'!DS14","v":1},{"$f":"'Horário Geral (Semana 2)'!DT14","v":1},{"$f":"'Horário Geral (Semana 2)'!DU14","v":1},{"$f":"'Horário Geral (Semana 2)'!DV14","v":0},{"$f":"'Horário Geral (Semana 2)'!DW14","v":1},{"$f":"'Horário Geral (Semana 2)'!DX14","v":0},{"$f":"'Horário Geral (Semana 2)'!DY14","v":0},{"$f":"'Horário Geral (Semana 2)'!DZ14","v":1},{"$f":"'Horário Geral (Semana 2)'!EA14","v":0},{"$f":"'Horário Geral (Semana 2)'!EB14","v":0},{"$f":"'Horário Geral (Semana 2)'!EC14","v":1},{"$f":"'Horário Geral (Semana 2)'!ED14","v":0},{"$f":"'Horário Geral (Semana 2)'!EE14","v":0},{"$f":"'Horário Geral (Semana 2)'!EF14","v":1},{"$f":"'Horário Geral (Semana 2)'!EG14","v":1},{"$f":"'Horário Geral (Semana 2)'!EH14","v":1},{"$f":"'Horário Geral (Semana 2)'!EI14","v":1},{"$f":"'Horário Geral (Semana 2)'!EJ14","v":0},{"$f":"'Horário Geral (Semana 2)'!EK14","v":0},{"$f":"'Horário Geral (Semana 2)'!EL14","v":1},{"$f":"'Horário Geral (Semana 2)'!EM14","v":0},{"$f":"'Horário Geral (Semana 2)'!EN14","v":0},{"$f":"'Horário Geral (Semana 2)'!EO14","v":0},{"$f":"'Horário Geral (Semana 2)'!EP14","v":0},{"$f":"'Horário Geral (Semana 2)'!EQ14","v":1},{"$f":"'Horário Geral (Semana 2)'!ER14","v":0},{"$f":"'Horário Geral (Semana 2)'!ES14","v":0},{"$f":"'Horário Geral (Semana 2)'!ET14","v":0},{"$f":"'Horário Geral (Semana 2)'!EU14","v":1},{"$f":"'Horário Geral (Semana 2)'!EV14","v":0},{"$f":"'Horário Geral (Semana 2)'!EW14","v":0}]
[null,null,null,{"$f":"'Horário Geral (Semana 2)'!DS15","v":0},{"$f":"'Horário Geral (Semana 2)'!DT15","v":1},{"$f":"'Horário Geral (Semana 2)'!DU15","v":1},{"$f":"'Horário Geral (Semana 2)'!DV15","v":0},{"$f":"'Horário Geral (Semana 2)'!DW15","v":1},{"$f":"'Horário Geral (Semana 2)'!DX15","v":1},{"$f":"'Horário Geral (Semana 2)'!DY15","v":0},{"$f":"'Horário Geral (Semana 2)'!DZ15","v":1},{"$f":"'Horário Geral (Semana 2)'!EA15","v":0},{"$f":"'Horário Geral (Semana 2)'!EB15","v":0},{"$f":"'Horário Geral (Semana 2)'!EC15","v":1},{"$f":"'Horário Geral (Semana 2)'!ED15","v":0},{"$f":"'Horário Geral (Semana 2)'!EE15","v":0},{"$f":"'Horário Geral (Semana 2)'!EF15","v":1},{"$f":"'Horário Geral (Semana 2)'!EG15","v":0},{"$f":"'Horário Geral (Semana 2)'!EH15","v":1},{"$f":"'Horário Geral (Semana 2)'!EI15","v":1},{"$f":"'Horário Geral (Semana 2)'!EJ15","v":1},{"$f":"'Horário Geral (Semana 2)'!EK15","v":0},{"$f":"'Horário Geral (Semana 2)'!EL15","v":1},{"$f":"'Horário Geral (Semana 2)'!EM15","v":0},{"$f":"'Horário Geral (Semana 2)'!EN15","v":0},{"$f":"'Horário Geral (Semana 2)'!EO15","v":0},{"$f":"'Horário Geral (Semana 2)'!EP15","v":0},{"$f":"'Horário Geral (Semana 2)'!EQ15","v":1},{"$f":"'Horário Geral (Semana 2)'!ER15","v":0},{"$f":"'Horário Geral (Semana 2)'!ES15","v":0},{"$f":"'Horário Geral (Semana 2)'!ET15","v":0},{"$f":"'Horário Geral (Semana 2)'!EU15","v":1},{"$f":"'Horário Geral (Semana 2)'!EV15","v":0},{"$f":"'Horário Geral (Semana 2)'!EW15","v":0}]
["TER","1ª","07:10:00",{"$f":"'Horário Geral (Semana 2)'!DS28","v":1},{"$f":"'Horário Geral (Semana 2)'!DT28","v":1},{"$f":"'Horário Geral (Semana 2)'!DU28","v":1},{"$f":"'Horário Geral (Semana 2)'!DV28","v":1},{"$f":"'Horário Geral (Semana 2)'!DW28","v":1},{"$f":"'Horário Geral (Semana 2)'!DX28","v":0},{"$f":"'Horário Geral (Semana 2)'!DY28","v":0},{"$f":"'Horário Geral (Semana 2)'!DZ28","v":1},{"$f":"'Horário Geral (Semana 2)'!EA28","v":0},{"$f":"'Horário Geral (Semana 2)'!EB28","v":0},{"$f":"'Horário Geral (Semana 2)'!EC28","v":0},{"$f":"'Horário Geral (Semana 2)'!ED28","v":0},{"$f":"'Horário Geral (Semana 2)'!EE28","v":1},{"$f":"'Horário Geral (Semana 2)'!EF28","v":1},{"$f":"'Horário Geral (Semana 2)'!EG28","v":1},{"$f":"'Horário Geral (Semana 2)'!EH28","v":0},{"$f":"'Horário Geral (Semana 2)'!EI28","v":0},{"$f":"'Horário Geral (Semana 2)'!EJ28","v":1},{"$f":"'Horário Geral (Semana 2)'!EK28","v":0},{"$f":"'Horário Geral (Semana 2)'!EL28","v":1},{"$f":"'Horário Geral (Semana 2)'!EM28","v":0},{"$f":"'Horário Geral (Semana 2)'!EN28","v":0},{"$f":"'Horário Geral (Semana 2)'!EO28","v":0},{"$f":"'Horário Geral (Semana 2)'!EP28","v":0},{"$f":"'Horário Geral (Semana 2)'!EQ28","v":0},{"$f":"'Horário Geral (Semana 2)'!ER28","v":0},{"$f":"'Horário Geral (Semana 2)'!ES28","v":1},{"$f":"'Horário Geral (Semana 2)'!ET28","v":0},{"$f":"'Horário Geral (Semana 2)'!EU28","v":0},{"$f":"'Horário Geral (Semana 2)'!EV28","v":1},{"$f":"'Horário Geral (Semana 2)'!EW28","v":1}]
[null,"2ª","08:00:00",{"$f":"'Horário Geral (Semana 2)'!DS29","v":1},{"$f":"'Horário Geral (Semana 2)'!DT29","v":1},{"$f":"'Horário Geral (Semana 2)'!DU29","v":1},{"$f":"'Horário Geral (Semana 2)'!DV29","v":1},{"$f":"'Horário Geral (Semana 2)'!DW29","v":1},{"$f":"'Horário Geral (Semana 2)'!DX29","v":0},{"$f":"'Horário Geral (Semana 2)'!DY29","v":0},{"$f":"'Horário Geral (Semana 2)'!DZ29","v":1},{"$f":"'Horário Geral (Semana 2)'!EA29","v":0},{"$f":"'Horário Geral (Semana 2)'!EB29","v":0},{"$f":"'Horário Geral (Semana 2)'!EC29","v":0},{"$f":"'Horário Geral (Semana 2)'!ED29","v":0},{"$f":"'Horário Geral (Semana 2)'!EE29","v":1},{"$f":"'Horário Geral (Semana 2)'!EF29","v":1},{"$f":"'Horário Geral (Semana 2)'!EG29","v":1},{"$f":"'Horário Geral (Semana 2)'!EH29","v":0},{"$f":"'Horário Geral (Semana 2)'!EI29","v":0},{"$f":"'Horário Geral (Semana 2)'!EJ29","v":0},{"$f":"'Horário Geral (Semana 2)'!EK29","v":0},{"$f":"'Horário Geral (Semana 2)'!EL29","v":1},{"$f":"'Horário Geral (Semana 2)'!EM29","v":0},{"$f":"'Horário Geral (Semana 2)'!EN29","v":0},{"$f":"'Horário Geral (Semana 2)'!EO29","v":0},{"$f":"'Horário Geral (Semana 2)'!EP29","v":0},{"$f":"'Horário Geral (Semana 2)'!EQ29","v":0},{"$f":"'Horário Geral (Semana 2)'!ER29","v":0},{"$f":"'Horário Geral (Semana 2)'!ES29","v":1},{"$f":"'Horário Geral (Semana 2)'!ET29","v":0},{"$f":"'Horário Geral (Semana 2)'!EU29","v":0},{"$f":"'Horário Geral (Semana 2)'!EV29","v":1},{"$f":"'Horário Geral (Semana 2)'!EW29","v":1}]
[null,"3ª","08:50:00",{"$f":"'Horário Geral (Semana 2)'!DS30","v":1},{"$f":"'Horário Geral (Semana 2)'!DT30","v":0},{"$f":"'Horário Geral (Semana 2)'!DU30","v":1},{"$f":"'Horário Geral (Semana 2)'!DV30","v":1},{"$f":"'Horário Geral (Semana 2)'!DW30","v":0},{"$f":"'Horário Geral (Semana 2)'!DX30","v":1},{"$f":"'Horário Geral (Semana 2)'!DY30","v":0},{"$f":"'Horário Geral (Semana 2)'!DZ30","v":1},{"$f":"'Horário Geral (Semana 2)'!EA30","v":0},{"$f":"'Horário Geral (Semana 2)'!EB30","v":0},{"$f":"'Horário Geral (Semana 2)'!EC30","v":0},{"$f":"'Horário Geral (Semana 2)'!ED30","v":0},{"$f":"'Horário Geral (Semana 2)'!EE30","v":1},{"$f":"'Horário Geral (Semana 2)'!EF30","v":1},{"$f":"'Horário Geral (Semana 2)'!EG30","v":1},{"$f":"'Horário Geral (Semana 2)'!EH30","v":0},{"$f":"'Horário Geral (Semana 2)'!EI30","v":1},{"$f":"'Horário Geral (Semana 2)'!EJ30","v":1},{"$f":"'Horário Geral (Semana 2)'!EK30","v":0},{"$f":"'Horário Geral (Semana 2)'!EL30","v":0},{"$f":"'Horário Geral (Semana 2)'!EM30","v":0},{"$f":"'Horário Geral (Semana 2)'!EN30","v":0},{"$f":"'Horário Geral (Semana 2)'!EO30","v":1},{"$f":"'Horário Geral (Semana 2)'!EP30","v":0},{"$f":"'Horário Geral (Semana 2)'!EQ30","v":0},{"$f":"'Horário Geral (Semana 2)'!ER30","v":0},{"$f":"'Horário Geral (Semana 2)'!ES30","v":1},{"$f":"'Horário Geral (Semana 2)'!ET30","v":0},{"$f":"'Horário Geral (Semana 2)'!EU30","v":1},{"$f":"'Horário Geral (Semana 2)'!EV30","v":1},{"$f":"'Horário Geral (Semana 2)'!EW30","v":0}]
[null,"4ª","09:55:00",{"$f":"'Horário Geral (Semana 2)'!DS31","v":1},{"$f":"'Horário Geral (Semana 2)'!DT31","v":0},{"$f":"'Horário Geral (Semana 2)'!DU31","v":1},{"$f":"'Horário Geral (Semana 2)'!DV31","v":1},{"$f":"'Horário Geral (Semana 2)'!DW31","v":0},{"$f":"'Horário Geral (Semana 2)'!DX31","v":1},{"$f":"'Horário Geral (Semana 2)'!DY31","v":0},{"$f":"'Horário Geral (Semana 2)'!DZ31","v":1},{"$f":"'Horário Geral (Semana 2)'!EA31","v":0},{"$f":"'Horário Geral (Semana 2)'!EB31","v":0},{"$f":"'Horário Geral (Semana 2)'!EC31","v":0},{"$f":"'Horário Geral (Semana 2)'!ED31","v":0},{"$f":"'Horário Geral (Semana 2)'!EE31","v":1},{"$f":"'Horário Geral (Semana 2)'!EF31","v":1},{"$f":"'Horário Geral (Semana 2)'!EG31","v":1},{"$f":"'Horário Geral (Semana 2)'!EH31","v":0},{"$f":"'Horário Geral (Semana 2)'!EI31","v":1},{"$f":"'Horário Geral (Semana 2)'!EJ31","v":1},{"$f":"'Horário Geral (Semana 2)'!EK31","v":0},{"$f":"'Horário Geral (Semana 2)'!EL31","v":0},{"$f":"'Horário Geral (Semana 2)'!EM31","v":0},{"$f":"'Horário Geral (Semana 2)'!EN31","v":0},{"$f":"'Horário Geral (Semana 2)'!EO31","v":0},{"$f":"'Horário Geral (Semana 2)'!EP31","v":0},{"$f":"'Horário Geral (Semana 2)'!EQ31","v":1},{"$f":"'Horário Geral (Semana 2)'!ER31","v":0},{"$f":"'Horário Geral (Semana 2)'!ES31","v":1},{"$f":"'Horário Geral (Semana 2)'!ET31","v":0},{"$f":"'Horário Geral (Semana 2)'!EU31","v":1},{"$f":"'Horário Geral (Semana 2)'!EV31","v":1},{"$f":"'Horário Geral (Semana 2)'!EW31","v":0}]
[null,"5ª","10:45:00",{"$f":"'Horário Geral (Semana 2)'!DS32","v":1},{"$f":"'Horário Geral (Semana 2)'!DT32","v":1},{"$f":"'Horário Geral (Semana 2)'!DU32","v":1},{"$f":"'Horário Geral (Semana 2)'!DV32","v":1},{"$f":"'Horário Geral (Semana 2)'!DW32","v":0},{"$f":"'Horário Geral (Semana 2)'!DX32","v":0},{"$f":"'Horário Geral (Semana 2)'!DY32","v":0},{"$f":"'Horário Geral (Semana 2)'!DZ32","v":1},{"$f":"'Horário Geral (Semana 2)'!EA32","v":0},{"$f":"'Horário Geral (Semana 2)'!EB32","v":0},{"$f":"'Horário Geral (Semana 2)'!EC32","v":0},{"$f":"'Horário Geral (Semana 2)'!ED32","v":0},{"$f":"'Horário Geral (Semana 2)'!EE32","v":1},{"$f":"'Horário Geral (Semana 2)'!EF32","v":1},{"$f":"'Horário Geral (Semana 2)'!EG32","v":1},{"$f":"'Horário Geral (Semana 2)'!EH32","v":1},{"$f":"'Horário Geral (Semana 2)'!EI32","v":0},{"$f":"'Horário Geral (Semana 2)'!EJ32","v":1},{"$f":"'Horário Geral (Semana 2)'!EK32","v":0},{"$f":"'Horário Geral (Semana 2)'!EL32","v":0},{"$f":"'Horário Geral (Semana 2)'!EM32","v":0},{"$f":"'Horário Geral (Semana 2)'!EN32","v":0},{"$f":"'Horário Geral (Semana 2)'!EO32","v":0},{"$f":"'Horário Geral (Semana 2)'!EP32","v":0},{"$f":"'Horário Geral (Semana 2)'!EQ32","v":1},{"$f":"'Horário Geral (Semana 2)'!ER32","v":0},{"$f":"'Horário Geral (Semana 2)'!ES32","v":0},{"$f":"'Horário Geral (Semana 2)'!ET32","v":0},{"$f":"'Horário Geral (Semana 2)'!EU32","v":1},{"$f":"'Horário Geral (Semana 2)'!EV32","v":1},{"$f":"'Horário Geral (Semana 2)'!EW32","v":0}]
[null,null,null,{"$f":"'Horário Geral (Semana 2)'!DS33","v":1},{"$f":"'Horário Geral (Semana 2)'!DT33","v":1},{"$f":"'Horário Geral (Semana 2)'!DU33","v":1},{"$f":"'Horário Geral (Semana 2)'!DV33","v":1},{"$f":"'Horário Geral (Semana 2)'!DW33","v":0},{"$f":"'Horário Geral (Semana 2)'!DX33","v":0},{"$f":"'Horário Geral (Semana 2)'!DY33","v":0},{"$f":"'Horário Geral (Semana 2)'!DZ33","v":1},{"$f":"'Horário Geral (Semana 2)'!EA33","v":0},{"$f":"'Horário Geral (Semana 2)'!EB33","v":0},{"$f":"'Horário Geral (Semana 2)'!EC33","v":0},{"$f":"'Horário Geral (Semana 2)'!ED33","v":0},{"$f":"'Horário Geral (Semana 2)'!EE33","v":1},{"$f":"'Horário Geral (Semana 2)'!EF33","v":1},{"$f":"'Horário Geral (Semana 2)'!EG33","v":1},{"$f":"'Horário Geral (Semana 2)'!EH33","v":1},{"$f":"'Horário Geral (Semana 2)'!EI33","v":0},{"$f":"'Horário Geral (Semana 2)'!EJ33","v":1},{"$f":"'Horário Geral (Semana 2)'!EK33","v":0},{"$f":"'Horário Geral (Semana 2)'!EL33","v":0},{"$f":"'Horário Geral (Semana 2)'!EM33","v":0},{"$f":"'Horário Geral (Semana 2)'!EN33","v":0},{"$f":"'Horário Geral (Semana 2)'!EO33","v":0},{"$f":"'Horário Geral (Semana 2)'!EP33","v":0},{"$f":"'Horário Geral (Semana 2)'!EQ33","v":1},{"$f":"'Horário Geral (Semana 2)'!ER33","v":0},{"$f":"'Horário Geral (Semana 2)'!ES33","v":0},{"$f":"'Horário Geral (Semana 2)'!ET33","v":0},{"$f":"'Horário Geral (Semana 2)'!EU33","v":1},{"$f":"'Horário Geral (Semana 2)'!EV33","v":1},{"$f":"'Horário Geral (Semana 2)'!EW33","v":0}]
["QUA","1ª","07:10:00",{"$f":"'Horário Geral (Semana 2)'!DS46","v":0},{"$f":"'Horário Geral (Semana 2)'!DT46","v":1},{"$f":"'Horário Geral (Semana 2)'!DU46","v":1},{"$f":"'Horário Geral (Semana 2)'!DV46","v":1},{"$f":"'Horário Geral (Semana 2)'!DW46","v":0},{"$f":"'Horário Geral (Semana 2)'!DX46","v":1},{"$f":"'Horário Geral (Semana 2)'!DY46","v":0},{"$f":"'Horário Geral (Semana 2)'!DZ46","v":1},{"$f":"'Horário Geral (Semana 2)'!EA46","v":0},{"$f":"'Horário Geral (Semana 2)'!EB46","v":0},{"$f":"'Horário Geral (Semana 2)'!EC46","v":1},{"$f":"'Horário Geral (Semana 2)'!ED46","v":0},{"$f":"'Horário Geral (Semana 2)'!EE46","v":1},{"$f":"'Horário Geral (Semana 2)'!EF46","v":0},{"$f":"'Horário Geral (Semana 2)'!EG46","v":1},{"$f":"'Horário Geral (Semana 2)'!EH46","v":0},{"$f":"'Horário Geral (Semana 2)'!EI46","v":1},{"$f":"'Horário Geral (Semana 2)'!EJ46","v":1},{"$f":"'Horário Geral (Semana 2)'!EK46","v":0},{"$f":"'Horário Geral (Semana 2)'!EL46","v":1},{"$f":"'Horário Geral (Semana 2)'!EM46","v":0},{"$f":"'Horário Geral (Semana 2)'!EN46","v":0},{"$f":"'Horário Geral (Semana 2)'!EO46","v":0},{"$f":"'Horário Geral (Semana 2)'!EP46","v":0},{"$f":"'Horário Geral (Semana 2)'!EQ46","v":0},{"$f":"'Horário Geral (Semana 2)'!ER46","v":0},{"$f":"'Horário Geral (Semana 2)'!ES46","v":1},{"$f":"'Horário Geral (Semana 2)'!ET46","v":0},{"$f":"'Horário Geral (Semana 2)'!EU46","v":1},{"$f":"'Horário Geral (Semana 2)'!EV46","v":1},{"$f":"'Horário Geral (Semana 2)'!EW46","v":0}]
[null,"2ª","07:55:00",{"$f":"'Horário Geral (Semana 2)'!DS47","v":0},{"$f":"'Horário Geral (Semana 2)'!DT47","v":1},{"$f":"'Horário Geral (Semana 2)'!DU47","v":1},{"$f":"'Horário Geral (Semana 2)'!DV47","v":1},{"$f":"'Horário Geral (Semana 2)'!DW47","v":0},{"$f":"'Horário Geral (Semana 2)'!DX47","v":1},{"$f":"'Horário Geral (Semana 2)'!DY47","v":0},{"$f":"'Horário Geral (Semana 2)'!DZ47","v":1},{"$f":"'Horário Geral (Semana 2)'!EA47","v":0},{"$f":"'Horário Geral (Semana 2)'!EB47","v":0},{"$f":"'Horário Geral (Semana 2)'!EC47","v":1},{"$f":"'Horário Geral (Semana 2)'!ED47","v":0},{"$f":"'Horário Geral (Semana 2)'!EE47","v":1},{"$f":"'Horário Geral (Semana 2)'!EF47","v":0},{"$f":"'Horário Geral (Semana 2)'!EG47","v":1},{"$f":"'Horário Geral (Semana 2)'!EH47","v":0},{"$f":"'Horário Geral (Semana 2)'!EI47","v":1},{"$f":"'Horário Geral (Semana 2)'!EJ47","v":1},{"$f":"'Horário Geral (Semana 2)'!EK47","v":0},{"$f":"'Horário Geral (Semana 2)'!EL47","v":1},{"$f":"'Horário Geral (Semana 2)'!EM47","v":0},{"$f":"'Horário Geral (Semana 2)'!EN47","v":0},{"$f":"'Horário Geral (Semana 2)'!EO47","v":0},{"$f":"'Horário Geral (Semana 2)'!EP47","v":0},{"$f":"'Horário Geral (Semana 2)'!EQ47","v":0},{"$f":"'Horário Geral (Semana 2)'!ER47","v":0},{"$f":"'Horário Geral (Semana 2)'!ES47","v":1},{"$f":"'Horário Geral (Semana 2)'!ET47","v":0},{"$f":"'Horário Geral (Semana 2)'!EU47","v":1},{"$f":"'Horário Geral (Semana 2)'!EV47","v":1},{"$f":"'Horário Geral (Semana 2)'!EW47","v":0}]
[null,"3ª","08:40:00",{"$f":"'Horário Geral (Semana 2)'!DS48","v":1},{"$f":"'Horário Geral (Semana 2)'!DT48","v":1},{"$f":"'Horário Geral (Semana 2)'!DU48","v":0},{"$f":"'Horário Geral (Semana 2)'!DV48","v":1},{"$f":"'Horário Geral (Semana 2)'!DW48","v":0},{"$f":"'Horário Geral (Semana 2)'!DX48","v":1},{"$f":"'Horário Geral (Semana 2)'!DY48","v":0},{"$f":"'Horário Geral (Semana 2)'!DZ48","v":1},{"$f":"'Horário Geral (Semana 2)'!EA48","v":0},{"$f":"'Horário Geral (Semana 2)'!EB48","v":0},{"$f":"'Horário Geral (Semana 2)'!EC48","v":0},{"$f":"'Horário Geral (Semana 2)'!ED48","v":0},{"$f":"'Horário Geral (Semana 2)'!EE48","v":1},{"$f":"'Horário Geral (Semana 2)'!EF48","v":0},{"$f":"'Horário Geral (Semana 2)'!EG48","v":1},{"$f":"'Horário Geral (Semana 2)'!EH48","v":0},{"$f":"'Horário Geral (Semana 2)'!EI48","v":0},{"$f":"'Horário Geral (Semana 2)'!EJ48","v":1},{"$f":"'Horário Geral (Semana 2)'!EK48","v":0},{"$f":"'Horário Geral (Semana 2)'!EL48","v":1},{"$f":"'Horário Geral (Semana 2)'!EM48","v":0},{"$f":"'Horário Geral (Semana 2)'!EN48","v":0},{"$f":"'Horário Geral (Semana 2)'!EO48","v":1},{"$f":"'Horário Geral (Semana 2)'!EP48","v":0},{"$f":"'Horário Geral (Semana 2)'!EQ48","v":0},{"$f":"'Horário Geral (Semana 2)'!ER48","v":1},{"$f":"'Horário Geral (Semana 2)'!ES48","v":1},{"$f":"'Horário Geral (Semana 2)'!ET48","v":0},{"$f":"'Horário Geral (Semana 2)'!EU48","v":0},{"$f":"'Horário Geral (Semana 2)'!EV48","v":1},{"$f":"'Horário Geral (Semana 2)'!EW48","v":0}]
[null,"4ª","09:40:00",{"$f":"'Horário Geral (Semana 2)'!DS49","v":1},{"$f":"'Horário Geral (Semana 2)'!DT49","v":0},{"$f":"'Horário Geral (Semana 2)'!DU49","v":0},{"$f":"'Horário Geral (Semana 2)'!DV49","v":1},{"$f":"'Horário Geral (Semana 2)'!DW49","v":1},{"$f":"'Horário Geral (Semana 2)'!DX49","v":1},{"$f":"'Horário Geral (Semana 2)'!DY49","v":0},{"$f":"'Horário Geral (Semana 2)'!DZ49","v":0},{"$f":"'Horário Geral (Semana 2)'!EA49","v":0},{"$f":"'Horário Geral (Semana 2)'!EB49","v":0},{"$f":"'Horário Geral (Semana 2)'!EC49","v":1},{"$f":"'Horário Geral (Semana 2)'!ED49","v":0},{"$f":"'Horário Geral (Semana 2)'!EE49","v":1},{"$f":"'Horário Geral (Semana 2)'!EF49","v":1},{"$f":"'Horário Geral (Semana 2)'!EG49","v":1},{"$f":"'Horário Geral (Semana 2)'!EH49","v":0},{"$f":"'Horário Geral (Semana 2)'!EI49","v":0},{"$f":"'Horário Geral (Semana 2)'!EJ49","v":1},{"$f":"'Horário Geral (Semana 2)'!EK49","v":0},{"$f":"'Horário Geral (Semana 2)'!EL49","v":1},{"$f":"'Horário Geral (Semana 2)'!EM49","v":0},{"$f":"'Horário Geral (Semana 2)'!EN49","v":0},{"$f":"'Horário Geral (Semana 2)'!EO49","v":0},{"$f":"'Horário Geral (Semana 2)'!EP49","v":0},{"$f":"'Horário Geral (Semana 2)'!EQ49","v":0},{"$f":"'Horário Geral (Semana 2)'!ER49","v":1},{"$f":"'Horário Geral (Semana 2)'!ES49","v":1},{"$f":"'Horário Geral (Semana 2)'!ET49","v":0},{"$f":"'Horário Geral (Semana 2)'!EU49","v":0},{"$f":"'Horário Geral (Semana 2)'!EV49","v":1},{"$f":"'Horário Geral (Semana 2)'!EW49","v":0}]
[null,"5ª","10:25:00",{"$f":"'Horário Geral (Semana 2)'!DS50","v":1},{"$f":"'Horário Geral (Semana 2)'!DT50","v":1},{"$f":"'Horário Geral (Semana 2)'!DU50","v":0},{"$f":"'Horário Geral (Semana 2)'!DV50","v":1},{"$f":"'Horário Geral (Semana 2)'!DW50","v":1},{"$f":"'Horário Geral (Semana 2)'!DX50","v":0},{"$f":"'Horário Geral (Semana 2)'!DY50","v":0},{"$f":"'Horário Geral (Semana 2)'!DZ50","v":0},{"$f":"'Horário Geral (Semana 2)'!EA50","v":0},{"$f":"'Horário Geral (Semana 2)'!EB50","v":0},{"$f":"'Horário Geral (Semana 2)'!EC50","v":1},{"$f":"'Horário Geral (Semana 2)'!ED50","v":0},{"$f":"'Horário Geral (Semana 2)'!EE50","v":0},{"$f":"'Horário Geral (Semana 2)'!EF50","v":1},{"$f":"'Horário Geral (Semana 2)'!EG50","v":0},{"$f":"'Horário Geral (Semana 2)'!EH50","v":0},{"$f":"'Horário Geral (Semana 2)'!EI50","v":1},{"$f":"'Horário Geral (Semana 2)'!EJ50","v":1},{"$f":"'Horário Geral (Semana 2)'!EK50","v":0},{"$f":"'Horário Geral (Semana 2)'!EL50","v":1},{"$f":"'Horário Geral (Semana 2)'!EM50","v":0},{"$f":"'Horário Geral (Semana 2)'!EN50","v":0},{"$f":"'Horário Geral (Semana 2)'!EO50","v":0},{"$f":"'Horário Geral (Semana 2)'!EP50","v":0},{"$f":"'Horário Geral (Semana 2)'!EQ50","v":0},{"$f":"'Horário Geral (Semana 2)'!ER50","v":1},{"$f":"'Horário Geral (Semana 2)'!ES50","v":1},{"$f":"'Horário Geral (Semana 2)'!ET50","v":0},{"$f":"'Horário Geral (Semana 2)'!EU50","v":0},{"$f":"'Horário Geral (Semana 2)'!EV50","v":1},{"$f":"'Horário Geral (Semana 2)'!EW50","v":1}]
[null,"6ª","11:10:00",{"$f":"'Horário Geral (Semana 2)'!DS51","v":1},{"$f":"'Horário Geral (Semana 2)'!DT51","v":1},{"$f":"'Horário Geral (Semana 2)'!DU51","v":0},{"$f":"'Horário Geral (Semana 2)'!DV51","v":1},{"$f":"'Horário Geral (Semana 2)'!DW51","v":1},{"$f":"'Horário Geral (Semana 2)'!DX51","v":1},{"$f":"'Horário Geral (Semana 2)'!DY51","v":0},{"$f":"'Horário Geral (Semana 2)'!DZ51","v":0},{"$f":"'Horário Geral (Semana 2)'!EA51","v":0},{"$f":"'Horário Geral (Semana 2)'!EB51","v":0},{"$f":"'Horário Geral (Semana 2)'!EC51","v":1},{"$f":"'Horário Geral (Semana 2)'!ED51","v":0},{"$f":"'Horário Geral (Semana 2)'!EE51","v":0},{"$f":"'Horário Geral (Semana 2)'!EF51","v":0},{"$f":"'Horário Geral (Semana 2)'!EG51","v":0},{"$f":"'Horário Geral (Semana 2)'!EH51","v":1},{"$f":"'Horário Geral (Semana 2)'!EI51","v":1},{"$f":"'Horário Geral (Semana 2)'!EJ51","v":1},{"$f":"'Horário Geral (Semana 2)'!EK51","v":0},{"$f":"'Horário Geral (Semana 2)'!EL51","v":1},{"$f":"'Horário Geral (Semana 2)'!EM51","v":0},{"$f":"'Horário Geral (Semana 2)'!EN51","v":0},{"$f":"'Horário Geral (Semana 2)'!EO51","v":0},{"$f":"'Horário Geral (Semana 2)'!EP51","v":0},{"$f":"'Horário Geral (Semana 2)'!EQ51","v":0},{"$f":"'Horário Geral (Semana 2)'!ER51","v":1},{"$f":"'Horário Geral (Semana 2)'!ES51","v":0},{"$f":"'Horário Geral (Semana 2)'!ET51","v":0},{"$f":"'Horário Geral (Semana 2)'!EU51","v":0},{"$f":"'Horário Geral (Semana 2)'!EV51","v":1},{"$f":"'Horário Geral (Semana 2)'!EW51","v":1}]
[null,null,null,{"$f":"'Horário Geral (Semana 2)'!#REF!","v":{"$error":"#REF!"}},{"$f":"'Horário Geral (Semana 2)'!#REF!","v":{"$error":"#REF!"}},{"$f":"'Horário Geral (Semana 2)'!#REF!","v":{"$error":"#REF!"}},{"$f":"'Horário Geral (Semana 2)'!#REF!","v":{"$error":"#REF!"}},{"$f":"'Horário Geral (Semana 2)'!#REF!","v":{"$error":"#REF!"}},{"$f":"'Horário Geral (Semana 2)'!#REF!","v":{"$error":"#REF!"}},{"$f":"'Horário Geral (Semana 2)'!#REF!","v":{"$error":"#REF!"}},{"$f":"'Horário Geral (Semana 2)'!#REF!","v":{"$error":"#REF!"}},{"$f":"'Horário Geral (Semana 2)'!#REF!","v":{"$error":"#REF!"}},{"$f":"'Horário Geral (Semana 2)'!#REF!","v":{"$error":"#REF!"}},{"$f":"'Horário Geral (Semana 2)'!#REF!","v":{"$error":"#REF!"}},{"$f":"'Horário Geral (Semana 2)'!#REF!","v":{"$error":"#REF!"}},{"$f":"'Horário Geral (Semana 2)'!#REF!","v":{"$error":"#REF!"}},{"$f":"'Horário Geral (Semana 2)'!#REF!","v":{"$error":"#REF!"}},{"$f":"'Horário Geral (Semana 2)'!#REF!","v":{"$error":"#REF!"}},{"$f":"'Horário Geral (Semana 2)'!#REF!","v":{"$error":"#REF!"}},{"$f":"'Horário Geral (Semana 2)'!#REF!","v":{"$error":"#REF!"}},{"$f":"'Horário Geral (Semana 2)'!#REF!","v":{"$error":"#REF!"}},{"$f":"'Horário Geral (Semana 2)'!#REF!","v":{"$error":"#REF!"}},{"$f":"'Horário Geral (Semana 2)'!#REF!","v":{"$error":"#REF!"}},{"$f":"'Horário Geral (Semana 2)'!#REF!","v":{"$error":"#REF!"}},{"$f":"'Horário Geral (Semana 2)'!#REF!","v":{"$error":"#REF!"}},{"$f":"'Horário Geral (Semana 2)'!#REF!","v":{"$error":"#REF!"}},{"$f":"'Horário Geral (Semana 2)'!#REF!","v":{"$error":"#REF!"}},{"$f":"'Horário Geral (Semana 2)'!#REF!","v":{"$error":"#REF!"}},{"$f":"'Horário Geral (Semana 2)'!#REF!","v":{"$error":"#REF!"}},{"$f":"'Horário Geral (Semana 2)'!#REF!","v":{"$error":"#REF!"}},{"$f":"'Horário Geral (Semana 2)'!#REF!","v":{"$error":"#REF!"}},{"$f":"'Horário Geral (Semana 2)'!#REF!","v":{"$error":"#REF!"}},{"$f":"'Horário Geral (Semana 2)'!#REF!","v":{"$error":"#REF!"}},{"$f":"'Horário Geral (Semana 2)'!#REF!","v":{"$error":"#REF!"}}]
["QUI","1ª","07:10:00",{"$f":"'Horário Geral (Semana 2)'!DS64","v":1},{"$f":"'Horário Geral (Semana 2)'!DT64","v":1},{"$f":"'Horário Geral (Semana 2)'!DU64","v":0},{"$f":"'Horário Geral (Semana 2)'!DV64","v":0},{"$f":"'Horário Geral (Semana 2)'!DW64","v":0},{"$f":"'Horário Geral (Semana 2)'!DX64","v":0},{"$f":"'Horário Geral (Semana 2)'!DY64","v":0},{"$f":"'Horário Geral (Semana 2)'!DZ64","v":1},{"$f":"'Horário Geral (Semana 2)'!EA64","v":0},{"$f":"'Horário Geral (Semana 2)'!EB64","v":0},{"$f":"'Horário Geral (Semana 2)'!EC64","v":1},{"$f":"'Horário Geral (Semana 2)'!ED64","v":0},{"$f":"'Horário Geral (Semana 2)'!EE64","v":1},{"$f":"'Horário Geral (Semana 2)'!EF64","v":1},{"$f":"'Horário Geral (Semana 2)'!EG64","v":1},{"$f":"'Horário Geral (Semana 2)'!EH64","v":0},{"$f":"'Horário Geral (Semana 2)'!EI64","v":0},{"$f":"'Horário Geral (Semana 2)'!EJ64","v":1},{"$f":"'Horário Geral (Semana 2)'!EK64","v":0},{"$f":"'Horário Geral (Semana 2)'!EL64","v":1},{"$f":"'Horário Geral (Semana 2)'!EM64","v":0},{"$f":"'Horário Geral (Semana 2)'!EN64","v":0},{"$f":"'Horário Geral (Semana 2)'!EO64","v":0},{"$f":"'Horário Geral (Semana 2)'!EP64","v":0},{"$f":"'Horário Geral (Semana 2)'!EQ64","v":1},{"$f":"'Horário Geral (Semana 2)'!ER64","v":0},{"$f":"'Horário Geral (Semana 2)'!ES64","v":1},{"$f":"'Horário Geral (Semana 2)'!ET64","v":0},{"$f":"'Horário Geral (Semana 2)'!EU64","v":0},{"$f":"'Horário Geral (Semana 2)'!EV64","v":1},{"$f":"'Horário Geral (Semana 2)'!EW64","v":0}]
[null,"2ª","08:00:00",{"$f":"'Horário Geral (Semana 2)'!DS65","v":1},{"$f":"'Horário Geral (Semana 2)'!DT65","v":1},{"$f":"'Horário Geral (Semana 2)'!DU65","v":0},{"$f":"'Horário Geral (Semana 2)'!DV65","v":0},{"$f":"'Horário Geral (Semana 2)'!DW65","v":0},{"$f":"'Horário Geral (Semana 2)'!DX65","v":0},{"$f":"'Horário Geral (Semana 2)'!DY65","v":0},{"$f":"'Horário Geral (Semana 2)'!DZ65","v":1},{"$f":"'Horário Geral (Semana 2)'!EA65","v":0},{"$f":"'Horário Geral (Semana 2)'!EB65","v":0},{"$f":"'Horário Geral (Semana 2)'!EC65","v":1},{"$f":"'Horário Geral (Semana 2)'!ED65","v":0},{"$f":"'Horário Geral (Semana 2)'!EE65","v":1},{"$f":"'Horário Geral (Semana 2)'!EF65","v":1},{"$f":"'Horário Geral (Semana 2)'!EG65","v":1},{"$f":"'Horário Geral (Semana 2)'!EH65","v":0},{"$f":"'Horário Geral (Semana 2)'!EI65","v":0},{"$f":"'Horário Geral (Semana 2)'!EJ65","v":1},{"$f":"'Horário Geral (Semana 2)'!EK65","v":0},{"$f":"'Horário Geral (Semana 2)'!EL65","v":1},{"$f":"'Horário Geral (Semana 2)'!EM65","v":0},{"$f":"'Horário Geral (Semana 2)'!EN65","v":0},{"$f":"'Horário Geral (Semana 2)'!EO65","v":0},{"$f":"'Horário Geral (Semana 2)'!EP65","v":0},{"$f":"'Horário Geral (Semana 2)'!EQ65","v":1},{"$f":"'Horário Geral (Semana 2)'!ER65","v":0},{"$f":"'Horário Geral (Semana 2)'!ES65","v":1},{"$f":"'Horário Geral (Semana 2)'!ET65","v":0},{"$f":"'Horário Geral (Semana 2)'!EU65","v":0},{"$f":"'Horário Geral (Semana 2)'!EV65","v":1},{"$f":"'Horário Geral (Semana 2)'!EW65","v":0}]
[null,"3ª","08:50:00",{"$f":"'Horário Geral (Semana 2)'!DS66","v":1},{"$f":"'Horário Geral (Semana 2)'!DT66","v":0},{"$f":"'Horário Geral (Semana 2)'!DU66","v":1},{"$f":"'Horário Geral (Semana 2)'!DV66","v":0},{"$f":"'Horário Geral (Semana 2)'!DW66","v":0},{"$f":"'Horário Geral (Semana 2)'!DX66","v":0},{"$f":"'Horário Geral (Semana 2)'!DY66","v":0},{"$f":"'Horário Geral (Semana 2)'!DZ66","v":1},{"$f":"'Horário Geral (Semana 2)'!EA66","v":0},{"$f":"'Horário Geral (Semana 2)'!EB66","v":0},{"$f":"'Horário Geral (Semana 2)'!EC66","v":1},{"$f":"'Horário Geral (Semana 2)'!ED66","v":0},{"$f":"'Horário Geral (Semana 2)'!EE66","v":1},{"$f":"'Horário Geral (Semana 2)'!EF66","v":0},{"$f":"'Horário Geral (Semana 2)'!EG66","v":1},{"$f":"'Horário Geral (Semana 2)'!EH66","v":1},{"$f":"'Horário Geral (Semana 2)'!EI66","v":0},{"$f":"'Horário Geral (Semana 2)'!EJ66","v":1},{"$f":"'Horário Geral (Semana 2)'!EK66","v":0},{"$f":"'Horário Geral (Semana 2)'!EL66","v":1},{"$f":"'Horário Geral (Semana 2)'!EM66","v":0},{"$f":"'Horário Geral (Semana 2)'!EN66","v":0},{"$f":"'Horário Geral (Semana 2)'!EO66","v":1},{"$f":"'Horário Geral (Semana 2)'!EP66","v":0},{"$f":"'Horário Geral (Semana 2)'!EQ66","v":0},{"$f":"'Horário Geral (Semana 2)'!ER66","v":0},{"$f":"'Horário Geral (Semana 2)'!ES66","v":1},{"$f":"'Horário Geral (Semana 2)'!ET66","v":0},{"$f":"'Horário Geral (Semana 2)'!EU66","v":1},{"$f":"'Horário Geral (Semana 2)'!EV66","v":1},{"$f":"'Horário Geral (Semana 2)'!EW66","v":0}]
[null,"4ª","09:55:00",{"$f":"'Horário Geral (Semana 2)'!DS67","v":1},{"$f":"'Horário Geral (Semana 2)'!DT67","v":1},{"$f":"'Horário Geral (Semana 2)'!DU67","v":1},{"$f":"'Horário Geral (Semana 2)'!DV67","v":0},{"$f":"'Horário Geral (Semana 2)'!DW67","v":0},{"$f":"'Horário Geral (Semana 2)'!DX67","v":0},{"$f":"'Horário Geral (Semana 2)'!DY67","v":0},{"$f":"'Horário Geral (Semana 2)'!DZ67","v":0},{"$f":"'Horário Geral (Semana 2)'!EA67","v":0},{"$f":"'Horário Geral (Semana 2)'!EB67","v":0},{"$f":"'Horário Geral (Semana 2)'!EC67","v":1},{"$f":"'Horário Geral (Semana 2)'!ED67","v":0},{"$f":"'Horário Geral (Semana 2)'!EE67","v":1},{"$f":"'Horário Geral (Semana 2)'!EF67","v":0},{"$f":"'Horário Geral (Semana 2)'!EG67","v":1},{"$f":"'Horário Geral (Semana 2)'!EH67","v":1},{"$f":"'Horário Geral (Semana 2)'!EI67","v":0},{"$f":"'Horário Geral (Semana 2)'!EJ67","v":1},{"$f":"'Horário Geral (Semana 2)'!EK67","v":0},{"$f":"'Horário Geral (Semana 2)'!EL67","v":1},{"$f":"'Horário Geral (Semana 2)'!EM67","v":0},{"$f":"'Horário Geral (Semana 2)'!EN67","v":0},{"$f":"'Horário Geral (Semana 2)'!EO67","v":1},{"$f":"'Horário Geral (Semana 2)'!EP67","v":0},{"$f":"'Horário Geral (Semana 2)'!EQ67","v":0},{"$f":"'Horário Geral (Semana 2)'!ER67","v":0},{"$f":"'Horário Geral (Semana 2)'!ES67","v":1},{"$f":"'Horário Geral (Semana 2)'!ET67","v":0},{"$f":"'Horário Geral (Semana 2)'!EU67","v":1},{"$f":"'Horário Geral (Semana 2)'!EV67","v":1},{"$f":"'Horário Geral (Semana 2)'!EW67","v":0}]
[null,"5ª","10:45:00",{"$f":"'Horário Geral (Semana 2)'!DS68","v":0},{"$f":"'Horário Geral (Semana 2)'!DT68","v":1},{"$f":"'Horário Geral (Semana 2)'!DU68","v":1},{"$f":"'Horário Geral (Semana 2)'!DV68","v":0},{"$f":"'Horário Geral (Semana 2)'!DW68","v":0},{"$f":"'Horário Geral (Semana 2)'!DX68","v":0},{"$f":"'Horário Geral (Semana 2)'!DY68","v":0},{"$f":"'Horário Geral (Semana 2)'!DZ68","v":1},{"$f":"'Horário Geral (Semana 2)'!EA68","v":0},{"$f":"'Horário Geral (Semana 2)'!EB68","v":0},{"$f":"'Horário Geral (Semana 2)'!EC68","v":1},{"$f":"'Horário Geral (Semana 2)'!ED68","v":0},{"$f":"'Horário Geral (Semana 2)'!EE68","v":0},{"$f":"'Horário Geral (Semana 2)'!EF68","v":1},{"$f":"'Horário Geral (Semana 2)'!EG68","v":1},{"$f":"'Horário Geral (Semana 2)'!EH68","v":1},{"$f":"'Horário Geral (Semana 2)'!EI68","v":1},{"$f":"'Horário Geral (Semana 2)'!EJ68","v":1},{"$f":"'Horário Geral (Semana 2)'!EK68","v":0},{"$f":"'Horário Geral (Semana 2)'!EL68","v":1},{"$f":"'Horário Geral (Semana 2)'!EM68","v":0},{"$f":"'Horário Geral (Semana 2)'!EN68","v":0},{"$f":"'Horário Geral (Semana 2)'!EO68","v":0},{"$f":"'Horário Geral (Semana 2)'!EP68","v":0},{"$f":"'Horário Geral (Semana 2)'!EQ68","v":1},{"$f":"'Horário Geral (Semana 2)'!ER68","v":0},{"$f":"'Horário Geral (Semana 2)'!ES68","v":0},{"$f":"'Horário Geral (Semana 2)'!ET68","v":0},{"$f":"'Horário Geral (Semana 2)'!EU68","v":1},{"$f":"'Horário Geral (Semana 2)'!EV68","v":1},{"$f":"'Horário Geral (Semana 2)'!EW68","v":0}]
[null,null,null,{"$f":"'Horário Geral (Semana 2)'!DS69","v":1},{"$f":"'Horário Geral (Semana 2)'!DT69","v":1},{"$f":"'Horário Geral (Semana 2)'!DU69","v":1},{"$f":"'Horário Geral (Semana 2)'!DV69","v":0},{"$f":"'Horário Geral (Semana 2)'!DW69","v":0},{"$f":"'Horário Geral (Semana 2)'!DX69","v":0},{"$f":"'Horário Geral (Semana 2)'!DY69","v":0},{"$f":"'Horário Geral (Semana 2)'!DZ69","v":1},{"$f":"'Horário Geral (Semana 2)'!EA69","v":0},{"$f":"'Horário Geral (Semana 2)'!EB69","v":0},{"$f":"'Horário Geral (Semana 2)'!EC69","v":0},{"$f":"'Horário Geral (Semana 2)'!ED69","v":0},{"$f":"'Horário Geral (Semana 2)'!EE69","v":0},{"$f":"'Horário Geral (Semana 2)'!EF69","v":1},{"$f":"'Horário Geral (Semana 2)'!EG69","v":1},{"$f":"'Horário Geral (Semana 2)'!EH69","v":1},{"$f":"'Horário Geral (Semana 2)'!EI69","v":1},{"$f":"'Horário Geral (Semana 2)'!EJ69","v":1},{"$f":"'Horário Geral (Semana 2)'!EK69","v":0},{"$f":"'Horário Geral (Semana 2)'!EL69","v":1},{"$f":"'Horário Geral (Semana 2)'!EM69","v":0},{"$f":"'Horário Geral (Semana 2)'!EN69","v":0},{"$f":"'Horário Geral (Semana 2)'!EO69","v":0},{"$f":"'Horário Geral (Semana 2)'!EP69","v":0},{"$f":"'Horário Geral (Semana 2)'!EQ69","v":1},{"$f":"'Horário Geral (Semana 2)'!ER69","v":0},{"$f":"'Horário Geral (Semana 2)'!ES69","v":0},{"$f":"'Horário Geral (Semana 2)'!ET69","v":0},{"$f":"'Horário Geral (Semana 2)'!EU69","v":1},{"$f":"'Horário Geral (Semana 2)'!EV69","v":1},{"$f":"'Horário Geral (Semana 2)'!EW69","v":0}]
["SEX","1ª","07:10:00",{"$f":"'Horário Geral (Semana 2)'!DS82","v":1},{"$f":"'Horário Geral (Semana 2)'!DT82","v":1},{"$f":"'Horário Geral (Semana 2)'!DU82","v":1},{"$f":"'Horário Geral (Semana 2)'!DV82","v":1},{"$f":"'Horário Geral (Semana 2)'!DW82","v":0},{"$f":"'Horário Geral (Semana 2)'!DX82","v":0},{"$f":"'Horário Geral (Semana 2)'!DY82","v":0},{"$f":"'Horário Geral (Semana 2)'!DZ82","v":1},{"$f":"'Horário Geral (Semana 2)'!EA82","v":0},{"$f":"'Horário Geral (Semana 2)'!EB82","v":0},{"$f":"'Horário Geral (Semana 2)'!EC82","v":1},{"$f":"'Horário Geral (Semana 2)'!ED82","v":0},{"$f":"'Horário Geral (Semana 2)'!EE82","v":0},{"$f":"'Horário Geral (Semana 2)'!EF82","v":1},{"$f":"'Horário Geral (Semana 2)'!EG82","v":0},{"$f":"'Horário Geral (Semana 2)'!EH82","v":1},{"$f":"'Horário Geral (Semana 2)'!EI82","v":0},{"$f":"'Horário Geral (Semana 2)'!EJ82","v":0},{"$f":"'Horário Geral (Semana 2)'!EK82","v":0},{"$f":"'Horário Geral (Semana 2)'!EL82","v":1},{"$f":"'Horário Geral (Semana 2)'!EM82","v":0},{"$f":"'Horário Geral (Semana 2)'!EN82","v":0},{"$f":"'Horário Geral (Semana 2)'!EO82","v":0},{"$f":"'Horário Geral (Semana 2)'!EP82","v":0},{"$f":"'Horário Geral (Semana 2)'!EQ82","v":1},{"$f":"'Horário Geral (Semana 2)'!ER82","v":0},{"$f":"'Horário Geral (Semana 2)'!ES82","v":1},{"$f":"'Horário Geral (Semana 2)'!ET82","v":0},{"$f":"'Horário Geral (Semana 2)'!EU82","v":0},{"$f":"'Horário Geral (Semana 2)'!EV82","v":1},{"$f":"'Horário Geral (Semana 2)'!EW82","v":1}]
[null,"2ª","07:55:00",{"$f":"'Horário Geral (Semana 2)'!DS83","v":1},{"$f":"'Horário Geral (Semana 2)'!DT83","v":0},{"$f":"'Horário Geral (Semana 2)'!DU83","v":1},{"$f":"'Horário Geral (Semana 2)'!DV83","v":1},{"$f":"'Horário Geral (Semana 2)'!DW83","v":0},{"$f":"'Horário Geral (Semana 2)'!DX83","v":0},{"$f":"'Horário Geral (Semana 2)'!DY83","v":0},{"$f":"'Horário Geral (Semana 2)'!DZ83","v":1},{"$f":"'Horário Geral (Semana 2)'!EA83","v":0},{"$f":"'Horário Geral (Semana 2)'!EB83","v":0},{"$f":"'Horário Geral (Semana 2)'!EC83","v":1},{"$f":"'Horário Geral (Semana 2)'!ED83","v":0},{"$f":"'Horário Geral (Semana 2)'!EE83","v":0},{"$f":"'Horário Geral (Semana 2)'!EF83","v":1},{"$f":"'Horário Geral (Semana 2)'!EG83","v":1},{"$f":"'Horário Geral (Semana 2)'!EH83","v":1},{"$f":"'Horário Geral (Semana 2)'!EI83","v":0},{"$f":"'Horário Geral (Semana 2)'!EJ83","v":0},{"$f":"'Horário Geral (Semana 2)'!EK83","v":0},{"$f":"'Horário Geral (Semana 2)'!EL83","v":1},{"$f":"'Horário Geral (Semana 2)'!EM83","v":0},{"$f":"'Horário Geral (Semana 2)'!EN83","v":0},{"$f":"'Horário Geral (Semana 2)'!EO83","v":0},{"$f":"'Horário Geral (Semana 2)'!EP83","v":0},{"$f":"'Horário Geral (Semana 2)'!EQ83","v":1},{"$f":"'Horário Geral (Semana 2)'!ER83","v":0},{"$f":"'Horário Geral (Semana 2)'!ES83","v":1},{"$f":"'Horário Geral (Semana 2)'!ET83","v":0},{"$f":"'Horário Geral (Semana 2)'!EU83","v":0},{"$f":"'Horário Geral (Semana 2)'!EV83","v":1},{"$f":"'Horário Geral (Semana 2)'!EW83","v":1}]
[null,"3ª","08:40:00",{"$f":"'Horário Geral (Semana 2)'!DS84","v":1},{"$f":"'Horário Geral (Semana 2)'!DT84","v":0},{"$f":"'Horário Geral (Semana 2)'!DU84","v":1},{"$f":"'Horário Geral (Semana 2)'!DV84","v":0},{"$f":"'Horário Geral (Semana 2)'!DW84","v":0},{"$f":"'Horário Geral (Semana 2)'!DX84","v":0},{"$f":"'Horário Geral (Semana 2)'!DY84","v":0},{"$f":"'Horário Geral (Semana 2)'!DZ84","v":0},{"$f":"'Horário Geral (Semana 2)'!EA84","v":0},{"$f":"'Horário Geral (Semana 2)'!EB84","v":0},{"$f":"'Horário Geral (Semana 2)'!EC84","v":1},{"$f":"'Horário Geral (Semana 2)'!ED84","v":0},{"$f":"'Horário Geral (Semana 2)'!EE84","v":1},{"$f":"'Horário Geral (Semana 2)'!EF84","v":0},{"$f":"'Horário Geral (Semana 2)'!EG84","v":1},{"$f":"'Horário Geral (Semana 2)'!EH84","v":0},{"$f":"'Horário Geral (Semana 2)'!EI84","v":1},{"$f":"'Horário Geral (Semana 2)'!EJ84","v":1},{"$f":"'Horário Geral (Semana 2)'!EK84","v":0},{"$f":"'Horário Geral (Semana 2)'!EL84","v":1},{"$f":"'Horário Geral (Semana 2)'!EM84","v":0},{"$f":"'Horário Geral (Semana 2)'!EN84","v":0},{"$f":"'Horário Geral (Semana 2)'!EO84","v":0},{"$f":"'Horário Geral (Semana 2)'!EP84","v":0},{"$f":"'Horário Geral (Semana 2)'!EQ84","v":0},{"$f":"'Horário Geral (Semana 2)'!ER84","v":1},{"$f":"'Horário Geral (Semana 2)'!ES84","v":1},{"$f":"'Horário Geral (Semana 2)'!ET84","v":0},{"$f":"'Horário Geral (Semana 2)'!EU84","v":0},{"$f":"'Horário Geral (Semana 2)'!EV84","v":1},{"$f":"'Horário Geral (Semana 2)'!EW84","v":1}]
[null,"4ª","09:40:00",{"$f":"'Horário Geral (Semana 2)'!DS85","v":1},{"$f":"'Horário Geral (Semana 2)'!DT85","v":0},{"$f":"'Horário Geral (Semana 2)'!DU85","v":0},{"$f":"'Horário Geral (Semana 2)'!DV85","v":0},{"$f":"'Horário Geral (Semana 2)'!DW85","v":1},{"$f":"'Horário Geral (Semana 2)'!DX85","v":0},{"$f":"'Horário Geral (Semana 2)'!DY85","v":0},{"$f":"'Horário Geral (Semana 2)'!DZ85","v":0},{"$f":"'Horário Geral (Semana 2)'!EA85","v":0},{"$f":"'Horário Geral (Semana 2)'!EB85","v":0},{"$f":"'Horário Geral (Semana 2)'!EC85","v":1},{"$f":"'Horário Geral (Semana 2)'!ED85","v":0},{"$f":"'Horário Geral (Semana 2)'!EE85","v":1},{"$f":"'Horário Geral (Semana 2)'!EF85","v":0},{"$f":"'Horário Geral (Semana 2)'!EG85","v":1},{"$f":"'Horário Geral (Semana 2)'!EH85","v":0},{"$f":"'Horário Geral (Semana 2)'!EI85","v":1},{"$f":"'Horário Geral (Semana 2)'!EJ85","v":1},{"$f":"'Horário Geral (Semana 2)'!EK85","v":0},{"$f":"'Horário Geral (Semana 2)'!EL85","v":1},{"$f":"'Horário Geral (Semana 2)'!EM85","v":0},{"$f":"'Horário Geral (Semana 2)'!EN85","v":0},{"$f":"'Horário Geral (Semana 2)'!EO85","v":0},{"$f":"'Horário Geral (Semana 2)'!EP85","v":0},{"$f":"'Horário Geral (Semana 2)'!EQ85","v":0},{"$f":"'Horário Geral (Semana 2)'!ER85","v":1},{"$f":"'Horário Geral (Semana 2)'!ES85","v":1},{"$f":"'Horário Geral (Semana 2)'!ET85","v":0},{"$f":"'Horário Geral (Semana 2)'!EU85","v":0},{"$f":"'Horário Geral (Semana 2)'!EV85","v":1},{"$f":"'Horário Geral (Semana 2)'!EW85","v":1}]
[null,"5ª","10:25:00",{"$f":"'Horário Geral (Semana 2)'!DS86","v":1},{"$f":"'Horário Geral (Semana 2)'!DT86","v":0},{"$f":"'Horário Geral (Semana 2)'!DU86","v":0},{"$f":"'Horário Geral (Semana 2)'!DV86","v":1},{"$f":"'Horário Geral (Semana 2)'!DW86","v":0},{"$f":"'Horário Geral (Semana 2)'!DX86","v":1},{"$f":"'Horário Geral (Semana 2)'!DY86","v":0},{"$f":"'Horário Geral (Semana 2)'!DZ86","v":1},{"$f":"'Horário Geral (Semana 2)'!EA86","v":0},{"$f":"'Horário Geral (Semana 2)'!EB86","v":0},{"$f":"'Horário Geral (Semana 2)'!EC86","v":1},{"$f":"'Horário Geral (Semana 2)'!ED86","v":0},{"$f":"'Horário Geral (Semana 2)'!EE86","v":0},{"$f":"'Horário Geral (Semana 2)'!EF86","v":1},{"$f":"'Horário Geral (Semana 2)'!EG86","v":1},{"$f":"'Horário Geral (Semana 2)'!EH86","v":0},{"$f":"'Horário Geral (Semana 2)'!EI86","v":1},{"$f":"'Horário Geral (Semana 2)'!EJ86","v":1},{"$f":"'Horário Geral (Semana 2)'!EK86","v":0},{"$f":"'Horário Geral (Semana 2)'!EL86","v":0},{"$f":"'Horário Geral (Semana 2)'!EM86","v":0},{"$f":"'Horário Geral (Semana 2)'!EN86","v":0},{"$f":"'Horário Geral (Semana 2)'!EO86","v":0},{"$f":"'Horário Geral (Semana 2)'!EP86","v":0},{"$f":"'Horário Geral (Semana 2)'!EQ86","v":0},{"$f":"'Horário Geral (Semana 2)'!ER86","v":1},{"$f":"'Horário Geral (Semana 2)'!ES86","v":1},{"$f":"'Horário Geral (Semana 2)'!ET86","v":0},{"$f":"'Horário Geral (Semana 2)'!EU86","v":0},{"$f":"'Horário Geral (Semana 2)'!EV86","v":1},{"$f":"'Horário Geral (Semana 2)'!EW86","v":1}]
[null,"6ª","11:10:00",{"$f":"'Horário Geral (Semana 2)'!DS87","v":1},{"$f":"'Horário Geral (Semana 2)'!DT87","v":0},{"$f":"'Horário Geral (Semana 2)'!DU87","v":1},{"$f":"'Horário Geral (Semana 2)'!DV87","v":1},{"$f":"'Horário Geral (Semana 2)'!DW87","v":0},{"$f":"'Horário Geral (Semana 2)'!DX87","v":1},{"$f":"'Horário Geral (Semana 2)'!DY87","v":0},{"$f":"'Horário Geral (Semana 2)'!DZ87","v":1},{"$f":"'Horário Geral (Semana 2)'!EA87","v":0},{"$f":"'Horário Geral (Semana 2)'!EB87","v":0},{"$f":"'Horário Geral (Semana 2)'!EC87","v":1},{"$f":"'Horário Geral (Semana 2)'!ED87","v":0},{"$f":"'Horário Geral (Semana 2)'!EE87","v":0},{"$f":"'Horário Geral (Semana 2)'!EF87","v":1},{"$f":"'Horário Geral (Semana 2)'!EG87","v":0},{"$f":"'Horário Geral (Semana 2)'!EH87","v":0},{"$f":"'Horário Geral (Semana 2)'!EI87","v":1},{"$f":"'Horário Geral (Semana 2)'!EJ87","v":1},{"$f":"'Horário Geral (Semana 2)'!EK87","v":0},{"$f":"'Horário Geral (Semana 2)'!EL87","v":0},{"$f":"'Horário Geral (Semana 2)'!EM87","v":0},{"$f":"'Horário Geral (Semana 2)'!EN87","v":0},{"$f":"'Horário Geral (Semana 2)'!EO87","v":0},{"$f":"'Horário Geral (Semana 2)'!EP87","v":0},{"$f":"'Horário Geral (Semana 2)'!EQ87","v":0},{"$f":"'Horário Geral (Semana 2)'!ER87","v":1},{"$f":"'Horário Geral (Semana 2)'!ES87","v":1},{"$f":"'Horário Geral (Semana 2)'!ET87","v":0},{"$f":"'Horário Geral (Semana 2)'!EU87","v":0},{"$f":"'Horário Geral (Semana 2)'!EV87","v":1},{"$f":"'Horário Geral (Semana 2)'!EW87","v":1}]
[null,null,null,{"$f":"'Horário Geral (Semana 2)'!#REF!","v":{"$error":"#REF!"}},{"$f":"'Horário Geral (Semana 2)'!#REF!","v":{"$error":"#REF!"}},{"$f":"'Horário Geral (Semana 2)'!#REF!","v":{"$error":"#REF!"}},{"$f":"'Horário Geral (Semana 2)'!#REF!","v":{"$error":"#REF!"}},{"$f":"'Horário Geral (Semana 2)'!#REF!","v":{"$error":"#REF!"}},{"$f":"'Horário Geral (Semana 2)'!#REF!","v":{"$error":"#REF!"}},{"$f":"'Horário Geral (Semana 2)'!#REF!","v":{"$error":"#REF!"}},{"$f":"'Horário Geral (Semana 2)'!#REF!","v":{"$error":"#REF!"}},{"$f":"'Horário Geral (Semana 2)'!#REF!","v":{"$error":"#REF!"}},{"$f":"'Horário Geral (Semana 2)'!#REF!","v":{"$error":"#REF!"}},{"$f":"'Horário Geral (Semana 2)'!#REF!","v":{"$error":"#REF!"}},{"$f":"'Horário Geral (Semana 2)'!#REF!","v":{"$error":"#REF!"}},{"$f":"'Horário Geral (Semana 2)'!#REF!","v":{"$error":"#REF!"}},{"$f":"'Horário Geral (Semana 2)'!#REF!","v":{"$error":"#REF!"}},{"$f":"'Horário Geral (Semana 2)'!#REF!","v":{"$error":"#REF!"}},{"$f":"'Horário Geral (Semana 2)'!#REF!","v":{"$error":"#REF!"}},{"$f":"'Horário Geral (Semana 2)'!#REF!","v":{"$error":"#REF!"}},{"$f":"'Horário Geral (Semana 2)'!#REF!","v":{"$error":"#REF!"}},{"$f":"'Horário Geral (Semana 2)'!#REF!","v":{"$error":"#REF!"}},{"$f":"'Horário Geral (Semana 2)'!#REF!","v":{"$error":"#REF!"}},{"$f":"'Horário Geral (Semana 2)'!#REF!","v":{"$error":"#REF!"}},{"$f":"'Horário Geral (Semana 2)'!#REF!","v":{"$error":"#REF!"}},{"$f":"'Horário Geral (Semana 2)'!#REF!","v":{"$error":"#REF!"}},{"$f":"'Horário Geral (Semana 2)'!#REF!","v":{"$error":"#REF!"}},{"$f":"'Horário Geral (Semana 2)'!#REF!","v":{"$error":"#REF!"}},{"$f":"'Horário Geral (Semana 2)'!#REF!","v":{"$error":"#REF!"}},{"$f":"'Horário Geral (Semana 2)'!#REF!","v":{"$error":"#REF!"}},{"$f":"'Horário Geral (Semana 2)'!#REF!","v":{"$error":"#REF!"}},{"$f":"'Horário Geral (Semana 2)'!#REF!","v":{"$error":"#REF!"}},{"$f":"'Horário Geral (Semana 2)'!#REF!","v":{"$error":"#REF!"}},{"$f":"'Horário Geral (Semana 2)'!#REF!","v":{"$error":"#REF!"}}]
[]
[]
["TARDE"]
[]
[null,"Aula","Horário",{"$f":"'Horário Geral (Semana 2)'!#REF!","v":{"$error":"#REF!"}},{"$f":"'Horário Geral (Semana 2)'!#REF!","v":{"$error":"#REF!"}},{"$f":"'Horário Geral (Semana 2)'!#REF!","v":{"$error":"#REF!"}},{"$f":"'Horário Geral (Semana 2)'!#REF!","v":{"$error":"#REF!"}},{"$f":"'Horário Geral (Semana 2)'!#REF!","v":{"$error":"#REF!"}},{"$f":"'Horário Geral (Semana 2)'!#REF!","v":{"$error":"#REF!"}},{"$f":"'Horário Geral (Semana 2)'!#REF!","v":{"$error":"#REF!"}},{"$f":"'Horário Geral (Semana 2)'!#REF!","v":{"$error":"#REF!"}},{"$f":"'Horário Geral (Semana 2)'!#REF!","v":{"$error":"#REF!"}},{"$f":"'Horário Geral (Semana 2)'!#REF!","v":{"$error":"#REF!"}},{"$f":"'Horário Geral (Semana 2)'!#REF!","v":{"$error":"#REF!"}},{"$f":"'Horário Geral (Semana 2)'!#REF!","v":{"$error":"#REF!"}},{"$f":"'Horário Geral (Semana 2)'!#REF!","v":{"$error":"#REF!"}},{"$f":"'Horário Geral (Semana 2)'!#REF!","v":{"$error":"#REF!"}},{"$f":"'Horário Geral (Semana 2)'!#REF!","v":{"$error":"#REF!"}},{"$f":"'Horário Geral (Semana 2)'!#REF!","v":{"$error":"#REF!"}},{"$f":"'Horário Geral (Semana 2)'!#REF!","v":{"$error":"#REF!"}},{"$f":"'Horário Geral (Semana 2)'!#REF!","v":{"$error":"#REF!"}},{"$f":"'Horário Geral (Semana 2)'!#REF!","v":{"$error":"#REF!"}},{"$f":"'Horário Geral (Semana 2)'!#REF!","v":{"$error":"#REF!"}},{"$f":"'Horário Geral (Semana 2)'!#REF!","v":{"$error":"#REF!"}},{"$f":"'Horário Geral (Semana 2)'!#REF!","v":{"$error":"#REF!"}},{"$f":"'Horário Geral (Semana 2)'!#REF!","v":{"$error":"#REF!"}},{"$f":"'Horário Geral (Semana 2)'!#REF!","v":{"$error":"#REF!"}},{"$f":"'Horário Geral (Semana 2)'!#REF!","v":{"$error":"#REF!"}},{"$f":"'Horário Geral (Semana 2)'!#REF!","v":{"$error":"#REF!"}},{"$f":"'Horário Geral (Semana 2)'!#REF!","v":{"$error":"#REF!"}},{"$f":"'Horário Geral (Semana 2)'!#REF!","v":{"$error":"#REF!"}},{"$f":"'Horário Geral (Semana 2)'!#REF!","v":{"$error":"#REF!"}},{"$f":"'Horário Geral (Semana 2)'!#REF!","v":{"$error":"#REF!"}},{"$f":"'Horário Geral (Semana 2)'!#REF!","v":{"$error":"#REF!"}}]
["SEG","1ª","13:30:00",{"$f":"'Horário Geral (Semana 2)'!#REF!","v":{"$error":"#REF!"}},{"$f":"'Horário Geral (Semana 2)'!#REF!","v":{"$error":"#REF!"}},{"$f":"'Horário Geral (Semana 2)'!#REF!","v":{"$error":"#REF!"}},{"$f":"'Horário Geral (Semana 2)'!#REF!","v":{"$error":"#REF!"}},{"$f":"'Horário Geral (Semana 2)'!#REF!","v":{"$error":"#REF!"}},{"$f":"'Horário Geral (Semana 2)'!#REF!","v":{"$error":"#REF!"}},{"$f":"'Horário Geral (Semana 2)'!#REF!","v":{"$error":"#REF!"}},{"$f":"'Horário Geral (Semana 2)'!#REF!","v":{"$error":"#REF!"}},{"$f":"'Horário Geral (Semana 2)'!#REF!","v":{"$error":"#REF!"}},{"$f":"'Horário Geral (Semana 2)'!#REF!","v":{"$error":"#REF!"}},{"$f":"'Horário Geral (Semana 2)'!#REF!","v":{"$error":"#REF!"}},{"$f":"'Horário Geral (Semana 2)'!#REF!","v":{"$error":"#REF!"}},{"$f":"'Horário Geral (Semana 2)'!#REF!","v":{"$error":"#REF!"}},{"$f":"'Horário Geral (Semana 2)'!#REF!","v":{"$error":"#REF!"}},{"$f":"'Horário Geral (Semana 2)'!#REF!","v":{"$error":"#REF!"}},{"$f":"'Horário Geral (Semana 2)'!#REF!","v":{"$error":"#REF!"}},{"$f":"'Horário Geral (Semana 2)'!#REF!","v":{"$error":"#REF!"}},{"$f":"'Horário Geral (Semana 2)'!#REF!","v":{"$error":"#REF!"}},{"$f":"'Horário Geral (Semana 2)'!#REF!","v":{"$error":"#REF!"}},{"$f":"'Horário Geral (Semana 2)'!#REF!","v":{"$error":"#REF!"}},{"$f":"'Horário Geral (Semana 2)'!#REF!","v":{"$error":"#REF!"}},{"$f":"'Horário Geral (Semana 2)'!#REF!","v":{"$error":"#REF!"}},{"$f":"'Horário Geral (Semana 2)'!#REF!","v":{"$error":"#REF!"}},{"$f":"'Horário Geral (Semana 2)'!#REF!","v":{"$error":"#REF!"}},{"$f":"'Horário Geral (Semana 2)'!#REF!","v":{"$error":"#REF!"}},{"$f":"'Horário Geral (Semana 2)'!#REF!","v":{"$error":"#REF!"}},{"$f":"'Horário Geral (Semana 2)'!#REF!","v":{"$error":"#REF!"}},{"$f":"'Horário Geral (Semana 2)'!#REF!","v":{"$error":"#REF!"}},{"$f":"'Horário Geral (Semana 2)'!#REF!","v":{"$error":"#REF!"}},{"$f":"'Horário Geral (Semana 2)'!#REF!","v":{"$error":"#REF!"}},{"$f":"'Horário Geral (Semana 2)'!#REF!","v":{"$error":"#REF!"}}]
[null,"2ª","14:15:00",{"$f":"'Horário Geral (Semana 2)'!#REF!","v":{"$error":"#REF!"}},{"$f":"'Horário Geral (Semana 2)'!#REF!","v":{"$error":"#REF!"}},{"$f":"'Horário Geral (Semana 2)'!#REF!","v":{"$error":"#REF!"}},{"$f":"'Horário Geral (Semana 2)'!#REF!","v":{"$error":"#REF!"}},{"$f":"'Horário Geral (Semana 2)'!#REF!","v":{"$error":"#REF!"}},{"$f":"'Horário Geral (Semana 2)'!#REF!","v":{"$error":"#REF!"}},{"$f":"'Horário Geral (Semana 2)'!#REF!","v":{"$error":"#REF!"}},{"$f":"'Horário Geral (Semana 2)'!#REF!","v":{"$error":"#REF!"}},{"$f":"'Horário Geral (Semana 2)'!#REF!","v":{"$error":"#REF!"}},{"$f":"'Horário Geral (Semana 2)'!#REF!","v":{"$error":"#REF!"}},{"$f":"'Horário Geral (Semana 2)'!#REF!","v":{"$error":"#REF!"}},{"$f":"'Horário Geral (Semana 2)'!#REF!","v":{"$error":"#REF!"}},{"$f":"'Horário Geral (Semana 2)'!#REF!","v":{"$error":"#REF!"}},{"$f":"'Horário Geral (Semana 2)'!#REF!","v":{"$error":"#REF!"}},{"$f":"'Horário Geral (Semana 2)'!#REF!","v":{"$error":"#REF!"}},{"$f":"'Horário Geral (Semana 2)'!#REF!","v":{"$error":"#REF!"}},{"$f":"'Horário Geral (Semana 2)'!#REF!","v":{"$error":"#REF!"}},{"$f":"'Horário Geral (Semana 2)'!#REF!","v":{"$error":"#REF!"}},{"$f":"'Horário Geral (Semana 2)'!#REF!","v":{"$error":"#REF!"}},{"$f":"'Horário Geral (Semana 2)'!#REF!","v":{"$error":"#REF!"}},{"$f":"'Horário Geral (Semana 2)'!#REF!","v":{"$error":"#REF!"}},{"$f":"'Horário Geral (Semana 2)'!#REF!","v":{"$error":"#REF!"}},{"$f":"'Horário Geral (Semana 2)'!#REF!","v":{"$error":"#REF!"}},{"$f":"'Horário Geral (Semana 2)'!#REF!","v":{"$error":"#REF!"}},{"$f":"'Horário Geral (Semana 2)'!#REF!","v":{"$error":"#REF!"}},{"$f":"'Horário Geral (Semana 2)'!#REF!","v":{"$error":"#REF!"}},{"$f":"'Horário Geral (Semana 2)'!#REF!","v":{"$error":"#REF!"}},{"$f":"'Horário Geral (Semana 2)'!#REF!","v":{"$error":"#REF!"}},{"$f":"'Horário Geral (Semana 2)'!#REF!","v":{"$error":"#REF!"}},{"$f":"'Horário Geral (Semana 2)'!#REF!","v":{"$error":"#REF!"}},{"$f":"'Horário Geral (Semana 2)'!#REF!","v":{"$error":"#REF!"}}]
[null,"3ª","15:00:00",{"$f":"'Horário Geral (Semana 2)'!#REF!","v":{"$error":"#REF!"}},{"$f":"'Horário Geral (Semana 2)'!#REF!","v":{"$error":"#REF!"}},{"$f":"'Horário Geral (Semana 2)'!#REF!","v":{"$error":"#REF!"}},{"$f":"'Horário Geral (Semana 2)'!#REF!","v":{"$error":"#REF!"}},{"$f":"'Horário Geral (Semana 2)'!#REF!","v":{"$error":"#REF!"}},{"$f":"'Horário Geral (Semana 2)'!#REF!","v":{"$error":"#REF!"}},{"$f":"'Horário Geral (Semana 2)'!#REF!","v":{"$error":"#REF!"}},{"$f":"'Horário Geral (Semana 2)'!#REF!","v":{"$error":"#REF!"}},{"$f":"'Horário Geral (Semana 2)'!#REF!","v":{"$error":"#REF!"}},{"$f":"'Horário Geral (Semana 2)'!#REF!","v":{"$error":"#REF!"}},{"$f":"'Horário Geral (Semana 2)'!#REF!","v":{"$error":"#REF!"}},{"$f":"'Horário Geral (Semana 2)'!#REF!","v":{"$error":"#REF!"}},{"$f":"'Horário Geral (Semana 2)'!#REF!","v":{"$error":"#REF!"}},{"$f":"'Horário Geral (Semana 2)'!#REF!","v":{"$error":"#REF!"}},{"$f":"'Horário Geral (Semana 2)'!#REF!","v":{"$error":"#REF!"}},{"$f":"'Horário Geral (Semana 2)'!#REF!","v":{"$error":"#REF!"}},{"$f":"'Horário Geral (Semana 2)'!#REF!","v":{"$error":"#REF!"}},{"$f":"'Horário Geral (Semana 2)'!#REF!","v":{"$error":"#REF!"}},{"$f":"'Horário Geral (Semana 2)'!#REF!","v":{"$error":"#REF!"}},{"$f":"'Horário Geral (Semana 2)'!#REF!","v":{"$error":"#REF!"}},{"$f":"'Horário Geral (Semana 2)'!#REF!","v":{"$error":"#REF!"}},{"$f":"'Horário Geral (Semana 2)'!#REF!","v":{"$error":"#REF!"}},{"$f":"'Horário Geral (Semana 2)'!#REF!","v":{"$error":"#REF!"}},{"$f":"'Horário Geral (Semana 2)'!#REF!","v":{"$error":"#REF!"}},{"$f":"'Horário Geral (Semana 2)'!#REF!","v":{"$error":"#REF!"}},{"$f":"'Horário Geral (Semana 2)'!#REF!","v":{"$error":"#REF!"}},{"$f":"'Horário Geral (Semana 2)'!#REF!","v":{"$error":"#REF!"}},{"$f":"'Horário Geral (Semana 2)'!#REF!","v":{"$error":"#REF!"}},{"$f":"'Horário Geral (Semana 2)'!#REF!","v":{"$error":"#REF!"}},{"$f":"'Horário Geral (Semana 2)'!#REF!","v":{"$error":"#REF!"}},{"$f":"'Horário Geral (Semana 2)'!#REF!","v":{"$error":"#REF!"}}]
[null,"4ª","16:00:00",{"$f":"'Horário Geral (Semana 2)'!#REF!","v":{"$error":"#REF!"}},{"$f":"'Horário Geral (Semana 2)'!#REF!","v":{"$error":"#REF!"}},{"$f":"'Horário Geral (Semana 2)'!#REF!","v":{"$error":"#REF!"}},{"$f":"'Horário Geral (Semana 2)'!#REF!","v":{"$error":"#REF!"}},{"$f":"'Horário Geral (Semana 2)'!#REF!","v":{"$error":"#REF!"}},{"$f":"'Horário Geral (Semana 2)'!#REF!","v":{"$error":"#REF!"}},{"$f":"'Horário Geral (Semana 2)'!#REF!","v":{"$error":"#REF!"}},{"$f":"'Horário Geral (Semana 2)'!#REF!","v":{"$error":"#REF!"}},{"$f":"'Horário Geral (Semana 2)'!#REF!","v":{"$error":"#REF!"}},{"$f":"'Horário Geral (Semana 2)'!#REF!","v":{"$error":"#REF!"}},{"$f":"'Horário Geral (Semana 2)'!#REF!","v":{"$error":"#REF!"}},{"$f":"'Horário Geral (Semana 2)'!#REF!","v":{"$error":"#REF!"}},{"$f":"'Horário Geral (Semana 2)'!#REF!","v":{"$error":"#REF!"}},{"$f":"'Horário Geral (Semana 2)'!#REF!","v":{"$error":"#REF!"}},{"$f":"'Horário Geral (Semana 2)'!#REF!","v":{"$error":"#REF!"}},{"$f":"'Horário Geral (Semana 2)'!#REF!","v":{"$error":"#REF!"}},{"$f":"'Horário Geral (Semana 2)'!#REF!","v":{"$error":"#REF!"}},{"$f":"'Horário Geral (Semana 2)'!#REF!","v":{"$error":"#REF!"}},{"$f":"'Horário Geral (Semana 2)'!#REF!","v":{"$error":"#REF!"}},{"$f":"'Horário Geral (Semana 2)'!#REF!","v":{"$error":"#REF!"}},{"$f":"'Horário Geral (Semana 2)'!#REF!","v":{"$error":"#REF!"}},{"$f":"'Horário Geral (Semana 2)'!#REF!","v":{"$error":"#REF!"}},{"$f":"'Horário Geral (Semana 2)'!#REF!","v":{"$error":"#REF!"}},{"$f":"'Horário Geral (Semana 2)'!#REF!","v":{"$error":"#REF!"}},{"$f":"'Horário Geral (Semana 2)'!#REF!","v":{"$error":"#REF!"}},{"$f":"'Horário Geral (Semana 2)'!#REF!","v":{"$error":"#REF!"}},{"$f":"'Horário Geral (Semana 2)'!#REF!","v":{"$error":"#REF!"}},{"$f":"'Horário Geral (Semana 2)'!#REF!","v":{"$error":"#REF!"}},{"$f":"'Horário Geral (Semana 2)'!#REF!","v":{"$error":"#REF!"}},{"$f":"'Horário Geral (Semana 2)'!#REF!","v":{"$error":"#REF!"}},{"$f":"'Horário Geral (Semana 2)'!#REF!","v":{"$error":"#REF!"}}]
[null,"5ª","16:45:00",{"$f":"'Horário Geral (Semana 2)'!#REF!","v":{"$error":"#REF!"}},{"$f":"'Horário Geral (Semana 2)'!#REF!","v":{"$error":"#REF!"}},{"$f":"'Horário Geral (Semana 2)'!#REF!","v":{"$error":"#REF!"}},{"$f":"'Horário Geral (Semana 2)'!#REF!","v":{"$error":"#REF!"}},{"$f":"'Horário Geral (Semana 2)'!#REF!","v":{"$error":"#REF!"}},{"$f":"'Horário Geral (Semana 2)'!#REF!","v":{"$error":"#REF!"}},{"$f":"'Horário Geral (Semana 2)'!#REF!","v":{"$error":"#REF!"}},{"$f":"'Horário Geral (Semana 2)'!#REF!","v":{"$error":"#REF!"}},{"$f":"'Horário Geral (Semana 2)'!#REF!","v":{"$error":"#REF!"}},{"$f":"'Horário Geral (Semana 2)'!#REF!","v":{"$error":"#REF!"}},{"$f":"'Horário Geral (Semana 2)'!#REF!","v":{"$error":"#REF!"}},{"$f":"'Horário Geral (Semana 2)'!#REF!","v":{"$error":"#REF!"}},{"$f":"'Horário Geral (Semana 2)'!#REF!","v":{"$error":"#REF!"}},{"$f":"'Horário Geral (Semana 2)'!#REF!","v":{"$error":"#REF!"}},{"$f":"'Horário Geral (Semana 2)'!#REF!","v":{"$error":"#REF!"}},{"$f":"'Horário Geral (Semana 2)'!#REF!","v":{"$error":"#REF!"}},{"$f":"'Horário Geral (Semana 2)'!#REF!","v":{"$error":"#REF!"}},{"$f":"'Horário Geral (Semana 2)'!#REF!","v":{"$error":"#REF!"}},{"$f":"'Horário Geral (Semana 2)'!#REF!","v":{"$error":"#REF!"}},{"$f":"'Horário Geral (Semana 2)'!#REF!","v":{"$error":"#REF!"}},{"$f":"'Horário Geral (Semana 2)'!#REF!","v":{"$error":"#REF!"}},{"$f":"'Horário Geral (Semana 2)'!#REF!","v":{"$error":"#REF!"}},{"$f":"'Horário Geral (Semana 2)'!#REF!","v":{"$error":"#REF!"}},{"$f":"'Horário Geral (Semana 2)'!#REF!","v":{"$error":"#REF!"}},{"$f":"'Horário Geral (Semana 2)'!#REF!","v":{"$error":"#REF!"}},{"$f":"'Horário Geral (Semana 2)'!#REF!","v":{"$error":"#REF!"}},{"$f":"'Horário Geral (Semana 2)'!#REF!","v":{"$error":"#REF!"}},{"$f":"'Horário Geral (Semana 2)'!#REF!","v":{"$error":"#REF!"}},{"$f":"'Horário Geral (Semana 2)'!#REF!","v":{"$error":"#REF!"}},{"$f":"'Horário Geral (Semana 2)'!#REF!","v":{"$error":"#REF!"}},{"$f":"'Horário Geral (Semana 2)'!#REF!","v":{"$error":"#REF!"}}]
[null,null,null,{"$f":"'Horário Geral (Semana 2)'!#REF!","v":{"$error":"#REF!"}},{"$f":"'Horário Geral (Semana 2)'!#REF!","v":{"$error":"#REF!"}},{"$f":"'Horário Geral (Semana 2)'!#REF!","v":{"$error":"#REF!"}},{"$f":"'Horário Geral (Semana 2)'!#REF!","v":{"$error":"#REF!"}},{"$f":"'Horário Geral (Semana 2)'!#REF!","v":{"$error":"#REF!"}},{"$f":"'Horário Geral (Semana 2)'!#REF!","v":{"$error":"#REF!"}},{"$f":"'Horário Geral (Semana 2)'!#REF!","v":{"$error":"#REF!"}},{"$f":"'Horário Geral (Semana 2)'!#REF!","v":{"$error":"#REF!"}},{"$f":"'Horário Geral (Semana 2)'!#REF!","v":{"$error":"#REF!"}},{"$f":"'Horário Geral (Semana 2)'!#REF!","v":{"$error":"#REF!"}},{"$f":"'Horário Geral (Semana 2)'!#REF!","v":{"$error":"#REF!"}},{"$f":"'Horário Geral (Semana 2)'!#REF!","v":{"$error":"#REF!"}},{"$f":"'Horário Geral (Semana 2)'!#REF!","v":{"$error":"#REF!"}},{"$f":"'Horário Geral (Semana 2)'!#REF!","v":{"$error":"#REF!"}},{"$f":"'Horário Geral (Semana 2)'!#REF!","v":{"$error":"#REF!"}},{"$f":"'Horário Geral (Semana 2)'!#REF!","v":{"$error":"#REF!"}},{"$f":"'Horário Geral (Semana 2)'!#REF!","v":{"$error":"#REF!"}},{"$f":"'Horário Geral (Semana 2)'!#REF!","v":{"$error":"#REF!"}},{"$f":"'Horário Geral (Semana 2)'!#REF!","v":{"$error":"#REF!"}},{"$f":"'Horário Geral (Semana 2)'!#REF!","v":{"$error":"#REF!"}},{"$f":"'Horário Geral (Semana 2)'!#REF!","v":{"$error":"#REF!"}},{"$f":"'Horário Geral (Semana 2)'!#REF!","v":{"$error":"#REF!"}},{"$f":"'Horário Geral (Semana 2)'!#REF!","v":{"$error":"#REF!"}},{"$f":"'Horário Geral (Semana 2)'!#REF!","v":{"$error":"#REF!"}},{"$f":"'Horário Geral (Semana 2)'!#REF!","v":{"$error":"#REF!"}},{"$f":"'Horário Geral (Semana 2)'!#REF!","v":{"$error":"#REF!"}},{"$f":"'Horário Geral (Semana 2)'!#REF!","v":{"$error":"#REF!"}},{"$f":"'Horário Geral (Semana 2)'!#REF!","v":{"$error":"#REF!"}},{"$f":"'Horário Geral (Semana 2)'!#REF!","v":{"$error":"#REF!"}},{"$f":"'Horário Geral (Semana 2)'!#REF!","v":{"$error":"#REF!"}},{"$f":"'Horário Geral (Semana 2)'!#REF!","v":{"$error":"#REF!"}}]
["TER","1ª","13:10:00",{"$f":"'Horário Geral (Semana 2)'!#REF!","v":{"$error":"#REF!"}},{"$f":"'Horário Geral (Semana 2)'!#REF!","v":{"$error":"#REF!"}},{"$f":"'Horário Geral (Semana 2)'!#REF!","v":{"$error":"#REF!"}},{"$f":"'Horário Geral (Semana 2)'!#REF!","v":{"$error":"#REF!"}},{"$f":"'Horário Geral (Semana 2)'!#REF!","v":{"$error":"#REF!"}},{"$f":"'Horário Geral (Semana 2)'!#REF!","v":{"$error":"#REF!"}},{"$f":"'Horário Geral (Semana 2)'!#REF!","v":{"$error":"#REF!"}},{"$f":"'Horário Geral (Semana 2)'!#REF!","v":{"$error":"#REF!"}},{"$f":"'Horário Geral (Semana 2)'!#REF!","v":{"$error":"#REF!"}},{"$f":"'Horário Geral (Semana 2)'!#REF!","v":{"$error":"#REF!"}},{"$f":"'Horário Geral (Semana 2)'!#REF!","v":{"$error":"#REF!"}},{"$f":"'Horário Geral (Semana 2)'!#REF!","v":{"$error":"#REF!"}},{"$f":"'Horário Geral (Semana 2)'!#REF!","v":{"$error":"#REF!"}},{"$f":"'Horário Geral (Semana 2)'!#REF!","v":{"$error":"#REF!"}},{"$f":"'Horário Geral (Semana 2)'!#REF!","v":{"$error":"#REF!"}},{"$f":"'Horário Geral (Semana 2)'!#REF!","v":{"$error":"#REF!"}},{"$f":"'Horário Geral (Semana 2)'!#REF!","v":{"$error":"#REF!"}},{"$f":"'Horário Geral (Semana 2)'!#REF!","v":{"$error":"#REF!"}},{"$f":"'Horário Geral (Semana 2)'!#REF!","v":{"$error":"#REF!"}},{"$f":"'Horário Geral (Semana 2)'!#REF!","v":{"$error":"#REF!"}},{"$f":"'Horário Geral (Semana 2)'!#REF!","v":{"$error":"#REF!"}},{"$f":"'Horário Geral (Semana 2)'!#REF!","v":{"$error":"#REF!"}},{"$f":"'Horário Geral (Semana 2)'!#REF!","v":{"$error":"#REF!"}},{"$f":"'Horário Geral (Semana 2)'!#REF!","v":{"$error":"#REF!"}},{"$f":"'Horário Geral (Semana 2)'!#REF!","v":{"$error":"#REF!"}},{"$f":"'Horário Geral (Semana 2)'!#REF!","v":{"$error":"#REF!"}},{"$f":"'Horário Geral (Semana 2)'!#REF!","v":{"$error":"#REF!"}},{"$f":"'Horário Geral (Semana 2)'!#REF!","v":{"$error":"#REF!"}},{"$f":"'Horário Geral (Semana 2)'!#REF!","v":{"$error":"#REF!"}},{"$f":"'Horário Geral (Semana 2)'!#REF!","v":{"$error":"#REF!"}},{"$f":"'Horário Geral (Semana 2)'!#REF!","v":{"$error":"#REF!"}}]
[null,"2ª","13:55:00",{"$f":"'Horário Geral (Semana 2)'!#REF!","v":{"$error":"#REF!"}},{"$f":"'Horário Geral (Semana 2)'!#REF!","v":{"$error":"#REF!"}},{"$f":"'Horário Geral (Semana 2)'!#REF!","v":{"$error":"#REF!"}},{"$f":"'Horário Geral (Semana 2)'!#REF!","v":{"$error":"#REF!"}},{"$f":"'Horário Geral (Semana 2)'!#REF!","v":{"$error":"#REF!"}},{"$f":"'Horário Geral (Semana 2)'!#REF!","v":{"$error":"#REF!"}},{"$f":"'Horário Geral (Semana 2)'!#REF!","v":{"$error":"#REF!"}},{"$f":"'Horário Geral (Semana 2)'!#REF!","v":{"$error":"#REF!"}},{"$f":"'Horário Geral (Semana 2)'!#REF!","v":{"$error":"#REF!"}},{"$f":"'Horário Geral (Semana 2)'!#REF!","v":{"$error":"#REF!"}},{"$f":"'Horário Geral (Semana 2)'!#REF!","v":{"$error":"#REF!"}},{"$f":"'Horário Geral (Semana 2)'!#REF!","v":{"$error":"#REF!"}},{"$f":"'Horário Geral (Semana 2)'!#REF!","v":{"$error":"#REF!"}},{"$f":"'Horário Geral (Semana 2)'!#REF!","v":{"$error":"#REF!"}},{"$f":"'Horário Geral (Semana 2)'!#REF!","v":{"$error":"#REF!"}},{"$f":"'Horário Geral (Semana 2)'!#REF!","v":{"$error":"#REF!"}},{"$f":"'Horário Geral (Semana 2)'!#REF!","v":{"$error":"#REF!"}},{"$f":"'Horário Geral (Semana 2)'!#REF!","v":{"$error":"#REF!"}},{"$f":"'Horário Geral (Semana 2)'!#REF!","v":{"$error":"#REF!"}},{"$f":"'Horário Geral (Semana 2)'!#REF!","v":{"$error":"#REF!"}},{"$f":"'Horário Geral (Semana 2)'!#REF!","v":{"$error":"#REF!"}},{"$f":"'Horário Geral (Semana 2)'!#REF!","v":{"$error":"#REF!"}},{"$f":"'Horário Geral (Semana 2)'!#REF!","v":{"$error":"#REF!"}},{"$f":"'Horário Geral (Semana 2)'!#REF!","v":{"$error":"#REF!"}},{"$f":"'Horário Geral (Semana 2)'!#REF!","v":{"$error":"#REF!"}},{"$f":"'Horário Geral (Semana 2)'!#REF!","v":{"$error":"#REF!"}},{"$f":"'Horário Geral (Semana 2)'!#REF!","v":{"$error":"#REF!"}},{"$f":"'Horário Geral (Semana 2)'!#REF!","v":{"$error":"#REF!"}},{"$f":"'Horário Geral (Semana 2)'!#REF!","v":{"$error":"#REF!"}},{"$f":"'Horário Geral (Semana 2)'!#REF!","v":{"$error":"#REF!"}},{"$f":"'Horário Geral (Semana 2)'!#REF!","v":{"$error":"#REF!"}}]
[null,"3ª","14:40:00",{"$f":"'Horário Geral (Semana 2)'!#REF!","v":{"$error":"#REF!"}},{"$f":"'Horário Geral (Semana 2)'!#REF!","v":{"$error":"#REF!"}},{"$f":"'Horário Geral (Semana 2)'!#REF!","v":{"$error":"#REF!"}},{"$f":"'Horário Geral (Semana 2)'!#REF!","v":{"$error":"#REF!"}},{"$f":"'Horário Geral (Semana 2)'!#REF!","v":{"$error":"#REF!"}},{"$f":"'Horário Geral (Semana 2)'!#REF!","v":{"$error":"#REF!"}},{"$f":"'Horário Geral (Semana 2)'!#REF!","v":{"$error":"#REF!"}},{"$f":"'Horário Geral (Semana 2)'!#REF!","v":{"$error":"#REF!"}},{"$f":"'Horário Geral (Semana 2)'!#REF!","v":{"$error":"#REF!"}},{"$f":"'Horário Geral (Semana 2)'!#REF!","v":{"$error":"#REF!"}},{"$f":"'Horário Geral (Semana 2)'!#REF!","v":{"$error":"#REF!"}},{"$f":"'Horário Geral (Semana 2)'!#REF!","v":{"$error":"#REF!"}},{"$f":"'Horário Geral (Semana 2)'!#REF!","v":{"$error":"#REF!"}},{"$f":"'Horário Geral (Semana 2)'!#REF!","v":{"$error":"#REF!"}},{"$f":"'Horário Geral (Semana 2)'!#REF!","v":{"$error":"#REF!"}},{"$f":"'Horário Geral (Semana 2)'!#REF!","v":{"$error":"#REF!"}},{"$f":"'Horário Geral (Semana 2)'!#REF!","v":{"$error":"#REF!"}},{"$f":"'Horário Geral (Semana 2)'!#REF!","v":{"$error":"#REF!"}},{"$f":"'Horário Geral (Semana 2)'!#REF!","v":{"$error":"#REF!"}},{"$f":"'Horário Geral (Semana 2)'!#REF!","v":{"$error":"#REF!"}},{"$f":"'Horário Geral (Semana 2)'!#REF!","v":{"$error":"#REF!"}},{"$f":"'Horário Geral (Semana 2)'!#REF!","v":{"$error":"#REF!"}},{"$f":"'Horário Geral (Semana 2)'!#REF!","v":{"$error":"#REF!"}},{"$f":"'Horário Geral (Semana 2)'!#REF!","v":{"$error":"#REF!"}},{"$f":"'Horário Geral (Semana 2)'!#REF!","v":{"$error":"#REF!"}},{"$f":"'Horário Geral (Semana 2)'!#REF!","v":{"$error":"#REF!"}},{"$f":"'Horário Geral (Semana 2)'!#REF!","v":{"$error":"#REF!"}},{"$f":"'Horário Geral (Semana 2)'!#REF!","v":{"$error":"#REF!"}},{"$f":"'Horário Geral (Semana 2)'!#REF!","v":{"$error":"#REF!"}},{"$f":"'Horário Geral (Semana 2)'!#REF!","v":{"$error":"#REF!"}},{"$f":"'Horário Geral (Semana 2)'!#REF!","v":{"$error":"#REF!"}}]
[null,"4ª","15:40:00",{"$f":"'Horário Geral (Semana 2)'!#REF!","v":{"$error":"#REF!"}},{"$f":"'Horário Geral (Semana 2)'!#REF!","v":{"$error":"#REF!"}},{"$f":"'Horário Geral (Semana 2)'!#REF!","v":{"$error":"#REF!"}},{"$f":"'Horário Geral (Semana 2)'!#REF!","v":{"$error":"#REF!"}},{"$f":"'Horário Geral (Semana 2)'!#REF!","v":{"$error":"#REF!"}},{"$f":"'Horário Geral (Semana 2)'!#REF!","v":{"$error":"#REF!"}},{"$f":"'Horário Geral (Semana 2)'!#REF!","v":{"$error":"#REF!"}},{"$f":"'Horário Geral (Semana 2)'!#REF!","v":{"$error":"#REF!"}},{"$f":"'Horário Geral (Semana 2)'!#REF!","v":{"$error":"#REF!"}},{"$f":"'Horário Geral (Semana 2)'!#REF!","v":{"$error":"#REF!"}},{"$f":"'Horário Geral (Semana 2)'!#REF!","v":{"$error":"#REF!"}},{"$f":"'Horário Geral (Semana 2)'!#REF!","v":{"$error":"#REF!"}},{"$f":"'Horário Geral (Semana 2)'!#REF!","v":{"$error":"#REF!"}},{"$f":"'Horário Geral (Semana 2)'!#REF!","v":{"$error":"#REF!"}},{"$f":"'Horário Geral (Semana 2)'!#REF!","v":{"$error":"#REF!"}},{"$f":"'Horário Geral (Semana 2)'!#REF!","v":{"$error":"#REF!"}},{"$f":"'Horário Geral (Semana 2)'!#REF!","v":{"$error":"#REF!"}},{"$f":"'Horário Geral (Semana 2)'!#REF!","v":{"$error":"#REF!"}},{"$f":"'Horário Geral (Semana 2)'!#REF!","v":{"$error":"#REF!"}},{"$f":"'Horário Geral (Semana 2)'!#REF!","v":{"$error":"#REF!"}},{"$f":"'Horário Geral (Semana 2)'!#REF!","v":{"$error":"#REF!"}},{"$f":"'Horário Geral (Semana 2)'!#REF!","v":{"$error":"#REF!"}},{"$f":"'Horário Geral (Semana 2)'!#REF!","v":{"$error":"#REF!"}},{"$f":"'Horário Geral (Semana 2)'!#REF!","v":{"$error":"#REF!"}},{"$f":"'Horário Geral (Semana 2)'!#REF!","v":{"$error":"#REF!"}},{"$f":"'Horário Geral (Semana 2)'!#REF!","v":{"$error":"#REF!"}},{"$f":"'Horário Geral (Semana 2)'!#REF!","v":{"$error":"#REF!"}},{"$f":"'Horário Geral (Semana 2)'!#REF!","v":{"$error":"#REF!"}},{"$f":"'Horário Geral (Semana 2)'!#REF!","v":{"$error":"#REF!"}},{"$f":"'Horário Geral (Semana 2)'!#REF!","v":{"$error":"#REF!"}},{"$f":"'Horário Geral (Semana 2)'!#REF!","v":{"$error":"#REF!"}}]
[null,"5ª","16:25:00",{"$f":"'Horário Geral (Semana 2)'!#REF!","v":{"$error":"#REF!"}},{"$f":"'Horário Geral (Semana 2)'!#REF!","v":{"$error":"#REF!"}},{"$f":"'Horário Geral (Semana 2)'!#REF!","v":{"$error":"#REF!"}},{"$f":"'Horário Geral (Semana 2)'!#REF!","v":{"$error":"#REF!"}},{"$f":"'Horário Geral (Semana 2)'!#REF!","v":{"$error":"#REF!"}},{"$f":"'Horário Geral (Semana 2)'!#REF!","v":{"$error":"#REF!"}},{"$f":"'Horário Geral (Semana 2)'!#REF!","v":{"$error":"#REF!"}},{"$f":"'Horário Geral (Semana 2)'!#REF!","v":{"$error":"#REF!"}},{"$f":"'Horário Geral (Semana 2)'!#REF!","v":{"$error":"#REF!"}},{"$f":"'Horário Geral (Semana 2)'!#REF!","v":{"$error":"#REF!"}},{"$f":"'Horário Geral (Semana 2)'!#REF!","v":{"$error":"#REF!"}},{"$f":"'Horário Geral (Semana 2)'!#REF!","v":{"$error":"#REF!"}},{"$f":"'Horário Geral (Semana 2)'!#REF!","v":{"$error":"#REF!"}},{"$f":"'Horário Geral (Semana 2)'!#REF!","v":{"$error":"#REF!"}},{"$f":"'Horário Geral (Semana 2)'!#REF!","v":{"$error":"#REF!"}},{"$f":"'Horário Geral (Semana 2)'!#REF!","v":{"$error":"#REF!"}},{"$f":"'Horário Geral (Semana 2)'!#REF!","v":{"$error":"#REF!"}},{"$f":"'Horário Geral (Semana 2)'!#REF!","v":{"$error":"#REF!"}},{"$f":"'Horário Geral (Semana 2)'!#REF!","v":{"$error":"#REF!"}},{"$f":"'Horário Geral (Semana 2)'!#REF!","v":{"$error":"#REF!"}},{"$f":"'Horário Geral (Semana 2)'!#REF!","v":{"$error":"#REF!"}},{"$f":"'Horário Geral (Semana 2)'!#REF!","v":{"$error":"#REF!"}},{"$f":"'Horário Geral (Semana 2)'!#REF!","v":{"$error":"#REF!"}},{"$f":"'Horário Geral (Semana 2)'!#REF!","v":{"$error":"#REF!"}},{"$f":"'Horário Geral (Semana 2)'!#REF!","v":{"$error":"#REF!"}},{"$f":"'Horário Geral (Semana 2)'!#REF!","v":{"$error":"#REF!"}},{"$f":"'Horário Geral (Semana 2)'!#REF!","v":{"$error":"#REF!"}},{"$f":"'Horário Geral (Semana 2)'!#REF!","v":{"$error":"#REF!"}},{"$f":"'Horário Geral (Semana 2)'!#REF!","v":{"$error":"#REF!"}},{"$f":"'Horário Geral (Semana 2)'!#REF!","v":{"$error":"#REF!"}},{"$f":"'Horário Geral (Semana 2)'!#REF!","v":{"$error":"#REF!"}}]
[null,"6ª","17:10:00",{"$f":"'Horário Geral (Semana 2)'!#REF!","v":{"$error":"#REF!"}},{"$f":"'Horário Geral (Semana 2)'!#REF!","v":{"$error":"#REF!"}},{"$f":"'Horário Geral (Semana 2)'!#REF!","v":{"$error":"#REF!"}},{"$f":"'Horário Geral (Semana 2)'!#REF!","v":{"$error":"#REF!"}},{"$f":"'Horário Geral (Semana 2)'!#REF!","v":{"$error":"#REF!"}},{"$f":"'Horário Geral (Semana 2)'!#REF!","v":{"$error":"#REF!"}},{"$f":"'Horário Geral (Semana 2)'!#REF!","v":{"$error":"#REF!"}},{"$f":"'Horário Geral (Semana 2)'!#REF!","v":{"$error":"#REF!"}},{"$f":"'Horário Geral (Semana 2)'!#REF!","v":{"$error":"#REF!"}},{"$f":"'Horário Geral (Semana 2)'!#REF!","v":{"$error":"#REF!"}},{"$f":"'Horário Geral (Semana 2)'!#REF!","v":{"$error":"#REF!"}},{"$f":"'Horário Geral (Semana 2)'!#REF!","v":{"$error":"#REF!"}},{"$f":"'Horário Geral (Semana 2)'!#REF!","v":{"$error":"#REF!"}},{"$f":"'Horário Geral (Semana 2)'!#REF!","v":{"$error":"#REF!"}},{"$f":"'Horário Geral (Semana 2)'!#REF!","v":{"$error":"#REF!"}},{"$f":"'Horário Geral (Semana 2)'!#REF!","v":{"$error":"#REF!"}},{"$f":"'Horário Geral (Semana 2)'!#REF!","v":{"$error":"#REF!"}},{"$f":"'Horário Geral (Semana 2)'!#REF!","v":{"$error":"#REF!"}},{"$f":"'Horário Geral (Semana 2)'!#REF!","v":{"$error":"#REF!"}},{"$f":"'Horário Geral (Semana 2)'!#REF!","v":{"$error":"#REF!"}},{"$f":"'Horário Geral (Semana 2)'!#REF!","v":{"$error":"#REF!"}},{"$f":"'Horário Geral (Semana 2)'!#REF!","v":{"$error":"#REF!"}},{"$f":"'Horário Geral (Semana 2)'!#REF!","v":{"$error":"#REF!"}},{"$f":"'Horário Geral (Semana 2)'!#REF!","v":{"$error":"#REF!"}},{"$f":"'Horário Geral (Semana 2)'!#REF!","v":{"$error":"#REF!"}},{"$f":"'Horário Geral (Semana 2)'!#REF!","v":{"$error":"#REF!"}},{"$f":"'Horário Geral (Semana 2)'!#REF!","v":{"$error":"#REF!"}},{"$f":"'Horário Geral (Semana 2)'!#REF!","v":{"$error":"#REF!"}},{"$f":"'Horário Geral (Semana 2)'!#REF!","v":{"$error":"#REF!"}},{"$f":"'Horário Geral (Semana 2)'!#REF!","v":{"$error":"#REF!"}},{"$f":"'Horário Geral (Semana 2)'!#REF!","v":{"$error":"#REF!"}}]
[null,null,null,{"$f":"'Horário Geral (Semana 2)'!#REF!","v":{"$error":"#REF!"}},{"$f":"'Horário Geral (Semana 2)'!#REF!","v":{"$error":"#REF!"}},{"$f":"'Horário Geral (Semana 2)'!#REF!","v":{"$error":"#REF!"}},{"$f":"'Horário Geral (Semana 2)'!#REF!","v":{"$error":"#REF!"}},{"$f":"'Horário Geral (Semana 2)'!#REF!","v":{"$error":"#REF!"}},{"$f":"'Horário Geral (Semana 2)'!#REF!","v":{"$error":"#REF!"}},{"$f":"'Horário Geral (Semana 2)'!#REF!","v":{"$error":"#REF!"}},{"$f":"'Horário Geral (Semana 2)'!#REF!","v":{"$error":"#REF!"}},{"$f":"'Horário Geral (Semana 2)'!#REF!","v":{"$error":"#REF!"}},{"$f":"'Horário Geral (Semana 2)'!#REF!","v":{"$error":"#REF!"}},{"$f":"'Horário Geral (Semana 2)'!#REF!","v":{"$error":"#REF!"}},{"$f":"'Horário Geral (Semana 2)'!#REF!","v":{"$error":"#REF!"}},{"$f":"'Horário Geral (Semana 2)'!#REF!","v":{"$error":"#REF!"}},{"$f":"'Horário Geral (Semana 2)'!#REF!","v":{"$error":"#REF!"}},{"$f":"'Horário Geral (Semana 2)'!#REF!","v":{"$error":"#REF!"}},{"$f":"'Horário Geral (Semana 2)'!#REF!","v":{"$error":"#REF!"}},{"$f":"'Horário Geral (Semana 2)'!#REF!","v":{"$error":"#REF!"}},{"$f":"'Horário Geral (Semana 2)'!#REF!","v":{"$error":"#REF!"}},{"$f":"'Horário Geral (Semana 2)'!#REF!","v":{"$error":"#REF!"}},{"$f":"'Horário Geral (Semana 2)'!#REF!","v":{"$error":"#REF!"}},{"$f":"'Horário Geral (Semana 2)'!#REF!","v":{"$error":"#REF!"}},{"$f":"'Horário Geral (Semana 2)'!#REF!","v":{"$error":"#REF!"}},{"$f":"'Horário Geral (Semana 2)'!#REF!","v":{"$error":"#REF!"}},{"$f":"'Horário Geral (Semana 2)'!#REF!","v":{"$error":"#REF!"}},{"$f":"'Horário Geral (Semana 2)'!#REF!","v":{"$error":"#REF!"}},{"$f":"'Horário Geral (Semana 2)'!#REF!","v":{"$error":"#REF!"}},{"$f":"'Horário Geral (Semana 2)'!#REF!","v":{"$error":"#REF!"}},{"$f":"'Horário Geral (Semana 2)'!#REF!","v":{"$error":"#REF!"}},{"$f":"'Horário Geral (Semana 2)'!#REF!","v":{"$error":"#REF!"}},{"$f":"'Horário Geral (Semana 2)'!#REF!","v":{"$error":"#REF!"}},{"$f":"'Horário Geral (Semana 2)'!#REF!","v":{"$error":"#REF!"}}]
["QUA","1ª","13:10:00",{"$f":"'Horário Geral (Semana 2)'!#REF!","v":{"$error":"#REF!"}},{"$f":"'Horário Geral (Semana 2)'!#REF!","v":{"$error":"#REF!"}},{"$f":"'Horário Geral (Semana 2)'!#REF!","v":{"$error":"#REF!"}},{"$f":"'Horário Geral (Semana 2)'!#REF!","v":{"$error":"#REF!"}},{"$f":"'Horário Geral (Semana 2)'!#REF!","v":{"$error":"#REF!"}},{"$f":"'Horário Geral (Semana 2)'!#REF!","v":{"$error":"#REF!"}},{"$f":"'Horário Geral (Semana 2)'!#REF!","v":{"$error":"#REF!"}},{"$f":"'Horário Geral (Semana 2)'!#REF!","v":{"$error":"#REF!"}},{"$f":"'Horário Geral (Semana 2)'!#REF!","v":{"$error":"#REF!"}},{"$f":"'Horário Geral (Semana 2)'!#REF!","v":{"$error":"#REF!"}},{"$f":"'Horário Geral (Semana 2)'!#REF!","v":{"$error":"#REF!"}},{"$f":"'Horário Geral (Semana 2)'!#REF!","v":{"$error":"#REF!"}},{"$f":"'Horário Geral (Semana 2)'!#REF!","v":{"$error":"#REF!"}},{"$f":"'Horário Geral (Semana 2)'!#REF!","v":{"$error":"#REF!"}},{"$f":"'Horário Geral (Semana 2)'!#REF!","v":{"$error":"#REF!"}},{"$f":"'Horário Geral (Semana 2)'!#REF!","v":{"$error":"#REF!"}},{"$f":"'Horário Geral (Semana 2)'!#REF!","v":{"$error":"#REF!"}},{"$f":"'Horário Geral (Semana 2)'!#REF!","v":{"$error":"#REF!"}},{"$f":"'Horário Geral (Semana 2)'!#REF!","v":{"$error":"#REF!"}},{"$f":"'Horário Geral (Semana 2)'!#REF!","v":{"$error":"#REF!"}},{"$f":"'Horário Geral (Semana 2)'!#REF!","v":{"$error":"#REF!"}},{"$f":"'Horário Geral (Semana 2)'!#REF!","v":{"$error":"#REF!"}},{"$f":"'Horário Geral (Semana 2)'!#REF!","v":{"$error":"#REF!"}},{"$f":"'Horário Geral (Semana 2)'!#REF!","v":{"$error":"#REF!"}},{"$f":"'Horário Geral (Semana 2)'!#REF!","v":{"$error":"#REF!"}},{"$f":"'Horário Geral (Semana 2)'!#REF!","v":{"$error":"#REF!"}},{"$f":"'Horário Geral (Semana 2)'!#REF!","v":{"$error":"#REF!"}},{"$f":"'Horário Geral (Semana 2)'!#REF!","v":{"$error":"#REF!"}},{"$f":"'Horário Geral (Semana 2)'!#REF!","v":{"$error":"#REF!"}},{"$f":"'Horário Geral (Semana 2)'!#REF!","v":{"$error":"#REF!"}},{"$f":"'Horário Geral (Semana 2)'!#REF!","v":{"$error":"#REF!"}}]
[null,"2ª","14:00:00",{"$f":"'Horário Geral (Semana 2)'!#REF!","v":{"$error":"#REF!"}},{"$f":"'Horário Geral (Semana 2)'!#REF!","v":{"$error":"#REF!"}},{"$f":"'Horário Geral (Semana 2)'!#REF!","v":{"$error":"#REF!"}},{"$f":"'Horário Geral (Semana 2)'!#REF!","v":{"$error":"#REF!"}},{"$f":"'Horário Geral (Semana 2)'!#REF!","v":{"$error":"#REF!"}},{"$f":"'Horário Geral (Semana 2)'!#REF!","v":{"$error":"#REF!"}},{"$f":"'Horário Geral (Semana 2)'!#REF!","v":{"$error":"#REF!"}},{"$f":"'Horário Geral (Semana 2)'!#REF!","v":{"$error":"#REF!"}},{"$f":"'Horário Geral (Semana 2)'!#REF!","v":{"$error":"#REF!"}},{"$f":"'Horário Geral (Semana 2)'!#REF!","v":{"$error":"#REF!"}},{"$f":"'Horário Geral (Semana 2)'!#REF!","v":{"$error":"#REF!"}},{"$f":"'Horário Geral (Semana 2)'!#REF!","v":{"$error":"#REF!"}},{"$f":"'Horário Geral (Semana 2)'!#REF!","v":{"$error":"#REF!"}},{"$f":"'Horário Geral (Semana 2)'!#REF!","v":{"$error":"#REF!"}},{"$f":"'Horário Geral (Semana 2)'!#REF!","v":{"$error":"#REF!"}},{"$f":"'Horário Geral (Semana 2)'!#REF!","v":{"$error":"#REF!"}},{"$f":"'Horário Geral (Semana 2)'!#REF!","v":{"$error":"#REF!"}},{"$f":"'Horário Geral (Semana 2)'!#REF!","v":{"$error":"#REF!"}},{"$f":"'Horário Geral (Semana 2)'!#REF!","v":{"$error":"#REF!"}},{"$f":"'Horário Geral (Semana 2)'!#REF!","v":{"$error":"#REF!"}},{"$f":"'Horário Geral (Semana 2)'!#REF!","v":{"$error":"#REF!"}},{"$f":"'Horário Geral (Semana 2)'!#REF!","v":{"$error":"#REF!"}},{"$f":"'Horário Geral (Semana 2)'!#REF!","v":{"$error":"#REF!"}},{"$f":"'Horário Geral (Semana 2)'!#REF!","v":{"$error":"#REF!"}},{"$f":"'Horário Geral (Semana 2)'!#REF!","v":{"$error":"#REF!"}},{"$f":"'Horário Geral (Semana 2)'!#REF!","v":{"$error":"#REF!"}},{"$f":"'Horário Geral (Semana 2)'!#REF!","v":{"$error":"#REF!"}},{"$f":"'Horário Geral (Semana 2)'!#REF!","v":{"$error":"#REF!"}},{"$f":"'Horário Geral (Semana 2)'!#REF!","v":{"$error":"#REF!"}},{"$f":"'Horário Geral (Semana 2)'!#REF!","v":{"$error":"#REF!"}},{"$f":"'Horário Geral (Semana 2)'!#REF!","v":{"$error":"#REF!"}}]
[null,"3ª","14:50:00",{"$f":"'Horário Geral (Semana 2)'!#REF!","v":{"$error":"#REF!"}},{"$f":"'Horário Geral (Semana 2)'!#REF!","v":{"$error":"#REF!"}},{"$f":"'Horário Geral (Semana 2)'!#REF!","v":{"$error":"#REF!"}},{"$f":"'Horário Geral (Semana 2)'!#REF!","v":{"$error":"#REF!"}},{"$f":"'Horário Geral (Semana 2)'!#REF!","v":{"$error":"#REF!"}},{"$f":"'Horário Geral (Semana 2)'!#REF!","v":{"$error":"#REF!"}},{"$f":"'Horário Geral (Semana 2)'!#REF!","v":{"$error":"#REF!"}},{"$f":"'Horário Geral (Semana 2)'!#REF!","v":{"$error":"#REF!"}},{"$f":"'Horário Geral (Semana 2)'!#REF!","v":{"$error":"#REF!"}},{"$f":"'Horário Geral (Semana 2)'!#REF!","v":{"$error":"#REF!"}},{"$f":"'Horário Geral (Semana 2)'!#REF!","v":{"$error":"#REF!"}},{"$f":"'Horário Geral (Semana 2)'!#REF!","v":{"$error":"#REF!"}},{"$f":"'Horário Geral (Semana 2)'!#REF!","v":{"$error":"#REF!"}},{"$f":"'Horário Geral (Semana 2)'!#REF!","v":{"$error":"#REF!"}},{"$f":"'Horário Geral (Semana 2)'!#REF!","v":{"$error":"#REF!"}},{"$f":"'Horário Geral (Semana 2)'!#REF!","v":{"$error":"#REF!"}},{"$f":"'Horário Geral (Semana 2)'!#REF!","v":{"$error":"#REF!"}},{"$f":"'Horário Geral (Semana 2)'!#REF!","v":{"$error":"#REF!"}},{"$f":"'Horário Geral (Semana 2)'!#REF!","v":{"$error":"#REF!"}},{"$f":"'Horário Geral (Semana 2)'!#REF!","v":{"$error":"#REF!"}},{"$f":"'Horário Geral (Semana 2)'!#REF!","v":{"$error":"#REF!"}},{"$f":"'Horário Geral (Semana 2)'!#REF!","v":{"$error":"#REF!"}},{"$f":"'Horário Geral (Semana 2)'!#REF!","v":{"$error":"#REF!"}},{"$f":"'Horário Geral (Semana 2)'!#REF!","v":{"$error":"#REF!"}},{"$f":"'Horário Geral (Semana 2)'!#REF!","v":{"$error":"#REF!"}},{"$f":"'Horário Geral (Semana 2)'!#REF!","v":{"$error":"#REF!"}},{"$f":"'Horário Geral (Semana 2)'!#REF!","v":{"$error":"#REF!"}},{"$f":"'Horário Geral (Semana 2)'!#REF!","v":{"$error":"#REF!"}},{"$f":"'Horário Geral (Semana 2)'!#REF!","v":{"$error":"#REF!"}},{"$f":"'Horário Geral (Semana 2)'!#REF!","v":{"$error":"#REF!"}},{"$f":"'Horário Geral (Semana 2)'!#REF!","v":{"$error":"#REF!"}}]
[null,"4ª","15:55:00",{"$f":"'Horário Geral (Semana 2)'!#REF!","v":{"$error":"#REF!"}},{"$f":"'Horário Geral (Semana 2)'!#REF!","v":{"$error":"#REF!"}},{"$f":"'Horário Geral (Semana 2)'!#REF!","v":{"$error":"#REF!"}},{"$f":"'Horário Geral (Semana 2)'!#REF!","v":{"$error":"#REF!"}},{"$f":"'Horário Geral (Semana 2)'!#REF!","v":{"$error":"#REF!"}},{"$f":"'Horário Geral (Semana 2)'!#REF!","v":{"$error":"#REF!"}},{"$f":"'Horário Geral (Semana 2)'!#REF!","v":{"$error":"#REF!"}},{"$f":"'Horário Geral (Semana 2)'!#REF!","v":{"$error":"#REF!"}},{"$f":"'Horário Geral (Semana 2)'!#REF!","v":{"$error":"#REF!"}},{"$f":"'Horário Geral (Semana 2)'!#REF!","v":{"$error":"#REF!"}},{"$f":"'Horário Geral (Semana 2)'!#REF!","v":{"$error":"#REF!"}},{"$f":"'Horário Geral (Semana 2)'!#REF!","v":{"$error":"#REF!"}},{"$f":"'Horário Geral (Semana 2)'!#REF!","v":{"$error":"#REF!"}},{"$f":"'Horário Geral (Semana 2)'!#REF!","v":{"$error":"#REF!"}},{"$f":"'Horário Geral (Semana 2)'!#REF!","v":{"$error":"#REF!"}},{"$f":"'Horário Geral (Semana 2)'!#REF!","v":{"$error":"#REF!"}},{"$f":"'Horário Geral (Semana 2)'!#REF!","v":{"$error":"#REF!"}},{"$f":"'Horário Geral (Semana 2)'!#REF!","v":{"$error":"#REF!"}},{"$f":"'Horário Geral (Semana 2)'!#REF!","v":{"$error":"#REF!"}},{"$f":"'Horário Geral (Semana 2)'!#REF!","v":{"$error":"#REF!"}},{"$f":"'Horário Geral (Semana 2)'!#REF!","v":{"$error":"#REF!"}},{"$f":"'Horário Geral (Semana 2)'!#REF!","v":{"$error":"#REF!"}},{"$f":"'Horário Geral (Semana 2)'!#REF!","v":{"$error":"#REF!"}},{"$f":"'Horário Geral (Semana 2)'!#REF!","v":{"$error":"#REF!"}},{"$f":"'Horário Geral (Semana 2)'!#REF!","v":{"$error":"#REF!"}},{"$f":"'Horário Geral (Semana 2)'!#REF!","v":{"$error":"#REF!"}},{"$f":"'Horário Geral (Semana 2)'!#REF!","v":{"$error":"#REF!"}},{"$f":"'Horário Geral (Semana 2)'!#REF!","v":{"$error":"#REF!"}},{"$f":"'Horário Geral (Semana 2)'!#REF!","v":{"$error":"#REF!"}},{"$f":"'Horário Geral (Semana 2)'!#REF!","v":{"$error":"#REF!"}},{"$f":"'Horário Geral (Semana 2)'!#REF!","v":{"$error":"#REF!"}}]
[null,"5ª","16:45:00",{"$f":"'Horário Geral (Semana 2)'!#REF!","v":{"$error":"#REF!"}},{"$f":"'Horário Geral (Semana 2)'!#REF!","v":{"$error":"#REF!"}},{"$f":"'Horário Geral (Semana 2)'!#REF!","v":{"$error":"#REF!"}},{"$f":"'Horário Geral (Semana 2)'!#REF!","v":{"$error":"#REF!"}},{"$f":"'Horário Geral (Semana 2)'!#REF!","v":{"$error":"#REF!"}},{"$f":"'Horário Geral (Semana 2)'!#REF!","v":{"$error":"#REF!"}},{"$f":"'Horário Geral (Semana 2)'!#REF!","v":{"$error":"#REF!"}},{"$f":"'Horário Geral (Semana 2)'!#REF!","v":{"$error":"#REF!"}},{"$f":"'Horário Geral (Semana 2)'!#REF!","v":{"$error":"#REF!"}},{"$f":"'Horário Geral (Semana 2)'!#REF!","v":{"$error":"#REF!"}},{"$f":"'Horário Geral (Semana 2)'!#REF!","v":{"$error":"#REF!"}},{"$f":"'Horário Geral (Semana 2)'!#REF!","v":{"$error":"#REF!"}},{"$f":"'Horário Geral (Semana 2)'!#REF!","v":{"$error":"#REF!"}},{"$f":"'Horário Geral (Semana 2)'!#REF!","v":{"$error":"#REF!"}},{"$f":"'Horário Geral (Semana 2)'!#REF!","v":{"$error":"#REF!"}},{"$f":"'Horário Geral (Semana 2)'!#REF!","v":{"$error":"#REF!"}},{"$f":"'Horário Geral (Semana 2)'!#REF!","v":{"$error":"#REF!"}},{"$f":"'Horário Geral (Semana 2)'!#REF!","v":{"$error":"#REF!"}},{"$f":"'Horário Geral (Semana 2)'!#REF!","v":{"$error":"#REF!"}},{"$f":"'Horário Geral (Semana 2)'!#REF!","v":{"$error":"#REF!"}},{"$f":"'Horário Geral (Semana 2)'!#REF!","v":{"$error":"#REF!"}},{"$f":"'Horário Geral (Semana 2)'!#REF!","v":{"$error":"#REF!"}},{"$f":"'Horário Geral (Semana 2)'!#REF!","v":{"$error":"#REF!"}},{"$f":"'Horário Geral (Semana 2)'!#REF!","v":{"$error":"#REF!"}},{"$f":"'Horário Geral (Semana 2)'!#REF!","v":{"$error":"#REF!"}},{"$f":"'Horário Geral (Semana 2)'!#REF!","v":{"$error":"#REF!"}},{"$f":"'Horário Geral (Semana 2)'!#REF!","v":{"$error":"#REF!"}},{"$f":"'Horário Geral (Semana 2)'!#REF!","v":{"$error":"#REF!"}},{"$f":"'Horário Geral (Semana 2)'!#REF!","v":{"$error":"#REF!"}},{"$f":"'Horário Geral (Semana 2)'!#REF!","v":{"$error":"#REF!"}},{"$f":"'Horário Geral (Semana 2)'!#REF!","v":{"$error":"#REF!"}}]
[null,null,null,{"$f":"'Horário Geral (Semana 2)'!#REF!","v":{"$error":"#REF!"}},{"$f":"'Horário Geral (Semana 2)'!#REF!","v":{"$error":"#REF!"}},{"$f":"'Horário Geral (Semana 2)'!#REF!","v":{"$error":"#REF!"}},{"$f":"'Horário Geral (Semana 2)'!#REF!","v":{"$error":"#REF!"}},{"$f":"'Horário Geral (Semana 2)'!#REF!","v":{"$error":"#REF!"}},{"$f":"'Horário Geral (Semana 2)'!#REF!","v":{"$error":"#REF!"}},{"$f":"'Horário Geral (Semana 2)'!#REF!","v":{"$error":"#REF!"}},{"$f":"'Horário Geral (Semana 2)'!#REF!","v":{"$error":"#REF!"}},{"$f":"'Horário Geral (Semana 2)'!#REF!","v":{"$error":"#REF!"}},{"$f":"'Horário Geral (Semana 2)'!#REF!","v":{"$error":"#REF!"}},{"$f":"'Horário Geral (Semana 2)'!#REF!","v":{"$error":"#REF!"}},{"$f":"'Horário Geral (Semana 2)'!#REF!","v":{"$error":"#REF!"}},{"$f":"'Horário Geral (Semana 2)'!#REF!","v":{"$error":"#REF!"}},{"$f":"'Horário Geral (Semana 2)'!#REF!","v":{"$error":"#REF!"}},{"$f":"'Horário Geral (Semana 2)'!#REF!","v":{"$error":"#REF!"}},{"$f":"'Horário Geral (Semana 2)'!#REF!","v":{"$error":"#REF!"}},{"$f":"'Horário Geral (Semana 2)'!#REF!","v":{"$error":"#REF!"}},{"$f":"'Horário Geral (Semana 2)'!#REF!","v":{"$error":"#REF!"}},{"$f":"'Horário Geral (Semana 2)'!#REF!","v":{"$error":"#REF!"}},{"$f":"'Horário Geral (Semana 2)'!#REF!","v":{"$error":"#REF!"}},{"$f":"'Horário Geral (Semana 2)'!#REF!","v":{"$error":"#REF!"}},{"$f":"'Horário Geral (Semana 2)'!#REF!","v":{"$error":"#REF!"}},{"$f":"'Horário Geral (Semana 2)'!#REF!","v":{"$error":"#REF!"}},{"$f":"'Horário Geral (Semana 2)'!#REF!","v":{"$error":"#REF!"}},{"$f":"'Horário Geral (Semana 2)'!#REF!","v":{"$error":"#REF!"}},{"$f":"'Horário Geral (Semana 2)'!#REF!","v":{"$error":"#REF!"}},{"$f":"'Horário Geral (Semana 2)'!#REF!","v":{"$error":"#REF!"}},{"$f":"'Horário Geral (Semana 2)'!#REF!","v":{"$error":"#REF!"}},{"$f":"'Horário Geral (Semana 2)'!#REF!","v":{"$error":"#REF!"}},{"$f":"'Horário Geral (Semana 2)'!#REF!","v":{"$error":"#REF!"}},{"$f":"'Horário Geral (Semana 2)'!#REF!","v":{"$error":"#REF!"}}]
["QUI","1ª","13:10:00",{"$f":"'Horário Geral (Semana 2)'!#REF!","v":{"$error":"#REF!"}},{"$f":"'Horário Geral (Semana 2)'!#REF!","v":{"$error":"#REF!"}},{"$f":"'Horário Geral (Semana 2)'!#REF!","v":{"$error":"#REF!"}},{"$f":"'Horário Geral (Semana 2)'!#REF!","v":{"$error":"#REF!"}},{"$f":"'Horário Geral (Semana 2)'!#REF!","v":{"$error":"#REF!"}},{"$f":"'Horário Geral (Semana 2)'!#REF!","v":{"$error":"#REF!"}},{"$f":"'Horário Geral (Semana 2)'!#REF!","v":{"$error":"#REF!"}},{"$f":"'Horário Geral (Semana 2)'!#REF!","v":{"$error":"#REF!"}},{"$f":"'Horário Geral (Semana 2)'!#REF!","v":{"$error":"#REF!"}},{"$f":"'Horário Geral (Semana 2)'!#REF!","v":{"$error":"#REF!"}},{"$f":"'Horário Geral (Semana 2)'!#REF!","v":{"$error":"#REF!"}},{"$f":"'Horário Geral (Semana 2)'!#REF!","v":{"$error":"#REF!"}},{"$f":"'Horário Geral (Semana 2)'!#REF!","v":{"$error":"#REF!"}},{"$f":"'Horário Geral (Semana 2)'!#REF!","v":{"$error":"#REF!"}},{"$f":"'Horário Geral (Semana 2)'!#REF!","v":{"$error":"#REF!"}},{"$f":"'Horário Geral (Semana 2)'!#REF!","v":{"$error":"#REF!"}},{"$f":"'Horário Geral (Semana 2)'!#REF!","v":{"$error":"#REF!"}},{"$f":"'Horário Geral (Semana 2)'!#REF!","v":{"$error":"#REF!"}},{"$f":"'Horário Geral (Semana 2)'!#REF!","v":{"$error":"#REF!"}},{"$f":"'Horário Geral (Semana 2)'!#REF!","v":{"$error":"#REF!"}},{"$f":"'Horário Geral (Semana 2)'!#REF!","v":{"$error":"#REF!"}},{"$f":"'Horário Geral (Semana 2)'!#REF!","v":{"$error":"#REF!"}},{"$f":"'Horário Geral (Semana 2)'!#REF!","v":{"$error":"#REF!"}},{"$f":"'Horário Geral (Semana 2)'!#REF!","v":{"$error":"#REF!"}},{"$f":"'Horário Geral (Semana 2)'!#REF!","v":{"$error":"#REF!"}},{"$f":"'Horário Geral (Semana 2)'!#REF!","v":{"$error":"#REF!"}},{"$f":"'Horário Geral (Semana 2)'!#REF!","v":{"$error":"#REF!"}},{"$f":"'Horário Geral (Semana 2)'!#REF!","v":{"$error":"#REF!"}},{"$f":"'Horário Geral (Semana 2)'!#REF!","v":{"$error":"#REF!"}},{"$f":"'Horário Geral (Semana 2)'!#REF!","v":{"$error":"#REF!"}},{"$f":"'Horário Geral (Semana 2)'!#REF!","v":{"$error":"#REF!"}}]
[null,"2ª","13:55:00",{"$f":"'Horário Geral (Semana 2)'!#REF!","v":{"$error":"#REF!"}},{"$f":"'Horário Geral (Semana 2)'!#REF!","v":{"$error":"#REF!"}},{"$f":"'Horário Geral (Semana 2)'!#REF!","v":{"$error":"#REF!"}},{"$f":"'Horário Geral (Semana 2)'!#REF!","v":{"$error":"#REF!"}},{"$f":"'Horário Geral (Semana 2)'!#REF!","v":{"$error":"#REF!"}},{"$f":"'Horário Geral (Semana 2)'!#REF!","v":{"$error":"#REF!"}},{"$f":"'Horário Geral (Semana 2)'!#REF!","v":{"$error":"#REF!"}},{"$f":"'Horário Geral (Semana 2)'!#REF!","v":{"$error":"#REF!"}},{"$f":"'Horário Geral (Semana 2)'!#REF!","v":{"$error":"#REF!"}},{"$f":"'Horário Geral (Semana 2)'!#REF!","v":{"$error":"#REF!"}},{"$f":"'Horário Geral (Semana 2)'!#REF!","v":{"$error":"#REF!"}},{"$f":"'Horário Geral (Semana 2)'!#REF!","v":{"$error":"#REF!"}},{"$f":"'Horário Geral (Semana 2)'!#REF!","v":{"$error":"#REF!"}},{"$f":"'Horário Geral (Semana 2)'!#REF!","v":{"$error":"#REF!"}},{"$f":"'Horário Geral (Semana 2)'!#REF!","v":{"$error":"#REF!"}},{"$f":"'Horário Geral (Semana 2)'!#REF!","v":{"$error":"#REF!"}},{"$f":"'Horário Geral (Semana 2)'!#REF!","v":{"$error":"#REF!"}},{"$f":"'Horário Geral (Semana 2)'!#REF!","v":{"$error":"#REF!"}},{"$f":"'Horário Geral (Semana 2)'!#REF!","v":{"$error":"#REF!"}},{"$f":"'Horário Geral (Semana 2)'!#REF!","v":{"$error":"#REF!"}},{"$f":"'Horário Geral (Semana 2)'!#REF!","v":{"$error":"#REF!"}},{"$f":"'Horário Geral (Semana 2)'!#REF!","v":{"$error":"#REF!"}},{"$f":"'Horário Geral (Semana 2)'!#REF!","v":{"$error":"#REF!"}},{"$f":"'Horário Geral (Semana 2)'!#REF!","v":{"$error":"#REF!"}},{"$f":"'Horário Geral (Semana 2)'!#REF!","v":{"$error":"#REF!"}},{"$f":"'Horário Geral (Semana 2)'!#REF!","v":{"$error":"#REF!"}},{"$f":"'Horário Geral (Semana 2)'!#REF!","v":{"$error":"#REF!"}},{"$f":"'Horário Geral (Semana 2)'!#REF!","v":{"$error":"#REF!"}},{"$f":"'Horário Geral (Semana 2)'!#REF!","v":{"$error":"#REF!"}},{"$f":"'Horário Geral (Semana 2)'!#REF!","v":{"$error":"#REF!"}},{"$f":"'Horário Geral (Semana 2)'!#REF!","v":{"$error":"#REF!"}}]
[null,"3ª","14:40:00",{"$f":"'Horário Geral (Semana 2)'!#REF!","v":{"$error":"#REF!"}},{"$f":"'Horário Geral (Semana 2)'!#REF!","v":{"$error":"#REF!"}},{"$f":"'Horário Geral (Semana 2)'!#REF!","v":{"$error":"#REF!"}},{"$f":"'Horário Geral (Semana 2)'!#REF!","v":{"$error":"#REF!"}},{"$f":"'Horário Geral (Semana 2)'!#REF!","v":{"$error":"#REF!"}},{"$f":"'Horário Geral (Semana 2)'!#REF!","v":{"$error":"#REF!"}},{"$f":"'Horário Geral (Semana 2)'!#REF!","v":{"$error":"#REF!"}},{"$f":"'Horário Geral (Semana 2)'!#REF!","v":{"$error":"#REF!"}},{"$f":"'Horário Geral (Semana 2)'!#REF!","v":{"$error":"#REF!"}},{"$f":"'Horário Geral (Semana 2)'!#REF!","v":{"$error":"#REF!"}},{"$f":"'Horário Geral (Semana 2)'!#REF!","v":{"$error":"#REF!"}},{"$f":"'Horário Geral (Semana 2)'!#REF!","v":{"$error":"#REF!"}},{"$f":"'Horário Geral (Semana 2)'!#REF!","v":{"$error":"#REF!"}},{"$f":"'Horário Geral (Semana 2)'!#REF!","v":{"$error":"#REF!"}},{"$f":"'Horário Geral (Semana 2)'!#REF!","v":{"$error":"#REF!"}},{"$f":"'Horário Geral (Semana 2)'!#REF!","v":{"$error":"#REF!"}},{"$f":"'Horário Geral (Semana 2)'!#REF!","v":{"$error":"#REF!"}},{"$f":"'Horário Geral (Semana 2)'!#REF!","v":{"$error":"#REF!"}},{"$f":"'Horário Geral (Semana 2)'!#REF!","v":{"$error":"#REF!"}},{"$f":"'Horário Geral (Semana 2)'!#REF!","v":{"$error":"#REF!"}},{"$f":"'Horário Geral (Semana 2)'!#REF!","v":{"$error":"#REF!"}},{"$f":"'Horário Geral (Semana 2)'!#REF!","v":{"$error":"#REF!"}},{"$f":"'Horário Geral (Semana 2)'!#REF!","v":{"$error":"#REF!"}},{"$f":"'Horário Geral (Semana 2)'!#REF!","v":{"$error":"#REF!"}},{"$f":"'Horário Geral (Semana 2)'!#REF!","v":{"$error":"#REF!"}},{"$f":"'Horário Geral (Semana 2)'!#REF!","v":{"$error":"#REF!"}},{"$f":"'Horário Geral (Semana 2)'!#REF!","v":{"$error":"#REF!"}},{"$f":"'Horário Geral (Semana 2)'!#REF!","v":{"$error":"#REF!"}},{"$f":"'Horário Geral (Semana 2)'!#REF!","v":{"$error":"#REF!"}},{"$f":"'Horário Geral (Semana 2)'!#REF!","v":{"$error":"#REF!"}},{"$f":"'Horário Geral (Semana 2)'!#REF!","v":{"$error":"#REF!"}}]
[null,"4ª","15:40:00",{"$f":"'Horário Geral (Semana 2)'!#REF!","v":{"$error":"#REF!"}},{"$f":"'Horário Geral (Semana 2)'!#REF!","v":{"$error":"#REF!"}},{"$f":"'Horário Geral (Semana 2)'!#REF!","v":{"$error":"#REF!"}},{"$f":"'Horário Geral (Semana 2)'!#REF!","v":{"$error":"#REF!"}},{"$f":"'Horário Geral (Semana 2)'!#REF!","v":{"$error":"#REF!"}},{"$f":"'Horário Geral (Semana 2)'!#REF!","v":{"$error":"#REF!"}},{"$f":"'Horário Geral (Semana 2)'!#REF!","v":{"$error":"#REF!"}},{"$f":"'Horário Geral (Semana 2)'!#REF!","v":{"$error":"#REF!"}},{"$f":"'Horário Geral (Semana 2)'!#REF!","v":{"$error":"#REF!"}},{"$f":"'Horário Geral (Semana 2)'!#REF!","v":{"$error":"#REF!"}},{"$f":"'Horário Geral (Semana 2)'!#REF!","v":{"$error":"#REF!"}},{"$f":"'Horário Geral (Semana 2)'!#REF!","v":{"$error":"#REF!"}},{"$f":"'Horário Geral (Semana 2)'!#REF!","v":{"$error":"#REF!"}},{"$f":"'Horário Geral (Semana 2)'!#REF!","v":{"$error":"#REF!"}},{"$f":"'Horário Geral (Semana 2)'!#REF!","v":{"$error":"#REF!"}},{"$f":"'Horário Geral (Semana 2)'!#REF!","v":{"$error":"#REF!"}},{"$f":"'Horário Geral (Semana 2)'!#REF!","v":{"$error":"#REF!"}},{"$f":"'Horário Geral (Semana 2)'!#REF!","v":{"$error":"#REF!"}},{"$f":"'Horário Geral (Semana 2)'!#REF!","v":{"$error":"#REF!"}},{"$f":"'Horário Geral (Semana 2)'!#REF!","v":{"$error":"#REF!"}},{"$f":"'Horário Geral (Semana 2)'!#REF!","v":{"$error":"#REF!"}},{"$f":"'Horário Geral (Semana 2)'!#REF!","v":{"$error":"#REF!"}},{"$f":"'Horário Geral (Semana 2)'!#REF!","v":{"$error":"#REF!"}},{"$f":"'Horário Geral (Semana 2)'!#REF!","v":{"$error":"#REF!"}},{"$f":"'Horário Geral (Semana 2)'!#REF!","v":{"$error":"#REF!"}},{"$f":"'Horário Geral (Semana 2)'!#REF!","v":{"$error":"#REF!"}},{"$f":"'Horário Geral (Semana 2)'!#REF!","v":{"$error":"#REF!"}},{"$f":"'Horário Geral (Semana 2)'!#REF!","v":{"$error":"#REF!"}},{"$f":"'Horário Geral (Semana 2)'!#REF!","v":{"$error":"#REF!"}},{"$f":"'Horário Geral (Semana 2)'!#REF!","v":{"$error":"#REF!"}},{"$f":"'Horário Geral (Semana 2)'!#REF!","v":{"$error":"#REF!"}}]
[null,"5ª","16:25:00",{"$f":"'Horário Geral (Semana 2)'!#REF!","v":{"$error":"#REF!"}},{"$f":"'Horário Geral (Semana 2)'!#REF!","v":{"$error":"#REF!"}},{"$f":"'Horário Geral (Semana 2)'!#REF!","v":{"$error":"#REF!"}},{"$f":"'Horário Geral (Semana 2)'!#REF!","v":{"$error":"#REF!"}},{"$f":"'Horário Geral (Semana 2)'!#REF!","v":{"$error":"#REF!"}},{"$f":"'Horário Geral (Semana 2)'!#REF!","v":{"$error":"#REF!"}},{"$f":"'Horário Geral (Semana 2)'!#REF!","v":{"$error":"#REF!"}},{"$f":"'Horário Geral (Semana 2)'!#REF!","v":{"$error":"#REF!"}},{"$f":"'Horário Geral (Semana 2)'!#REF!","v":{"$error":"#REF!"}},{"$f":"'Horário Geral (Semana 2)'!#REF!","v":{"$error":"#REF!"}},{"$f":"'Horário Geral (Semana 2)'!#REF!","v":{"$error":"#REF!"}},{"$f":"'Horário Geral (Semana 2)'!#REF!","v":{"$error":"#REF!"}},{"$f":"'Horário Geral (Semana 2)'!#REF!","v":{"$error":"#REF!"}},{"$f":"'Horário Geral (Semana 2)'!#REF!","v":{"$error":"#REF!"}},{"$f":"'Horário Geral (Semana 2)'!#REF!","v":{"$error":"#REF!"}},{"$f":"'Horário Geral (Semana 2)'!#REF!","v":{"$error":"#REF!"}},{"$f":"'Horário Geral (Semana 2)'!#REF!","v":{"$error":"#REF!"}},{"$f":"'Horário Geral (Semana 2)'!#REF!","v":{"$error":"#REF!"}},{"$f":"'Horário Geral (Semana 2)'!#REF!","v":{"$error":"#REF!"}},{"$f":"'Horário Geral (Semana 2)'!#REF!","v":{"$error":"#REF!"}},{"$f":"'Horário Geral (Semana 2)'!#REF!","v":{"$error":"#REF!"}},{"$f":"'Horário Geral (Semana 2)'!#REF!","v":{"$error":"#REF!"}},{"$f":"'Horário Geral (Semana 2)'!#REF!","v":{"$error":"#REF!"}},{"$f":"'Horário Geral (Semana 2)'!#REF!","v":{"$error":"#REF!"}},{"$f":"'Horário Geral (Semana 2)'!#REF!","v":{"$error":"#REF!"}},{"$f":"'Horário Geral (Semana 2)'!#REF!","v":{"$error":"#REF!"}},{"$f":"'Horário Geral (Semana 2)'!#REF!","v":{"$error":"#REF!"}},{"$f":"'Horário Geral (Semana 2)'!#REF!","v":{"$error":"#REF!"}},{"$f":"'Horário Geral (Semana 2)'!#REF!","v":{"$error":"#REF!"}},{"$f":"'Horário Geral (Semana 2)'!#REF!","v":{"$error":"#REF!"}},{"$f":"'Horário Geral (Semana 2)'!#REF!","v":{"$error":"#REF!"}}]
[null,"6ª","17:10:00",{"$f":"'Horário Geral (Semana 2)'!#REF!","v":{"$error":"#REF!"}},{"$f":"'Horário Geral (Semana 2)'!#REF!","v":{"$error":"#REF!"}},{"$f":"'Horário Geral (Semana 2)'!#REF!","v":{"$error":"#REF!"}},{"$f":"'Horário Geral (Semana 2)'!#REF!","v":{"$error":"#REF!"}},{"$f":"'Horário Geral (Semana 2)'!#REF!","v":{"$error":"#REF!"}},{"$f":"'Horário Geral (Semana 2)'!#REF!","v":{"$error":"#REF!"}},{"$f":"'Horário Geral (Semana 2)'!#REF!","v":{"$error":"#REF!"}},{"$f":"'Horário Geral (Semana 2)'!#REF!","v":{"$error":"#REF!"}},{"$f":"'Horário Geral (Semana 2)'!#REF!","v":{"$error":"#REF!"}},{"$f":"'Horário Geral (Semana 2)'!#REF!","v":{"$error":"#REF!"}},{"$f":"'Horário Geral (Semana 2)'!#REF!","v":{"$error":"#REF!"}},{"$f":"'Horário Geral (Semana 2)'!#REF!","v":{"$error":"#REF!"}},{"$f":"'Horário Geral (Semana 2)'!#REF!","v":{"$error":"#REF!"}},{"$f":"'Horário Geral (Semana 2)'!#REF!","v":{"$error":"#REF!"}},{"$f":"'Horário Geral (Semana 2)'!#REF!","v":{"$error":"#REF!"}},{"$f":"'Horário Geral (Semana 2)'!#REF!","v":{"$error":"#REF!"}},{"$f":"'Horário Geral (Semana 2)'!#REF!","v":{"$error":"#REF!"}},{"$f":"'Horário Geral (Semana 2)'!#REF!","v":{"$error":"#REF!"}},{"$f":"'Horário Geral (Semana 2)'!#REF!","v":{"$error":"#REF!"}},{"$f":"'Horário Geral (Semana 2)'!#REF!","v":{"$error":"#REF!"}},{"$f":"'Horário Geral (Semana 2)'!#REF!","v":{"$error":"#REF!"}},{"$f":"'Horário Geral (Semana 2)'!#REF!","v":{"$error":"#REF!"}},{"$f":"'Horário Geral (Semana 2)'!#REF!","v":{"$error":"#REF!"}},{"$f":"'Horário Geral (Semana 2)'!#REF!","v":{"$error":"#REF!"}},{"$f":"'Horário Geral (Semana 2)'!#REF!","v":{"$error":"#REF!"}},{"$f":"'Horário Geral (Semana 2)'!#REF!","v":{"$error":"#REF!"}},{"$f":"'Horário Geral (Semana 2)'!#REF!","v":{"$error":"#REF!"}},{"$f":"'Horário Geral (Semana 2)'!#REF!","v":{"$error":"#REF!"}},{"$f":"'Horário Geral (Semana 2)'!#REF!","v":{"$error":"#REF!"}},{"$f":"'Horário Geral (Semana 2)'!#REF!","v":{"$error":"#REF!"}},{"$f":"'Horário Geral (Semana 2)'!#REF!","v":{"$error":"#REF!"}}]
[null,null,null,{"$f":"'Horário Geral (Semana 2)'!#REF!","v":{"$error":"#REF!"}},{"$f":"'Horário Geral (Semana 2)'!#REF!","v":{"$error":"#REF!"}},{"$f":"'Horário Geral (Semana 2)'!#REF!","v":{"$error":"#REF!"}},{"$f":"'Horário Geral (Semana 2)'!#REF!","v":{"$error":"#REF!"}},{"$f":"'Horário Geral (Semana 2)'!#REF!","v":{"$error":"#REF!"}},{"$f":"'Horário Geral (Semana 2)'!#REF!","v":{"$error":"#REF!"}},{"$f":"'Horário Geral (Semana 2)'!#REF!","v":{"$error":"#REF!"}},{"$f":"'Horário Geral (Semana 2)'!#REF!","v":{"$error":"#REF!"}},{"$f":"'Horário Geral (Semana 2)'!#REF!","v":{"$error":"#REF!"}},{"$f":"'Horário Geral (Semana 2)'!#REF!","v":{"$error":"#REF!"}},{"$f":"'Horário Geral (Semana 2)'!#REF!","v":{"$error":"#REF!"}},{"$f":"'Horário Geral (Semana 2)'!#REF!","v":{"$error":"#REF!"}},{"$f":"'Horário Geral (Semana 2)'!#REF!","v":{"$error":"#REF!"}},{"$f":"'Horário Geral (Semana 2)'!#REF!","v":{"$error":"#REF!"}},{"$f":"'Horário Geral (Semana 2)'!#REF!","v":{"$error":"#REF!"}},{"$f":"'Horário Geral (Semana 2)'!#REF!","v":{"$error":"#REF!"}},{"$f":"'Horário Geral (Semana 2)'!#REF!","v":{"$error":"#REF!"}},{"$f":"'Horário Geral (Semana 2)'!#REF!","v":{"$error":"#REF!"}},{"$f":"'Horário Geral (Semana 2)'!#REF!","v":{"$error":"#REF!"}},{"$f":"'Horário Geral (Semana 2)'!#REF!","v":{"$error":"#REF!"}},{"$f":"'Horário Geral (Semana 2)'!#REF!","v":{"$error":"#REF!"}},{"$f":"'Horário Geral (Semana 2)'!#REF!","v":{"$error":"#REF!"}},{"$f":"'Horário Geral (Semana 2)'!#REF!","v":{"$error":"#REF!"}},{"$f":"'Horário Geral (Semana 2)'!#REF!","v":{"$error":"#REF!"}},{"$f":"'Horário Geral (Semana 2)'!#REF!","v":{"$error":"#REF!"}},{"$f":"'Horário Geral (Semana 2)'!#REF!","v":{"$error":"#REF!"}},{"$f":"'Horário Geral (Semana 2)'!#REF!","v":{"$error":"#REF!"}},{"$f":"'Horário Geral (Semana 2)'!#REF!","v":{"$error":"#REF!"}},{"$f":"'Horário Geral (Semana 2)'!#REF!","v":{"$error":"#REF!"}},{"$f":"'Horário Geral (Semana 2)'!#REF!","v":{"$error":"#REF!"}},{"$f":"'Horário Geral (Semana 2)'!#REF!","v":{"$error":"#REF!"}}]
["SEX","1ª","13:10:00",{"$f":"'Horário Geral (Semana 2)'!#REF!","v":{"$error":"#REF!"}},{"$f":"'Horário Geral (Semana 2)'!#REF!","v":{"$error":"#REF!"}},{"$f":"'Horário Geral (Semana 2)'!#REF!","v":{"$error":"#REF!"}},{"$f":"'Horário Geral (Semana 2)'!#REF!","v":{"$error":"#REF!"}},{"$f":"'Horário Geral (Semana 2)'!#REF!","v":{"$error":"#REF!"}},{"$f":"'Horário Geral (Semana 2)'!#REF!","v":{"$error":"#REF!"}},{"$f":"'Horário Geral (Semana 2)'!#REF!","v":{"$error":"#REF!"}},{"$f":"'Horário Geral (Semana 2)'!#REF!","v":{"$error":"#REF!"}},{"$f":"'Horário Geral (Semana 2)'!#REF!","v":{"$error":"#REF!"}},{"$f":"'Horário Geral (Semana 2)'!#REF!","v":{"$error":"#REF!"}},{"$f":"'Horário Geral (Semana 2)'!#REF!","v":{"$error":"#REF!"}},{"$f":"'Horário Geral (Semana 2)'!#REF!","v":{"$error":"#REF!"}},{"$f":"'Horário Geral (Semana 2)'!#REF!","v":{"$error":"#REF!"}},{"$f":"'Horário Geral (Semana 2)'!#REF!","v":{"$error":"#REF!"}},{"$f":"'Horário Geral (Semana 2)'!#REF!","v":{"$error":"#REF!"}},{"$f":"'Horário Geral (Semana 2)'!#REF!","v":{"$error":"#REF!"}},{"$f":"'Horário Geral (Semana 2)'!#REF!","v":{"$error":"#REF!"}},{"$f":"'Horário Geral (Semana 2)'!#REF!","v":{"$error":"#REF!"}},{"$f":"'Horário Geral (Semana 2)'!#REF!","v":{"$error":"#REF!"}},{"$f":"'Horário Geral (Semana 2)'!#REF!","v":{"$error":"#REF!"}},{"$f":"'Horário Geral (Semana 2)'!#REF!","v":{"$error":"#REF!"}},{"$f":"'Horário Geral (Semana 2)'!#REF!","v":{"$error":"#REF!"}},{"$f":"'Horário Geral (Semana 2)'!#REF!","v":{"$error":"#REF!"}},{"$f":"'Horário Geral (Semana 2)'!#REF!","v":{"$error":"#REF!"}},{"$f":"'Horário Geral (Semana 2)'!#REF!","v":{"$error":"#REF!"}},{"$f":"'Horário Geral (Semana 2)'!#REF!","v":{"$error":"#REF!"}},{"$f":"'Horário Geral (Semana 2)'!#REF!","v":{"$error":"#REF!"}},{"$f":"'Horário Geral (Semana 2)'!#REF!","v":{"$error":"#REF!"}},{"$f":"'Horário Geral (Semana 2)'!#REF!","v":{"$error":"#REF!"}},{"$f":"'Horário Geral (Semana 2)'!#REF!","v":{"$error":"#REF!"}},{"$f":"'Horário Geral (Semana 2)'!#REF!","v":{"$error":"#REF!"}}]
[null,"2ª","14:00:00",{"$f":"'Horário Geral (Semana 2)'!#REF!","v":{"$error":"#REF!"}},{"$f":"'Horário Geral (Semana 2)'!#REF!","v":{"$error":"#REF!"}},{"$f":"'Horário Geral (Semana 2)'!#REF!","v":{"$error":"#REF!"}},{"$f":"'Horário Geral (Semana 2)'!#REF!","v":{"$error":"#REF!"}},{"$f":"'Horário Geral (Semana 2)'!#REF!","v":{"$error":"#REF!"}},{"$f":"'Horário Geral (Semana 2)'!#REF!","v":{"$error":"#REF!"}},{"$f":"'Horário Geral (Semana 2)'!#REF!","v":{"$error":"#REF!"}},{"$f":"'Horário Geral (Semana 2)'!#REF!","v":{"$error":"#REF!"}},{"$f":"'Horário Geral (Semana 2)'!#REF!","v":{"$error":"#REF!"}},{"$f":"'Horário Geral (Semana 2)'!#REF!","v":{"$error":"#REF!"}},{"$f":"'Horário Geral (Semana 2)'!#REF!","v":{"$error":"#REF!"}},{"$f":"'Horário Geral (Semana 2)'!#REF!","v":{"$error":"#REF!"}},{"$f":"'Horário Geral (Semana 2)'!#REF!","v":{"$error":"#REF!"}},{"$f":"'Horário Geral (Semana 2)'!#REF!","v":{"$error":"#REF!"}},{"$f":"'Horário Geral (Semana 2)'!#REF!","v":{"$error":"#REF!"}},{"$f":"'Horário Geral (Semana 2)'!#REF!","v":{"$error":"#REF!"}},{"$f":"'Horário Geral (Semana 2)'!#REF!","v":{"$error":"#REF!"}},{"$f":"'Horário Geral (Semana 2)'!#REF!","v":{"$error":"#REF!"}},{"$f":"'Horário Geral (Semana 2)'!#REF!","v":{"$error":"#REF!"}},{"$f":"'Horário Geral (Semana 2)'!#REF!","v":{"$error":"#REF!"}},{"$f":"'Horário Geral (Semana 2)'!#REF!","v":{"$error":"#REF!"}},{"$f":"'Horário Geral (Semana 2)'!#REF!","v":{"$error":"#REF!"}},{"$f":"'Horário Geral (Semana 2)'!#REF!","v":{"$error":"#REF!"}},{"$f":"'Horário Geral (Semana 2)'!#REF!","v":{"$error":"#REF!"}},{"$f":"'Horário Geral (Semana 2)'!#REF!","v":{"$error":"#REF!"}},{"$f":"'Horário Geral (Semana 2)'!#REF!","v":{"$error":"#REF!"}},{"$f":"'Horário Geral (Semana 2)'!#REF!","v":{"$error":"#REF!"}},{"$f":"'Horário Geral (Semana 2)'!#REF!","v":{"$error":"#REF!"}},{"$f":"'Horário Geral (Semana 2)'!#REF!","v":{"$error":"#REF!"}},{"$f":"'Horário Geral (Semana 2)'!#REF!","v":{"$error":"#REF!"}},{"$f":"'Horário Geral (Semana 2)'!#REF!","v":{"$error":"#REF!"}}]
[null,"3ª","14:50:00",{"$f":"'Horário Geral (Semana 2)'!#REF!","v":{"$error":"#REF!"}},{"$f":"'Horário Geral (Semana 2)'!#REF!","v":{"$error":"#REF!"}},{"$f":"'Horário Geral (Semana 2)'!#REF!","v":{"$error":"#REF!"}},{"$f":"'Horário Geral (Semana 2)'!#REF!","v":{"$error":"#REF!"}},{"$f":"'Horário Geral (Semana 2)'!#REF!","v":{"$error":"#REF!"}},{"$f":"'Horário Geral (Semana 2)'!#REF!","v":{"$error":"#REF!"}},{"$f":"'Horário Geral (Semana 2)'!#REF!","v":{"$error":"#REF!"}},{"$f":"'Horário Geral (Semana 2)'!#REF!","v":{"$error":"#REF!"}},{"$f":"'Horário Geral (Semana 2)'!#REF!","v":{"$error":"#REF!"}},{"$f":"'Horário Geral (Semana 2)'!#REF!","v":{"$error":"#REF!"}},{"$f":"'Horário Geral (Semana 2)'!#REF!","v":{"$error":"#REF!"}},{"$f":"'Horário Geral (Semana 2)'!#REF!","v":{"$error":"#REF!"}},{"$f":"'Horário Geral (Semana 2)'!#REF!","v":{"$error":"#REF!"}},{"$f":"'Horário Geral (Semana 2)'!#REF!","v":{"$error":"#REF!"}},{"$f":"'Horário Geral (Semana 2)'!#REF!","v":{"$error":"#REF!"}},{"$f":"'Horário Geral (Semana 2)'!#REF!","v":{"$error":"#REF!"}},{"$f":"'Horário Geral (Semana 2)'!#REF!","v":{"$error":"#REF!"}},{"$f":"'Horário Geral (Semana 2)'!#REF!","v":{"$error":"#REF!"}},{"$f":"'Horário Geral (Semana 2)'!#REF!","v":{"$error":"#REF!"}},{"$f":"'Horário Geral (Semana 2)'!#REF!","v":{"$error":"#REF!"}},{"$f":"'Horário Geral (Semana 2)'!#REF!","v":{"$error":"#REF!"}},{"$f":"'Horário Geral (Semana 2)'!#REF!","v":{"$error":"#REF!"}},{"$f":"'Horário Geral (Semana 2)'!#REF!","v":{"$error":"#REF!"}},{"$f":"'Horário Geral (Semana 2)'!#REF!","v":{"$error":"#REF!"}},{"$f":"'Horário Geral (Semana 2)'!#REF!","v":{"$error":"#REF!"}},{"$f":"'Horário Geral (Semana 2)'!#REF!","v":{"$error":"#REF!"}},{"$f":"'Horário Geral (Semana 2)'!#REF!","v":{"$error":"#REF!"}},{"$f":"'Horário Geral (Semana 2)'!#REF!","v":{"$error":"#REF!"}},{"$f":"'Horário Geral (Semana 2)'!#REF!","v":{"$error":"#REF!"}},{"$f":"'Horário Geral (Semana 2)'!#REF!","v":{"$error":"#REF!"}},{"$f":"'Horário Geral (Semana 2)'!#REF!","v":{"$error":"#REF!"}}]
[null,"4ª","15:55:00",{"$f":"'Horário Geral (Semana 2)'!#REF!","v":{"$error":"#REF!"}},{"$f":"'Horário Geral (Semana 2)'!#REF!","v":{"$error":"#REF!"}},{"$f":"'Horário Geral (Semana 2)'!#REF!","v":{"$error":"#REF!"}},{"$f":"'Horário Geral (Semana 2)'!#REF!","v":{"$error":"#REF!"}},{"$f":"'Horário Geral (Semana 2)'!#REF!","v":{"$error":"#REF!"}},{"$f":"'Horário Geral (Semana 2)'!#REF!","v":{"$error":"#REF!"}},{"$f":"'Horário Geral (Semana 2)'!#REF!","v":{"$error":"#REF!"}},{"$f":"'Horário Geral (Semana 2)'!#REF!","v":{"$error":"#REF!"}},{"$f":"'Horário Geral (Semana 2)'!#REF!","v":{"$error":"#REF!"}},{"$f":"'Horário Geral (Semana 2)'!#REF!","v":{"$error":"#REF!"}},{"$f":"'Horário Geral (Semana 2)'!#REF!","v":{"$error":"#REF!"}},{"$f":"'Horário Geral (Semana 2)'!#REF!","v":{"$error":"#REF!"}},{"$f":"'Horário Geral (Semana 2)'!#REF!","v":{"$error":"#REF!"}},{"$f":"'Horário Geral (Semana 2)'!#REF!","v":{"$error":"#REF!"}},{"$f":"'Horário Geral (Semana 2)'!#REF!","v":{"$error":"#REF!"}},{"$f":"'Horário Geral (Semana 2)'!#REF!","v":{"$error":"#REF!"}},{"$f":"'Horário Geral (Semana 2)'!#REF!","v":{"$error":"#REF!"}},{"$f":"'Horário Geral (Semana 2)'!#REF!","v":{"$error":"#REF!"}},{"$f":"'Horário Geral (Semana 2)'!#REF!","v":{"$error":"#REF!"}},{"$f":"'Horário Geral (Semana 2)'!#REF!","v":{"$error":"#REF!"}},{"$f":"'Horário Geral (Semana 2)'!#REF!","v":{"$error":"#REF!"}},{"$f":"'Horário Geral (Semana 2)'!#REF!","v":{"$error":"#REF!"}},{"$f":"'Horário Geral (Semana 2)'!#REF!","v":{"$error":"#REF!"}},{"$f":"'Horário Geral (Semana 2)'!#REF!","v":{"$error":"#REF!"}},{"$f":"'Horário Geral (Semana 2)'!#REF!","v":{"$error":"#REF!"}},{"$f":"'Horário Geral (Semana 2)'!#REF!","v":{"$error":"#REF!"}},{"$f":"'Horário Geral (Semana 2)'!#REF!","v":{"$error":"#REF!"}},{"$f":"'Horário Geral (Semana 2)'!#REF!","v":{"$error":"#REF!"}},{"$f":"'Horário Geral (Semana 2)'!#REF!","v":{"$error":"#REF!"}},{"$f":"'Horário Geral (Semana 2)'!#REF!","v":{"$error":"#REF!"}},{"$f":"'Horário Geral (Semana 2)'!#REF!","v":{"$error":"#REF!"}}]
[null,"5ª","16:45:00",{"$f":"'Horário Geral (Semana 2)'!#REF!","v":{"$error":"#REF!"}},{"$f":"'Horário Geral (Semana 2)'!#REF!","v":{"$error":"#REF!"}},{"$f":"'Horário Geral (Semana 2)'!#REF!","v":{"$error":"#REF!"}},{"$f":"'Horário Geral (Semana 2)'!#REF!","v":{"$error":"#REF!"}},{"$f":"'Horário Geral (Semana 2)'!#REF!","v":{"$error":"#REF!"}},{"$f":"'Horário Geral (Semana 2)'!#REF!","v":{"$error":"#REF!"}},{"$f":"'Horário Geral (Semana 2)'!#REF!","v":{"$error":"#REF!"}},{"$f":"'Horário Geral (Semana 2)'!#REF!","v":{"$error":"#REF!"}},{"$f":"'Horário Geral (Semana 2)'!#REF!","v":{"$error":"#REF!"}},{"$f":"'Horário Geral (Semana 2)'!#REF!","v":{"$error":"#REF!"}},{"$f":"'Horário Geral (Semana 2)'!#REF!","v":{"$error":"#REF!"}},{"$f":"'Horário Geral (Semana 2)'!#REF!","v":{"$error":"#REF!"}},{"$f":"'Horário Geral (Semana 2)'!#REF!","v":{"$error":"#REF!"}},{"$f":"'Horário Geral (Semana 2)'!#REF!","v":{"$error":"#REF!"}},{"$f":"'Horário Geral (Semana 2)'!#REF!","v":{"$error":"#REF!"}},{"$f":"'Horário Geral (Semana 2)'!#REF!","v":{"$error":"#REF!"}},{"$f":"'Horário Geral (Semana 2)'!#REF!","v":{"$error":"#REF!"}},{"$f":"'Horário Geral (Semana 2)'!#REF!","v":{"$error":"#REF!"}},{"$f":"'Horário Geral (Semana 2)'!#REF!","v":{"$error":"#REF!"}},{"$f":"'Horário Geral (Semana 2)'!#REF!","v":{"$error":"#REF!"}},{"$f":"'Horário Geral (Semana 2)'!#REF!","v":{"$error":"#REF!"}},{"$f":"'Horário Geral (Semana 2)'!#REF!","v":{"$error":"#REF!"}},{"$f":"'Horário Geral (Semana 2)'!#REF!","v":{"$error":"#REF!"}},{"$f":"'Horário Geral (Semana 2)'!#REF!","v":{"$error":"#REF!"}},{"$f":"'Horário Geral (Semana 2)'!#REF!","v":{"$error":"#REF!"}},{"$f":"'Horário Geral (Semana 2)'!#REF!","v":{"$error":"#REF!"}},{"$f":"'Horário Geral (Semana 2)'!#REF!","v":{"$error":"#REF!"}},{"$f":"'Horário Geral (Semana 2)'!#REF!","v":{"$error":"#REF!"}},{"$f":"'Horário Geral (Semana 2)'!#REF!","v":{"$error":"#REF!"}},{"$f":"'Horário Geral (Semana 2)'!#REF!","v":{"$error":"#REF!"}},{"$f":"'Horário Geral (Semana 2)'!#REF!","v":{"$error":"#REF!"}}]
[null,null,null,{"$f":"'Horário Geral (Semana 2)'!#REF!","v":{"$error":"#REF!"}},{"$f":"'Horário Geral (Semana 2)'!#REF!","v":{"$error":"#REF!"}},{"$f":"'Horário Geral (Semana 2)'!#REF!","v":{"$error":"#REF!"}},{"$f":"'Horário Geral (Semana 2)'!#REF!","v":{"$error":"#REF!"}},{"$f":"'Horário Geral (Semana 2)'!#REF!","v":{"$error":"#REF!"}},{"$f":"'Horário Geral (Semana 2)'!#REF!","v":{"$error":"#REF!"}},{"$f":"'Horário Geral (Semana 2)'!#REF!","v":{"$error":"#REF!"}},{"$f":"'Horário Geral (Semana 2)'!#REF!","v":{"$error":"#REF!"}},{"$f":"'Horário Geral (Semana 2)'!#REF!","v":{"$error":"#REF!"}},{"$f":"'Horário Geral (Semana 2)'!#REF!","v":{"$error":"#REF!"}},{"$f":"'Horário Geral (Semana 2)'!#REF!","v":{"$error":"#REF!"}},{"$f":"'Horário Geral (Semana 2)'!#REF!","v":{"$error":"#REF!"}},{"$f":"'Horário Geral (Semana 2)'!#REF!","v":{"$error":"#REF!"}},{"$f":"'Horário Geral (Semana 2)'!#REF!","v":{"$error":"#REF!"}},{"$f":"'Horário Geral (Semana 2)'!#REF!","v":{"$error":"#REF!"}},{"$f":"'Horário Geral (Semana 2)'!#REF!","v":{"$error":"#REF!"}},{"$f":"'Horário Geral (Semana 2)'!#REF!","v":{"$error":"#REF!"}},{"$f":"'Horário Geral (Semana 2)'!#REF!","v":{"$error":"#REF!"}},{"$f":"'Horário Geral (Semana 2)'!#REF!","v":{"$error":"#REF!"}},{"$f":"'Horário Geral (Semana 2)'!#REF!","v":{"$error":"#REF!"}},{"$f":"'Horário Geral (Semana 2)'!#REF!","v":{"$error":"#REF!"}},{"$f":"'Horário Geral (Semana 2)'!#REF!","v":{"$error":"#REF!"}},{"$f":"'Horário Geral (Semana 2)'!#REF!","v":{"$error":"#REF!"}},{"$f":"'Horário Geral (Semana 2)'!#REF!","v":{"$error":"#REF!"}},{"$f":"'Horário Geral (Semana 2)'!#REF!","v":{"$error":"#REF!"}},{"$f":"'Horário Geral (Semana 2)'!#REF!","v":{"$error":"#REF!"}},{"$f":"'Horário Geral (Semana 2)'!#REF!","v":{"$error":"#REF!"}},{"$f":"'Horário Geral (Semana 2)'!#REF!","v":{"$error":"#REF!"}},{"$f":"'Horário Geral (Semana 2)'!#REF!","v":{"$error":"#REF!"}},{"$f":"'Horário Geral (Semana 2)'!#REF!","v":{"$error":"#REF!"}},{"$f":"'Horário Geral (Semana 2)'!#REF!","v":{"$error":"#REF!"}}]
[]
[]
["NOITE"]
[]
[null,"Aula","Horário",{"$f":"'Horário Geral (Semana 2)'!#REF!","v":{"$error":"#REF!"}},{"$f":"'Horário Geral (Semana 2)'!#REF!","v":{"$error":"#REF!"}},{"$f":"'Horário Geral (Semana 2)'!#REF!","v":{"$error":"#REF!"}},{"$f":"'Horário Geral (Semana 2)'!#REF!","v":{"$error":"#REF!"}},{"$f":"'Horário Geral (Semana 2)'!#REF!","v":{"$error":"#REF!"}},{"$f":"'Horário Geral (Semana 2)'!#REF!","v":{"$error":"#REF!"}},{"$f":"'Horário Geral (Semana 2)'!#REF!","v":{"$error":"#REF!"}},{"$f":"'Horário Geral (Semana 2)'!#REF!","v":{"$error":"#REF!"}},{"$f":"'Horário Geral (Semana 2)'!#REF!","v":{"$error":"#REF!"}},{"$f":"'Horário Geral (Semana 2)'!#REF!","v":{"$error":"#REF!"}},{"$f":"'Horário Geral (Semana 2)'!#REF!","v":{"$error":"#REF!"}},{"$f":"'Horário Geral (Semana 2)'!#REF!","v":{"$error":"#REF!"}},{"$f":"'Horário Geral (Semana 2)'!#REF!","v":{"$error":"#REF!"}},{"$f":"'Horário Geral (Semana 2)'!#REF!","v":{"$error":"#REF!"}},{"$f":"'Horário Geral (Semana 2)'!#REF!","v":{"$error":"#REF!"}},{"$f":"'Horário Geral (Semana 2)'!#REF!","v":{"$error":"#REF!"}},{"$f":"'Horário Geral (Semana 2)'!#REF!","v":{"$error":"#REF!"}},{"$f":"'Horário Geral (Semana 2)'!#REF!","v":{"$error":"#REF!"}},{"$f":"'Horário Geral (Semana 2)'!#REF!","v":{"$error":"#REF!"}},{"$f":"'Horário Geral (Semana 2)'!#REF!","v":{"$error":"#REF!"}},{"$f":"'Horário Geral (Semana 2)'!#REF!","v":{"$error":"#REF!"}},{"$f":"'Horário Geral (Semana 2)'!#REF!","v":{"$error":"#REF!"}},{"$f":"'Horário Geral (Semana 2)'!#REF!","v":{"$error":"#REF!"}},{"$f":"'Horário Geral (Semana 2)'!#REF!","v":{"$error":"#REF!"}},{"$f":"'Horário Geral (Semana 2)'!#REF!","v":{"$error":"#REF!"}},{"$f":"'Horário Geral (Semana 2)'!#REF!","v":{"$error":"#REF!"}},{"$f":"'Horário Geral (Semana 2)'!#REF!","v":{"$error":"#REF!"}},{"$f":"'Horário Geral (Semana 2)'!#REF!","v":{"$error":"#REF!"}},{"$f":"'Horário Geral (Semana 2)'!#REF!","v":{"$error":"#REF!"}},{"$f":"'Horário Geral (Semana 2)'!#REF!","v":{"$error":"#REF!"}},{"$f":"'Horário Geral (Semana 2)'!#REF!","v":{"$error":"#REF!"}}]
["SEG","1ª","18:10:00",{"$f":"'Horário Geral (Semana 2)'!#REF!","v":{"$error":"#REF!"}},{"$f":"'Horário Geral (Semana 2)'!#REF!","v":{"$error":"#REF!"}},{"$f":"'Horário Geral (Semana 2)'!#REF!","v":{"$error":"#REF!"}},{"$f":"'Horário Geral (Semana 2)'!#REF!","v":{"$error":"#REF!"}},{"$f":"'Horário Geral (Semana 2)'!#REF!","v":{"$error":"#REF!"}},{"$f":"'Horário Geral (Semana 2)'!#REF!","v":{"$error":"#REF!"}},{"$f":"'Horário Geral (Semana 2)'!#REF!","v":{"$error":"#REF!"}},{"$f":"'Horário Geral (Semana 2)'!#REF!","v":{"$error":"#REF!"}},{"$f":"'Horário Geral (Semana 2)'!#REF!","v":{"$error":"#REF!"}},{"$f":"'Horário Geral (Semana 2)'!#REF!","v":{"$error":"#REF!"}},{"$f":"'Horário Geral (Semana 2)'!#REF!","v":{"$error":"#REF!"}},{"$f":"'Horário Geral (Semana 2)'!#REF!","v":{"$error":"#REF!"}},{"$f":"'Horário Geral (Semana 2)'!#REF!","v":{"$error":"#REF!"}},{"$f":"'Horário Geral (Semana 2)'!#REF!","v":{"$error":"#REF!"}},{"$f":"'Horário Geral (Semana 2)'!#REF!","v":{"$error":"#REF!"}},{"$f":"'Horário Geral (Semana 2)'!#REF!","v":{"$error":"#REF!"}},{"$f":"'Horário Geral (Semana 2)'!#REF!","v":{"$error":"#REF!"}},{"$f":"'Horário Geral (Semana 2)'!#REF!","v":{"$error":"#REF!"}},{"$f":"'Horário Geral (Semana 2)'!#REF!","v":{"$error":"#REF!"}},{"$f":"'Horário Geral (Semana 2)'!#REF!","v":{"$error":"#REF!"}},{"$f":"'Horário Geral (Semana 2)'!#REF!","v":{"$error":"#REF!"}},{"$f":"'Horário Geral (Semana 2)'!#REF!","v":{"$error":"#REF!"}},{"$f":"'Horário Geral (Semana 2)'!#REF!","v":{"$error":"#REF!"}},{"$f":"'Horário Geral (Semana 2)'!#REF!","v":{"$error":"#REF!"}},{"$f":"'Horário Geral (Semana 2)'!#REF!","v":{"$error":"#REF!"}},{"$f":"'Horário Geral (Semana 2)'!#REF!","v":{"$error":"#REF!"}},{"$f":"'Horário Geral (Semana 2)'!#REF!","v":{"$error":"#REF!"}},{"$f":"'Horário Geral (Semana 2)'!#REF!","v":{"$error":"#REF!"}},{"$f":"'Horário Geral (Semana 2)'!#REF!","v":{"$error":"#REF!"}},{"$f":"'Horário Geral (Semana 2)'!#REF!","v":{"$error":"#REF!"}},{"$f":"'Horário Geral (Semana 2)'!#REF!","v":{"$error":"#REF!"}}]
[null,"2ª","19:00:00",{"$f":"'Horário Geral (Semana 2)'!#REF!","v":{"$error":"#REF!"}},{"$f":"'Horário Geral (Semana 2)'!#REF!","v":{"$error":"#REF!"}},{"$f":"'Horário Geral (Semana 2)'!#REF!","v":{"$error":"#REF!"}},{"$f":"'Horário Geral (Semana 2)'!#REF!","v":{"$error":"#REF!"}},{"$f":"'Horário Geral (Semana 2)'!#REF!","v":{"$error":"#REF!"}},{"$f":"'Horário Geral (Semana 2)'!#REF!","v":{"$error":"#REF!"}},{"$f":"'Horário Geral (Semana 2)'!#REF!","v":{"$error":"#REF!"}},{"$f":"'Horário Geral (Semana 2)'!#REF!","v":{"$error":"#REF!"}},{"$f":"'Horário Geral (Semana 2)'!#REF!","v":{"$error":"#REF!"}},{"$f":"'Horário Geral (Semana 2)'!#REF!","v":{"$error":"#REF!"}},{"$f":"'Horário Geral (Semana 2)'!#REF!","v":{"$error":"#REF!"}},{"$f":"'Horário Geral (Semana 2)'!#REF!","v":{"$error":"#REF!"}},{"$f":"'Horário Geral (Semana 2)'!#REF!","v":{"$error":"#REF!"}},{"$f":"'Horário Geral (Semana 2)'!#REF!","v":{"$error":"#REF!"}},{"$f":"'Horário Geral (Semana 2)'!#REF!","v":{"$error":"#REF!"}},{"$f":"'Horário Geral (Semana 2)'!#REF!","v":{"$error":"#REF!"}},{"$f":"'Horário Geral (Semana 2)'!#REF!","v":{"$error":"#REF!"}},{"$f":"'Horário Geral (Semana 2)'!#REF!","v":{"$error":"#REF!"}},{"$f":"'Horário Geral (Semana 2)'!#REF!","v":{"$error":"#REF!"}},{"$f":"'Horário Geral (Semana 2)'!#REF!","v":{"$error":"#REF!"}},{"$f":"'Horário Geral (Semana 2)'!#REF!","v":{"$error":"#REF!"}},{"$f":"'Horário Geral (Semana 2)'!#REF!","v":{"$error":"#REF!"}},{"$f":"'Horário Geral (Semana 2)'!#REF!","v":{"$error":"#REF!"}},{"$f":"'Horário Geral (Semana 2)'!#REF!","v":{"$error":"#REF!"}},{"$f":"'Horário Geral (Semana 2)'!#REF!","v":{"$error":"#REF!"}},{"$f":"'Horário Geral (Semana 2)'!#REF!","v":{"$error":"#REF!"}},{"$f":"'Horário Geral (Semana 2)'!#REF!","v":{"$error":"#REF!"}},{"$f":"'Horário Geral (Semana 2)'!#REF!","v":{"$error":"#REF!"}},{"$f":"'Horário Geral (Semana 2)'!#REF!","v":{"$error":"#REF!"}},{"$f":"'Horário Geral (Semana 2)'!#REF!","v":{"$error":"#REF!"}},{"$f":"'Horário Geral (Semana 2)'!#REF!","v":{"$error":"#REF!"}}]
[null,"3ª","19:50:00",{"$f":"'Horário Geral (Semana 2)'!#REF!","v":{"$error":"#REF!"}},{"$f":"'Horário Geral (Semana 2)'!#REF!","v":{"$error":"#REF!"}},{"$f":"'Horário Geral (Semana 2)'!#REF!","v":{"$error":"#REF!"}},{"$f":"'Horário Geral (Semana 2)'!#REF!","v":{"$error":"#REF!"}},{"$f":"'Horário Geral (Semana 2)'!#REF!","v":{"$error":"#REF!"}},{"$f":"'Horário Geral (Semana 2)'!#REF!","v":{"$error":"#REF!"}},{"$f":"'Horário Geral (Semana 2)'!#REF!","v":{"$error":"#REF!"}},{"$f":"'Horário Geral (Semana 2)'!#REF!","v":{"$error":"#REF!"}},{"$f":"'Horário Geral (Semana 2)'!#REF!","v":{"$error":"#REF!"}},{"$f":"'Horário Geral (Semana 2)'!#REF!","v":{"$error":"#REF!"}},{"$f":"'Horário Geral (Semana 2)'!#REF!","v":{"$error":"#REF!"}},{"$f":"'Horário Geral (Semana 2)'!#REF!","v":{"$error":"#REF!"}},{"$f":"'Horário Geral (Semana 2)'!#REF!","v":{"$error":"#REF!"}},{"$f":"'Horário Geral (Semana 2)'!#REF!","v":{"$error":"#REF!"}},{"$f":"'Horário Geral (Semana 2)'!#REF!","v":{"$error":"#REF!"}},{"$f":"'Horário Geral (Semana 2)'!#REF!","v":{"$error":"#REF!"}},{"$f":"'Horário Geral (Semana 2)'!#REF!","v":{"$error":"#REF!"}},{"$f":"'Horário Geral (Semana 2)'!#REF!","v":{"$error":"#REF!"}},{"$f":"'Horário Geral (Semana 2)'!#REF!","v":{"$error":"#REF!"}},{"$f":"'Horário Geral (Semana 2)'!#REF!","v":{"$error":"#REF!"}},{"$f":"'Horário Geral (Semana 2)'!#REF!","v":{"$error":"#REF!"}},{"$f":"'Horário Geral (Semana 2)'!#REF!","v":{"$error":"#REF!"}},{"$f":"'Horário Geral (Semana 2)'!#REF!","v":{"$error":"#REF!"}},{"$f":"'Horário Geral (Semana 2)'!#REF!","v":{"$error":"#REF!"}},{"$f":"'Horário Geral (Semana 2)'!#REF!","v":{"$error":"#REF!"}},{"$f":"'Horário Geral (Semana 2)'!#REF!","v":{"$error":"#REF!"}},{"$f":"'Horário Geral (Semana 2)'!#REF!","v":{"$error":"#REF!"}},{"$f":"'Horário Geral (Semana 2)'!#REF!","v":{"$error":"#REF!"}},{"$f":"'Horário Geral (Semana 2)'!#REF!","v":{"$error":"#REF!"}},{"$f":"'Horário Geral (Semana 2)'!#REF!","v":{"$error":"#REF!"}},{"$f":"'Horário Geral (Semana 2)'!#REF!","v":{"$error":"#REF!"}}]
[null,"4ª","20:55:00",{"$f":"'Horário Geral (Semana 2)'!#REF!","v":{"$error":"#REF!"}},{"$f":"'Horário Geral (Semana 2)'!#REF!","v":{"$error":"#REF!"}},{"$f":"'Horário Geral (Semana 2)'!#REF!","v":{"$error":"#REF!"}},{"$f":"'Horário Geral (Semana 2)'!#REF!","v":{"$error":"#REF!"}},{"$f":"'Horário Geral (Semana 2)'!#REF!","v":{"$error":"#REF!"}},{"$f":"'Horário Geral (Semana 2)'!#REF!","v":{"$error":"#REF!"}},{"$f":"'Horário Geral (Semana 2)'!#REF!","v":{"$error":"#REF!"}},{"$f":"'Horário Geral (Semana 2)'!#REF!","v":{"$error":"#REF!"}},{"$f":"'Horário Geral (Semana 2)'!#REF!","v":{"$error":"#REF!"}},{"$f":"'Horário Geral (Semana 2)'!#REF!","v":{"$error":"#REF!"}},{"$f":"'Horário Geral (Semana 2)'!#REF!","v":{"$error":"#REF!"}},{"$f":"'Horário Geral (Semana 2)'!#REF!","v":{"$error":"#REF!"}},{"$f":"'Horário Geral (Semana 2)'!#REF!","v":{"$error":"#REF!"}},{"$f":"'Horário Geral (Semana 2)'!#REF!","v":{"$error":"#REF!"}},{"$f":"'Horário Geral (Semana 2)'!#REF!","v":{"$error":"#REF!"}},{"$f":"'Horário Geral (Semana 2)'!#REF!","v":{"$error":"#REF!"}},{"$f":"'Horário Geral (Semana 2)'!#REF!","v":{"$error":"#REF!"}},{"$f":"'Horário Geral (Semana 2)'!#REF!","v":{"$error":"#REF!"}},{"$f":"'Horário Geral (Semana 2)'!#REF!","v":{"$error":"#REF!"}},{"$f":"'Horário Geral (Semana 2)'!#REF!","v":{"$error":"#REF!"}},{"$f":"'Horário Geral (Semana 2)'!#REF!","v":{"$error":"#REF!"}},{"$f":"'Horário Geral (Semana 2)'!#REF!","v":{"$error":"#REF!"}},{"$f":"'Horário Geral (Semana 2)'!#REF!","v":{"$error":"#REF!"}},{"$f":"'Horário Geral (Semana 2)'!#REF!","v":{"$error":"#REF!"}},{"$f":"'Horário Geral (Semana 2)'!#REF!","v":{"$error":"#REF!"}},{"$f":"'Horário Geral (Semana 2)'!#REF!","v":{"$error":"#REF!"}},{"$f":"'Horário Geral (Semana 2)'!#REF!","v":{"$error":"#REF!"}},{"$f":"'Horário Geral (Semana 2)'!#REF!","v":{"$error":"#REF!"}},{"$f":"'Horário Geral (Semana 2)'!#REF!","v":{"$error":"#REF!"}},{"$f":"'Horário Geral (Semana 2)'!#REF!","v":{"$error":"#REF!"}},{"$f":"'Horário Geral (Semana 2)'!#REF!","v":{"$error":"#REF!"}}]
[null,"5ª","21:45:00",{"$f":"'Horário Geral (Semana 2)'!#REF!","v":{"$error":"#REF!"}},{"$f":"'Horário Geral (Semana 2)'!#REF!","v":{"$error":"#REF!"}},{"$f":"'Horário Geral (Semana 2)'!#REF!","v":{"$error":"#REF!"}},{"$f":"'Horário Geral (Semana 2)'!#REF!","v":{"$error":"#REF!"}},{"$f":"'Horário Geral (Semana 2)'!#REF!","v":{"$error":"#REF!"}},{"$f":"'Horário Geral (Semana 2)'!#REF!","v":{"$error":"#REF!"}},{"$f":"'Horário Geral (Semana 2)'!#REF!","v":{"$error":"#REF!"}},{"$f":"'Horário Geral (Semana 2)'!#REF!","v":{"$error":"#REF!"}},{"$f":"'Horário Geral (Semana 2)'!#REF!","v":{"$error":"#REF!"}},{"$f":"'Horário Geral (Semana 2)'!#REF!","v":{"$error":"#REF!"}},{"$f":"'Horário Geral (Semana 2)'!#REF!","v":{"$error":"#REF!"}},{"$f":"'Horário Geral (Semana 2)'!#REF!","v":{"$error":"#REF!"}},{"$f":"'Horário Geral (Semana 2)'!#REF!","v":{"$error":"#REF!"}},{"$f":"'Horário Geral (Semana 2)'!#REF!","v":{"$error":"#REF!"}},{"$f":"'Horário Geral (Semana 2)'!#REF!","v":{"$error":"#REF!"}},{"$f":"'Horário Geral (Semana 2)'!#REF!","v":{"$error":"#REF!"}},{"$f":"'Horário Geral (Semana 2)'!#REF!","v":{"$error":"#REF!"}},{"$f":"'Horário Geral (Semana 2)'!#REF!","v":{"$error":"#REF!"}},{"$f":"'Horário Geral (Semana 2)'!#REF!","v":{"$error":"#REF!"}},{"$f":"'Horário Geral (Semana 2)'!#REF!","v":{"$error":"#REF!"}},{"$f":"'Horário Geral (Semana 2)'!#REF!","v":{"$error":"#REF!"}},{"$f":"'Horário Geral (Semana 2)'!#REF!","v":{"$error":"#REF!"}},{"$f":"'Horário Geral (Semana 2)'!#REF!","v":{"$error":"#REF!"}},{"$f":"'Horário Geral (Semana 2)'!#REF!","v":{"$error":"#REF!"}},{"$f":"'Horário Geral (Semana 2)'!#REF!","v":{"$error":"#REF!"}},{"$f":"'Horário Geral (Semana 2)'!#REF!","v":{"$error":"#REF!"}},{"$f":"'Horário Geral (Semana 2)'!#REF!","v":{"$error":"#REF!"}},{"$f":"'Horário Geral (Semana 2)'!#REF!","v":{"$error":"#REF!"}},{"$f":"'Horário Geral (Semana 2)'!#REF!","v":{"$error":"#REF!"}},{"$f":"'Horário Geral (Semana 2)'!#REF!","v":{"$error":"#REF!"}},{"$f":"'Horário Geral (Semana 2)'!#REF!","v":{"$error":"#REF!"}}]
[null,"6º","22:35:00",{"$f":"'Horário Geral (Semana 2)'!#REF!","v":{"$error":"#REF!"}},{"$f":"'Horário Geral (Semana 2)'!#REF!","v":{"$error":"#REF!"}},{"$f":"'Horário Geral (Semana 2)'!#REF!","v":{"$error":"#REF!"}},{"$f":"'Horário Geral (Semana 2)'!#REF!","v":{"$error":"#REF!"}},{"$f":"'Horário Geral (Semana 2)'!#REF!","v":{"$error":"#REF!"}},{"$f":"'Horário Geral (Semana 2)'!#REF!","v":{"$error":"#REF!"}},{"$f":"'Horário Geral (Semana 2)'!#REF!","v":{"$error":"#REF!"}},{"$f":"'Horário Geral (Semana 2)'!#REF!","v":{"$error":"#REF!"}},{"$f":"'Horário Geral (Semana 2)'!#REF!","v":{"$error":"#REF!"}},{"$f":"'Horário Geral (Semana 2)'!#REF!","v":{"$error":"#REF!"}},{"$f":"'Horário Geral (Semana 2)'!#REF!","v":{"$error":"#REF!"}},{"$f":"'Horário Geral (Semana 2)'!#REF!","v":{"$error":"#REF!"}},{"$f":"'Horário Geral (Semana 2)'!#REF!","v":{"$error":"#REF!"}},{"$f":"'Horário Geral (Semana 2)'!#REF!","v":{"$error":"#REF!"}},{"$f":"'Horário Geral (Semana 2)'!#REF!","v":{"$error":"#REF!"}},{"$f":"'Horário Geral (Semana 2)'!#REF!","v":{"$error":"#REF!"}},{"$f":"'Horário Geral (Semana 2)'!#REF!","v":{"$error":"#REF!"}},{"$f":"'Horário Geral (Semana 2)'!#REF!","v":{"$error":"#REF!"}},{"$f":"'Horário Geral (Semana 2)'!#REF!","v":{"$error":"#REF!"}},{"$f":"'Horário Geral (Semana 2)'!#REF!","v":{"$error":"#REF!"}},{"$f":"'Horário Geral (Semana 2)'!#REF!","v":{"$error":"#REF!"}},{"$f":"'Horário Geral (Semana 2)'!#REF!","v":{"$error":"#REF!"}},{"$f":"'Horário Geral (Semana 2)'!#REF!","v":{"$error":"#REF!"}},{"$f":"'Horário Geral (Semana 2)'!#REF!","v":{"$error":"#REF!"}},{"$f":"'Horário Geral (Semana 2)'!#REF!","v":{"$error":"#REF!"}},{"$f":"'Horário Geral (Semana 2)'!#REF!","v":{"$error":"#REF!"}},{"$f":"'Horário Geral (Semana 2)'!#REF!","v":{"$error":"#REF!"}},{"$f":"'Horário Geral (Semana 2)'!#REF!","v":{"$error":"#REF!"}},{"$f":"'Horário Geral (Semana 2)'!#REF!","v":{"$error":"#REF!"}},{"$f":"'Horário Geral (Semana 2)'!#REF!","v":{"$error":"#REF!"}},{"$f":"'Horário Geral (Semana 2)'!#REF!","v":{"$error":"#REF!"}}]
["TER","1ª","18:10:00",{"$f":"'Horário Geral (Semana 2)'!#REF!","v":{"$error":"#REF!"}},{"$f":"'Horário Geral (Semana 2)'!#REF!","v":{"$error":"#REF!"}},{"$f":"'Horário Geral (Semana 2)'!#REF!","v":{"$error":"#REF!"}},{"$f":"'Horário Geral (Semana 2)'!#REF!","v":{"$error":"#REF!"}},{"$f":"'Horário Geral (Semana 2)'!#REF!","v":{"$error":"#REF!"}},{"$f":"'Horário Geral (Semana 2)'!#REF!","v":{"$error":"#REF!"}},{"$f":"'Horário Geral (Semana 2)'!#REF!","v":{"$error":"#REF!"}},{"$f":"'Horário Geral (Semana 2)'!#REF!","v":{"$error":"#REF!"}},{"$f":"'Horário Geral (Semana 2)'!#REF!","v":{"$error":"#REF!"}},{"$f":"'Horário Geral (Semana 2)'!#REF!","v":{"$error":"#REF!"}},{"$f":"'Horário Geral (Semana 2)'!#REF!","v":{"$error":"#REF!"}},{"$f":"'Horário Geral (Semana 2)'!#REF!","v":{"$error":"#REF!"}},{"$f":"'Horário Geral (Semana 2)'!#REF!","v":{"$error":"#REF!"}},{"$f":"'Horário Geral (Semana 2)'!#REF!","v":{"$error":"#REF!"}},{"$f":"'Horário Geral (Semana 2)'!#REF!","v":{"$error":"#REF!"}},{"$f":"'Horário Geral (Semana 2)'!#REF!","v":{"$error":"#REF!"}},{"$f":"'Horário Geral (Semana 2)'!#REF!","v":{"$error":"#REF!"}},{"$f":"'Horário Geral (Semana 2)'!#REF!","v":{"$error":"#REF!"}},{"$f":"'Horário Geral (Semana 2)'!#REF!","v":{"$error":"#REF!"}},{"$f":"'Horário Geral (Semana 2)'!#REF!","v":{"$error":"#REF!"}},{"$f":"'Horário Geral (Semana 2)'!#REF!","v":{"$error":"#REF!"}},{"$f":"'Horário Geral (Semana 2)'!#REF!","v":{"$error":"#REF!"}},{"$f":"'Horário Geral (Semana 2)'!#REF!","v":{"$error":"#REF!"}},{"$f":"'Horário Geral (Semana 2)'!#REF!","v":{"$error":"#REF!"}},{"$f":"'Horário Geral (Semana 2)'!#REF!","v":{"$error":"#REF!"}},{"$f":"'Horário Geral (Semana 2)'!#REF!","v":{"$error":"#REF!"}},{"$f":"'Horário Geral (Semana 2)'!#REF!","v":{"$error":"#REF!"}},{"$f":"'Horário Geral (Semana 2)'!#REF!","v":{"$error":"#REF!"}},{"$f":"'Horário Geral (Semana 2)'!#REF!","v":{"$error":"#REF!"}},{"$f":"'Horário Geral (Semana 2)'!#REF!","v":{"$error":"#REF!"}},{"$f":"'Horário Geral (Semana 2)'!#REF!","v":{"$error":"#REF!"}}]
[null,"2ª","19:00:00",{"$f":"'Horário Geral (Semana 2)'!#REF!","v":{"$error":"#REF!"}},{"$f":"'Horário Geral (Semana 2)'!#REF!","v":{"$error":"#REF!"}},{"$f":"'Horário Geral (Semana 2)'!#REF!","v":{"$error":"#REF!"}},{"$f":"'Horário Geral (Semana 2)'!#REF!","v":{"$error":"#REF!"}},{"$f":"'Horário Geral (Semana 2)'!#REF!","v":{"$error":"#REF!"}},{"$f":"'Horário Geral (Semana 2)'!#REF!","v":{"$error":"#REF!"}},{"$f":"'Horário Geral (Semana 2)'!#REF!","v":{"$error":"#REF!"}},{"$f":"'Horário Geral (Semana 2)'!#REF!","v":{"$error":"#REF!"}},{"$f":"'Horário Geral (Semana 2)'!#REF!","v":{"$error":"#REF!"}},{"$f":"'Horário Geral (Semana 2)'!#REF!","v":{"$error":"#REF!"}},{"$f":"'Horário Geral (Semana 2)'!#REF!","v":{"$error":"#REF!"}},{"$f":"'Horário Geral (Semana 2)'!#REF!","v":{"$error":"#REF!"}},{"$f":"'Horário Geral (Semana 2)'!#REF!","v":{"$error":"#REF!"}},{"$f":"'Horário Geral (Semana 2)'!#REF!","v":{"$error":"#REF!"}},{"$f":"'Horário Geral (Semana 2)'!#REF!","v":{"$error":"#REF!"}},{"$f":"'Horário Geral (Semana 2)'!#REF!","v":{"$error":"#REF!"}},{"$f":"'Horário Geral (Semana 2)'!#REF!","v":{"$error":"#REF!"}},{"$f":"'Horário Geral (Semana 2)'!#REF!","v":{"$error":"#REF!"}},{"$f":"'Horário Geral (Semana 2)'!#REF!","v":{"$error":"#REF!"}},{"$f":"'Horário Geral (Semana 2)'!#REF!","v":{"$error":"#REF!"}},{"$f":"'Horário Geral (Semana 2)'!#REF!","v":{"$error":"#REF!"}},{"$f":"'Horário Geral (Semana 2)'!#REF!","v":{"$error":"#REF!"}},{"$f":"'Horário Geral (Semana 2)'!#REF!","v":{"$error":"#REF!"}},{"$f":"'Horário Geral (Semana 2)'!#REF!","v":{"$error":"#REF!"}},{"$f":"'Horário Geral (Semana 2)'!#REF!","v":{"$error":"#REF!"}},{"$f":"'Horário Geral (Semana 2)'!#REF!","v":{"$error":"#REF!"}},{"$f":"'Horário Geral (Semana 2)'!#REF!","v":{"$error":"#REF!"}},{"$f":"'Horário Geral (Semana 2)'!#REF!","v":{"$error":"#REF!"}},{"$f":"'Horário Geral (Semana 2)'!#REF!","v":{"$error":"#REF!"}},{"$f":"'Horário Geral (Semana 2)'!#REF!","v":{"$error":"#REF!"}},{"$f":"'Horário Geral (Semana 2)'!#REF!","v":{"$error":"#REF!"}}]
[null,"3ª","19:50:00",{"$f":"'Horário Geral (Semana 2)'!#REF!","v":{"$error":"#REF!"}},{"$f":"'Horário Geral (Semana 2)'!#REF!","v":{"$error":"#REF!"}},{"$f":"'Horário Geral (Semana 2)'!#REF!","v":{"$error":"#REF!"}},{"$f":"'Horário Geral (Semana 2)'!#REF!","v":{"$error":"#REF!"}},{"$f":"'Horário Geral (Semana 2)'!#REF!","v":{"$error":"#REF!"}},{"$f":"'Horário Geral (Semana 2)'!#REF!","v":{"$error":"#REF!"}},{"$f":"'Horário Geral (Semana 2)'!#REF!","v":{"$error":"#REF!"}},{"$f":"'Horário Geral (Semana 2)'!#REF!","v":{"$error":"#REF!"}},{"$f":"'Horário Geral (Semana 2)'!#REF!","v":{"$error":"#REF!"}},{"$f":"'Horário Geral (Semana 2)'!#REF!","v":{"$error":"#REF!"}},{"$f":"'Horário Geral (Semana 2)'!#REF!","v":{"$error":"#REF!"}},{"$f":"'Horário Geral (Semana 2)'!#REF!","v":{"$error":"#REF!"}},{"$f":"'Horário Geral (Semana 2)'!#REF!","v":{"$error":"#REF!"}},{"$f":"'Horário Geral (Semana 2)'!#REF!","v":{"$error":"#REF!"}},{"$f":"'Horário Geral (Semana 2)'!#REF!","v":{"$error":"#REF!"}},{"$f":"'Horário Geral (Semana 2)'!#REF!","v":{"$error":"#REF!"}},{"$f":"'Horário Geral (Semana 2)'!#REF!","v":{"$error":"#REF!"}},{"$f":"'Horário Geral (Semana 2)'!#REF!","v":{"$error":"#REF!"}},{"$f":"'Horário Geral (Semana 2)'!#REF!","v":{"$error":"#REF!"}},{"$f":"'Horário Geral (Semana 2)'!#REF!","v":{"$error":"#REF!"}},{"$f":"'Horário Geral (Semana 2)'!#REF!","v":{"$error":"#REF!"}},{"$f":"'Horário Geral (Semana 2)'!#REF!","v":{"$error":"#REF!"}},{"$f":"'Horário Geral (Semana 2)'!#REF!","v":{"$error":"#REF!"}},{"$f":"'Horário Geral (Semana 2)'!#REF!","v":{"$error":"#REF!"}},{"$f":"'Horário Geral (Semana 2)'!#REF!","v":{"$error":"#REF!"}},{"$f":"'Horário Geral (Semana 2)'!#REF!","v":{"$error":"#REF!"}},{"$f":"'Horário Geral (Semana 2)'!#REF!","v":{"$error":"#REF!"}},{"$f":"'Horário Geral (Semana 2)'!#REF!","v":{"$error":"#REF!"}},{"$f":"'Horário Geral (Semana 2)'!#REF!","v":{"$error":"#REF!"}},{"$f":"'Horário Geral (Semana 2)'!#REF!","v":{"$error":"#REF!"}},{"$f":"'Horário Geral (Semana 2)'!#REF!","v":{"$error":"#REF!"}}]
[null,"4ª","20:55:00",{"$f":"'Horário Geral (Semana 2)'!#REF!","v":{"$error":"#REF!"}},{"$f":"'Horário Geral (Semana 2)'!#REF!","v":{"$error":"#REF!"}},{"$f":"'Horário Geral (Semana 2)'!#REF!","v":{"$error":"#REF!"}},{"$f":"'Horário Geral (Semana 2)'!#REF!","v":{"$error":"#REF!"}},{"$f":"'Horário Geral (Semana 2)'!#REF!","v":{"$error":"#REF!"}},{"$f":"'Horário Geral (Semana 2)'!#REF!","v":{"$error":"#REF!"}},{"$f":"'Horário Geral (Semana 2)'!#REF!","v":{"$error":"#REF!"}},{"$f":"'Horário Geral (Semana 2)'!#REF!","v":{"$error":"#REF!"}},{"$f":"'Horário Geral (Semana 2)'!#REF!","v":{"$error":"#REF!"}},{"$f":"'Horário Geral (Semana 2)'!#REF!","v":{"$error":"#REF!"}},{"$f":"'Horário Geral (Semana 2)'!#REF!","v":{"$error":"#REF!"}},{"$f":"'Horário Geral (Semana 2)'!#REF!","v":{"$error":"#REF!"}},{"$f":"'Horário Geral (Semana 2)'!#REF!","v":{"$error":"#REF!"}},{"$f":"'Horário Geral (Semana 2)'!#REF!","v":{"$error":"#REF!"}},{"$f":"'Horário Geral (Semana 2)'!#REF!","v":{"$error":"#REF!"}},{"$f":"'Horário Geral (Semana 2)'!#REF!","v":{"$error":"#REF!"}},{"$f":"'Horário Geral (Semana 2)'!#REF!","v":{"$error":"#REF!"}},{"$f":"'Horário Geral (Semana 2)'!#REF!","v":{"$error":"#REF!"}},{"$f":"'Horário Geral (Semana 2)'!#REF!","v":{"$error":"#REF!"}},{"$f":"'Horário Geral (Semana 2)'!#REF!","v":{"$error":"#REF!"}},{"$f":"'Horário Geral (Semana 2)'!#REF!","v":{"$error":"#REF!"}},{"$f":"'Horário Geral (Semana 2)'!#REF!","v":{"$error":"#REF!"}},{"$f":"'Horário Geral (Semana 2)'!#REF!","v":{"$error":"#REF!"}},{"$f":"'Horário Geral (Semana 2)'!#REF!","v":{"$error":"#REF!"}},{"$f":"'Horário Geral (Semana 2)'!#REF!","v":{"$error":"#REF!"}},{"$f":"'Horário Geral (Semana 2)'!#REF!","v":{"$error":"#REF!"}},{"$f":"'Horário Geral (Semana 2)'!#REF!","v":{"$error":"#REF!"}},{"$f":"'Horário Geral (Semana 2)'!#REF!","v":{"$error":"#REF!"}},{"$f":"'Horário Geral (Semana 2)'!#REF!","v":{"$error":"#REF!"}},{"$f":"'Horário Geral (Semana 2)'!#REF!","v":{"$error":"#REF!"}},{"$f":"'Horário Geral (Semana 2)'!#REF!","v":{"$error":"#REF!"}}]
[null,"5ª","21:45:00",{"$f":"'Horário Geral (Semana 2)'!#REF!","v":{"$error":"#REF!"}},{"$f":"'Horário Geral (Semana 2)'!#REF!","v":{"$error":"#REF!"}},{"$f":"'Horário Geral (Semana 2)'!#REF!","v":{"$error":"#REF!"}},{"$f":"'Horário Geral (Semana 2)'!#REF!","v":{"$error":"#REF!"}},{"$f":"'Horário Geral (Semana 2)'!#REF!","v":{"$error":"#REF!"}},{"$f":"'Horário Geral (Semana 2)'!#REF!","v":{"$error":"#REF!"}},{"$f":"'Horário Geral (Semana 2)'!#REF!","v":{"$error":"#REF!"}},{"$f":"'Horário Geral (Semana 2)'!#REF!","v":{"$error":"#REF!"}},{"$f":"'Horário Geral (Semana 2)'!#REF!","v":{"$error":"#REF!"}},{"$f":"'Horário Geral (Semana 2)'!#REF!","v":{"$error":"#REF!"}},{"$f":"'Horário Geral (Semana 2)'!#REF!","v":{"$error":"#REF!"}},{"$f":"'Horário Geral (Semana 2)'!#REF!","v":{"$error":"#REF!"}},{"$f":"'Horário Geral (Semana 2)'!#REF!","v":{"$error":"#REF!"}},{"$f":"'Horário Geral (Semana 2)'!#REF!","v":{"$error":"#REF!"}},{"$f":"'Horário Geral (Semana 2)'!#REF!","v":{"$error":"#REF!"}},{"$f":"'Horário Geral (Semana 2)'!#REF!","v":{"$error":"#REF!"}},{"$f":"'Horário Geral (Semana 2)'!#REF!","v":{"$error":"#REF!"}},{"$f":"'Horário Geral (Semana 2)'!#REF!","v":{"$error":"#REF!"}},{"$f":"'Horário Geral (Semana 2)'!#REF!","v":{"$error":"#REF!"}},{"$f":"'Horário Geral (Semana 2)'!#REF!","v":{"$error":"#REF!"}},{"$f":"'Horário Geral (Semana 2)'!#REF!","v":{"$error":"#REF!"}},{"$f":"'Horário Geral (Semana 2)'!#REF!","v":{"$error":"#REF!"}},{"$f":"'Horário Geral (Semana 2)'!#REF!","v":{"$error":"#REF!"}},{"$f":"'Horário Geral (Semana 2)'!#REF!","v":{"$error":"#REF!"}},{"$f":"'Horário Geral (Semana 2)'!#REF!","v":{"$error":"#REF!"}},{"$f":"'Horário Geral (Semana 2)'!#REF!","v":{"$error":"#REF!"}},{"$f":"'Horário Geral (Semana 2)'!#REF!","v":{"$error":"#REF!"}},{"$f":"'Horário Geral (Semana 2)'!#REF!","v":{"$error":"#REF!"}},{"$f":"'Horário Geral (Semana 2)'!#REF!","v":{"$error":"#REF!"}},{"$f":"'Horário Geral (Semana 2)'!#REF!","v":{"$error":"#REF!"}},{"$f":"'Horário Geral (Semana 2)'!#REF!","v":{"$error":"#REF!"}}]
[null,"6º","22:35:00",{"$f":"'Horário Geral (Semana 2)'!#REF!","v":{"$error":"#REF!"}},{"$f":"'Horário Geral (Semana 2)'!#REF!","v":{"$error":"#REF!"}},{"$f":"'Horário Geral (Semana 2)'!#REF!","v":{"$error":"#REF!"}},{"$f":"'Horário Geral (Semana 2)'!#REF!","v":{"$error":"#REF!"}},{"$f":"'Horário Geral (Semana 2)'!#REF!","v":{"$error":"#REF!"}},{"$f":"'Horário Geral (Semana 2)'!#REF!","v":{"$error":"#REF!"}},{"$f":"'Horário Geral (Semana 2)'!#REF!","v":{"$error":"#REF!"}},{"$f":"'Horário Geral (Semana 2)'!#REF!","v":{"$error":"#REF!"}},{"$f":"'Horário Geral (Semana 2)'!#REF!","v":{"$error":"#REF!"}},{"$f":"'Horário Geral (Semana 2)'!#REF!","v":{"$error":"#REF!"}},{"$f":"'Horário Geral (Semana 2)'!#REF!","v":{"$error":"#REF!"}},{"$f":"'Horário Geral (Semana 2)'!#REF!","v":{"$error":"#REF!"}},{"$f":"'Horário Geral (Semana 2)'!#REF!","v":{"$error":"#REF!"}},{"$f":"'Horário Geral (Semana 2)'!#REF!","v":{"$error":"#REF!"}},{"$f":"'Horário Geral (Semana 2)'!#REF!","v":{"$error":"#REF!"}},{"$f":"'Horário Geral (Semana 2)'!#REF!","v":{"$error":"#REF!"}},{"$f":"'Horário Geral (Semana 2)'!#REF!","v":{"$error":"#REF!"}},{"$f":"'Horário Geral (Semana 2)'!#REF!","v":{"$error":"#REF!"}},{"$f":"'Horário Geral (Semana 2)'!#REF!","v":{"$error":"#REF!"}},{"$f":"'Horário Geral (Semana 2)'!#REF!","v":{"$error":"#REF!"}},{"$f":"'Horário Geral (Semana 2)'!#REF!","v":{"$error":"#REF!"}},{"$f":"'Horário Geral (Semana 2)'!#REF!","v":{"$error":"#REF!"}},{"$f":"'Horário Geral (Semana 2)'!#REF!","v":{"$error":"#REF!"}},{"$f":"'Horário Geral (Semana 2)'!#REF!","v":{"$error":"#REF!"}},{"$f":"'Horário Geral (Semana 2)'!#REF!","v":{"$error":"#REF!"}},{"$f":"'Horário Geral (Semana 2)'!#REF!","v":{"$error":"#REF!"}},{"$f":"'Horário Geral (Semana 2)'!#REF!","v":{"$error":"#REF!"}},{"$f":"'Horário Geral (Semana 2)'!#REF!","v":{"$error":"#REF!"}},{"$f":"'Horário Geral (Semana 2)'!#REF!","v":{"$error":"#REF!"}},{"$f":"'Horário Geral (Semana 2)'!#REF!","v":{"$error":"#REF!"}},{"$f":"'Horário Geral (Semana 2)'!#REF!","v":{"$error":"#REF!"}}]
["QUA","1ª","18:10:00",{"$f":"'Horário Geral (Semana 2)'!#REF!","v":{"$error":"#REF!"}},{"$f":"'Horário Geral (Semana 2)'!#REF!","v":{"$error":"#REF!"}},{"$f":"'Horário Geral (Semana 2)'!#REF!","v":{"$error":"#REF!"}},{"$f":"'Horário Geral (Semana 2)'!#REF!","v":{"$error":"#REF!"}},{"$f":"'Horário Geral (Semana 2)'!#REF!","v":{"$error":"#REF!"}},{"$f":"'Horário Geral (Semana 2)'!#REF!","v":{"$error":"#REF!"}},{"$f":"'Horário Geral (Semana 2)'!#REF!","v":{"$error":"#REF!"}},{"$f":"'Horário Geral (Semana 2)'!#REF!","v":{"$error":"#REF!"}},{"$f":"'Horário Geral (Semana 2)'!#REF!","v":{"$error":"#REF!"}},{"$f":"'Horário Geral (Semana 2)'!#REF!","v":{"$error":"#REF!"}},{"$f":"'Horário Geral (Semana 2)'!#REF!","v":{"$error":"#REF!"}},{"$f":"'Horário Geral (Semana 2)'!#REF!","v":{"$error":"#REF!"}},{"$f":"'Horário Geral (Semana 2)'!#REF!","v":{"$error":"#REF!"}},{"$f":"'Horário Geral (Semana 2)'!#REF!","v":{"$error":"#REF!"}},{"$f":"'Horário Geral (Semana 2)'!#REF!","v":{"$error":"#REF!"}},{"$f":"'Horário Geral (Semana 2)'!#REF!","v":{"$error":"#REF!"}},{"$f":"'Horário Geral (Semana 2)'!#REF!","v":{"$error":"#REF!"}},{"$f":"'Horário Geral (Semana 2)'!#REF!","v":{"$error":"#REF!"}},{"$f":"'Horário Geral (Semana 2)'!#REF!","v":{"$error":"#REF!"}},{"$f":"'Horário Geral (Semana 2)'!#REF!","v":{"$error":"#REF!"}},{"$f":"'Horário Geral (Semana 2)'!#REF!","v":{"$error":"#REF!"}},{"$f":"'Horário Geral (Semana 2)'!#REF!","v":{"$error":"#REF!"}},{"$f":"'Horário Geral (Semana 2)'!#REF!","v":{"$error":"#REF!"}},{"$f":"'Horário Geral (Semana 2)'!#REF!","v":{"$error":"#REF!"}},{"$f":"'Horário Geral (Semana 2)'!#REF!","v":{"$error":"#REF!"}},{"$f":"'Horário Geral (Semana 2)'!#REF!","v":{"$error":"#REF!"}},{"$f":"'Horário Geral (Semana 2)'!#REF!","v":{"$error":"#REF!"}},{"$f":"'Horário Geral (Semana 2)'!#REF!","v":{"$error":"#REF!"}},{"$f":"'Horário Geral (Semana 2)'!#REF!","v":{"$error":"#REF!"}},{"$f":"'Horário Geral (Semana 2)'!#REF!","v":{"$error":"#REF!"}},{"$f":"'Horário Geral (Semana 2)'!#REF!","v":{"$error":"#REF!"}}]
[null,"2ª","19:00:00",{"$f":"'Horário Geral (Semana 2)'!#REF!","v":{"$error":"#REF!"}},{"$f":"'Horário Geral (Semana 2)'!#REF!","v":{"$error":"#REF!"}},{"$f":"'Horário Geral (Semana 2)'!#REF!","v":{"$error":"#REF!"}},{"$f":"'Horário Geral (Semana 2)'!#REF!","v":{"$error":"#REF!"}},{"$f":"'Horário Geral (Semana 2)'!#REF!","v":{"$error":"#REF!"}},{"$f":"'Horário Geral (Semana 2)'!#REF!","v":{"$error":"#REF!"}},{"$f":"'Horário Geral (Semana 2)'!#REF!","v":{"$error":"#REF!"}},{"$f":"'Horário Geral (Semana 2)'!#REF!","v":{"$error":"#REF!"}},{"$f":"'Horário Geral (Semana 2)'!#REF!","v":{"$error":"#REF!"}},{"$f":"'Horário Geral (Semana 2)'!#REF!","v":{"$error":"#REF!"}},{"$f":"'Horário Geral (Semana 2)'!#REF!","v":{"$error":"#REF!"}},{"$f":"'Horário Geral (Semana 2)'!#REF!","v":{"$error":"#REF!"}},{"$f":"'Horário Geral (Semana 2)'!#REF!","v":{"$error":"#REF!"}},{"$f":"'Horário Geral (Semana 2)'!#REF!","v":{"$error":"#REF!"}},{"$f":"'Horário Geral (Semana 2)'!#REF!","v":{"$error":"#REF!"}},{"$f":"'Horário Geral (Semana 2)'!#REF!","v":{"$error":"#REF!"}},{"$f":"'Horário Geral (Semana 2)'!#REF!","v":{"$error":"#REF!"}},{"$f":"'Horário Geral (Semana 2)'!#REF!","v":{"$error":"#REF!"}},{"$f":"'Horário Geral (Semana 2)'!#REF!","v":{"$error":"#REF!"}},{"$f":"'Horário Geral (Semana 2)'!#REF!","v":{"$error":"#REF!"}},{"$f":"'Horário Geral (Semana 2)'!#REF!","v":{"$error":"#REF!"}},{"$f":"'Horário Geral (Semana 2)'!#REF!","v":{"$error":"#REF!"}},{"$f":"'Horário Geral (Semana 2)'!#REF!","v":{"$error":"#REF!"}},{"$f":"'Horário Geral (Semana 2)'!#REF!","v":{"$error":"#REF!"}},{"$f":"'Horário Geral (Semana 2)'!#REF!","v":{"$error":"#REF!"}},{"$f":"'Horário Geral (Semana 2)'!#REF!","v":{"$error":"#REF!"}},{"$f":"'Horário Geral (Semana 2)'!#REF!","v":{"$error":"#REF!"}},{"$f":"'Horário Geral (Semana 2)'!#REF!","v":{"$error":"#REF!"}},{"$f":"'Horário Geral (Semana 2)'!#REF!","v":{"$error":"#REF!"}},{"$f":"'Horário Geral (Semana 2)'!#REF!","v":{"$error":"#REF!"}},{"$f":"'Horário Geral (Semana 2)'!#REF!","v":{"$error":"#REF!"}}]
[null,"3ª","19:50:00",{"$f":"'Horário Geral (Semana 2)'!#REF!","v":{"$error":"#REF!"}},{"$f":"'Horário Geral (Semana 2)'!#REF!","v":{"$error":"#REF!"}},{"$f":"'Horário Geral (Semana 2)'!#REF!","v":{"$error":"#REF!"}},{"$f":"'Horário Geral (Semana 2)'!#REF!","v":{"$error":"#REF!"}},{"$f":"'Horário Geral (Semana 2)'!#REF!","v":{"$error":"#REF!"}},{"$f":"'Horário Geral (Semana 2)'!#REF!","v":{"$error":"#REF!"}},{"$f":"'Horário Geral (Semana 2)'!#REF!","v":{"$error":"#REF!"}},{"$f":"'Horário Geral (Semana 2)'!#REF!","v":{"$error":"#REF!"}},{"$f":"'Horário Geral (Semana 2)'!#REF!","v":{"$error":"#REF!"}},{"$f":"'Horário Geral (Semana 2)'!#REF!","v":{"$error":"#REF!"}},{"$f":"'Horário Geral (Semana 2)'!#REF!","v":{"$error":"#REF!"}},{"$f":"'Horário Geral (Semana 2)'!#REF!","v":{"$error":"#REF!"}},{"$f":"'Horário Geral (Semana 2)'!#REF!","v":{"$error":"#REF!"}},{"$f":"'Horário Geral (Semana 2)'!#REF!","v":{"$error":"#REF!"}},{"$f":"'Horário Geral (Semana 2)'!#REF!","v":{"$error":"#REF!"}},{"$f":"'Horário Geral (Semana 2)'!#REF!","v":{"$error":"#REF!"}},{"$f":"'Horário Geral (Semana 2)'!#REF!","v":{"$error":"#REF!"}},{"$f":"'Horário Geral (Semana 2)'!#REF!","v":{"$error":"#REF!"}},{"$f":"'Horário Geral (Semana 2)'!#REF!","v":{"$error":"#REF!"}},{"$f":"'Horário Geral (Semana 2)'!#REF!","v":{"$error":"#REF!"}},{"$f":"'Horário Geral (Semana 2)'!#REF!","v":{"$error":"#REF!"}},{"$f":"'Horário Geral (Semana 2)'!#REF!","v":{"$error":"#REF!"}},{"$f":"'Horário Geral (Semana 2)'!#REF!","v":{"$error":"#REF!"}},{"$f":"'Horário Geral (Semana 2)'!#REF!","v":{"$error":"#REF!"}},{"$f":"'Horário Geral (Semana 2)'!#REF!","v":{"$error":"#REF!"}},{"$f":"'Horário Geral (Semana 2)'!#REF!","v":{"$error":"#REF!"}},{"$f":"'Horário Geral (Semana 2)'!#REF!","v":{"$error":"#REF!"}},{"$f":"'Horário Geral (Semana 2)'!#REF!","v":{"$error":"#REF!"}},{"$f":"'Horário Geral (Semana 2)'!#REF!","v":{"$error":"#REF!"}},{"$f":"'Horário Geral (Semana 2)'!#REF!","v":{"$error":"#REF!"}},{"$f":"'Horário Geral (Semana 2)'!#REF!","v":{"$error":"#REF!"}}]
[null,"4ª","20:55:00",{"$f":"'Horário Geral (Semana 2)'!#REF!","v":{"$error":"#REF!"}},{"$f":"'Horário Geral (Semana 2)'!#REF!","v":{"$error":"#REF!"}},{"$f":"'Horário Geral (Semana 2)'!#REF!","v":{"$error":"#REF!"}},{"$f":"'Horário Geral (Semana 2)'!#REF!","v":{"$error":"#REF!"}},{"$f":"'Horário Geral (Semana 2)'!#REF!","v":{"$error":"#REF!"}},{"$f":"'Horário Geral (Semana 2)'!#REF!","v":{"$error":"#REF!"}},{"$f":"'Horário Geral (Semana 2)'!#REF!","v":{"$error":"#REF!"}},{"$f":"'Horário Geral (Semana 2)'!#REF!","v":{"$error":"#REF!"}},{"$f":"'Horário Geral (Semana 2)'!#REF!","v":{"$error":"#REF!"}},{"$f":"'Horário Geral (Semana 2)'!#REF!","v":{"$error":"#REF!"}},{"$f":"'Horário Geral (Semana 2)'!#REF!","v":{"$error":"#REF!"}},{"$f":"'Horário Geral (Semana 2)'!#REF!","v":{"$error":"#REF!"}},{"$f":"'Horário Geral (Semana 2)'!#REF!","v":{"$error":"#REF!"}},{"$f":"'Horário Geral (Semana 2)'!#REF!","v":{"$error":"#REF!"}},{"$f":"'Horário Geral (Semana 2)'!#REF!","v":{"$error":"#REF!"}},{"$f":"'Horário Geral (Semana 2)'!#REF!","v":{"$error":"#REF!"}},{"$f":"'Horário Geral (Semana 2)'!#REF!","v":{"$error":"#REF!"}},{"$f":"'Horário Geral (Semana 2)'!#REF!","v":{"$error":"#REF!"}},{"$f":"'Horário Geral (Semana 2)'!#REF!","v":{"$error":"#REF!"}},{"$f":"'Horário Geral (Semana 2)'!#REF!","v":{"$error":"#REF!"}},{"$f":"'Horário Geral (Semana 2)'!#REF!","v":{"$error":"#REF!"}},{"$f":"'Horário Geral (Semana 2)'!#REF!","v":{"$error":"#REF!"}},{"$f":"'Horário Geral (Semana 2)'!#REF!","v":{"$error":"#REF!"}},{"$f":"'Horário Geral (Semana 2)'!#REF!","v":{"$error":"#REF!"}},{"$f":"'Horário Geral (Semana 2)'!#REF!","v":{"$error":"#REF!"}},{"$f":"'Horário Geral (Semana 2)'!#REF!","v":{"$error":"#REF!"}},{"$f":"'Horário Geral (Semana 2)'!#REF!","v":{"$error":"#REF!"}},{"$f":"'Horário Geral (Semana 2)'!#REF!","v":{"$error":"#REF!"}},{"$f":"'Horário Geral (Semana 2)'!#REF!","v":{"$error":"#REF!"}},{"$f":"'Horário Geral (Semana 2)'!#REF!","v":{"$error":"#REF!"}},{"$f":"'Horário Geral (Semana 2)'!#REF!","v":{"$error":"#REF!"}}]
[null,"5ª","21:45:00",{"$f":"'Horário Geral (Semana 2)'!#REF!","v":{"$error":"#REF!"}},{"$f":"'Horário Geral (Semana 2)'!#REF!","v":{"$error":"#REF!"}},{"$f":"'Horário Geral (Semana 2)'!#REF!","v":{"$error":"#REF!"}},{"$f":"'Horário Geral (Semana 2)'!#REF!","v":{"$error":"#REF!"}},{"$f":"'Horário Geral (Semana 2)'!#REF!","v":{"$error":"#REF!"}},{"$f":"'Horário Geral (Semana 2)'!#REF!","v":{"$error":"#REF!"}},{"$f":"'Horário Geral (Semana 2)'!#REF!","v":{"$error":"#REF!"}},{"$f":"'Horário Geral (Semana 2)'!#REF!","v":{"$error":"#REF!"}},{"$f":"'Horário Geral (Semana 2)'!#REF!","v":{"$error":"#REF!"}},{"$f":"'Horário Geral (Semana 2)'!#REF!","v":{"$error":"#REF!"}},{"$f":"'Horário Geral (Semana 2)'!#REF!","v":{"$error":"#REF!"}},{"$f":"'Horário Geral (Semana 2)'!#REF!","v":{"$error":"#REF!"}},{"$f":"'Horário Geral (Semana 2)'!#REF!","v":{"$error":"#REF!"}},{"$f":"'Horário Geral (Semana 2)'!#REF!","v":{"$error":"#REF!"}},{"$f":"'Horário Geral (Semana 2)'!#REF!","v":{"$error":"#REF!"}},{"$f":"'Horário Geral (Semana 2)'!#REF!","v":{"$error":"#REF!"}},{"$f":"'Horário Geral (Semana 2)'!#REF!","v":{"$error":"#REF!"}},{"$f":"'Horário Geral (Semana 2)'!#REF!","v":{"$error":"#REF!"}},{"$f":"'Horário Geral (Semana 2)'!#REF!","v":{"$error":"#REF!"}},{"$f":"'Horário Geral (Semana 2)'!#REF!","v":{"$error":"#REF!"}},{"$f":"'Horário Geral (Semana 2)'!#REF!","v":{"$error":"#REF!"}},{"$f":"'Horário Geral (Semana 2)'!#REF!","v":{"$error":"#REF!"}},{"$f":"'Horário Geral (Semana 2)'!#REF!","v":{"$error":"#REF!"}},{"$f":"'Horário Geral (Semana 2)'!#REF!","v":{"$error":"#REF!"}},{"$f":"'Horário Geral (Semana 2)'!#REF!","v":{"$error":"#REF!"}},{"$f":"'Horário Geral (Semana 2)'!#REF!","v":{"$error":"#REF!"}},{"$f":"'Horário Geral (Semana 2)'!#REF!","v":{"$error":"#REF!"}},{"$f":"'Horário Geral (Semana 2)'!#REF!","v":{"$error":"#REF!"}},{"$f":"'Horário Geral (Semana 2)'!#REF!","v":{"$error":"#REF!"}},{"$f":"'Horário Geral (Semana 2)'!#REF!","v":{"$error":"#REF!"}},{"$f":"'Horário Geral (Semana 2)'!#REF!","v":{"$error":"#REF!"}}]
[null,"6º","22:35:00",{"$f":"'Horário Geral (Semana 2)'!#REF!","v":{"$error":"#REF!"}},{"$f":"'Horário Geral (Semana 2)'!#REF!","v":{"$error":"#REF!"}},{"$f":"'Horário Geral (Semana 2)'!#REF!","v":{"$error":"#REF!"}},{"$f":"'Horário Geral (Semana 2)'!#REF!","v":{"$error":"#REF!"}},{"$f":"'Horário Geral (Semana 2)'!#REF!","v":{"$error":"#REF!"}},{"$f":"'Horário Geral (Semana 2)'!#REF!","v":{"$error":"#REF!"}},{"$f":"'Horário Geral (Semana 2)'!#REF!","v":{"$error":"#REF!"}},{"$f":"'Horário Geral (Semana 2)'!#REF!","v":{"$error":"#REF!"}},{"$f":"'Horário Geral (Semana 2)'!#REF!","v":{"$error":"#REF!"}},{"$f":"'Horário Geral (Semana 2)'!#REF!","v":{"$error":"#REF!"}},{"$f":"'Horário Geral (Semana 2)'!#REF!","v":{"$error":"#REF!"}},{"$f":"'Horário Geral (Semana 2)'!#REF!","v":{"$error":"#REF!"}},{"$f":"'Horário Geral (Semana 2)'!#REF!","v":{"$error":"#REF!"}},{"$f":"'Horário Geral (Semana 2)'!#REF!","v":{"$error":"#REF!"}},{"$f":"'Horário Geral (Semana 2)'!#REF!","v":{"$error":"#REF!"}},{"$f":"'Horário Geral (Semana 2)'!#REF!","v":{"$error":"#REF!"}},{"$f":"'Horário Geral (Semana 2)'!#REF!","v":{"$error":"#REF!"}},{"$f":"'Horário Geral (Semana 2)'!#REF!","v":{"$error":"#REF!"}},{"$f":"'Horário Geral (Semana 2)'!#REF!","v":{"$error":"#REF!"}},{"$f":"'Horário Geral (Semana 2)'!#REF!","v":{"$error":"#REF!"}},{"$f":"'Horário Geral (Semana 2)'!#REF!","v":{"$error":"#REF!"}},{"$f":"'Horário Geral (Semana 2)'!#REF!","v":{"$error":"#REF!"}},{"$f":"'Horário Geral (Semana 2)'!#REF!","v":{"$error":"#REF!"}},{"$f":"'Horário Geral (Semana 2)'!#REF!","v":{"$error":"#REF!"}},{"$f":"'Horário Geral (Semana 2)'!#REF!","v":{"$error":"#REF!"}},{"$f":"'Horário Geral (Semana 2)'!#REF!","v":{"$error":"#REF!"}},{"$f":"'Horário Geral (Semana 2)'!#REF!","v":{"$error":"#REF!"}},{"$f":"'Horário Geral (Semana 2)'!#REF!","v":{"$error":"#REF!"}},{"$f":"'Horário Geral (Semana 2)'!#REF!","v":{"$error":"#REF!"}},{"$f":"'Horário Geral (Semana 2)'!#REF!","v":{"$error":"#REF!"}},{"$f":"'Horário Geral (Semana 2)'!#REF!","v":{"$error":"#REF!"}}]
["QUI","1ª","18:10:00",{"$f":"'Horário Geral (Semana 2)'!#REF!","v":{"$error":"#REF!"}},{"$f":"'Horário Geral (Semana 2)'!#REF!","v":{"$error":"#REF!"}},{"$f":"'Horário Geral (Semana 2)'!#REF!","v":{"$error":"#REF!"}},{"$f":"'Horário Geral (Semana 2)'!#REF!","v":{"$error":"#REF!"}},{"$f":"'Horário Geral (Semana 2)'!#REF!","v":{"$error":"#REF!"}},{"$f":"'Horário Geral (Semana 2)'!#REF!","v":{"$error":"#REF!"}},{"$f":"'Horário Geral (Semana 2)'!#REF!","v":{"$error":"#REF!"}},{"$f":"'Horário Geral (Semana 2)'!#REF!","v":{"$error":"#REF!"}},{"$f":"'Horário Geral (Semana 2)'!#REF!","v":{"$error":"#REF!"}},{"$f":"'Horário Geral (Semana 2)'!#REF!","v":{"$error":"#REF!"}},{"$f":"'Horário Geral (Semana 2)'!#REF!","v":{"$error":"#REF!"}},{"$f":"'Horário Geral (Semana 2)'!#REF!","v":{"$error":"#REF!"}},{"$f":"'Horário Geral (Semana 2)'!#REF!","v":{"$error":"#REF!"}},{"$f":"'Horário Geral (Semana 2)'!#REF!","v":{"$error":"#REF!"}},{"$f":"'Horário Geral (Semana 2)'!#REF!","v":{"$error":"#REF!"}},{"$f":"'Horário Geral (Semana 2)'!#REF!","v":{"$error":"#REF!"}},{"$f":"'Horário Geral (Semana 2)'!#REF!","v":{"$error":"#REF!"}},{"$f":"'Horário Geral (Semana 2)'!#REF!","v":{"$error":"#REF!"}},{"$f":"'Horário Geral (Semana 2)'!#REF!","v":{"$error":"#REF!"}},{"$f":"'Horário Geral (Semana 2)'!#REF!","v":{"$error":"#REF!"}},{"$f":"'Horário Geral (Semana 2)'!#REF!","v":{"$error":"#REF!"}},{"$f":"'Horário Geral (Semana 2)'!#REF!","v":{"$error":"#REF!"}},{"$f":"'Horário Geral (Semana 2)'!#REF!","v":{"$error":"#REF!"}},{"$f":"'Horário Geral (Semana 2)'!#REF!","v":{"$error":"#REF!"}},{"$f":"'Horário Geral (Semana 2)'!#REF!","v":{"$error":"#REF!"}},{"$f":"'Horário Geral (Semana 2)'!#REF!","v":{"$error":"#REF!"}},{"$f":"'Horário Geral (Semana 2)'!#REF!","v":{"$error":"#REF!"}},{"$f":"'Horário Geral (Semana 2)'!#REF!","v":{"$error":"#REF!"}},{"$f":"'Horário Geral (Semana 2)'!#REF!","v":{"$error":"#REF!"}},{"$f":"'Horário Geral (Semana 2)'!#REF!","v":{"$error":"#REF!"}},{"$f":"'Horário Geral (Semana 2)'!#REF!","v":{"$error":"#REF!"}}]
[null,"2ª","19:00:00",{"$f":"'Horário Geral (Semana 2)'!#REF!","v":{"$error":"#REF!"}},{"$f":"'Horário Geral (Semana 2)'!#REF!","v":{"$error":"#REF!"}},{"$f":"'Horário Geral (Semana 2)'!#REF!","v":{"$error":"#REF!"}},{"$f":"'Horário Geral (Semana 2)'!#REF!","v":{"$error":"#REF!"}},{"$f":"'Horário Geral (Semana 2)'!#REF!","v":{"$error":"#REF!"}},{"$f":"'Horário Geral (Semana 2)'!#REF!","v":{"$error":"#REF!"}},{"$f":"'Horário Geral (Semana 2)'!#REF!","v":{"$error":"#REF!"}},{"$f":"'Horário Geral (Semana 2)'!#REF!","v":{"$error":"#REF!"}},{"$f":"'Horário Geral (Semana 2)'!#REF!","v":{"$error":"#REF!"}},{"$f":"'Horário Geral (Semana 2)'!#REF!","v":{"$error":"#REF!"}},{"$f":"'Horário Geral (Semana 2)'!#REF!","v":{"$error":"#REF!"}},{"$f":"'Horário Geral (Semana 2)'!#REF!","v":{"$error":"#REF!"}},{"$f":"'Horário Geral (Semana 2)'!#REF!","v":{"$error":"#REF!"}},{"$f":"'Horário Geral (Semana 2)'!#REF!","v":{"$error":"#REF!"}},{"$f":"'Horário Geral (Semana 2)'!#REF!","v":{"$error":"#REF!"}},{"$f":"'Horário Geral (Semana 2)'!#REF!","v":{"$error":"#REF!"}},{"$f":"'Horário Geral (Semana 2)'!#REF!","v":{"$error":"#REF!"}},{"$f":"'Horário Geral (Semana 2)'!#REF!","v":{"$error":"#REF!"}},{"$f":"'Horário Geral (Semana 2)'!#REF!","v":{"$error":"#REF!"}},{"$f":"'Horário Geral (Semana 2)'!#REF!","v":{"$error":"#REF!"}},{"$f":"'Horário Geral (Semana 2)'!#REF!","v":{"$error":"#REF!"}},{"$f":"'Horário Geral (Semana 2)'!#REF!","v":{"$error":"#REF!"}},{"$f":"'Horário Geral (Semana 2)'!#REF!","v":{"$error":"#REF!"}},{"$f":"'Horário Geral (Semana 2)'!#REF!","v":{"$error":"#REF!"}},{"$f":"'Horário Geral (Semana 2)'!#REF!","v":{"$error":"#REF!"}},{"$f":"'Horário Geral (Semana 2)'!#REF!","v":{"$error":"#REF!"}},{"$f":"'Horário Geral (Semana 2)'!#REF!","v":{"$error":"#REF!"}},{"$f":"'Horário Geral (Semana 2)'!#REF!","v":{"$error":"#REF!"}},{"$f":"'Horário Geral (Semana 2)'!#REF!","v":{"$error":"#REF!"}},{"$f":"'Horário Geral (Semana 2)'!#REF!","v":{"$error":"#REF!"}},{"$f":"'Horário Geral (Semana 2)'!#REF!","v":{"$error":"#REF!"}}]
[null,"3ª","19:50:00",{"$f":"'Horário Geral (Semana 2)'!#REF!","v":{"$error":"#REF!"}},{"$f":"'Horário Geral (Semana 2)'!#REF!","v":{"$error":"#REF!"}},{"$f":"'Horário Geral (Semana 2)'!#REF!","v":{"$error":"#REF!"}},{"$f":"'Horário Geral (Semana 2)'!#REF!","v":{"$error":"#REF!"}},{"$f":"'Horário Geral (Semana 2)'!#REF!","v":{"$error":"#REF!"}},{"$f":"'Horário Geral (Semana 2)'!#REF!","v":{"$error":"#REF!"}},{"$f":"'Horário Geral (Semana 2)'!#REF!","v":{"$error":"#REF!"}},{"$f":"'Horário Geral (Semana 2)'!#REF!","v":{"$error":"#REF!"}},{"$f":"'Horário Geral (Semana 2)'!#REF!","v":{"$error":"#REF!"}},{"$f":"'Horário Geral (Semana 2)'!#REF!","v":{"$error":"#REF!"}},{"$f":"'Horário Geral (Semana 2)'!#REF!","v":{"$error":"#REF!"}},{"$f":"'Horário Geral (Semana 2)'!#REF!","v":{"$error":"#REF!"}},{"$f":"'Horário Geral (Semana 2)'!#REF!","v":{"$error":"#REF!"}},{"$f":"'Horário Geral (Semana 2)'!#REF!","v":{"$error":"#REF!"}},{"$f":"'Horário Geral (Semana 2)'!#REF!","v":{"$error":"#REF!"}},{"$f":"'Horário Geral (Semana 2)'!#REF!","v":{"$error":"#REF!"}},{"$f":"'Horário Geral (Semana 2)'!#REF!","v":{"$error":"#REF!"}},{"$f":"'Horário Geral (Semana 2)'!#REF!","v":{"$error":"#REF!"}},{"$f":"'Horário Geral (Semana 2)'!#REF!","v":{"$error":"#REF!"}},{"$f":"'Horário Geral (Semana 2)'!#REF!","v":{"$error":"#REF!"}},{"$f":"'Horário Geral (Semana 2)'!#REF!","v":{"$error":"#REF!"}},{"$f":"'Horário Geral (Semana 2)'!#REF!","v":{"$error":"#REF!"}},{"$f":"'Horário Geral (Semana 2)'!#REF!","v":{"$error":"#REF!"}},{"$f":"'Horário Geral (Semana 2)'!#REF!","v":{"$error":"#REF!"}},{"$f":"'Horário Geral (Semana 2)'!#REF!","v":{"$error":"#REF!"}},{"$f":"'Horário Geral (Semana 2)'!#REF!","v":{"$error":"#REF!"}},{"$f":"'Horário Geral (Semana 2)'!#REF!","v":{"$error":"#REF!"}},{"$f":"'Horário Geral (Semana 2)'!#REF!","v":{"$error":"#REF!"}},{"$f":"'Horário Geral (Semana 2)'!#REF!","v":{"$error":"#REF!"}},{"$f":"'Horário Geral (Semana 2)'!#REF!","v":{"$error":"#REF!"}},{"$f":"'Horário Geral (Semana 2)'!#REF!","v":{"$error":"#REF!"}}]
[null,"4ª","20:55:00",{"$f":"'Horário Geral (Semana 2)'!#REF!","v":{"$error":"#REF!"}},{"$f":"'Horário Geral (Semana 2)'!#REF!","v":{"$error":"#REF!"}},{"$f":"'Horário Geral (Semana 2)'!#REF!","v":{"$error":"#REF!"}},{"$f":"'Horário Geral (Semana 2)'!#REF!","v":{"$error":"#REF!"}},{"$f":"'Horário Geral (Semana 2)'!#REF!","v":{"$error":"#REF!"}},{"$f":"'Horário Geral (Semana 2)'!#REF!","v":{"$error":"#REF!"}},{"$f":"'Horário Geral (Semana 2)'!#REF!","v":{"$error":"#REF!"}},{"$f":"'Horário Geral (Semana 2)'!#REF!","v":{"$error":"#REF!"}},{"$f":"'Horário Geral (Semana 2)'!#REF!","v":{"$error":"#REF!"}},{"$f":"'Horário Geral (Semana 2)'!#REF!","v":{"$error":"#REF!"}},{"$f":"'Horário Geral (Semana 2)'!#REF!","v":{"$error":"#REF!"}},{"$f":"'Horário Geral (Semana 2)'!#REF!","v":{"$error":"#REF!"}},{"$f":"'Horário Geral (Semana 2)'!#REF!","v":{"$error":"#REF!"}},{"$f":"'Horário Geral (Semana 2)'!#REF!","v":{"$error":"#REF!"}},{"$f":"'Horário Geral (Semana 2)'!#REF!","v":{"$error":"#REF!"}},{"$f":"'Horário Geral (Semana 2)'!#REF!","v":{"$error":"#REF!"}},{"$f":"'Horário Geral (Semana 2)'!#REF!","v":{"$error":"#REF!"}},{"$f":"'Horário Geral (Semana 2)'!#REF!","v":{"$error":"#REF!"}},{"$f":"'Horário Geral (Semana 2)'!#REF!","v":{"$error":"#REF!"}},{"$f":"'Horário Geral (Semana 2)'!#REF!","v":{"$error":"#REF!"}},{"$f":"'Horário Geral (Semana 2)'!#REF!","v":{"$error":"#REF!"}},{"$f":"'Horário Geral (Semana 2)'!#REF!","v":{"$error":"#REF!"}},{"$f":"'Horário Geral (Semana 2)'!#REF!","v":{"$error":"#REF!"}},{"$f":"'Horário Geral (Semana 2)'!#REF!","v":{"$error":"#REF!"}},{"$f":"'Horário Geral (Semana 2)'!#REF!","v":{"$error":"#REF!"}},{"$f":"'Horário Geral (Semana 2)'!#REF!","v":{"$error":"#REF!"}},{"$f":"'Horário Geral (Semana 2)'!#REF!","v":{"$error":"#REF!"}},{"$f":"'Horário Geral (Semana 2)'!#REF!","v":{"$error":"#REF!"}},{"$f":"'Horário Geral (Semana 2)'!#REF!","v":{"$error":"#REF!"}},{"$f":"'Horário Geral (Semana 2)'!#REF!","v":{"$error":"#REF!"}},{"$f":"'Horário Geral (Semana 2)'!#REF!","v":{"$error":"#REF!"}}]
[null,"5ª","21:45:00",{"$f":"'Horário Geral (Semana 2)'!#REF!","v":{"$error":"#REF!"}},{"$f":"'Horário Geral (Semana 2)'!#REF!","v":{"$error":"#REF!"}},{"$f":"'Horário Geral (Semana 2)'!#REF!","v":{"$error":"#REF!"}},{"$f":"'Horário Geral (Semana 2)'!#REF!","v":{"$error":"#REF!"}},{"$f":"'Horário Geral (Semana 2)'!#REF!","v":{"$error":"#REF!"}},{"$f":"'Horário Geral (Semana 2)'!#REF!","v":{"$error":"#REF!"}},{"$f":"'Horário Geral (Semana 2)'!#REF!","v":{"$error":"#REF!"}},{"$f":"'Horário Geral (Semana 2)'!#REF!","v":{"$error":"#REF!"}},{"$f":"'Horário Geral (Semana 2)'!#REF!","v":{"$error":"#REF!"}},{"$f":"'Horário Geral (Semana 2)'!#REF!","v":{"$error":"#REF!"}},{"$f":"'Horário Geral (Semana 2)'!#REF!","v":{"$error":"#REF!"}},{"$f":"'Horário Geral (Semana 2)'!#REF!","v":{"$error":"#REF!"}},{"$f":"'Horário Geral (Semana 2)'!#REF!","v":{"$error":"#REF!"}},{"$f":"'Horário Geral (Semana 2)'!#REF!","v":{"$error":"#REF!"}},{"$f":"'Horário Geral (Semana 2)'!#REF!","v":{"$error":"#REF!"}},{"$f":"'Horário Geral (Semana 2)'!#REF!","v":{"$error":"#REF!"}},{"$f":"'Horário Geral (Semana 2)'!#REF!","v":{"$error":"#REF!"}},{"$f":"'Horário Geral (Semana 2)'!#REF!","v":{"$error":"#REF!"}},{"$f":"'Horário Geral (Semana 2)'!#REF!","v":{"$error":"#REF!"}},{"$f":"'Horário Geral (Semana 2)'!#REF!","v":{"$error":"#REF!"}},{"$f":"'Horário Geral (Semana 2)'!#REF!","v":{"$error":"#REF!"}},{"$f":"'Horário Geral (Semana 2)'!#REF!","v":{"$error":"#REF!"}},{"$f":"'Horário Geral (Semana 2)'!#REF!","v":{"$error":"#REF!"}},{"$f":"'Horário Geral (Semana 2)'!#REF!","v":{"$error":"#REF!"}},{"$f":"'Horário Geral (Semana 2)'!#REF!","v":{"$error":"#REF!"}},{"$f":"'Horário Geral (Semana 2)'!#REF!","v":{"$error":"#REF!"}},{"$f":"'Horário Geral (Semana 2)'!#REF!","v":{"$error":"#REF!"}},{"$f":"'Horário Geral (Semana 2)'!#REF!","v":{"$error":"#REF!"}},{"$f":"'Horário Geral (Semana 2)'!#REF!","v":{"$error":"#REF!"}},{"$f":"'Horário Geral (Semana 2)'!#REF!","v":{"$error":"#REF!"}},{"$f":"'Horário Geral (Semana 2)'!#REF!","v":{"$error":"#REF!"}}]
[null,"6º","22:35:00",{"$f":"'Horário Geral (Semana 2)'!#REF!","v":{"$error":"#REF!"}},{"$f":"'Horário Geral (Semana 2)'!#REF!","v":{"$error":"#REF!"}},{"$f":"'Horário Geral (Semana 2)'!#REF!","v":{"$error":"#REF!"}},{"$f":"'Horário Geral (Semana 2)'!#REF!","v":{"$error":"#REF!"}},{"$f":"'Horário Geral (Semana 2)'!#REF!","v":{"$error":"#REF!"}},{"$f":"'Horário Geral (Semana 2)'!#REF!","v":{"$error":"#REF!"}},{"$f":"'Horário Geral (Semana 2)'!#REF!","v":{"$error":"#REF!"}},{"$f":"'Horário Geral (Semana 2)'!#REF!","v":{"$error":"#REF!"}},{"$f":"'Horário Geral (Semana 2)'!#REF!","v":{"$error":"#REF!"}},{"$f":"'Horário Geral (Semana 2)'!#REF!","v":{"$error":"#REF!"}},{"$f":"'Horário Geral (Semana 2)'!#REF!","v":{"$error":"#REF!"}},{"$f":"'Horário Geral (Semana 2)'!#REF!","v":{"$error":"#REF!"}},{"$f":"'Horário Geral (Semana 2)'!#REF!","v":{"$error":"#REF!"}},{"$f":"'Horário Geral (Semana 2)'!#REF!","v":{"$error":"#REF!"}},{"$f":"'Horário Geral (Semana 2)'!#REF!","v":{"$error":"#REF!"}},{"$f":"'Horário Geral (Semana 2)'!#REF!","v":{"$error":"#REF!"}},{"$f":"'Horário Geral (Semana 2)'!#REF!","v":{"$error":"#REF!"}},{"$f":"'Horário Geral (Semana 2)'!#REF!","v":{"$error":"#REF!"}},{"$f":"'Horário Geral (Semana 2)'!#REF!","v":{"$error":"#REF!"}},{"$f":"'Horário Geral (Semana 2)'!#REF!","v":{"$error":"#REF!"}},{"$f":"'Horário Geral (Semana 2)'!#REF!","v":{"$error":"#REF!"}},{"$f":"'Horário Geral (Semana 2)'!#REF!","v":{"$error":"#REF!"}},{"$f":"'Horário Geral (Semana 2)'!#REF!","v":{"$error":"#REF!"}},{"$f":"'Horário Geral (Semana 2)'!#REF!","v":{"$error":"#REF!"}},{"$f":"'Horário Geral (Semana 2)'!#REF!","v":{"$error":"#REF!"}},{"$f":"'Horário Geral (Semana 2)'!#REF!","v":{"$error":"#REF!"}},{"$f":"'Horário Geral (Semana 2)'!#REF!","v":{"$error":"#REF!"}},{"$f":"'Horário Geral (Semana 2)'!#REF!","v":{"$error":"#REF!"}},{"$f":"'Horário Geral (Semana 2)'!#REF!","v":{"$error":"#REF!"}},{"$f":"'Horário Geral (Semana 2)'!#REF!","v":{"$error":"#REF!"}},{"$f":"'Horário Geral (Semana 2)'!#REF!","v":{"$error":"#REF!"}}]
["SEX","1ª","19:00:00",{"$f":"'Horário Geral (Semana 2)'!#REF!","v":{"$error":"#REF!"}},{"$f":"'Horário Geral (Semana 2)'!#REF!","v":{"$error":"#REF!"}},{"$f":"'Horário Geral (Semana 2)'!#REF!","v":{"$error":"#REF!"}},{"$f":"'Horário Geral (Semana 2)'!#REF!","v":{"$error":"#REF!"}},{"$f":"'Horário Geral (Semana 2)'!#REF!","v":{"$error":"#REF!"}},{"$f":"'Horário Geral (Semana 2)'!#REF!","v":{"$error":"#REF!"}},{"$f":"'Horário Geral (Semana 2)'!#REF!","v":{"$error":"#REF!"}},{"$f":"'Horário Geral (Semana 2)'!#REF!","v":{"$error":"#REF!"}},{"$f":"'Horário Geral (Semana 2)'!#REF!","v":{"$error":"#REF!"}},{"$f":"'Horário Geral (Semana 2)'!#REF!","v":{"$error":"#REF!"}},{"$f":"'Horário Geral (Semana 2)'!#REF!","v":{"$error":"#REF!"}},{"$f":"'Horário Geral (Semana 2)'!#REF!","v":{"$error":"#REF!"}},{"$f":"'Horário Geral (Semana 2)'!#REF!","v":{"$error":"#REF!"}},{"$f":"'Horário Geral (Semana 2)'!#REF!","v":{"$error":"#REF!"}},{"$f":"'Horário Geral (Semana 2)'!#REF!","v":{"$error":"#REF!"}},{"$f":"'Horário Geral (Semana 2)'!#REF!","v":{"$error":"#REF!"}},{"$f":"'Horário Geral (Semana 2)'!#REF!","v":{"$error":"#REF!"}},{"$f":"'Horário Geral (Semana 2)'!#REF!","v":{"$error":"#REF!"}},{"$f":"'Horário Geral (Semana 2)'!#REF!","v":{"$error":"#REF!"}},{"$f":"'Horário Geral (Semana 2)'!#REF!","v":{"$error":"#REF!"}},{"$f":"'Horário Geral (Semana 2)'!#REF!","v":{"$error":"#REF!"}},{"$f":"'Horário Geral (Semana 2)'!#REF!","v":{"$error":"#REF!"}},{"$f":"'Horário Geral (Semana 2)'!#REF!","v":{"$error":"#REF!"}},{"$f":"'Horário Geral (Semana 2)'!#REF!","v":{"$error":"#REF!"}},{"$f":"'Horário Geral (Semana 2)'!#REF!","v":{"$error":"#REF!"}},{"$f":"'Horário Geral (Semana 2)'!#REF!","v":{"$error":"#REF!"}},{"$f":"'Horário Geral (Semana 2)'!#REF!","v":{"$error":"#REF!"}},{"$f":"'Horário Geral (Semana 2)'!#REF!","v":{"$error":"#REF!"}},{"$f":"'Horário Geral (Semana 2)'!#REF!","v":{"$error":"#REF!"}},{"$f":"'Horário Geral (Semana 2)'!#REF!","v":{"$error":"#REF!"}},{"$f":"'Horário Geral (Semana 2)'!#REF!","v":{"$error":"#REF!"}}]
[null,"2ª","19:50:00",{"$f":"'Horário Geral (Semana 2)'!#REF!","v":{"$error":"#REF!"}},{"$f":"'Horário Geral (Semana 2)'!#REF!","v":{"$error":"#REF!"}},{"$f":"'Horário Geral (Semana 2)'!#REF!","v":{"$error":"#REF!"}},{"$f":"'Horário Geral (Semana 2)'!#REF!","v":{"$error":"#REF!"}},{"$f":"'Horário Geral (Semana 2)'!#REF!","v":{"$error":"#REF!"}},{"$f":"'Horário Geral (Semana 2)'!#REF!","v":{"$error":"#REF!"}},{"$f":"'Horário Geral (Semana 2)'!#REF!","v":{"$error":"#REF!"}},{"$f":"'Horário Geral (Semana 2)'!#REF!","v":{"$error":"#REF!"}},{"$f":"'Horário Geral (Semana 2)'!#REF!","v":{"$error":"#REF!"}},{"$f":"'Horário Geral (Semana 2)'!#REF!","v":{"$error":"#REF!"}},{"$f":"'Horário Geral (Semana 2)'!#REF!","v":{"$error":"#REF!"}},{"$f":"'Horário Geral (Semana 2)'!#REF!","v":{"$error":"#REF!"}},{"$f":"'Horário Geral (Semana 2)'!#REF!","v":{"$error":"#REF!"}},{"$f":"'Horário Geral (Semana 2)'!#REF!","v":{"$error":"#REF!"}},{"$f":"'Horário Geral (Semana 2)'!#REF!","v":{"$error":"#REF!"}},{"$f":"'Horário Geral (Semana 2)'!#REF!","v":{"$error":"#REF!"}},{"$f":"'Horário Geral (Semana 2)'!#REF!","v":{"$error":"#REF!"}},{"$f":"'Horário Geral (Semana 2)'!#REF!","v":{"$error":"#REF!"}},{"$f":"'Horário Geral (Semana 2)'!#REF!","v":{"$error":"#REF!"}},{"$f":"'Horário Geral (Semana 2)'!#REF!","v":{"$error":"#REF!"}},{"$f":"'Horário Geral (Semana 2)'!#REF!","v":{"$error":"#REF!"}},{"$f":"'Horário Geral (Semana 2)'!#REF!","v":{"$error":"#REF!"}},{"$f":"'Horário Geral (Semana 2)'!#REF!","v":{"$error":"#REF!"}},{"$f":"'Horário Geral (Semana 2)'!#REF!","v":{"$error":"#REF!"}},{"$f":"'Horário Geral (Semana 2)'!#REF!","v":{"$error":"#REF!"}},{"$f":"'Horário Geral (Semana 2)'!#REF!","v":{"$error":"#REF!"}},{"$f":"'Horário Geral (Semana 2)'!#REF!","v":{"$error":"#REF!"}},{"$f":"'Horário Geral (Semana 2)'!#REF!","v":{"$error":"#REF!"}},{"$f":"'Horário Geral (Semana 2)'!#REF!","v":{"$error":"#REF!"}},{"$f":"'Horário Geral (Semana 2)'!#REF!","v":{"$error":"#REF!"}},{"$f":"'Horário Geral (Semana 2)'!#REF!","v":{"$error":"#REF!"}}]
[null,"3ª","20:55:00",{"$f":"'Horário Geral (Semana 2)'!#REF!","v":{"$error":"#REF!"}},{"$f":"'Horário Geral (Semana 2)'!#REF!","v":{"$error":"#REF!"}},{"$f":"'Horário Geral (Semana 2)'!#REF!","v":{"$error":"#REF!"}},{"$f":"'Horário Geral (Semana 2)'!#REF!","v":{"$error":"#REF!"}},{"$f":"'Horário Geral (Semana 2)'!#REF!","v":{"$error":"#REF!"}},{"$f":"'Horário Geral (Semana 2)'!#REF!","v":{"$error":"#REF!"}},{"$f":"'Horário Geral (Semana 2)'!#REF!","v":{"$error":"#REF!"}},{"$f":"'Horário Geral (Semana 2)'!#REF!","v":{"$error":"#REF!"}},{"$f":"'Horário Geral (Semana 2)'!#REF!","v":{"$error":"#REF!"}},{"$f":"'Horário Geral (Semana 2)'!#REF!","v":{"$error":"#REF!"}},{"$f":"'Horário Geral (Semana 2)'!#REF!","v":{"$error":"#REF!"}},{"$f":"'Horário Geral (Semana 2)'!#REF!","v":{"$error":"#REF!"}},{"$f":"'Horário Geral (Semana 2)'!#REF!","v":{"$error":"#REF!"}},{"$f":"'Horário Geral (Semana 2)'!#REF!","v":{"$error":"#REF!"}},{"$f":"'Horário Geral (Semana 2)'!#REF!","v":{"$error":"#REF!"}},{"$f":"'Horário Geral (Semana 2)'!#REF!","v":{"$error":"#REF!"}},{"$f":"'Horário Geral (Semana 2)'!#REF!","v":{"$error":"#REF!"}},{"$f":"'Horário Geral (Semana 2)'!#REF!","v":{"$error":"#REF!"}},{"$f":"'Horário Geral (Semana 2)'!#REF!","v":{"$error":"#REF!"}},{"$f":"'Horário Geral (Semana 2)'!#REF!","v":{"$error":"#REF!"}},{"$f":"'Horário Geral (Semana 2)'!#REF!","v":{"$error":"#REF!"}},{"$f":"'Horário Geral (Semana 2)'!#REF!","v":{"$error":"#REF!"}},{"$f":"'Horário Geral (Semana 2)'!#REF!","v":{"$error":"#REF!"}},{"$f":"'Horário Geral (Semana 2)'!#REF!","v":{"$error":"#REF!"}},{"$f":"'Horário Geral (Semana 2)'!#REF!","v":{"$error":"#REF!"}},{"$f":"'Horário Geral (Semana 2)'!#REF!","v":{"$error":"#REF!"}},{"$f":"'Horário Geral (Semana 2)'!#REF!","v":{"$error":"#REF!"}},{"$f":"'Horário Geral (Semana 2)'!#REF!","v":{"$error":"#REF!"}},{"$f":"'Horário Geral (Semana 2)'!#REF!","v":{"$error":"#REF!"}},{"$f":"'Horário Geral (Semana 2)'!#REF!","v":{"$error":"#REF!"}},{"$f":"'Horário Geral (Semana 2)'!#REF!","v":{"$error":"#REF!"}}]
[null,"4ª","21:45:00",{"$f":"'Horário Geral (Semana 2)'!#REF!","v":{"$error":"#REF!"}},{"$f":"'Horário Geral (Semana 2)'!#REF!","v":{"$error":"#REF!"}},{"$f":"'Horário Geral (Semana 2)'!#REF!","v":{"$error":"#REF!"}},{"$f":"'Horário Geral (Semana 2)'!#REF!","v":{"$error":"#REF!"}},{"$f":"'Horário Geral (Semana 2)'!#REF!","v":{"$error":"#REF!"}},{"$f":"'Horário Geral (Semana 2)'!#REF!","v":{"$error":"#REF!"}},{"$f":"'Horário Geral (Semana 2)'!#REF!","v":{"$error":"#REF!"}},{"$f":"'Horário Geral (Semana 2)'!#REF!","v":{"$error":"#REF!"}},{"$f":"'Horário Geral (Semana 2)'!#REF!","v":{"$error":"#REF!"}},{"$f":"'Horário Geral (Semana 2)'!#REF!","v":{"$error":"#REF!"}},{"$f":"'Horário Geral (Semana 2)'!#REF!","v":{"$error":"#REF!"}},{"$f":"'Horário Geral (Semana 2)'!#REF!","v":{"$error":"#REF!"}},{"$f":"'Horário Geral (Semana 2)'!#REF!","v":{"$error":"#REF!"}},{"$f":"'Horário Geral (Semana 2)'!#REF!","v":{"$error":"#REF!"}},{"$f":"'Horário Geral (Semana 2)'!#REF!","v":{"$error":"#REF!"}},{"$f":"'Horário Geral (Semana 2)'!#REF!","v":{"$error":"#REF!"}},{"$f":"'Horário Geral (Semana 2)'!#REF!","v":{"$error":"#REF!"}},{"$f":"'Horário Geral (Semana 2)'!#REF!","v":{"$error":"#REF!"}},{"$f":"'Horário Geral (Semana 2)'!#REF!","v":{"$error":"#REF!"}},{"$f":"'Horário Geral (Semana 2)'!#REF!","v":{"$error":"#REF!"}},{"$f":"'Horário Geral (Semana 2)'!#REF!","v":{"$error":"#REF!"}},{"$f":"'Horário Geral (Semana 2)'!#REF!","v":{"$error":"#REF!"}},{"$f":"'Horário Geral (Semana 2)'!#REF!","v":{"$error":"#REF!"}},{"$f":"'Horário Geral (Semana 2)'!#REF!","v":{"$error":"#REF!"}},{"$f":"'Horário Geral (Semana 2)'!#REF!","v":{"$error":"#REF!"}},{"$f":"'Horário Geral (Semana 2)'!#REF!","v":{"$error":"#REF!"}},{"$f":"'Horário Geral (Semana 2)'!#REF!","v":{"$error":"#REF!"}},{"$f":"'Horário Geral (Semana 2)'!#REF!","v":{"$error":"#REF!"}},{"$f":"'Horário Geral (Semana 2)'!#REF!","v":{"$error":"#REF!"}},{"$f":"'Horário Geral (Semana 2)'!#REF!","v":{"$error":"#REF!"}},{"$f":"'Horário Geral (Semana 2)'!#REF!","v":{"$error":"#REF!"}}]
[null,"5ª","22:35:00",{"$f":"'Horário Geral (Semana 2)'!#REF!","v":{"$error":"#REF!"}},{"$f":"'Horário Geral (Semana 2)'!#REF!","v":{"$error":"#REF!"}},{"$f":"'Horário Geral (Semana 2)'!#REF!","v":{"$error":"#REF!"}},{"$f":"'Horário Geral (Semana 2)'!#REF!","v":{"$error":"#REF!"}},{"$f":"'Horário Geral (Semana 2)'!#REF!","v":{"$error":"#REF!"}},{"$f":"'Horário Geral (Semana 2)'!#REF!","v":{"$error":"#REF!"}},{"$f":"'Horário Geral (Semana 2)'!#REF!","v":{"$error":"#REF!"}},{"$f":"'Horário Geral (Semana 2)'!#REF!","v":{"$error":"#REF!"}},{"$f":"'Horário Geral (Semana 2)'!#REF!","v":{"$error":"#REF!"}},{"$f":"'Horário Geral (Semana 2)'!#REF!","v":{"$error":"#REF!"}},{"$f":"'Horário Geral (Semana 2)'!#REF!","v":{"$error":"#REF!"}},{"$f":"'Horário Geral (Semana 2)'!#REF!","v":{"$error":"#REF!"}},{"$f":"'Horário Geral (Semana 2)'!#REF!","v":{"$error":"#REF!"}},{"$f":"'Horário Geral (Semana 2)'!#REF!","v":{"$error":"#REF!"}},{"$f":"'Horário Geral (Semana 2)'!#REF!","v":{"$error":"#REF!"}},{"$f":"'Horário Geral (Semana 2)'!#REF!","v":{"$error":"#REF!"}},{"$f":"'Horário Geral (Semana 2)'!#REF!","v":{"$error":"#REF!"}},{"$f":"'Horário Geral (Semana 2)'!#REF!","v":{"$error":"#REF!"}},{"$f":"'Horário Geral (Semana 2)'!#REF!","v":{"$error":"#REF!"}},{"$f":"'Horário Geral (Semana 2)'!#REF!","v":{"$error":"#REF!"}},{"$f":"'Horário Geral (Semana 2)'!#REF!","v":{"$error":"#REF!"}},{"$f":"'Horário Geral (Semana 2)'!#REF!","v":{"$error":"#REF!"}},{"$f":"'Horário Geral (Semana 2)'!#REF!","v":{"$error":"#REF!"}},{"$f":"'Horário Geral (Semana 2)'!#REF!","v":{"$error":"#REF!"}},{"$f":"'Horário Geral (Semana 2)'!#REF!","v":{"$error":"#REF!"}},{"$f":"'Horário Geral (Semana 2)'!#REF!","v":{"$error":"#REF!"}},{"$f":"'Horário Geral (Semana 2)'!#REF!","v":{"$error":"#REF!"}},{"$f":"'Horário Geral (Semana 2)'!#REF!","v":{"$error":"#REF!"}},{"$f":"'Horário Geral (Semana 2)'!#REF!","v":{"$error":"#REF!"}},{"$f":"'Horário Geral (Semana 2)'!#REF!","v":{"$error":"#REF!"}},{"$f":"'Horário Geral (Semana 2)'!#REF!","v":{"$error":"#REF!"}}]
[null,null,null,{"$f":"'Horário Geral (Semana 2)'!#REF!","v":{"$error":"#REF!"}},{"$f":"'Horário Geral (Semana 2)'!#REF!","v":{"$error":"#REF!"}},{"$f":"'Horário Geral (Semana 2)'!#REF!","v":{"$error":"#REF!"}},{"$f":"'Horário Geral (Semana 2)'!#REF!","v":{"$error":"#REF!"}},{"$f":"'Horário Geral (Semana 2)'!#REF!","v":{"$error":"#REF!"}},{"$f":"'Horário Geral (Semana 2)'!#REF!","v":{"$error":"#REF!"}},{"$f":"'Horário Geral (Semana 2)'!#REF!","v":{"$error":"#REF!"}},{"$f":"'Horário Geral (Semana 2)'!#REF!","v":{"$error":"#REF!"}},{"$f":"'Horário Geral (Semana 2)'!#REF!","v":{"$error":"#REF!"}},{"$f":"'Horário Geral (Semana 2)'!#REF!","v":{"$error":"#REF!"}},{"$f":"'Horário Geral (Semana 2)'!#REF!","v":{"$error":"#REF!"}},{"$f":"'Horário Geral (Semana 2)'!#REF!","v":{"$error":"#REF!"}},{"$f":"'Horário Geral (Semana 2)'!#REF!","v":{"$error":"#REF!"}},{"$f":"'Horário Geral (Semana 2)'!#REF!","v":{"$error":"#REF!"}},{"$f":"'Horário Geral (Semana 2)'!#REF!","v":{"$error":"#REF!"}},{"$f":"'Horário Geral (Semana 2)'!#REF!","v":{"$error":"#REF!"}},{"$f":"'Horário Geral (Semana 2)'!#REF!","v":{"$error":"#REF!"}},{"$f":"'Horário Geral (Semana 2)'!#REF!","v":{"$error":"#REF!"}},{"$f":"'Horário Geral (Semana 2)'!#REF!","v":{"$error":"#REF!"}},{"$f":"'Horário Geral (Semana 2)'!#REF!","v":{"$error":"#REF!"}},{"$f":"'Horário Geral (Semana 2)'!#REF!","v":{"$error":"#REF!"}},{"$f":"'Horário Geral (Semana 2)'!#REF!","v":{"$error":"#REF!"}},{"$f":"'Horário Geral (Semana 2)'!#REF!","v":{"$error":"#REF!"}},{"$f":"'Horário Geral (Semana 2)'!#REF!","v":{"$error":"#REF!"}},{"$f":"'Horário Geral (Semana 2)'!#REF!","v":{"$error":"#REF!"}},{"$f":"'Horário Geral (Semana 2)'!#REF!","v":{"$error":"#REF!"}},{"$f":"'Horário Geral (Semana 2)'!#REF!","v":{"$error":"#REF!"}},{"$f":"'Horário Geral (Semana 2)'!#REF!","v":{"$error":"#REF!"}},{"$f":"'Horário Geral (Semana 2)'!#REF!","v":{"$error":"#REF!"}},{"$f":"'Horário Geral (Semana 2)'!#REF!","v":{"$error":"#REF!"}},{"$f":"'Horário Geral (Semana 2)'!#REF!","v":{"$error":"#REF!"}}]

{"sheet":"Professores","index":6,"n_rows":109,"n_cols":70,"rows_kept":109,"cut":false,"hidden":true,"merged":[[91,0,96,0],[97,0,102,0],[103,0,108,0],[5,0,10,0],[11,0,16,0],[17,0,23,0],[24,0,29,0],[30,0,36,0],[79,0,84,0],[85,0,90,0]]}
[]
[]
["MANHÃ"]
[]
[null,"Aula","Horário",{"$f":"'Horário Geral (Semana 2)'!EY9","v":"Adriana"},{"$f":"'Horário Geral (Semana 2)'!EZ9","v":"Alvino"},{"$f":"'Horário Geral (Semana 2)'!FA9","v":"Sergio"},{"$f":"'Horário Geral (Semana 2)'!FB9","v":"Ariane"},{"$f":"'Horário Geral (Semana 2)'!FC9","v":"Tiago"},{"$f":"'Horário Geral (Semana 2)'!FD9","v":"Benedito"},{"$f":"'Horário Geral (Semana 2)'!FE9","v":"Bruno"},{"$f":"'Horário Geral (Semana 2)'!FF9","v":"Carlos"},{"$f":"'Horário Geral (Semana 2)'!#REF!","v":{"$error":"#REF!"}},{"$f":"'Horário Geral (Semana 2)'!FG9","v":"Claudinei"},{"$f":"'Horário Geral (Semana 2)'!FH9","v":"Consuelo"},{"$f":"'Horário Geral (Semana 2)'!FI9","v":"Daniely"},{"$f":"'Horário Geral (Semana 2)'!FJ9","v":"Diego "},{"$f":"'Horário Geral (Semana 2)'!FK9","v":"Douglas "},{"$f":"'Horário Geral (Semana 2)'!FM9","v":"Eder"},{"$f":"'Horário Geral (Semana 2)'!FN9","v":"Edilberto"},{"$f":"'Horário Geral (Semana 2)'!FO9","v":"Edinalcio"},{"$f":"'Horário Geral (Semana 2)'!FP9","v":"Eduardo D"},{"$f":"'Horário Geral (Semana 2)'!FQ9","v":"Eduardo L"},{"$f":"'Horário Geral (Semana 2)'!FR9","v":"Eduardo Q"},{"$f":"'Horário Geral (Semana 2)'!FS9","v":"Elton"},{"$f":"'Horário Geral (Semana 2)'!FT9","v":"Elza "},{"$f":"'Horário Geral (Semana 2)'!FU9","v":"Ewerton"},{"$f":"'Horário Geral (Semana 2)'!FV9","v":"Ezequiel"},{"$f":"'Horário Geral (Semana 2)'!FW9","v":"Fabiana"},{"$f":"'Horário Geral (Semana 2)'!FX9","v":"Fabiani"},{"$f":"'Horário Geral (Semana 2)'!FY9","v":"Fátima"},{"$f":"'Horário Geral (Semana 2)'!FZ9","v":"Fernanda O"},{"$f":"'Horário Geral (Semana 2)'!GA9","v":"Flavio"},{"$f":"'Horário Geral (Semana 2)'!GB9","v":"Gicelma"},{"$f":"'Horário Geral (Semana 2)'!GC9","v":"Gilberto"},{"$f":"'Horário Geral (Semana 2)'!GD9","v":"Gleiser"},{"$f":"'Horário Geral (Semana 2)'!GE9","v":"Heloísa"},{"$f":"'Horário Geral (Semana 2)'!GF9","v":"Inácio"},{"$f":"'Horário Geral (Semana 2)'!GG9","v":"Inildo"},{"$f":"'Horário Geral (Semana 2)'!GH9","v":"Débora "},{"$f":"'Horário Geral (Semana 2)'!GI9","v":"Jean"},{"$f":"'Horário Geral (Semana 2)'!GJ9","v":"Jéssica"},{"$f":"'Horário Geral (Semana 2)'!GK9","v":"Juliano"},{"$f":"'Horário Geral (Semana 2)'!GL9","v":"Júnior"},{"$f":"'Horário Geral (Semana 2)'!GM9","v":"Laura"},{"$f":"'Horário Geral (Semana 2)'!#REF!","v":{"$error":"#REF!"}},{"$f":"'Horário Geral (Semana 2)'!GN9","v":"Liliane"},{"$f":"'Horário Geral (Semana 2)'!GO9","v":"Marco A"},{"$f":"'Horário Geral (Semana 2)'!GP9","v":"Marcos M"},{"$f":"'Horário Geral (Semana 2)'!#REF!","v":{"$error":"#REF!"}},{"$f":"'Horário Geral (Semana 2)'!GQ9","v":"Marisa"},{"$f":"'Horário Geral (Semana 2)'!GR9","v":"Melqui"},{"$f":"'Horário Geral (Semana 2)'!GS9","v":"Michel "},{"$f":"'Horário Geral (Semana 2)'!GT9","v":"Ney"},{"$f":"'Horário Geral (Semana 2)'!GU9","v":"Paulo "},{"$f":"'Horário Geral (Semana 2)'!GV9","v":"Roberto"},{"$f":"'Horário Geral (Semana 2)'!GW9","v":"Rodrigo A"},{"$f":"'Horário Geral (Semana 2)'!GX9","v":"Rodrigo B"},{"$f":"'Horário Geral (Semana 2)'!GY9","v":"Rosa"},{"$f":"'Horário Geral (Semana 2)'!GZ9","v":"Saboia"},{"$f":"'Horário Geral (Semana 2)'!HA9","v":"Sandra"},{"$f":"'Horário Geral (Semana 2)'!HB9","v":"Sankeis"},{"$f":"'Horário Geral (Semana 2)'!HC9","v":"Silvana "},{"$f":"'Horário Geral (Semana 2)'!HD9","v":"Silvanella"},{"$f":"'Horário Geral (Semana 2)'!HE9","v":"Silvio"},{"$f":"'Horário Geral (Semana 2)'!HF9","v":"Tatiana"},{"$f":"'Horário Geral (Semana 2)'!HG9","v":"Telma"},{"$f":"'Horário Geral (Semana 2)'!HH9","v":"Vanuza"},{"$f":"'Horário Geral (Semana 2)'!HI9","v":"Vera"},{"$f":"'Horário Geral (Semana 2)'!HJ9","v":"Wagner"},{"$f":"'Horário Geral (Semana 2)'!HK9","v":"Warley"}]
["SEG","1ª","07:30:00",{"$f":"'Horário Geral (Semana 2)'!EY10","v":1},{"$f":"'Horário Geral (Semana 2)'!EZ10","v":0},{"$f":"'Horário Geral (Semana 2)'!FA10","v":1},{"$f":"'Horário Geral (Semana 2)'!FB10","v":0},{"$f":"'Horário Geral (Semana 2)'!FC10","v":0},{"$f":"'Horário Geral (Semana 2)'!FD10","v":0},{"$f":"'Horário Geral (Semana 2)'!FE10","v":0},{"$f":"'Horário Geral (Semana 2)'!FF10","v":0},{"$f":"'Horário Geral (Semana 2)'!#REF!","v":{"$error":"#REF!"}},{"$f":"'Horário Geral (Semana 2)'!FG10","v":0},{"$f":"'Horário Geral (Semana 2)'!FH10","v":1},{"$f":"'Horário Geral (Semana 2)'!FI10","v":0},{"$f":"'Horário Geral (Semana 2)'!FJ10","v":0},{"$f":"'Horário Geral (Semana 2)'!FK10","v":0},{"$f":"'Horário Geral (Semana 2)'!FM10","v":0},{"$f":"'Horário Geral (Semana 2)'!FN10","v":0},{"$f":"'Horário Geral (Semana 2)'!FO10","v":0},{"$f":"'Horário Geral (Semana 2)'!FP10","v":0},{"$f":"'Horário Geral (Semana 2)'!FQ10","v":1},{"$f":"'Horário Geral (Semana 2)'!FR10","v":0},{"$f":"'Horário Geral (Semana 2)'!FS10","v":0},{"$f":"'Horário Geral (Semana 2)'!FT10","v":0},{"$f":"'Horário Geral (Semana 2)'!FU10","v":0},{"$f":"'Horário Geral (Semana 2)'!FV10","v":0},{"$f":"'Horário Geral (Semana 2)'!FW10","v":0},{"$f":"'Horário Geral (Semana 2)'!FX10","v":0},{"$f":"'Horário Geral (Semana 2)'!FY10","v":0},{"$f":"'Horário Geral (Semana 2)'!FZ10","v":0},{"$f":"'Horário Geral (Semana 2)'!GA10","v":0},{"$f":"'Horário Geral (Semana 2)'!GB10","v":0},{"$f":"'Horário Geral (Semana 2)'!GC10","v":0},{"$f":"'Horário Geral (Semana 2)'!GD10","v":0},{"$f":"'Horário Geral (Semana 2)'!GE10","v":0},{"$f":"'Horário Geral (Semana 2)'!GF10","v":0},{"$f":"'Horário Geral (Semana 2)'!GG10","v":0},{"$f":"'Horário Geral (Semana 2)'!GH10","v":0},{"$f":"'Horário Geral (Semana 2)'!GI10","v":0},{"$f":"'Horário Geral (Semana 2)'!GJ10","v":0},{"$f":"'Horário Geral (Semana 2)'!GK10","v":0},{"$f":"'Horário Geral (Semana 2)'!GL10","v":0},{"$f":"'Horário Geral (Semana 2)'!GM10","v":0},{"$f":"'Horário Geral (Semana 2)'!#REF!","v":{"$error":"#REF!"}},{"$f":"'Horário Geral (Semana 2)'!GN10","v":1},{"$f":"'Horário Geral (Semana 2)'!GO10","v":0},{"$f":"'Horário Geral (Semana 2)'!GP10","v":0},{"$f":"'Horário Geral (Semana 2)'!#REF!","v":{"$error":"#REF!"}},{"$f":"'Horário Geral (Semana 2)'!GQ10","v":1},{"$f":"'Horário Geral (Semana 2)'!GR10","v":0},{"$f":"'Horário Geral (Semana 2)'!GS10","v":1},{"$f":"'Horário Geral (Semana 2)'!GT10","v":0},{"$f":"'Horário Geral (Semana 2)'!GU10","v":0},{"$f":"'Horário Geral (Semana 2)'!GV10","v":0},{"$f":"'Horário Geral (Semana 2)'!GW10","v":0},{"$f":"'Horário Geral (Semana 2)'!GX10","v":0},{"$f":"'Horário Geral (Semana 2)'!GY10","v":0},{"$f":"'Horário Geral (Semana 2)'!GZ10","v":1},{"$f":"'Horário Geral (Semana 2)'!HA10","v":1},{"$f":"'Horário Geral (Semana 2)'!HB10","v":0},{"$f":"'Horário Geral (Semana 2)'!HC10","v":0},{"$f":"'Horário Geral (Semana 2)'!HD10","v":1},{"$f":"'Horário Geral (Semana 2)'!HE10","v":0},{"$f":"'Horário Geral (Semana 2)'!HF10","v":1},{"$f":"'Horário Geral (Semana 2)'!HG10","v":0},{"$f":"'Horário Geral (Semana 2)'!HH10","v":0},{"$f":"'Horário Geral (Semana 2)'!HI10","v":0},{"$f":"'Horário Geral (Semana 2)'!HJ10","v":0},{"$f":"'Horário Geral (Semana 2)'!HK10","v":0}]
[null,"2ª","08:15:00",{"$f":"'Horário Geral (Semana 2)'!EY11","v":1},{"$f":"'Horário Geral (Semana 2)'!EZ11","v":0},{"$f":"'Horário Geral (Semana 2)'!FA11","v":1},{"$f":"'Horário Geral (Semana 2)'!FB11","v":0},{"$f":"'Horário Geral (Semana 2)'!FC11","v":0},{"$f":"'Horário Geral (Semana 2)'!FD11","v":0},{"$f":"'Horário Geral (Semana 2)'!FE11","v":0},{"$f":"'Horário Geral (Semana 2)'!FF11","v":0},{"$f":"'Horário Geral (Semana 2)'!#REF!","v":{"$error":"#REF!"}},{"$f":"'Horário Geral (Semana 2)'!FG11","v":0},{"$f":"'Horário Geral (Semana 2)'!FH11","v":1},{"$f":"'Horário Geral (Semana 2)'!FI11","v":0},{"$f":"'Horário Geral (Semana 2)'!FJ11","v":0},{"$f":"'Horário Geral (Semana 2)'!FK11","v":0},{"$f":"'Horário Geral (Semana 2)'!FM11","v":0},{"$f":"'Horário Geral (Semana 2)'!FN11","v":0},{"$f":"'Horário Geral (Semana 2)'!FO11","v":0},{"$f":"'Horário Geral (Semana 2)'!FP11","v":0},{"$f":"'Horário Geral (Semana 2)'!FQ11","v":1},{"$f":"'Horário Geral (Semana 2)'!FR11","v":0},{"$f":"'Horário Geral (Semana 2)'!FS11","v":0},{"$f":"'Horário Geral (Semana 2)'!FT11","v":0},{"$f":"'Horário Geral (Semana 2)'!FU11","v":0},{"$f":"'Horário Geral (Semana 2)'!FV11","v":0},{"$f":"'Horário Geral (Semana 2)'!FW11","v":0},{"$f":"'Horário Geral (Semana 2)'!FX11","v":0},{"$f":"'Horário Geral (Semana 2)'!FY11","v":0},{"$f":"'Horário Geral (Semana 2)'!FZ11","v":0},{"$f":"'Horário Geral (Semana 2)'!GA11","v":0},{"$f":"'Horário Geral (Semana 2)'!GB11","v":0},{"$f":"'Horário Geral (Semana 2)'!GC11","v":0},{"$f":"'Horário Geral (Semana 2)'!GD11","v":0},{"$f":"'Horário Geral (Semana 2)'!GE11","v":0},{"$f":"'Horário Geral (Semana 2)'!GF11","v":1},{"$f":"'Horário Geral (Semana 2)'!GG11","v":0},{"$f":"'Horário Geral (Semana 2)'!GH11","v":0},{"$f":"'Horário Geral (Semana 2)'!GI11","v":0},{"$f":"'Horário Geral (Semana 2)'!GJ11","v":0},{"$f":"'Horário Geral (Semana 2)'!GK11","v":0},{"$f":"'Horário Geral (Semana 2)'!GL11","v":0},{"$f":"'Horário Geral (Semana 2)'!GM11","v":0},{"$f":"'Horário Geral (Semana 2)'!#REF!","v":{"$error":"#REF!"}},{"$f":"'Horário Geral (Semana 2)'!GN11","v":1},{"$f":"'Horário Geral (Semana 2)'!GO11","v":0},{"$f":"'Horário Geral (Semana 2)'!GP11","v":0},{"$f":"'Horário Geral (Semana 2)'!#REF!","v":{"$error":"#REF!"}},{"$f":"'Horário Geral (Semana 2)'!GQ11","v":1},{"$f":"'Horário Geral (Semana 2)'!GR11","v":0},{"$f":"'Horário Geral (Semana 2)'!GS11","v":1},{"$f":"'Horário Geral (Semana 2)'!GT11","v":0},{"$f":"'Horário Geral (Semana 2)'!GU11","v":0},{"$f":"'Horário Geral (Semana 2)'!GV11","v":0},{"$f":"'Horário Geral (Semana 2)'!GW11","v":0},{"$f":"'Horário Geral (Semana 2)'!GX11","v":0},{"$f":"'Horário Geral (Semana 2)'!GY11","v":0},{"$f":"'Horário Geral (Semana 2)'!GZ11","v":1},{"$f":"'Horário Geral (Semana 2)'!HA11","v":0},{"$f":"'Horário Geral (Semana 2)'!HB11","v":0},{"$f":"'Horário Geral (Semana 2)'!HC11","v":0},{"$f":"'Horário Geral (Semana 2)'!HD11","v":1},{"$f":"'Horário Geral (Semana 2)'!HE11","v":0},{"$f":"'Horário Geral (Semana 2)'!HF11","v":1},{"$f":"'Horário Geral (Semana 2)'!HG11","v":0},{"$f":"'Horário Geral (Semana 2)'!HH11","v":0},{"$f":"'Horário Geral (Semana 2)'!HI11","v":0},{"$f":"'Horário Geral (Semana 2)'!HJ11","v":0},{"$f":"'Horário Geral (Semana 2)'!HK11","v":0}]
[null,"3ª","09:00:00",{"$f":"'Horário Geral (Semana 2)'!EY12","v":1},{"$f":"'Horário Geral (Semana 2)'!EZ12","v":1},{"$f":"'Horário Geral (Semana 2)'!FA12","v":0},{"$f":"'Horário Geral (Semana 2)'!FB12","v":0},{"$f":"'Horário Geral (Semana 2)'!FC12","v":0},{"$f":"'Horário Geral (Semana 2)'!FD12","v":0},{"$f":"'Horário Geral (Semana 2)'!FE12","v":0},{"$f":"'Horário Geral (Semana 2)'!FF12","v":0},{"$f":"'Horário Geral (Semana 2)'!#REF!","v":{"$error":"#REF!"}},{"$f":"'Horário Geral (Semana 2)'!FG12","v":0},{"$f":"'Horário Geral (Semana 2)'!FH12","v":0},{"$f":"'Horário Geral (Semana 2)'!FI12","v":0},{"$f":"'Horário Geral (Semana 2)'!FJ12","v":0},{"$f":"'Horário Geral (Semana 2)'!FK12","v":1},{"$f":"'Horário Geral (Semana 2)'!FM12","v":0},{"$f":"'Horário Geral (Semana 2)'!FN12","v":0},{"$f":"'Horário Geral (Semana 2)'!FO12","v":0},{"$f":"'Horário Geral (Semana 2)'!FP12","v":0},{"$f":"'Horário Geral (Semana 2)'!FQ12","v":1},{"$f":"'Horário Geral (Semana 2)'!FR12","v":0},{"$f":"'Horário Geral (Semana 2)'!FS12","v":0},{"$f":"'Horário Geral (Semana 2)'!FT12","v":0},{"$f":"'Horário Geral (Semana 2)'!FU12","v":0},{"$f":"'Horário Geral (Semana 2)'!FV12","v":0},{"$f":"'Horário Geral (Semana 2)'!FW12","v":0},{"$f":"'Horário Geral (Semana 2)'!FX12","v":0},{"$f":"'Horário Geral (Semana 2)'!FY12","v":0},{"$f":"'Horário Geral (Semana 2)'!FZ12","v":0},{"$f":"'Horário Geral (Semana 2)'!GA12","v":1},{"$f":"'Horário Geral (Semana 2)'!GB12","v":0},{"$f":"'Horário Geral (Semana 2)'!GC12","v":0},{"$f":"'Horário Geral (Semana 2)'!GD12","v":0},{"$f":"'Horário Geral (Semana 2)'!GE12","v":0},{"$f":"'Horário Geral (Semana 2)'!GF12","v":1},{"$f":"'Horário Geral (Semana 2)'!GG12","v":0},{"$f":"'Horário Geral (Semana 2)'!GH12","v":0},{"$f":"'Horário Geral (Semana 2)'!GI12","v":0},{"$f":"'Horário Geral (Semana 2)'!GJ12","v":0},{"$f":"'Horário Geral (Semana 2)'!GK12","v":0},{"$f":"'Horário Geral (Semana 2)'!GL12","v":1},{"$f":"'Horário Geral (Semana 2)'!GM12","v":0},{"$f":"'Horário Geral (Semana 2)'!#REF!","v":{"$error":"#REF!"}},{"$f":"'Horário Geral (Semana 2)'!GN12","v":1},{"$f":"'Horário Geral (Semana 2)'!GO12","v":0},{"$f":"'Horário Geral (Semana 2)'!GP12","v":0},{"$f":"'Horário Geral (Semana 2)'!#REF!","v":{"$error":"#REF!"}},{"$f":"'Horário Geral (Semana 2)'!GQ12","v":0},{"$f":"'Horário Geral (Semana 2)'!GR12","v":0},{"$f":"'Horário Geral (Semana 2)'!GS12","v":1},{"$f":"'Horário Geral (Semana 2)'!GT12","v":0},{"$f":"'Horário Geral (Semana 2)'!GU12","v":0},{"$f":"'Horário Geral (Semana 2)'!GV12","v":0},{"$f":"'Horário Geral (Semana 2)'!GW12","v":0},{"$f":"'Horário Geral (Semana 2)'!GX12","v":0},{"$f":"'Horário Geral (Semana 2)'!GY12","v":0},{"$f":"'Horário Geral (Semana 2)'!GZ12","v":0},{"$f":"'Horário Geral (Semana 2)'!HA12","v":0},{"$f":"'Horário Geral (Semana 2)'!HB12","v":0},{"$f":"'Horário Geral (Semana 2)'!HC12","v":0},{"$f":"'Horário Geral (Semana 2)'!HD12","v":1},{"$f":"'Horário Geral (Semana 2)'!HE12","v":0},{"$f":"'Horário Geral (Semana 2)'!HF12","v":1},{"$f":"'Horário Geral (Semana 2)'!HG12","v":0},{"$f":"'Horário Geral (Semana 2)'!HH12","v":0},{"$f":"'Horário Geral (Semana 2)'!HI12","v":0},{"$f":"'Horário Geral (Semana 2)'!HJ12","v":0},{"$f":"'Horário Geral (Semana 2)'!HK12","v":0}]
[null,"4ª","10:00:00",{"$f":"'Horário Geral (Semana 2)'!EY13","v":1},{"$f":"'Horário Geral (Semana 2)'!EZ13","v":1},{"$f":"'Horário Geral (Semana 2)'!FA13","v":0},{"$f":"'Horário Geral (Semana 2)'!FB13","v":0},{"$f":"'Horário Geral (Semana 2)'!FC13","v":0},{"$f":"'Horário Geral (Semana 2)'!FD13","v":0},{"$f":"'Horário Geral (Semana 2)'!FE13","v":0},{"$f":"'Horário Geral (Semana 2)'!FF13","v":0},{"$f":"'Horário Geral (Semana 2)'!#REF!","v":{"$error":"#REF!"}},{"$f":"'Horário Geral (Semana 2)'!FG13","v":0},{"$f":"'Horário Geral (Semana 2)'!FH13","v":0},{"$f":"'Horário Geral (Semana 2)'!FI13","v":0},{"$f":"'Horário Geral (Semana 2)'!FJ13","v":0},{"$f":"'Horário Geral (Semana 2)'!FK13","v":1},{"$f":"'Horário Geral (Semana 2)'!FM13","v":0},{"$f":"'Horário Geral (Semana 2)'!FN13","v":0},{"$f":"'Horário Geral (Semana 2)'!FO13","v":0},{"$f":"'Horário Geral (Semana 2)'!FP13","v":0},{"$f":"'Horário Geral (Semana 2)'!FQ13","v":1},{"$f":"'Horário Geral (Semana 2)'!FR13","v":0},{"$f":"'Horário Geral (Semana 2)'!FS13","v":0},{"$f":"'Horário Geral (Semana 2)'!FT13","v":0},{"$f":"'Horário Geral (Semana 2)'!FU13","v":0},{"$f":"'Horário Geral (Semana 2)'!FV13","v":0},{"$f":"'Horário Geral (Semana 2)'!FW13","v":0},{"$f":"'Horário Geral (Semana 2)'!FX13","v":0},{"$f":"'Horário Geral (Semana 2)'!FY13","v":0},{"$f":"'Horário Geral (Semana 2)'!FZ13","v":0},{"$f":"'Horário Geral (Semana 2)'!GA13","v":1},{"$f":"'Horário Geral (Semana 2)'!GB13","v":0},{"$f":"'Horário Geral (Semana 2)'!GC13","v":0},{"$f":"'Horário Geral (Semana 2)'!GD13","v":0},{"$f":"'Horário Geral (Semana 2)'!GE13","v":0},{"$f":"'Horário Geral (Semana 2)'!GF13","v":1},{"$f":"'Horário Geral (Semana 2)'!GG13","v":0},{"$f":"'Horário Geral (Semana 2)'!GH13","v":0},{"$f":"'Horário Geral (Semana 2)'!GI13","v":0},{"$f":"'Horário Geral (Semana 2)'!GJ13","v":0},{"$f":"'Horário Geral (Semana 2)'!GK13","v":0},{"$f":"'Horário Geral (Semana 2)'!GL13","v":1},{"$f":"'Horário Geral (Semana 2)'!GM13","v":0},{"$f":"'Horário Geral (Semana 2)'!#REF!","v":{"$error":"#REF!"}},{"$f":"'Horário Geral (Semana 2)'!GN13","v":0},{"$f":"'Horário Geral (Semana 2)'!GO13","v":0},{"$f":"'Horário Geral (Semana 2)'!GP13","v":0},{"$f":"'Horário Geral (Semana 2)'!#REF!","v":{"$error":"#REF!"}},{"$f":"'Horário Geral (Semana 2)'!GQ13","v":1},{"$f":"'Horário Geral (Semana 2)'!GR13","v":0},{"$f":"'Horário Geral (Semana 2)'!GS13","v":1},{"$f":"'Horário Geral (Semana 2)'!GT13","v":0},{"$f":"'Horário Geral (Semana 2)'!GU13","v":0},{"$f":"'Horário Geral (Semana 2)'!GV13","v":0},{"$f":"'Horário Geral (Semana 2)'!GW13","v":0},{"$f":"'Horário Geral (Semana 2)'!GX13","v":0},{"$f":"'Horário Geral (Semana 2)'!GY13","v":0},{"$f":"'Horário Geral (Semana 2)'!GZ13","v":0},{"$f":"'Horário Geral (Semana 2)'!HA13","v":0},{"$f":"'Horário Geral (Semana 2)'!HB13","v":0},{"$f":"'Horário Geral (Semana 2)'!HC13","v":0},{"$f":"'Horário Geral (Semana 2)'!HD13","v":1},{"$f":"'Horário Geral (Semana 2)'!HE13","v":0},{"$f":"'Horário Geral (Semana 2)'!HF13","v":1},{"$f":"'Horário Geral (Semana 2)'!HG13","v":0},{"$f":"'Horário Geral (Semana 2)'!HH13","v":0},{"$f":"'Horário Geral (Semana 2)'!HI13","v":0},{"$f":"'Horário Geral (Semana 2)'!HJ13","v":0},{"$f":"'Horário Geral (Semana 2)'!HK13","v":1}]
[null,"5ª","10:45:00",{"$f":"'Horário Geral (Semana 2)'!EY14","v":0},{"$f":"'Horário Geral (Semana 2)'!EZ14","v":0},{"$f":"'Horário Geral (Semana 2)'!FA14","v":0},{"$f":"'Horário Geral (Semana 2)'!FB14","v":0},{"$f":"'Horário Geral (Semana 2)'!FC14","v":0},{"$f":"'Horário Geral (Semana 2)'!FD14","v":0},{"$f":"'Horário Geral (Semana 2)'!FE14","v":0},{"$f":"'Horário Geral (Semana 2)'!FF14","v":0},{"$f":"'Horário Geral (Semana 2)'!#REF!","v":{"$error":"#REF!"}},{"$f":"'Horário Geral (Semana 2)'!FG14","v":0},{"$f":"'Horário Geral (Semana 2)'!FH14","v":0},{"$f":"'Horário Geral (Semana 2)'!FI14","v":0},{"$f":"'Horário Geral (Semana 2)'!FJ14","v":0},{"$f":"'Horário Geral (Semana 2)'!FK14","v":1},{"$f":"'Horário Geral (Semana 2)'!FM14","v":0},{"$f":"'Horário Geral (Semana 2)'!FN14","v":0},{"$f":"'Horário Geral (Semana 2)'!FO14","v":0},{"$f":"'Horário Geral (Semana 2)'!FP14","v":0},{"$f":"'Horário Geral (Semana 2)'!FQ14","v":1},{"$f":"'Horário Geral (Semana 2)'!FR14","v":0},{"$f":"'Horário Geral (Semana 2)'!FS14","v":0},{"$f":"'Horário Geral (Semana 2)'!FT14","v":0},{"$f":"'Horário Geral (Semana 2)'!FU14","v":0},{"$f":"'Horário Geral (Semana 2)'!FV14","v":0},{"$f":"'Horário Geral (Semana 2)'!FW14","v":0},{"$f":"'Horário Geral (Semana 2)'!FX14","v":0},{"$f":"'Horário Geral (Semana 2)'!FY14","v":0},{"$f":"'Horário Geral (Semana 2)'!FZ14","v":0},{"$f":"'Horário Geral (Semana 2)'!GA14","v":0},{"$f":"'Horário Geral (Semana 2)'!GB14","v":1},{"$f":"'Horário Geral (Semana 2)'!GC14","v":1},{"$f":"'Horário Geral (Semana 2)'!GD14","v":0},{"$f":"'Horário Geral (Semana 2)'!GE14","v":0},{"$f":"'Horário Geral (Semana 2)'!GF14","v":0},{"$f":"'Horário Geral (Semana 2)'!GG14","v":0},{"$f":"'Horário Geral (Semana 2)'!GH14","v":1},{"$f":"'Horário Geral (Semana 2)'!GI14","v":0},{"$f":"'Horário Geral (Semana 2)'!GJ14","v":0},{"$f":"'Horário Geral (Semana 2)'!GK14","v":0},{"$f":"'Horário Geral (Semana 2)'!GL14","v":1},{"$f":"'Horário Geral (Semana 2)'!GM14","v":0},{"$f":"'Horário Geral (Semana 2)'!#REF!","v":{"$error":"#REF!"}},{"$f":"'Horário Geral (Semana 2)'!GN14","v":1},{"$f":"'Horário Geral (Semana 2)'!GO14","v":0},{"$f":"'Horário Geral (Semana 2)'!GP14","v":0},{"$f":"'Horário Geral (Semana 2)'!#REF!","v":{"$error":"#REF!"}},{"$f":"'Horário Geral (Semana 2)'!GQ14","v":1},{"$f":"'Horário Geral (Semana 2)'!GR14","v":0},{"$f":"'Horário Geral (Semana 2)'!GS14","v":1},{"$f":"'Horário Geral (Semana 2)'!GT14","v":0},{"$f":"'Horário Geral (Semana 2)'!GU14","v":0},{"$f":"'Horário Geral (Semana 2)'!GV14","v":0},{"$f":"'Horário Geral (Semana 2)'!GW14","v":0},{"$f":"'Horário Geral (Semana 2)'!GX14","v":0},{"$f":"'Horário Geral (Semana 2)'!GY14","v":0},{"$f":"'Horário Geral (Semana 2)'!GZ14","v":0},{"$f":"'Horário Geral (Semana 2)'!HA14","v":0},{"$f":"'Horário Geral (Semana 2)'!HB14","v":0},{"$f":"'Horário Geral (Semana 2)'!HC14","v":0},{"$f":"'Horário Geral (Semana 2)'!HD14","v":1},{"$f":"'Horário Geral (Semana 2)'!HE14","v":0},{"$f":"'Horário Geral (Semana 2)'!HF14","v":0},{"$f":"'Horário Geral (Semana 2)'!HG14","v":0},{"$f":"'Horário Geral (Semana 2)'!HH14","v":0},{"$f":"'Horário Geral (Semana 2)'!HI14","v":0},{"$f":"'Horário Geral (Semana 2)'!HJ14","v":0},{"$f":"'Horário Geral (Semana 2)'!HK14","v":1}]
[null,null,null,{"$f":"'Horário Geral (Semana 2)'!EY15","v":0},{"$f":"'Horário Geral (Semana 2)'!EZ15","v":1},{"$f":"'Horário Geral (Semana 2)'!FA15","v":0},{"$f":"'Horário Geral (Semana 2)'!FB15","v":0},{"$f":"'Horário Geral (Semana 2)'!FC15","v":0},{"$f":"'Horário Geral (Semana 2)'!FD15","v":0},{"$f":"'Horário Geral (Semana 2)'!FE15","v":0},{"$f":"'Horário Geral (Semana 2)'!FF15","v":0},{"$f":"'Horário Geral (Semana 2)'!#REF!","v":{"$error":"#REF!"}},{"$f":"'Horário Geral (Semana 2)'!FG15","v":0},{"$f":"'Horário Geral (Semana 2)'!FH15","v":0},{"$f":"'Horário Geral (Semana 2)'!FI15","v":0},{"$f":"'Horário Geral (Semana 2)'!FJ15","v":0},{"$f":"'Horário Geral (Semana 2)'!FK15","v":1},{"$f":"'Horário Geral (Semana 2)'!FM15","v":0},{"$f":"'Horário Geral (Semana 2)'!FN15","v":0},{"$f":"'Horário Geral (Semana 2)'!FO15","v":0},{"$f":"'Horário Geral (Semana 2)'!FP15","v":0},{"$f":"'Horário Geral (Semana 2)'!FQ15","v":1},{"$f":"'Horário Geral (Semana 2)'!FR15","v":0},{"$f":"'Horário Geral (Semana 2)'!FS15","v":0},{"$f":"'Horário Geral (Semana 2)'!FT15","v":0},{"$f":"'Horário Geral (Semana 2)'!FU15","v":0},{"$f":"'Horário Geral (Semana 2)'!FV15","v":0},{"$f":"'Horário Geral (Semana 2)'!FW15","v":0},{"$f":"'Horário Geral (Semana 2)'!FX15","v":0},{"$f":"'Horário Geral (Semana 2)'!FY15","v":0},{"$f":"'Horário Geral (Semana 2)'!FZ15","v":0},{"$f":"'Horário Geral (Semana 2)'!GA15","v":0},{"$f":"'Horário Geral (Semana 2)'!GB15","v":0},{"$f":"'Horário Geral (Semana 2)'!GC15","v":1},{"$f":"'Horário Geral (Semana 2)'!GD15","v":0},{"$f":"'Horário Geral (Semana 2)'!GE15","v":0},{"$f":"'Horário Geral (Semana 2)'!GF15","v":0},{"$f":"'Horário Geral (Semana 2)'!GG15","v":0},{"$f":"'Horário Geral (Semana 2)'!GH15","v":1},{"$f":"'Horário Geral (Semana 2)'!GI15","v":0},{"$f":"'Horário Geral (Semana 2)'!GJ15","v":0},{"$f":"'Horário Geral (Semana 2)'!GK15","v":0},{"$f":"'Horário Geral (Semana 2)'!GL15","v":1},{"$f":"'Horário Geral (Semana 2)'!GM15","v":0},{"$f":"'Horário Geral (Semana 2)'!#REF!","v":{"$error":"#REF!"}},{"$f":"'Horário Geral (Semana 2)'!GN15","v":1},{"$f":"'Horário Geral (Semana 2)'!GO15","v":0},{"$f":"'Horário Geral (Semana 2)'!GP15","v":0},{"$f":"'Horário Geral (Semana 2)'!#REF!","v":{"$error":"#REF!"}},{"$f":"'Horário Geral (Semana 2)'!GQ15","v":1},{"$f":"'Horário Geral (Semana 2)'!GR15","v":0},{"$f":"'Horário Geral (Semana 2)'!GS15","v":1},{"$f":"'Horário Geral (Semana 2)'!GT15","v":0},{"$f":"'Horário Geral (Semana 2)'!GU15","v":0},{"$f":"'Horário Geral (Semana 2)'!GV15","v":0},{"$f":"'Horário Geral (Semana 2)'!GW15","v":0},{"$f":"'Horário Geral (Semana 2)'!GX15","v":0},{"$f":"'Horário Geral (Semana 2)'!GY15","v":0},{"$f":"'Horário Geral (Semana 2)'!GZ15","v":0},{"$f":"'Horário Geral (Semana 2)'!HA15","v":0},{"$f":"'Horário Geral (Semana 2)'!HB15","v":0},{"$f":"'Horário Geral (Semana 2)'!HC15","v":0},{"$f":"'Horário Geral (Semana 2)'!HD15","v":1},{"$f":"'Horário Geral (Semana 2)'!HE15","v":0},{"$f":"'Horário Geral (Semana 2)'!HF15","v":0},{"$f":"'Horário Geral (Semana 2)'!HG15","v":0},{"$f":"'Horário Geral (Semana 2)'!HH15","v":0},{"$f":"'Horário Geral (Semana 2)'!HI15","v":0},{"$f":"'Horário Geral (Semana 2)'!HJ15","v":0},{"$f":"'Horário Geral (Semana 2)'!HK15","v":1}]
["TER","1ª","07:10:00",{"$f":"'Horário Geral (Semana 2)'!EY28","v":1},{"$f":"'Horário Geral (Semana 2)'!EZ28","v":0},{"$f":"'Horário Geral (Semana 2)'!FA28","v":0},{"$f":"'Horário Geral (Semana 2)'!FB28","v":0},{"$f":"'Horário Geral (Semana 2)'!FC28","v":0},{"$f":"'Horário Geral (Semana 2)'!FD28","v":0},{"$f":"'Horário Geral (Semana 2)'!FE28","v":0},{"$f":"'Horário Geral (Semana 2)'!FF28","v":1},{"$f":"'Horário Geral (Semana 2)'!#REF!","v":{"$error":"#REF!"}},{"$f":"'Horário Geral (Semana 2)'!FG28","v":0},{"$f":"'Horário Geral (Semana 2)'!FH28","v":0},{"$f":"'Horário Geral (Semana 2)'!FI28","v":0},{"$f":"'Horário Geral (Semana 2)'!FJ28","v":0},{"$f":"'Horário Geral (Semana 2)'!FK28","v":1},{"$f":"'Horário Geral (Semana 2)'!FM28","v":0},{"$f":"'Horário Geral (Semana 2)'!FN28","v":0},{"$f":"'Horário Geral (Semana 2)'!FO28","v":1},{"$f":"'Horário Geral (Semana 2)'!FP28","v":0},{"$f":"'Horário Geral (Semana 2)'!FQ28","v":0},{"$f":"'Horário Geral (Semana 2)'!FR28","v":1},{"$f":"'Horário Geral (Semana 2)'!FS28","v":1},{"$f":"'Horário Geral (Semana 2)'!FT28","v":0},{"$f":"'Horário Geral (Semana 2)'!FU28","v":0},{"$f":"'Horário Geral (Semana 2)'!FV28","v":0},{"$f":"'Horário Geral (Semana 2)'!FW28","v":0},{"$f":"'Horário Geral (Semana 2)'!FX28","v":0},{"$f":"'Horário Geral (Semana 2)'!FY28","v":0},{"$f":"'Horário Geral (Semana 2)'!FZ28","v":0},{"$f":"'Horário Geral (Semana 2)'!GA28","v":0},{"$f":"'Horário Geral (Semana 2)'!GB28","v":1},{"$f":"'Horário Geral (Semana 2)'!GC28","v":0},{"$f":"'Horário Geral (Semana 2)'!GD28","v":0},{"$f":"'Horário Geral (Semana 2)'!GE28","v":0},{"$f":"'Horário Geral (Semana 2)'!GF28","v":0},{"$f":"'Horário Geral (Semana 2)'!GG28","v":0},{"$f":"'Horário Geral (Semana 2)'!GH28","v":1},{"$f":"'Horário Geral (Semana 2)'!GI28","v":0},{"$f":"'Horário Geral (Semana 2)'!GJ28","v":0},{"$f":"'Horário Geral (Semana 2)'!GK28","v":0},{"$f":"'Horário Geral (Semana 2)'!GL28","v":0},{"$f":"'Horário Geral (Semana 2)'!GM28","v":0},{"$f":"'Horário Geral (Semana 2)'!#REF!","v":{"$error":"#REF!"}},{"$f":"'Horário Geral (Semana 2)'!GN28","v":0},{"$f":"'Horário Geral (Semana 2)'!GO28","v":0},{"$f":"'Horário Geral (Semana 2)'!GP28","v":0},{"$f":"'Horário Geral (Semana 2)'!#REF!","v":{"$error":"#REF!"}},{"$f":"'Horário Geral (Semana 2)'!GQ28","v":0},{"$f":"'Horário Geral (Semana 2)'!GR28","v":0},{"$f":"'Horário Geral (Semana 2)'!GS28","v":0},{"$f":"'Horário Geral (Semana 2)'!GT28","v":0},{"$f":"'Horário Geral (Semana 2)'!GU28","v":1},{"$f":"'Horário Geral (Semana 2)'!GV28","v":0},{"$f":"'Horário Geral (Semana 2)'!GW28","v":0},{"$f":"'Horário Geral (Semana 2)'!GX28","v":0},{"$f":"'Horário Geral (Semana 2)'!GY28","v":0},{"$f":"'Horário Geral (Semana 2)'!GZ28","v":0},{"$f":"'Horário Geral (Semana 2)'!HA28","v":1},{"$f":"'Horário Geral (Semana 2)'!HB28","v":0},{"$f":"'Horário Geral (Semana 2)'!HC28","v":0},{"$f":"'Horário Geral (Semana 2)'!HD28","v":0},{"$f":"'Horário Geral (Semana 2)'!HE28","v":0},{"$f":"'Horário Geral (Semana 2)'!HF28","v":1},{"$f":"'Horário Geral (Semana 2)'!HG28","v":0},{"$f":"'Horário Geral (Semana 2)'!HH28","v":0},{"$f":"'Horário Geral (Semana 2)'!HI28","v":0},{"$f":"'Horário Geral (Semana 2)'!HJ28","v":0},{"$f":"'Horário Geral (Semana 2)'!HK28","v":0}]
[null,"2ª","08:00:00",{"$f":"'Horário Geral (Semana 2)'!EY29","v":1},{"$f":"'Horário Geral (Semana 2)'!EZ29","v":1},{"$f":"'Horário Geral (Semana 2)'!FA29","v":0},{"$f":"'Horário Geral (Semana 2)'!FB29","v":0},{"$f":"'Horário Geral (Semana 2)'!FC29","v":0},{"$f":"'Horário Geral (Semana 2)'!FD29","v":0},{"$f":"'Horário Geral (Semana 2)'!FE29","v":0},{"$f":"'Horário Geral (Semana 2)'!FF29","v":1},{"$f":"'Horário Geral (Semana 2)'!#REF!","v":{"$error":"#REF!"}},{"$f":"'Horário Geral (Semana 2)'!FG29","v":0},{"$f":"'Horário Geral (Semana 2)'!FH29","v":0},{"$f":"'Horário Geral (Semana 2)'!FI29","v":0},{"$f":"'Horário Geral (Semana 2)'!FJ29","v":0},{"$f":"'Horário Geral (Semana 2)'!FK29","v":1},{"$f":"'Horário Geral (Semana 2)'!FM29","v":0},{"$f":"'Horário Geral (Semana 2)'!FN29","v":0},{"$f":"'Horário Geral (Semana 2)'!FO29","v":1},{"$f":"'Horário Geral (Semana 2)'!FP29","v":0},{"$f":"'Horário Geral (Semana 2)'!FQ29","v":0},{"$f":"'Horário Geral (Semana 2)'!FR29","v":1},{"$f":"'Horário Geral (Semana 2)'!FS29","v":1},{"$f":"'Horário Geral (Semana 2)'!FT29","v":0},{"$f":"'Horário Geral (Semana 2)'!FU29","v":0},{"$f":"'Horário Geral (Semana 2)'!FV29","v":0},{"$f":"'Horário Geral (Semana 2)'!FW29","v":0},{"$f":"'Horário Geral (Semana 2)'!FX29","v":0},{"$f":"'Horário Geral (Semana 2)'!FY29","v":0},{"$f":"'Horário Geral (Semana 2)'!FZ29","v":0},{"$f":"'Horário Geral (Semana 2)'!GA29","v":0},{"$f":"'Horário Geral (Semana 2)'!GB29","v":1},{"$f":"'Horário Geral (Semana 2)'!GC29","v":0},{"$f":"'Horário Geral (Semana 2)'!GD29","v":0},{"$f":"'Horário Geral (Semana 2)'!GE29","v":0},{"$f":"'Horário Geral (Semana 2)'!GF29","v":0},{"$f":"'Horário Geral (Semana 2)'!GG29","v":0},{"$f":"'Horário Geral (Semana 2)'!GH29","v":1},{"$f":"'Horário Geral (Semana 2)'!GI29","v":0},{"$f":"'Horário Geral (Semana 2)'!GJ29","v":0},{"$f":"'Horário Geral (Semana 2)'!GK29","v":0},{"$f":"'Horário Geral (Semana 2)'!GL29","v":0},{"$f":"'Horário Geral (Semana 2)'!GM29","v":0},{"$f":"'Horário Geral (Semana 2)'!#REF!","v":{"$error":"#REF!"}},{"$f":"'Horário Geral (Semana 2)'!GN29","v":0},{"$f":"'Horário Geral (Semana 2)'!GO29","v":0},{"$f":"'Horário Geral (Semana 2)'!GP29","v":0},{"$f":"'Horário Geral (Semana 2)'!#REF!","v":{"$error":"#REF!"}},{"$f":"'Horário Geral (Semana 2)'!GQ29","v":0},{"$f":"'Horário Geral (Semana 2)'!GR29","v":0},{"$f":"'Horário Geral (Semana 2)'!GS29","v":0},{"$f":"'Horário Geral (Semana 2)'!GT29","v":0},{"$f":"'Horário Geral (Semana 2)'!GU29","v":1},{"$f":"'Horário Geral (Semana 2)'!GV29","v":0},{"$f":"'Horário Geral (Semana 2)'!GW29","v":0},{"$f":"'Horário Geral (Semana 2)'!GX29","v":0},{"$f":"'Horário Geral (Semana 2)'!GY29","v":0},{"$f":"'Horário Geral (Semana 2)'!GZ29","v":0},{"$f":"'Horário Geral (Semana 2)'!HA29","v":1},{"$f":"'Horário Geral (Semana 2)'!HB29","v":0},{"$f":"'Horário Geral (Semana 2)'!HC29","v":0},{"$f":"'Horário Geral (Semana 2)'!HD29","v":0},{"$f":"'Horário Geral (Semana 2)'!HE29","v":0},{"$f":"'Horário Geral (Semana 2)'!HF29","v":1},{"$f":"'Horário Geral (Semana 2)'!HG29","v":0},{"$f":"'Horário Geral (Semana 2)'!HH29","v":0},{"$f":"'Horário Geral (Semana 2)'!HI29","v":0},{"$f":"'Horário Geral (Semana 2)'!HJ29","v":0},{"$f":"'Horário Geral (Semana 2)'!HK29","v":0}]
[null,"3ª","08:50:00",{"$f":"'Horário Geral (Semana 2)'!EY30","v":0},{"$f":"'Horário Geral (Semana 2)'!EZ30","v":1},{"$f":"'Horário Geral (Semana 2)'!FA30","v":0},{"$f":"'Horário Geral (Semana 2)'!FB30","v":0},{"$f":"'Horário Geral (Semana 2)'!FC30","v":0},{"$f":"'Horário Geral (Semana 2)'!FD30","v":0},{"$f":"'Horário Geral (Semana 2)'!FE30","v":0},{"$f":"'Horário Geral (Semana 2)'!FF30","v":1},{"$f":"'Horário Geral (Semana 2)'!#REF!","v":{"$error":"#REF!"}},{"$f":"'Horário Geral (Semana 2)'!FG30","v":0},{"$f":"'Horário Geral (Semana 2)'!FH30","v":0},{"$f":"'Horário Geral (Semana 2)'!FI30","v":0},{"$f":"'Horário Geral (Semana 2)'!FJ30","v":0},{"$f":"'Horário Geral (Semana 2)'!FK30","v":1},{"$f":"'Horário Geral (Semana 2)'!FM30","v":0},{"$f":"'Horário Geral (Semana 2)'!FN30","v":0},{"$f":"'Horário Geral (Semana 2)'!FO30","v":1},{"$f":"'Horário Geral (Semana 2)'!FP30","v":0},{"$f":"'Horário Geral (Semana 2)'!FQ30","v":0},{"$f":"'Horário Geral (Semana 2)'!FR30","v":1},{"$f":"'Horário Geral (Semana 2)'!FS30","v":1},{"$f":"'Horário Geral (Semana 2)'!FT30","v":1},{"$f":"'Horário Geral (Semana 2)'!FU30","v":0},{"$f":"'Horário Geral (Semana 2)'!FV30","v":0},{"$f":"'Horário Geral (Semana 2)'!FW30","v":0},{"$f":"'Horário Geral (Semana 2)'!FX30","v":0},{"$f":"'Horário Geral (Semana 2)'!FY30","v":0},{"$f":"'Horário Geral (Semana 2)'!FZ30","v":0},{"$f":"'Horário Geral (Semana 2)'!GA30","v":0},{"$f":"'Horário Geral (Semana 2)'!GB30","v":1},{"$f":"'Horário Geral (Semana 2)'!GC30","v":0},{"$f":"'Horário Geral (Semana 2)'!GD30","v":0},{"$f":"'Horário Geral (Semana 2)'!GE30","v":0},{"$f":"'Horário Geral (Semana 2)'!GF30","v":0},{"$f":"'Horário Geral (Semana 2)'!GG30","v":0},{"$f":"'Horário Geral (Semana 2)'!GH30","v":1},{"$f":"'Horário Geral (Semana 2)'!GI30","v":0},{"$f":"'Horário Geral (Semana 2)'!GJ30","v":0},{"$f":"'Horário Geral (Semana 2)'!GK30","v":0},{"$f":"'Horário Geral (Semana 2)'!GL30","v":0},{"$f":"'Horário Geral (Semana 2)'!GM30","v":0},{"$f":"'Horário Geral (Semana 2)'!#REF!","v":{"$error":"#REF!"}},{"$f":"'Horário Geral (Semana 2)'!GN30","v":0},{"$f":"'Horário Geral (Semana 2)'!GO30","v":0},{"$f":"'Horário Geral (Semana 2)'!GP30","v":0},{"$f":"'Horário Geral (Semana 2)'!#REF!","v":{"$error":"#REF!"}},{"$f":"'Horário Geral (Semana 2)'!GQ30","v":0},{"$f":"'Horário Geral (Semana 2)'!GR30","v":0},{"$f":"'Horário Geral (Semana 2)'!GS30","v":0},{"$f":"'Horário Geral (Semana 2)'!GT30","v":0},{"$f":"'Horário Geral (Semana 2)'!GU30","v":0},{"$f":"'Horário Geral (Semana 2)'!GV30","v":0},{"$f":"'Horário Geral (Semana 2)'!GW30","v":0},{"$f":"'Horário Geral (Semana 2)'!GX30","v":0},{"$f":"'Horário Geral (Semana 2)'!GY30","v":0},{"$f":"'Horário Geral (Semana 2)'!GZ30","v":0},{"$f":"'Horário Geral (Semana 2)'!HA30","v":0},{"$f":"'Horário Geral (Semana 2)'!HB30","v":0},{"$f":"'Horário Geral (Semana 2)'!HC30","v":0},{"$f":"'Horário Geral (Semana 2)'!HD30","v":0},{"$f":"'Horário Geral (Semana 2)'!HE30","v":1},{"$f":"'Horário Geral (Semana 2)'!HF30","v":1},{"$f":"'Horário Geral (Semana 2)'!HG30","v":1},{"$f":"'Horário Geral (Semana 2)'!HH30","v":0},{"$f":"'Horário Geral (Semana 2)'!HI30","v":0},{"$f":"'Horário Geral (Semana 2)'!HJ30","v":1},{"$f":"'Horário Geral (Semana 2)'!HK30","v":0}]
[null,"4ª","09:55:00",{"$f":"'Horário Geral (Semana 2)'!EY31","v":0},{"$f":"'Horário Geral (Semana 2)'!EZ31","v":1},{"$f":"'Horário Geral (Semana 2)'!FA31","v":0},{"$f":"'Horário Geral (Semana 2)'!FB31","v":0},{"$f":"'Horário Geral (Semana 2)'!FC31","v":0},{"$f":"'Horário Geral (Semana 2)'!FD31","v":0},{"$f":"'Horário Geral (Semana 2)'!FE31","v":1},{"$f":"'Horário Geral (Semana 2)'!FF31","v":1},{"$f":"'Horário Geral (Semana 2)'!#REF!","v":{"$error":"#REF!"}},{"$f":"'Horário Geral (Semana 2)'!FG31","v":0},{"$f":"'Horário Geral (Semana 2)'!FH31","v":0},{"$f":"'Horário Geral (Semana 2)'!FI31","v":0},{"$f":"'Horário Geral (Semana 2)'!FJ31","v":0},{"$f":"'Horário Geral (Semana 2)'!FK31","v":1},{"$f":"'Horário Geral (Semana 2)'!FM31","v":0},{"$f":"'Horário Geral (Semana 2)'!FN31","v":0},{"$f":"'Horário Geral (Semana 2)'!FO31","v":1},{"$f":"'Horário Geral (Semana 2)'!FP31","v":0},{"$f":"'Horário Geral (Semana 2)'!FQ31","v":0},{"$f":"'Horário Geral (Semana 2)'!FR31","v":1},{"$f":"'Horário Geral (Semana 2)'!FS31","v":1},{"$f":"'Horário Geral (Semana 2)'!FT31","v":1},{"$f":"'Horário Geral (Semana 2)'!FU31","v":0},{"$f":"'Horário Geral (Semana 2)'!FV31","v":0},{"$f":"'Horário Geral (Semana 2)'!FW31","v":0},{"$f":"'Horário Geral (Semana 2)'!FX31","v":0},{"$f":"'Horário Geral (Semana 2)'!FY31","v":0},{"$f":"'Horário Geral (Semana 2)'!FZ31","v":0},{"$f":"'Horário Geral (Semana 2)'!GA31","v":0},{"$f":"'Horário Geral (Semana 2)'!GB31","v":1},{"$f":"'Horário Geral (Semana 2)'!GC31","v":0},{"$f":"'Horário Geral (Semana 2)'!GD31","v":0},{"$f":"'Horário Geral (Semana 2)'!GE31","v":0},{"$f":"'Horário Geral (Semana 2)'!GF31","v":0},{"$f":"'Horário Geral (Semana 2)'!GG31","v":0},{"$f":"'Horário Geral (Semana 2)'!GH31","v":1},{"$f":"'Horário Geral (Semana 2)'!GI31","v":0},{"$f":"'Horário Geral (Semana 2)'!GJ31","v":0},{"$f":"'Horário Geral (Semana 2)'!GK31","v":0},{"$f":"'Horário Geral (Semana 2)'!GL31","v":0},{"$f":"'Horário Geral (Semana 2)'!GM31","v":0},{"$f":"'Horário Geral (Semana 2)'!#REF!","v":{"$error":"#REF!"}},{"$f":"'Horário Geral (Semana 2)'!GN31","v":0},{"$f":"'Horário Geral (Semana 2)'!GO31","v":0},{"$f":"'Horário Geral (Semana 2)'!GP31","v":0},{"$f":"'Horário Geral (Semana 2)'!#REF!","v":{"$error":"#REF!"}},{"$f":"'Horário Geral (Semana 2)'!GQ31","v":0},{"$f":"'Horário Geral (Semana 2)'!GR31","v":0},{"$f":"'Horário Geral (Semana 2)'!GS31","v":0},{"$f":"'Horário Geral (Semana 2)'!GT31","v":0},{"$f":"'Horário Geral (Semana 2)'!GU31","v":0},{"$f":"'Horário Geral (Semana 2)'!GV31","v":0},{"$f":"'Horário Geral (Semana 2)'!GW31","v":0},{"$f":"'Horário Geral (Semana 2)'!GX31","v":0},{"$f":"'Horário Geral (Semana 2)'!GY31","v":0},{"$f":"'Horário Geral (Semana 2)'!GZ31","v":0},{"$f":"'Horário Geral (Semana 2)'!HA31","v":0},{"$f":"'Horário Geral (Semana 2)'!HB31","v":0},{"$f":"'Horário Geral (Semana 2)'!HC31","v":0},{"$f":"'Horário Geral (Semana 2)'!HD31","v":0},{"$f":"'Horário Geral (Semana 2)'!HE31","v":1},{"$f":"'Horário Geral (Semana 2)'!HF31","v":1},{"$f":"'Horário Geral (Semana 2)'!HG31","v":1},{"$f":"'Horário Geral (Semana 2)'!HH31","v":0},{"$f":"'Horário Geral (Semana 2)'!HI31","v":0},{"$f":"'Horário Geral (Semana 2)'!HJ31","v":1},{"$f":"'Horário Geral (Semana 2)'!HK31","v":0}]
[null,"5ª","10:45:00",{"$f":"'Horário Geral (Semana 2)'!EY32","v":0},{"$f":"'Horário Geral (Semana 2)'!EZ32","v":0},{"$f":"'Horário Geral (Semana 2)'!FA32","v":0},{"$f":"'Horário Geral (Semana 2)'!FB32","v":0},{"$f":"'Horário Geral (Semana 2)'!FC32","v":0},{"$f":"'Horário Geral (Semana 2)'!FD32","v":0},{"$f":"'Horário Geral (Semana 2)'!FE32","v":1},{"$f":"'Horário Geral (Semana 2)'!FF32","v":0},{"$f":"'Horário Geral (Semana 2)'!#REF!","v":{"$error":"#REF!"}},{"$f":"'Horário Geral (Semana 2)'!FG32","v":0},{"$f":"'Horário Geral (Semana 2)'!FH32","v":0},{"$f":"'Horário Geral (Semana 2)'!FI32","v":1},{"$f":"'Horário Geral (Semana 2)'!FJ32","v":0},{"$f":"'Horário Geral (Semana 2)'!FK32","v":0},{"$f":"'Horário Geral (Semana 2)'!FM32","v":0},{"$f":"'Horário Geral (Semana 2)'!FN32","v":0},{"$f":"'Horário Geral (Semana 2)'!FO32","v":0},{"$f":"'Horário Geral (Semana 2)'!FP32","v":0},{"$f":"'Horário Geral (Semana 2)'!FQ32","v":0},{"$f":"'Horário Geral (Semana 2)'!FR32","v":0},{"$f":"'Horário Geral (Semana 2)'!FS32","v":1},{"$f":"'Horário Geral (Semana 2)'!FT32","v":1},{"$f":"'Horário Geral (Semana 2)'!FU32","v":0},{"$f":"'Horário Geral (Semana 2)'!FV32","v":0},{"$f":"'Horário Geral (Semana 2)'!FW32","v":0},{"$f":"'Horário Geral (Semana 2)'!FX32","v":0},{"$f":"'Horário Geral (Semana 2)'!FY32","v":0},{"$f":"'Horário Geral (Semana 2)'!FZ32","v":0},{"$f":"'Horário Geral (Semana 2)'!GA32","v":0},{"$f":"'Horário Geral (Semana 2)'!GB32","v":1},{"$f":"'Horário Geral (Semana 2)'!GC32","v":0},{"$f":"'Horário Geral (Semana 2)'!GD32","v":0},{"$f":"'Horário Geral (Semana 2)'!GE32","v":0},{"$f":"'Horário Geral (Semana 2)'!GF32","v":0},{"$f":"'Horário Geral (Semana 2)'!GG32","v":0},{"$f":"'Horário Geral (Semana 2)'!GH32","v":1},{"$f":"'Horário Geral (Semana 2)'!GI32","v":1},{"$f":"'Horário Geral (Semana 2)'!GJ32","v":0},{"$f":"'Horário Geral (Semana 2)'!GK32","v":0},{"$f":"'Horário Geral (Semana 2)'!GL32","v":0},{"$f":"'Horário Geral (Semana 2)'!GM32","v":0},{"$f":"'Horário Geral (Semana 2)'!#REF!","v":{"$error":"#REF!"}},{"$f":"'Horário Geral (Semana 2)'!GN32","v":0},{"$f":"'Horário Geral (Semana 2)'!GO32","v":0},{"$f":"'Horário Geral (Semana 2)'!GP32","v":0},{"$f":"'Horário Geral (Semana 2)'!#REF!","v":{"$error":"#REF!"}},{"$f":"'Horário Geral (Semana 2)'!GQ32","v":1},{"$f":"'Horário Geral (Semana 2)'!GR32","v":0},{"$f":"'Horário Geral (Semana 2)'!GS32","v":0},{"$f":"'Horário Geral (Semana 2)'!GT32","v":0},{"$f":"'Horário Geral (Semana 2)'!GU32","v":0},{"$f":"'Horário Geral (Semana 2)'!GV32","v":0},{"$f":"'Horário Geral (Semana 2)'!GW32","v":0},{"$f":"'Horário Geral (Semana 2)'!GX32","v":0},{"$f":"'Horário Geral (Semana 2)'!GY32","v":0},{"$f":"'Horário Geral (Semana 2)'!GZ32","v":0},{"$f":"'Horário Geral (Semana 2)'!HA32","v":1},{"$f":"'Horário Geral (Semana 2)'!HB32","v":1},{"$f":"'Horário Geral (Semana 2)'!HC32","v":0},{"$f":"'Horário Geral (Semana 2)'!HD32","v":0},{"$f":"'Horário Geral (Semana 2)'!HE32","v":1},{"$f":"'Horário Geral (Semana 2)'!HF32","v":0},{"$f":"'Horário Geral (Semana 2)'!HG32","v":0},{"$f":"'Horário Geral (Semana 2)'!HH32","v":0},{"$f":"'Horário Geral (Semana 2)'!HI32","v":0},{"$f":"'Horário Geral (Semana 2)'!HJ32","v":1},{"$f":"'Horário Geral (Semana 2)'!HK32","v":0}]
[null,null,null,{"$f":"'Horário Geral (Semana 2)'!EY33","v":0},{"$f":"'Horário Geral (Semana 2)'!EZ33","v":0},{"$f":"'Horário Geral (Semana 2)'!FA33","v":0},{"$f":"'Horário Geral (Semana 2)'!FB33","v":0},{"$f":"'Horário Geral (Semana 2)'!FC33","v":0},{"$f":"'Horário Geral (Semana 2)'!FD33","v":0},{"$f":"'Horário Geral (Semana 2)'!FE33","v":1},{"$f":"'Horário Geral (Semana 2)'!FF33","v":0},{"$f":"'Horário Geral (Semana 2)'!#REF!","v":{"$error":"#REF!"}},{"$f":"'Horário Geral (Semana 2)'!FG33","v":0},{"$f":"'Horário Geral (Semana 2)'!FH33","v":0},{"$f":"'Horário Geral (Semana 2)'!FI33","v":1},{"$f":"'Horário Geral (Semana 2)'!FJ33","v":0},{"$f":"'Horário Geral (Semana 2)'!FK33","v":0},{"$f":"'Horário Geral (Semana 2)'!FM33","v":0},{"$f":"'Horário Geral (Semana 2)'!FN33","v":0},{"$f":"'Horário Geral (Semana 2)'!FO33","v":0},{"$f":"'Horário Geral (Semana 2)'!FP33","v":0},{"$f":"'Horário Geral (Semana 2)'!FQ33","v":0},{"$f":"'Horário Geral (Semana 2)'!FR33","v":0},{"$f":"'Horário Geral (Semana 2)'!FS33","v":1},{"$f":"'Horário Geral (Semana 2)'!FT33","v":1},{"$f":"'Horário Geral (Semana 2)'!FU33","v":0},{"$f":"'Horário Geral (Semana 2)'!FV33","v":0},{"$f":"'Horário Geral (Semana 2)'!FW33","v":0},{"$f":"'Horário Geral (Semana 2)'!FX33","v":0},{"$f":"'Horário Geral (Semana 2)'!FY33","v":0},{"$f":"'Horário Geral (Semana 2)'!FZ33","v":0},{"$f":"'Horário Geral (Semana 2)'!GA33","v":0},{"$f":"'Horário Geral (Semana 2)'!GB33","v":1},{"$f":"'Horário Geral (Semana 2)'!GC33","v":0},{"$f":"'Horário Geral (Semana 2)'!GD33","v":0},{"$f":"'Horário Geral (Semana 2)'!GE33","v":0},{"$f":"'Horário Geral (Semana 2)'!GF33","v":0},{"$f":"'Horário Geral (Semana 2)'!GG33","v":0},{"$f":"'Horário Geral (Semana 2)'!GH33","v":1},{"$f":"'Horário Geral (Semana 2)'!GI33","v":1},{"$f":"'Horário Geral (Semana 2)'!GJ33","v":0},{"$f":"'Horário Geral (Semana 2)'!GK33","v":0},{"$f":"'Horário Geral (Semana 2)'!GL33","v":0},{"$f":"'Horário Geral (Semana 2)'!GM33","v":0},{"$f":"'Horário Geral (Semana 2)'!#REF!","v":{"$error":"#REF!"}},{"$f":"'Horário Geral (Semana 2)'!GN33","v":0},{"$f":"'Horário Geral (Semana 2)'!GO33","v":0},{"$f":"'Horário Geral (Semana 2)'!GP33","v":0},{"$f":"'Horário Geral (Semana 2)'!#REF!","v":{"$error":"#REF!"}},{"$f":"'Horário Geral (Semana 2)'!GQ33","v":1},{"$f":"'Horário Geral (Semana 2)'!GR33","v":0},{"$f":"'Horário Geral (Semana 2)'!GS33","v":0},{"$f":"'Horário Geral (Semana 2)'!GT33","v":0},{"$f":"'Horário Geral (Semana 2)'!GU33","v":0},{"$f":"'Horário Geral (Semana 2)'!GV33","v":0},{"$f":"'Horário Geral (Semana 2)'!GW33","v":0},{"$f":"'Horário Geral (Semana 2)'!GX33","v":0},{"$f":"'Horário Geral (Semana 2)'!GY33","v":0},{"$f":"'Horário Geral (Semana 2)'!GZ33","v":0},{"$f":"'Horário Geral (Semana 2)'!HA33","v":1},{"$f":"'Horário Geral (Semana 2)'!HB33","v":1},{"$f":"'Horário Geral (Semana 2)'!HC33","v":0},{"$f":"'Horário Geral (Semana 2)'!HD33","v":0},{"$f":"'Horário Geral (Semana 2)'!HE33","v":1},{"$f":"'Horário Geral (Semana 2)'!HF33","v":0},{"$f":"'Horário Geral (Semana 2)'!HG33","v":0},{"$f":"'Horário Geral (Semana 2)'!HH33","v":0},{"$f":"'Horário Geral (Semana 2)'!HI33","v":0},{"$f":"'Horário Geral (Semana 2)'!HJ33","v":1},{"$f":"'Horário Geral (Semana 2)'!HK33","v":0}]
["QUA","1ª","07:10:00",{"$f":"'Horário Geral (Semana 2)'!EY46","v":1},{"$f":"'Horário Geral (Semana 2)'!EZ46","v":0},{"$f":"'Horário Geral (Semana 2)'!FA46","v":0},{"$f":"'Horário Geral (Semana 2)'!FB46","v":0},{"$f":"'Horário Geral (Semana 2)'!FC46","v":0},{"$f":"'Horário Geral (Semana 2)'!FD46","v":0},{"$f":"'Horário Geral (Semana 2)'!FE46","v":0},{"$f":"'Horário Geral (Semana 2)'!FF46","v":1},{"$f":"'Horário Geral (Semana 2)'!#REF!","v":{"$error":"#REF!"}},{"$f":"'Horário Geral (Semana 2)'!FG46","v":0},{"$f":"'Horário Geral (Semana 2)'!FH46","v":0},{"$f":"'Horário Geral (Semana 2)'!FI46","v":1},{"$f":"'Horário Geral (Semana 2)'!FJ46","v":1},{"$f":"'Horário Geral (Semana 2)'!FK46","v":1},{"$f":"'Horário Geral (Semana 2)'!FM46","v":1},{"$f":"'Horário Geral (Semana 2)'!FN46","v":0},{"$f":"'Horário Geral (Semana 2)'!FO46","v":0},{"$f":"'Horário Geral (Semana 2)'!FP46","v":0},{"$f":"'Horário Geral (Semana 2)'!FQ46","v":0},{"$f":"'Horário Geral (Semana 2)'!FR46","v":0},{"$f":"'Horário Geral (Semana 2)'!FS46","v":0},{"$f":"'Horário Geral (Semana 2)'!FT46","v":0},{"$f":"'Horário Geral (Semana 2)'!FU46","v":0},{"$f":"'Horário Geral (Semana 2)'!FV46","v":0},{"$f":"'Horário Geral (Semana 2)'!FW46","v":0},{"$f":"'Horário Geral (Semana 2)'!FX46","v":0},{"$f":"'Horário Geral (Semana 2)'!FY46","v":0},{"$f":"'Horário Geral (Semana 2)'!FZ46","v":0},{"$f":"'Horário Geral (Semana 2)'!GA46","v":1},{"$f":"'Horário Geral (Semana 2)'!GB46","v":0},{"$f":"'Horário Geral (Semana 2)'!GC46","v":0},{"$f":"'Horário Geral (Semana 2)'!GD46","v":0},{"$f":"'Horário Geral (Semana 2)'!GE46","v":0},{"$f":"'Horário Geral (Semana 2)'!GF46","v":1},{"$f":"'Horário Geral (Semana 2)'!GG46","v":0},{"$f":"'Horário Geral (Semana 2)'!GH46","v":0},{"$f":"'Horário Geral (Semana 2)'!GI46","v":0},{"$f":"'Horário Geral (Semana 2)'!GJ46","v":0},{"$f":"'Horário Geral (Semana 2)'!GK46","v":0},{"$f":"'Horário Geral (Semana 2)'!GL46","v":0},{"$f":"'Horário Geral (Semana 2)'!GM46","v":0},{"$f":"'Horário Geral (Semana 2)'!#REF!","v":{"$error":"#REF!"}},{"$f":"'Horário Geral (Semana 2)'!GN46","v":0},{"$f":"'Horário Geral (Semana 2)'!GO46","v":0},{"$f":"'Horário Geral (Semana 2)'!GP46","v":1},{"$f":"'Horário Geral (Semana 2)'!#REF!","v":{"$error":"#REF!"}},{"$f":"'Horário Geral (Semana 2)'!GQ46","v":0},{"$f":"'Horário Geral (Semana 2)'!GR46","v":1},{"$f":"'Horário Geral (Semana 2)'!GS46","v":0},{"$f":"'Horário Geral (Semana 2)'!GT46","v":0},{"$f":"'Horário Geral (Semana 2)'!GU46","v":0},{"$f":"'Horário Geral (Semana 2)'!GV46","v":0},{"$f":"'Horário Geral (Semana 2)'!GW46","v":0},{"$f":"'Horário Geral (Semana 2)'!GX46","v":0},{"$f":"'Horário Geral (Semana 2)'!GY46","v":0},{"$f":"'Horário Geral (Semana 2)'!GZ46","v":0},{"$f":"'Horário Geral (Semana 2)'!HA46","v":0},{"$f":"'Horário Geral (Semana 2)'!HB46","v":0},{"$f":"'Horário Geral (Semana 2)'!HC46","v":0},{"$f":"'Horário Geral (Semana 2)'!HD46","v":0},{"$f":"'Horário Geral (Semana 2)'!HE46","v":0},{"$f":"'Horário Geral (Semana 2)'!HF46","v":0},{"$f":"'Horário Geral (Semana 2)'!HG46","v":0},{"$f":"'Horário Geral (Semana 2)'!HH46","v":0},{"$f":"'Horário Geral (Semana 2)'!HI46","v":0},{"$f":"'Horário Geral (Semana 2)'!HJ46","v":0},{"$f":"'Horário Geral (Semana 2)'!HK46","v":0}]
[null,"2ª","07:55:00",{"$f":"'Horário Geral (Semana 2)'!EY47","v":1},{"$f":"'Horário Geral (Semana 2)'!EZ47","v":0},{"$f":"'Horário Geral (Semana 2)'!FA47","v":0},{"$f":"'Horário Geral (Semana 2)'!FB47","v":0},{"$f":"'Horário Geral (Semana 2)'!FC47","v":0},{"$f":"'Horário Geral (Semana 2)'!FD47","v":0},{"$f":"'Horário Geral (Semana 2)'!FE47","v":0},{"$f":"'Horário Geral (Semana 2)'!FF47","v":1},{"$f":"'Horário Geral (Semana 2)'!#REF!","v":{"$error":"#REF!"}},{"$f":"'Horário Geral (Semana 2)'!FG47","v":0},{"$f":"'Horário Geral (Semana 2)'!FH47","v":0},{"$f":"'Horário Geral (Semana 2)'!FI47","v":1},{"$f":"'Horário Geral (Semana 2)'!FJ47","v":1},{"$f":"'Horário Geral (Semana 2)'!FK47","v":1},{"$f":"'Horário Geral (Semana 2)'!FM47","v":1},{"$f":"'Horário Geral (Semana 2)'!FN47","v":0},{"$f":"'Horário Geral (Semana 2)'!FO47","v":0},{"$f":"'Horário Geral (Semana 2)'!FP47","v":0},{"$f":"'Horário Geral (Semana 2)'!FQ47","v":0},{"$f":"'Horário Geral (Semana 2)'!FR47","v":0},{"$f":"'Horário Geral (Semana 2)'!FS47","v":0},{"$f":"'Horário Geral (Semana 2)'!FT47","v":0},{"$f":"'Horário Geral (Semana 2)'!FU47","v":0},{"$f":"'Horário Geral (Semana 2)'!FV47","v":0},{"$f":"'Horário Geral (Semana 2)'!FW47","v":0},{"$f":"'Horário Geral (Semana 2)'!FX47","v":0},{"$f":"'Horário Geral (Semana 2)'!FY47","v":0},{"$f":"'Horário Geral (Semana 2)'!FZ47","v":0},{"$f":"'Horário Geral (Semana 2)'!GA47","v":1},{"$f":"'Horário Geral (Semana 2)'!GB47","v":0},{"$f":"'Horário Geral (Semana 2)'!GC47","v":0},{"$f":"'Horário Geral (Semana 2)'!GD47","v":0},{"$f":"'Horário Geral (Semana 2)'!GE47","v":0},{"$f":"'Horário Geral (Semana 2)'!GF47","v":1},{"$f":"'Horário Geral (Semana 2)'!GG47","v":0},{"$f":"'Horário Geral (Semana 2)'!GH47","v":0},{"$f":"'Horário Geral (Semana 2)'!GI47","v":0},{"$f":"'Horário Geral (Semana 2)'!GJ47","v":0},{"$f":"'Horário Geral (Semana 2)'!GK47","v":0},{"$f":"'Horário Geral (Semana 2)'!GL47","v":0},{"$f":"'Horário Geral (Semana 2)'!GM47","v":0},{"$f":"'Horário Geral (Semana 2)'!#REF!","v":{"$error":"#REF!"}},{"$f":"'Horário Geral (Semana 2)'!GN47","v":0},{"$f":"'Horário Geral (Semana 2)'!GO47","v":0},{"$f":"'Horário Geral (Semana 2)'!GP47","v":1},{"$f":"'Horário Geral (Semana 2)'!#REF!","v":{"$error":"#REF!"}},{"$f":"'Horário Geral (Semana 2)'!GQ47","v":0},{"$f":"'Horário Geral (Semana 2)'!GR47","v":1},{"$f":"'Horário Geral (Semana 2)'!GS47","v":0},{"$f":"'Horário Geral (Semana 2)'!GT47","v":0},{"$f":"'Horário Geral (Semana 2)'!GU47","v":0},{"$f":"'Horário Geral (Semana 2)'!GV47","v":0},{"$f":"'Horário Geral (Semana 2)'!GW47","v":0},{"$f":"'Horário Geral (Semana 2)'!GX47","v":0},{"$f":"'Horário Geral (Semana 2)'!GY47","v":0},{"$f":"'Horário Geral (Semana 2)'!GZ47","v":0},{"$f":"'Horário Geral (Semana 2)'!HA47","v":0},{"$f":"'Horário Geral (Semana 2)'!HB47","v":0},{"$f":"'Horário Geral (Semana 2)'!HC47","v":0},{"$f":"'Horário Geral (Semana 2)'!HD47","v":0},{"$f":"'Horário Geral (Semana 2)'!HE47","v":0},{"$f":"'Horário Geral (Semana 2)'!HF47","v":0},{"$f":"'Horário Geral (Semana 2)'!HG47","v":0},{"$f":"'Horário Geral (Semana 2)'!HH47","v":0},{"$f":"'Horário Geral (Semana 2)'!HI47","v":0},{"$f":"'Horário Geral (Semana 2)'!HJ47","v":0},{"$f":"'Horário Geral (Semana 2)'!HK47","v":0}]
[null,"3ª","08:40:00",{"$f":"'Horário Geral (Semana 2)'!EY48","v":1},{"$f":"'Horário Geral (Semana 2)'!EZ48","v":1},{"$f":"'Horário Geral (Semana 2)'!FA48","v":0},{"$f":"'Horário Geral (Semana 2)'!FB48","v":0},{"$f":"'Horário Geral (Semana 2)'!FC48","v":0},{"$f":"'Horário Geral (Semana 2)'!FD48","v":1},{"$f":"'Horário Geral (Semana 2)'!FE48","v":0},{"$f":"'Horário Geral (Semana 2)'!FF48","v":0},{"$f":"'Horário Geral (Semana 2)'!#REF!","v":{"$error":"#REF!"}},{"$f":"'Horário Geral (Semana 2)'!FG48","v":0},{"$f":"'Horário Geral (Semana 2)'!FH48","v":0},{"$f":"'Horário Geral (Semana 2)'!FI48","v":1},{"$f":"'Horário Geral (Semana 2)'!FJ48","v":1},{"$f":"'Horário Geral (Semana 2)'!FK48","v":0},{"$f":"'Horário Geral (Semana 2)'!FM48","v":1},{"$f":"'Horário Geral (Semana 2)'!FN48","v":0},{"$f":"'Horário Geral (Semana 2)'!FO48","v":0},{"$f":"'Horário Geral (Semana 2)'!FP48","v":0},{"$f":"'Horário Geral (Semana 2)'!FQ48","v":0},{"$f":"'Horário Geral (Semana 2)'!FR48","v":0},{"$f":"'Horário Geral (Semana 2)'!FS48","v":0},{"$f":"'Horário Geral (Semana 2)'!FT48","v":0},{"$f":"'Horário Geral (Semana 2)'!FU48","v":0},{"$f":"'Horário Geral (Semana 2)'!FV48","v":0},{"$f":"'Horário Geral (Semana 2)'!FW48","v":0},{"$f":"'Horário Geral (Semana 2)'!FX48","v":1},{"$f":"'Horário Geral (Semana 2)'!FY48","v":0},{"$f":"'Horário Geral (Semana 2)'!FZ48","v":0},{"$f":"'Horário Geral (Semana 2)'!GA48","v":0},{"$f":"'Horário Geral (Semana 2)'!GB48","v":0},{"$f":"'Horário Geral (Semana 2)'!GC48","v":0},{"$f":"'Horário Geral (Semana 2)'!GD48","v":0},{"$f":"'Horário Geral (Semana 2)'!GE48","v":0},{"$f":"'Horário Geral (Semana 2)'!GF48","v":1},{"$f":"'Horário Geral (Semana 2)'!GG48","v":0},{"$f":"'Horário Geral (Semana 2)'!GH48","v":0},{"$f":"'Horário Geral (Semana 2)'!GI48","v":0},{"$f":"'Horário Geral (Semana 2)'!GJ48","v":0},{"$f":"'Horário Geral (Semana 2)'!GK48","v":0},{"$f":"'Horário Geral (Semana 2)'!GL48","v":0},{"$f":"'Horário Geral (Semana 2)'!GM48","v":0},{"$f":"'Horário Geral (Semana 2)'!#REF!","v":{"$error":"#REF!"}},{"$f":"'Horário Geral (Semana 2)'!GN48","v":0},{"$f":"'Horário Geral (Semana 2)'!GO48","v":0},{"$f":"'Horário Geral (Semana 2)'!GP48","v":1},{"$f":"'Horário Geral (Semana 2)'!#REF!","v":{"$error":"#REF!"}},{"$f":"'Horário Geral (Semana 2)'!GQ48","v":0},{"$f":"'Horário Geral (Semana 2)'!GR48","v":1},{"$f":"'Horário Geral (Semana 2)'!GS48","v":0},{"$f":"'Horário Geral (Semana 2)'!GT48","v":0},{"$f":"'Horário Geral (Semana 2)'!GU48","v":0},{"$f":"'Horário Geral (Semana 2)'!GV48","v":0},{"$f":"'Horário Geral (Semana 2)'!GW48","v":0},{"$f":"'Horário Geral (Semana 2)'!GX48","v":0},{"$f":"'Horário Geral (Semana 2)'!GY48","v":0},{"$f":"'Horário Geral (Semana 2)'!GZ48","v":0},{"$f":"'Horário Geral (Semana 2)'!HA48","v":0},{"$f":"'Horário Geral (Semana 2)'!HB48","v":0},{"$f":"'Horário Geral (Semana 2)'!HC48","v":0},{"$f":"'Horário Geral (Semana 2)'!HD48","v":0},{"$f":"'Horário Geral (Semana 2)'!HE48","v":1},{"$f":"'Horário Geral (Semana 2)'!HF48","v":0},{"$f":"'Horário Geral (Semana 2)'!HG48","v":0},{"$f":"'Horário Geral (Semana 2)'!HH48","v":1},{"$f":"'Horário Geral (Semana 2)'!HI48","v":0},{"$f":"'Horário Geral (Semana 2)'!HJ48","v":0},{"$f":"'Horário Geral (Semana 2)'!HK48","v":0}]
[null,"4ª","09:40:00",{"$f":"'Horário Geral (Semana 2)'!EY49","v":1},{"$f":"'Horário Geral (Semana 2)'!EZ49","v":0},{"$f":"'Horário Geral (Semana 2)'!FA49","v":0},{"$f":"'Horário Geral (Semana 2)'!FB49","v":0},{"$f":"'Horário Geral (Semana 2)'!FC49","v":0},{"$f":"'Horário Geral (Semana 2)'!FD49","v":1},{"$f":"'Horário Geral (Semana 2)'!FE49","v":0},{"$f":"'Horário Geral (Semana 2)'!FF49","v":0},{"$f":"'Horário Geral (Semana 2)'!#REF!","v":{"$error":"#REF!"}},{"$f":"'Horário Geral (Semana 2)'!FG49","v":0},{"$f":"'Horário Geral (Semana 2)'!FH49","v":0},{"$f":"'Horário Geral (Semana 2)'!FI49","v":1},{"$f":"'Horário Geral (Semana 2)'!FJ49","v":1},{"$f":"'Horário Geral (Semana 2)'!FK49","v":1},{"$f":"'Horário Geral (Semana 2)'!FM49","v":1},{"$f":"'Horário Geral (Semana 2)'!FN49","v":0},{"$f":"'Horário Geral (Semana 2)'!FO49","v":0},{"$f":"'Horário Geral (Semana 2)'!FP49","v":0},{"$f":"'Horário Geral (Semana 2)'!FQ49","v":0},{"$f":"'Horário Geral (Semana 2)'!FR49","v":0},{"$f":"'Horário Geral (Semana 2)'!FS49","v":0},{"$f":"'Horário Geral (Semana 2)'!FT49","v":0},{"$f":"'Horário Geral (Semana 2)'!FU49","v":0},{"$f":"'Horário Geral (Semana 2)'!FV49","v":0},{"$f":"'Horário Geral (Semana 2)'!FW49","v":0},{"$f":"'Horário Geral (Semana 2)'!FX49","v":1},{"$f":"'Horário Geral (Semana 2)'!FY49","v":0},{"$f":"'Horário Geral (Semana 2)'!FZ49","v":0},{"$f":"'Horário Geral (Semana 2)'!GA49","v":0},{"$f":"'Horário Geral (Semana 2)'!GB49","v":1},{"$f":"'Horário Geral (Semana 2)'!GC49","v":0},{"$f":"'Horário Geral (Semana 2)'!GD49","v":0},{"$f":"'Horário Geral (Semana 2)'!GE49","v":0},{"$f":"'Horário Geral (Semana 2)'!GF49","v":0},{"$f":"'Horário Geral (Semana 2)'!GG49","v":0},{"$f":"'Horário Geral (Semana 2)'!GH49","v":1},{"$f":"'Horário Geral (Semana 2)'!GI49","v":0},{"$f":"'Horário Geral (Semana 2)'!GJ49","v":0},{"$f":"'Horário Geral (Semana 2)'!GK49","v":0},{"$f":"'Horário Geral (Semana 2)'!GL49","v":0},{"$f":"'Horário Geral (Semana 2)'!GM49","v":0},{"$f":"'Horário Geral (Semana 2)'!#REF!","v":{"$error":"#REF!"}},{"$f":"'Horário Geral (Semana 2)'!GN49","v":0},{"$f":"'Horário Geral (Semana 2)'!GO49","v":0},{"$f":"'Horário Geral (Semana 2)'!GP49","v":1},{"$f":"'Horário Geral (Semana 2)'!#REF!","v":{"$error":"#REF!"}},{"$f":"'Horário Geral (Semana 2)'!GQ49","v":0},{"$f":"'Horário Geral (Semana 2)'!GR49","v":0},{"$f":"'Horário Geral (Semana 2)'!GS49","v":0},{"$f":"'Horário Geral (Semana 2)'!GT49","v":0},{"$f":"'Horário Geral (Semana 2)'!GU49","v":0},{"$f":"'Horário Geral (Semana 2)'!GV49","v":0},{"$f":"'Horário Geral (Semana 2)'!GW49","v":0},{"$f":"'Horário Geral (Semana 2)'!GX49","v":0},{"$f":"'Horário Geral (Semana 2)'!GY49","v":0},{"$f":"'Horário Geral (Semana 2)'!GZ49","v":1},{"$f":"'Horário Geral (Semana 2)'!HA49","v":0},{"$f":"'Horário Geral (Semana 2)'!HB49","v":0},{"$f":"'Horário Geral (Semana 2)'!HC49","v":0},{"$f":"'Horário Geral (Semana 2)'!HD49","v":0},{"$f":"'Horário Geral (Semana 2)'!HE49","v":1},{"$f":"'Horário Geral (Semana 2)'!HF49","v":0},{"$f":"'Horário Geral (Semana 2)'!HG49","v":0},{"$f":"'Horário Geral (Semana 2)'!HH49","v":0},{"$f":"'Horário Geral (Semana 2)'!HI49","v":0},{"$f":"'Horário Geral (Semana 2)'!HJ49","v":0},{"$f":"'Horário Geral (Semana 2)'!HK49","v":0}]
[null,"5ª","10:25:00",{"$f":"'Horário Geral (Semana 2)'!EY50","v":0},{"$f":"'Horário Geral (Semana 2)'!EZ50","v":0},{"$f":"'Horário Geral (Semana 2)'!FA50","v":0},{"$f":"'Horário Geral (Semana 2)'!FB50","v":0},{"$f":"'Horário Geral (Semana 2)'!FC50","v":0},{"$f":"'Horário Geral (Semana 2)'!FD50","v":1},{"$f":"'Horário Geral (Semana 2)'!FE50","v":0},{"$f":"'Horário Geral (Semana 2)'!FF50","v":1},{"$f":"'Horário Geral (Semana 2)'!#REF!","v":{"$error":"#REF!"}},{"$f":"'Horário Geral (Semana 2)'!FG50","v":0},{"$f":"'Horário Geral (Semana 2)'!FH50","v":0},{"$f":"'Horário Geral (Semana 2)'!FI50","v":0},{"$f":"'Horário Geral (Semana 2)'!FJ50","v":1},{"$f":"'Horário Geral (Semana 2)'!FK50","v":1},{"$f":"'Horário Geral (Semana 2)'!FM50","v":1},{"$f":"'Horário Geral (Semana 2)'!FN50","v":0},{"$f":"'Horário Geral (Semana 2)'!FO50","v":0},{"$f":"'Horário Geral (Semana 2)'!FP50","v":0},{"$f":"'Horário Geral (Semana 2)'!FQ50","v":1},{"$f":"'Horário Geral (Semana 2)'!FR50","v":0},{"$f":"'Horário Geral (Semana 2)'!FS50","v":0},{"$f":"'Horário Geral (Semana 2)'!FT50","v":0},{"$f":"'Horário Geral (Semana 2)'!FU50","v":0},{"$f":"'Horário Geral (Semana 2)'!FV50","v":0},{"$f":"'Horário Geral (Semana 2)'!FW50","v":0},{"$f":"'Horário Geral (Semana 2)'!FX50","v":1},{"$f":"'Horário Geral (Semana 2)'!FY50","v":0},{"$f":"'Horário Geral (Semana 2)'!FZ50","v":0},{"$f":"'Horário Geral (Semana 2)'!GA50","v":0},{"$f":"'Horário Geral (Semana 2)'!GB50","v":1},{"$f":"'Horário Geral (Semana 2)'!GC50","v":0},{"$f":"'Horário Geral (Semana 2)'!GD50","v":0},{"$f":"'Horário Geral (Semana 2)'!GE50","v":0},{"$f":"'Horário Geral (Semana 2)'!GF50","v":0},{"$f":"'Horário Geral (Semana 2)'!GG50","v":0},{"$f":"'Horário Geral (Semana 2)'!GH50","v":1},{"$f":"'Horário Geral (Semana 2)'!GI50","v":0},{"$f":"'Horário Geral (Semana 2)'!GJ50","v":0},{"$f":"'Horário Geral (Semana 2)'!GK50","v":0},{"$f":"'Horário Geral (Semana 2)'!GL50","v":0},{"$f":"'Horário Geral (Semana 2)'!GM50","v":0},{"$f":"'Horário Geral (Semana 2)'!#REF!","v":{"$error":"#REF!"}},{"$f":"'Horário Geral (Semana 2)'!GN50","v":0},{"$f":"'Horário Geral (Semana 2)'!GO50","v":0},{"$f":"'Horário Geral (Semana 2)'!GP50","v":0},{"$f":"'Horário Geral (Semana 2)'!#REF!","v":{"$error":"#REF!"}},{"$f":"'Horário Geral (Semana 2)'!GQ50","v":0},{"$f":"'Horário Geral (Semana 2)'!GR50","v":0},{"$f":"'Horário Geral (Semana 2)'!GS50","v":0},{"$f":"'Horário Geral (Semana 2)'!GT50","v":0},{"$f":"'Horário Geral (Semana 2)'!GU50","v":0},{"$f":"'Horário Geral (Semana 2)'!GV50","v":0},{"$f":"'Horário Geral (Semana 2)'!GW50","v":0},{"$f":"'Horário Geral (Semana 2)'!GX50","v":0},{"$f":"'Horário Geral (Semana 2)'!GY50","v":0},{"$f":"'Horário Geral (Semana 2)'!GZ50","v":1},{"$f":"'Horário Geral (Semana 2)'!HA50","v":0},{"$f":"'Horário Geral (Semana 2)'!HB50","v":0},{"$f":"'Horário Geral (Semana 2)'!HC50","v":0},{"$f":"'Horário Geral (Semana 2)'!HD50","v":0},{"$f":"'Horário Geral (Semana 2)'!HE50","v":1},{"$f":"'Horário Geral (Semana 2)'!HF50","v":0},{"$f":"'Horário Geral (Semana 2)'!HG50","v":0},{"$f":"'Horário Geral (Semana 2)'!HH50","v":0},{"$f":"'Horário Geral (Semana 2)'!HI50","v":0},{"$f":"'Horário Geral (Semana 2)'!HJ50","v":0},{"$f":"'Horário Geral (Semana 2)'!HK50","v":0}]
[null,"6ª","11:10:00",{"$f":"'Horário Geral (Semana 2)'!EY51","v":0},{"$f":"'Horário Geral (Semana 2)'!EZ51","v":0},{"$f":"'Horário Geral (Semana 2)'!FA51","v":0},{"$f":"'Horário Geral (Semana 2)'!FB51","v":0},{"$f":"'Horário Geral (Semana 2)'!FC51","v":0},{"$f":"'Horário Geral (Semana 2)'!FD51","v":1},{"$f":"'Horário Geral (Semana 2)'!FE51","v":0},{"$f":"'Horário Geral (Semana 2)'!FF51","v":1},{"$f":"'Horário Geral (Semana 2)'!#REF!","v":{"$error":"#REF!"}},{"$f":"'Horário Geral (Semana 2)'!FG51","v":0},{"$f":"'Horário Geral (Semana 2)'!FH51","v":0},{"$f":"'Horário Geral (Semana 2)'!FI51","v":0},{"$f":"'Horário Geral (Semana 2)'!FJ51","v":1},{"$f":"'Horário Geral (Semana 2)'!FK51","v":0},{"$f":"'Horário Geral (Semana 2)'!FM51","v":1},{"$f":"'Horário Geral (Semana 2)'!FN51","v":0},{"$f":"'Horário Geral (Semana 2)'!FO51","v":0},{"$f":"'Horário Geral (Semana 2)'!FP51","v":0},{"$f":"'Horário Geral (Semana 2)'!FQ51","v":1},{"$f":"'Horário Geral (Semana 2)'!FR51","v":0},{"$f":"'Horário Geral (Semana 2)'!FS51","v":0},{"$f":"'Horário Geral (Semana 2)'!FT51","v":0},{"$f":"'Horário Geral (Semana 2)'!FU51","v":0},{"$f":"'Horário Geral (Semana 2)'!FV51","v":0},{"$f":"'Horário Geral (Semana 2)'!FW51","v":0},{"$f":"'Horário Geral (Semana 2)'!FX51","v":1},{"$f":"'Horário Geral (Semana 2)'!FY51","v":0},{"$f":"'Horário Geral (Semana 2)'!FZ51","v":0},{"$f":"'Horário Geral (Semana 2)'!GA51","v":0},{"$f":"'Horário Geral (Semana 2)'!GB51","v":1},{"$f":"'Horário Geral (Semana 2)'!GC51","v":0},{"$f":"'Horário Geral (Semana 2)'!GD51","v":0},{"$f":"'Horário Geral (Semana 2)'!GE51","v":0},{"$f":"'Horário Geral (Semana 2)'!GF51","v":0},{"$f":"'Horário Geral (Semana 2)'!GG51","v":0},{"$f":"'Horário Geral (Semana 2)'!GH51","v":0},{"$f":"'Horário Geral (Semana 2)'!GI51","v":0},{"$f":"'Horário Geral (Semana 2)'!GJ51","v":0},{"$f":"'Horário Geral (Semana 2)'!GK51","v":0},{"$f":"'Horário Geral (Semana 2)'!GL51","v":0},{"$f":"'Horário Geral (Semana 2)'!GM51","v":0},{"$f":"'Horário Geral (Semana 2)'!#REF!","v":{"$error":"#REF!"}},{"$f":"'Horário Geral (Semana 2)'!GN51","v":0},{"$f":"'Horário Geral (Semana 2)'!GO51","v":0},{"$f":"'Horário Geral (Semana 2)'!GP51","v":1},{"$f":"'Horário Geral (Semana 2)'!#REF!","v":{"$error":"#REF!"}},{"$f":"'Horário Geral (Semana 2)'!GQ51","v":0},{"$f":"'Horário Geral (Semana 2)'!GR51","v":0},{"$f":"'Horário Geral (Semana 2)'!GS51","v":0},{"$f":"'Horário Geral (Semana 2)'!GT51","v":0},{"$f":"'Horário Geral (Semana 2)'!GU51","v":0},{"$f":"'Horário Geral (Semana 2)'!GV51","v":0},{"$f":"'Horário Geral (Semana 2)'!GW51","v":0},{"$f":"'Horário Geral (Semana 2)'!GX51","v":0},{"$f":"'Horário Geral (Semana 2)'!GY51","v":0},{"$f":"'Horário Geral (Semana 2)'!GZ51","v":1},{"$f":"'Horário Geral (Semana 2)'!HA51","v":0},{"$f":"'Horário Geral (Semana 2)'!HB51","v":0},{"$f":"'Horário Geral (Semana 2)'!HC51","v":0},{"$f":"'Horário Geral (Semana 2)'!HD51","v":0},{"$f":"'Horário Geral (Semana 2)'!HE51","v":1},{"$f":"'Horário Geral (Semana 2)'!HF51","v":0},{"$f":"'Horário Geral (Semana 2)'!HG51","v":0},{"$f":"'Horário Geral (Semana 2)'!HH51","v":0},{"$f":"'Horário Geral (Semana 2)'!HI51","v":0},{"$f":"'Horário Geral (Semana 2)'!HJ51","v":0},{"$f":"'Horário Geral (Semana 2)'!HK51","v":0}]
[null,null,null,{"$f":"'Horário Geral (Semana 2)'!#REF!","v":{"$error":"#REF!"}},{"$f":"'Horário Geral (Semana 2)'!#REF!","v":{"$error":"#REF!"}},{"$f":"'Horário Geral (Semana 2)'!#REF!","v":{"$error":"#REF!"}},{"$f":"'Horário Geral (Semana 2)'!#REF!","v":{"$error":"#REF!"}},{"$f":"'Horário Geral (Semana 2)'!#REF!","v":{"$error":"#REF!"}},{"$f":"'Horário Geral (Semana 2)'!#REF!","v":{"$error":"#REF!"}},{"$f":"'Horário Geral (Semana 2)'!#REF!","v":{"$error":"#REF!"}},{"$f":"'Horário Geral (Semana 2)'!#REF!","v":{"$error":"#REF!"}},{"$f":"'Horário Geral (Semana 2)'!#REF!","v":{"$error":"#REF!"}},{"$f":"'Horário Geral (Semana 2)'!#REF!","v":{"$error":"#REF!"}},{"$f":"'Horário Geral (Semana 2)'!#REF!","v":{"$error":"#REF!"}},{"$f":"'Horário Geral (Semana 2)'!#REF!","v":{"$error":"#REF!"}},{"$f":"'Horário Geral (Semana 2)'!#REF!","v":{"$error":"#REF!"}},{"$f":"'Horário Geral (Semana 2)'!#REF!","v":{"$error":"#REF!"}},{"$f":"'Horário Geral (Semana 2)'!#REF!","v":{"$error":"#REF!"}},{"$f":"'Horário Geral (Semana 2)'!#REF!","v":{"$error":"#REF!"}},{"$f":"'Horário Geral (Semana 2)'!#REF!","v":{"$error":"#REF!"}},{"$f":"'Horário Geral (Semana 2)'!#REF!","v":{"$error":"#REF!"}},{"$f":"'Horário Geral (Semana 2)'!#REF!","v":{"$error":"#REF!"}},{"$f":"'Horário Geral (Semana 2)'!#REF!","v":{"$error":"#REF!"}},{"$f":"'Horário Geral (Semana 2)'!#REF!","v":{"$error":"#REF!"}},{"$f":"'Horário Geral (Semana 2)'!#REF!","v":{"$error":"#REF!"}},{"$f":"'Horário Geral (Semana 2)'!#REF!","v":{"$error":"#REF!"}},{"$f":"'Horário Geral (Semana 2)'!#REF!","v":{"$error":"#REF!"}},{"$f":"'Horário Geral (Semana 2)'!#REF!","v":{"$error":"#REF!"}},{"$f":"'Horário Geral (Semana 2)'!#REF!","v":{"$error":"#REF!"}},{"$f":"'Horário Geral (Semana 2)'!#REF!","v":{"$error":"#REF!"}},{"$f":"'Horário Geral (Semana 2)'!#REF!","v":{"$error":"#REF!"}},{"$f":"'Horário Geral (Semana 2)'!#REF!","v":{"$error":"#REF!"}},{"$f":"'Horário Geral (Semana 2)'!#REF!","v":{"$error":"#REF!"}},{"$f":"'Horário Geral (Semana 2)'!#REF!","v":{"$error":"#REF!"}},{"$f":"'Horário Geral (Semana 2)'!#REF!","v":{"$error":"#REF!"}},{"$f":"'Horário Geral (Semana 2)'!#REF!","v":{"$error":"#REF!"}},{"$f":"'Horário Geral (Semana 2)'!#REF!","v":{"$error":"#REF!"}},{"$f":"'Horário Geral (Semana 2)'!#REF!","v":{"$error":"#REF!"}},{"$f":"'Horário Geral (Semana 2)'!#REF!","v":{"$error":"#REF!"}},{"$f":"'Horário Geral (Semana 2)'!#REF!","v":{"$error":"#REF!"}},{"$f":"'Horário Geral (Semana 2)'!#REF!","v":{"$error":"#REF!"}},{"$f":"'Horário Geral (Semana 2)'!#REF!","v":{"$error":"#REF!"}},{"$f":"'Horário Geral (Semana 2)'!#REF!","v":{"$error":"#REF!"}},{"$f":"'Horário Geral (Semana 2)'!#REF!","v":{"$error":"#REF!"}},{"$f":"'Horário Geral (Semana 2)'!#REF!","v":{"$error":"#REF!"}},{"$f":"'Horário Geral (Semana 2)'!#REF!","v":{"$error":"#REF!"}},{"$f":"'Horário Geral (Semana 2)'!#REF!","v":{"$error":"#REF!"}},{"$f":"'Horário Geral (Semana 2)'!#REF!","v":{"$error":"#REF!"}},{"$f":"'Horário Geral (Semana 2)'!#REF!","v":{"$error":"#REF!"}},{"$f":"'Horário Geral (Semana 2)'!#REF!","v":{"$error":"#REF!"}},{"$f":"'Horário Geral (Semana 2)'!#REF!","v":{"$error":"#REF!"}},{"$f":"'Horário Geral (Semana 2)'!#REF!","v":{"$error":"#REF!"}},{"$f":"'Horário Geral (Semana 2)'!#REF!","v":{"$error":"#REF!"}},{"$f":"'Horário Geral (Semana 2)'!#REF!","v":{"$error":"#REF!"}},{"$f":"'Horário Geral (Semana 2)'!#REF!","v":{"$error":"#REF!"}},{"$f":"'Horário Geral (Semana 2)'!#REF!","v":{"$error":"#REF!"}},{"$f":"'Horário Geral (Semana 2)'!#REF!","v":{"$error":"#REF!"}},{"$f":"'Horário Geral (Semana 2)'!#REF!","v":{"$error":"#REF!"}},{"$f":"'Horário Geral (Semana 2)'!#REF!","v":{"$error":"#REF!"}},{"$f":"'Horário Geral (Semana 2)'!#REF!","v":{"$error":"#REF!"}},{"$f":"'Horário Geral (Semana 2)'!#REF!","v":{"$error":"#REF!"}},{"$f":"'Horário Geral (Semana 2)'!#REF!","v":{"$error":"#REF!"}},{"$f":"'Horário Geral (Semana 2)'!#REF!","v":{"$error":"#REF!"}},{"$f":"'Horário Geral (Semana 2)'!#REF!","v":{"$error":"#REF!"}},{"$f":"'Horário Geral (Semana 2)'!#REF!","v":{"$error":"#REF!"}},{"$f":"'Horário Geral (Semana 2)'!#REF!","v":{"$error":"#REF!"}},{"$f":"'Horário Geral (Semana 2)'!#REF!","v":{"$error":"#REF!"}},{"$f":"'Horário Geral (Semana 2)'!#REF!","v":{"$error":"#REF!"}},{"$f":"'Horário Geral (Semana 2)'!#REF!","v":{"$error":"#REF!"}},{"$f":"'Horário Geral (Semana 2)'!#REF!","v":{"$error":"#REF!"}}]
["QUI","1ª","07:10:00",{"$f":"'Horário Geral (Semana 2)'!EY64","v":0},{"$f":"'Horário Geral (Semana 2)'!EZ64","v":0},{"$f":"'Horário Geral (Semana 2)'!FA64","v":0},{"$f":"'Horário Geral (Semana 2)'!FB64","v":0},{"$f":"'Horário Geral (Semana 2)'!FC64","v":0},{"$f":"'Horário Geral (Semana 2)'!FD64","v":0},{"$f":"'Horário Geral (Semana 2)'!FE64","v":0},{"$f":"'Horário Geral (Semana 2)'!FF64","v":0},{"$f":"'Horário Geral (Semana 2)'!#REF!","v":{"$error":"#REF!"}},{"$f":"'Horário Geral (Semana 2)'!FG64","v":0},{"$f":"'Horário Geral (Semana 2)'!FH64","v":1},{"$f":"'Horário Geral (Semana 2)'!FI64","v":1},{"$f":"'Horário Geral (Semana 2)'!FJ64","v":0},{"$f":"'Horário Geral (Semana 2)'!FK64","v":0},{"$f":"'Horário Geral (Semana 2)'!FM64","v":0},{"$f":"'Horário Geral (Semana 2)'!FN64","v":0},{"$f":"'Horário Geral (Semana 2)'!FO64","v":0},{"$f":"'Horário Geral (Semana 2)'!FP64","v":0},{"$f":"'Horário Geral (Semana 2)'!FQ64","v":0},{"$f":"'Horário Geral (Semana 2)'!FR64","v":0},{"$f":"'Horário Geral (Semana 2)'!FS64","v":0},{"$f":"'Horário Geral (Semana 2)'!FT64","v":0},{"$f":"'Horário Geral (Semana 2)'!FU64","v":1},{"$f":"'Horário Geral (Semana 2)'!FV64","v":1},{"$f":"'Horário Geral (Semana 2)'!FW64","v":0},{"$f":"'Horário Geral (Semana 2)'!FX64","v":0},{"$f":"'Horário Geral (Semana 2)'!FY64","v":0},{"$f":"'Horário Geral (Semana 2)'!FZ64","v":0},{"$f":"'Horário Geral (Semana 2)'!GA64","v":1},{"$f":"'Horário Geral (Semana 2)'!GB64","v":0},{"$f":"'Horário Geral (Semana 2)'!GC64","v":0},{"$f":"'Horário Geral (Semana 2)'!GD64","v":1},{"$f":"'Horário Geral (Semana 2)'!GE64","v":0},{"$f":"'Horário Geral (Semana 2)'!GF64","v":1},{"$f":"'Horário Geral (Semana 2)'!GG64","v":0},{"$f":"'Horário Geral (Semana 2)'!GH64","v":0},{"$f":"'Horário Geral (Semana 2)'!GI64","v":0},{"$f":"'Horário Geral (Semana 2)'!GJ64","v":0},{"$f":"'Horário Geral (Semana 2)'!GK64","v":0},{"$f":"'Horário Geral (Semana 2)'!GL64","v":0},{"$f":"'Horário Geral (Semana 2)'!GM64","v":0},{"$f":"'Horário Geral (Semana 2)'!#REF!","v":{"$error":"#REF!"}},{"$f":"'Horário Geral (Semana 2)'!GN64","v":0},{"$f":"'Horário Geral (Semana 2)'!GO64","v":0},{"$f":"'Horário Geral (Semana 2)'!GP64","v":0},{"$f":"'Horário Geral (Semana 2)'!#REF!","v":{"$error":"#REF!"}},{"$f":"'Horário Geral (Semana 2)'!GQ64","v":0},{"$f":"'Horário Geral (Semana 2)'!GR64","v":0},{"$f":"'Horário Geral (Semana 2)'!GS64","v":0},{"$f":"'Horário Geral (Semana 2)'!GT64","v":0},{"$f":"'Horário Geral (Semana 2)'!GU64","v":0},{"$f":"'Horário Geral (Semana 2)'!GV64","v":0},{"$f":"'Horário Geral (Semana 2)'!GW64","v":0},{"$f":"'Horário Geral (Semana 2)'!GX64","v":0},{"$f":"'Horário Geral (Semana 2)'!GY64","v":0},{"$f":"'Horário Geral (Semana 2)'!GZ64","v":0},{"$f":"'Horário Geral (Semana 2)'!HA64","v":0},{"$f":"'Horário Geral (Semana 2)'!HB64","v":0},{"$f":"'Horário Geral (Semana 2)'!HC64","v":0},{"$f":"'Horário Geral (Semana 2)'!HD64","v":1},{"$f":"'Horário Geral (Semana 2)'!HE64","v":0},{"$f":"'Horário Geral (Semana 2)'!HF64","v":0},{"$f":"'Horário Geral (Semana 2)'!HG64","v":0},{"$f":"'Horário Geral (Semana 2)'!HH64","v":0},{"$f":"'Horário Geral (Semana 2)'!HI64","v":0},{"$f":"'Horário Geral (Semana 2)'!HJ64","v":0},{"$f":"'Horário Geral (Semana 2)'!HK64","v":1}]
[null,"2ª","08:00:00",{"$f":"'Horário Geral (Semana 2)'!EY65","v":0},{"$f":"'Horário Geral (Semana 2)'!EZ65","v":0},{"$f":"'Horário Geral (Semana 2)'!FA65","v":0},{"$f":"'Horário Geral (Semana 2)'!FB65","v":0},{"$f":"'Horário Geral (Semana 2)'!FC65","v":0},{"$f":"'Horário Geral (Semana 2)'!FD65","v":0},{"$f":"'Horário Geral (Semana 2)'!FE65","v":0},{"$f":"'Horário Geral (Semana 2)'!FF65","v":0},{"$f":"'Horário Geral (Semana 2)'!#REF!","v":{"$error":"#REF!"}},{"$f":"'Horário Geral (Semana 2)'!FG65","v":0},{"$f":"'Horário Geral (Semana 2)'!FH65","v":1},{"$f":"'Horário Geral (Semana 2)'!FI65","v":1},{"$f":"'Horário Geral (Semana 2)'!FJ65","v":0},{"$f":"'Horário Geral (Semana 2)'!FK65","v":0},{"$f":"'Horário Geral (Semana 2)'!FM65","v":0},{"$f":"'Horário Geral (Semana 2)'!FN65","v":0},{"$f":"'Horário Geral (Semana 2)'!FO65","v":0},{"$f":"'Horário Geral (Semana 2)'!FP65","v":0},{"$f":"'Horário Geral (Semana 2)'!FQ65","v":0},{"$f":"'Horário Geral (Semana 2)'!FR65","v":0},{"$f":"'Horário Geral (Semana 2)'!FS65","v":0},{"$f":"'Horário Geral (Semana 2)'!FT65","v":0},{"$f":"'Horário Geral (Semana 2)'!FU65","v":1},{"$f":"'Horário Geral (Semana 2)'!FV65","v":1},{"$f":"'Horário Geral (Semana 2)'!FW65","v":0},{"$f":"'Horário Geral (Semana 2)'!FX65","v":0},{"$f":"'Horário Geral (Semana 2)'!FY65","v":0},{"$f":"'Horário Geral (Semana 2)'!FZ65","v":0},{"$f":"'Horário Geral (Semana 2)'!GA65","v":1},{"$f":"'Horário Geral (Semana 2)'!GB65","v":0},{"$f":"'Horário Geral (Semana 2)'!GC65","v":0},{"$f":"'Horário Geral (Semana 2)'!GD65","v":1},{"$f":"'Horário Geral (Semana 2)'!GE65","v":0},{"$f":"'Horário Geral (Semana 2)'!GF65","v":1},{"$f":"'Horário Geral (Semana 2)'!GG65","v":0},{"$f":"'Horário Geral (Semana 2)'!GH65","v":0},{"$f":"'Horário Geral (Semana 2)'!GI65","v":0},{"$f":"'Horário Geral (Semana 2)'!GJ65","v":0},{"$f":"'Horário Geral (Semana 2)'!GK65","v":0},{"$f":"'Horário Geral (Semana 2)'!GL65","v":0},{"$f":"'Horário Geral (Semana 2)'!GM65","v":0},{"$f":"'Horário Geral (Semana 2)'!#REF!","v":{"$error":"#REF!"}},{"$f":"'Horário Geral (Semana 2)'!GN65","v":0},{"$f":"'Horário Geral (Semana 2)'!GO65","v":0},{"$f":"'Horário Geral (Semana 2)'!GP65","v":0},{"$f":"'Horário Geral (Semana 2)'!#REF!","v":{"$error":"#REF!"}},{"$f":"'Horário Geral (Semana 2)'!GQ65","v":0},{"$f":"'Horário Geral (Semana 2)'!GR65","v":0},{"$f":"'Horário Geral (Semana 2)'!GS65","v":0},{"$f":"'Horário Geral (Semana 2)'!GT65","v":0},{"$f":"'Horário Geral (Semana 2)'!GU65","v":0},{"$f":"'Horário Geral (Semana 2)'!GV65","v":0},{"$f":"'Horário Geral (Semana 2)'!GW65","v":0},{"$f":"'Horário Geral (Semana 2)'!GX65","v":0},{"$f":"'Horário Geral (Semana 2)'!GY65","v":0},{"$f":"'Horário Geral (Semana 2)'!GZ65","v":0},{"$f":"'Horário Geral (Semana 2)'!HA65","v":0},{"$f":"'Horário Geral (Semana 2)'!HB65","v":0},{"$f":"'Horário Geral (Semana 2)'!HC65","v":0},{"$f":"'Horário Geral (Semana 2)'!HD65","v":1},{"$f":"'Horário Geral (Semana 2)'!HE65","v":0},{"$f":"'Horário Geral (Semana 2)'!HF65","v":0},{"$f":"'Horário Geral (Semana 2)'!HG65","v":0},{"$f":"'Horário Geral (Semana 2)'!HH65","v":0},{"$f":"'Horário Geral (Semana 2)'!HI65","v":0},{"$f":"'Horário Geral (Semana 2)'!HJ65","v":0},{"$f":"'Horário Geral (Semana 2)'!HK65","v":1}]
[null,"3ª","08:50:00",{"$f":"'Horário Geral (Semana 2)'!EY66","v":0},{"$f":"'Horário Geral (Semana 2)'!EZ66","v":0},{"$f":"'Horário Geral (Semana 2)'!FA66","v":0},{"$f":"'Horário Geral (Semana 2)'!FB66","v":0},{"$f":"'Horário Geral (Semana 2)'!FC66","v":1},{"$f":"'Horário Geral (Semana 2)'!FD66","v":0},{"$f":"'Horário Geral (Semana 2)'!FE66","v":0},{"$f":"'Horário Geral (Semana 2)'!FF66","v":0},{"$f":"'Horário Geral (Semana 2)'!#REF!","v":{"$error":"#REF!"}},{"$f":"'Horário Geral (Semana 2)'!FG66","v":0},{"$f":"'Horário Geral (Semana 2)'!FH66","v":0},{"$f":"'Horário Geral (Semana 2)'!FI66","v":0},{"$f":"'Horário Geral (Semana 2)'!FJ66","v":0},{"$f":"'Horário Geral (Semana 2)'!FK66","v":0},{"$f":"'Horário Geral (Semana 2)'!FM66","v":0},{"$f":"'Horário Geral (Semana 2)'!FN66","v":0},{"$f":"'Horário Geral (Semana 2)'!FO66","v":1},{"$f":"'Horário Geral (Semana 2)'!FP66","v":0},{"$f":"'Horário Geral (Semana 2)'!FQ66","v":0},{"$f":"'Horário Geral (Semana 2)'!FR66","v":0},{"$f":"'Horário Geral (Semana 2)'!FS66","v":0},{"$f":"'Horário Geral (Semana 2)'!FT66","v":0},{"$f":"'Horário Geral (Semana 2)'!FU66","v":0},{"$f":"'Horário Geral (Semana 2)'!FV66","v":1},{"$f":"'Horário Geral (Semana 2)'!FW66","v":0},{"$f":"'Horário Geral (Semana 2)'!FX66","v":0},{"$f":"'Horário Geral (Semana 2)'!FY66","v":0},{"$f":"'Horário Geral (Semana 2)'!FZ66","v":0},{"$f":"'Horário Geral (Semana 2)'!GA66","v":0},{"$f":"'Horário Geral (Semana 2)'!GB66","v":0},{"$f":"'Horário Geral (Semana 2)'!GC66","v":0},{"$f":"'Horário Geral (Semana 2)'!GD66","v":1},{"$f":"'Horário Geral (Semana 2)'!GE66","v":0},{"$f":"'Horário Geral (Semana 2)'!GF66","v":0},{"$f":"'Horário Geral (Semana 2)'!GG66","v":0},{"$f":"'Horário Geral (Semana 2)'!GH66","v":0},{"$f":"'Horário Geral (Semana 2)'!GI66","v":0},{"$f":"'Horário Geral (Semana 2)'!GJ66","v":0},{"$f":"'Horário Geral (Semana 2)'!GK66","v":0},{"$f":"'Horário Geral (Semana 2)'!GL66","v":0},{"$f":"'Horário Geral (Semana 2)'!GM66","v":0},{"$f":"'Horário Geral (Semana 2)'!#REF!","v":{"$error":"#REF!"}},{"$f":"'Horário Geral (Semana 2)'!GN66","v":1},{"$f":"'Horário Geral (Semana 2)'!GO66","v":0},{"$f":"'Horário Geral (Semana 2)'!GP66","v":0},{"$f":"'Horário Geral (Semana 2)'!#REF!","v":{"$error":"#REF!"}},{"$f":"'Horário Geral (Semana 2)'!GQ66","v":0},{"$f":"'Horário Geral (Semana 2)'!GR66","v":0},{"$f":"'Horário Geral (Semana 2)'!GS66","v":0},{"$f":"'Horário Geral (Semana 2)'!GT66","v":0},{"$f":"'Horário Geral (Semana 2)'!GU66","v":1},{"$f":"'Horário Geral (Semana 2)'!GV66","v":0},{"$f":"'Horário Geral (Semana 2)'!GW66","v":0},{"$f":"'Horário Geral (Semana 2)'!GX66","v":0},{"$f":"'Horário Geral (Semana 2)'!GY66","v":0},{"$f":"'Horário Geral (Semana 2)'!GZ66","v":0},{"$f":"'Horário Geral (Semana 2)'!HA66","v":0},{"$f":"'Horário Geral (Semana 2)'!HB66","v":0},{"$f":"'Horário Geral (Semana 2)'!HC66","v":0},{"$f":"'Horário Geral (Semana 2)'!HD66","v":1},{"$f":"'Horário Geral (Semana 2)'!HE66","v":0},{"$f":"'Horário Geral (Semana 2)'!HF66","v":1},{"$f":"'Horário Geral (Semana 2)'!HG66","v":0},{"$f":"'Horário Geral (Semana 2)'!HH66","v":0},{"$f":"'Horário Geral (Semana 2)'!HI66","v":0},{"$f":"'Horário Geral (Semana 2)'!HJ66","v":1},{"$f":"'Horário Geral (Semana 2)'!HK66","v":1}]
[null,"4ª","09:55:00",{"$f":"'Horário Geral (Semana 2)'!EY67","v":0},{"$f":"'Horário Geral (Semana 2)'!EZ67","v":0},{"$f":"'Horário Geral (Semana 2)'!FA67","v":1},{"$f":"'Horário Geral (Semana 2)'!FB67","v":0},{"$f":"'Horário Geral (Semana 2)'!FC67","v":1},{"$f":"'Horário Geral (Semana 2)'!FD67","v":0},{"$f":"'Horário Geral (Semana 2)'!FE67","v":0},{"$f":"'Horário Geral (Semana 2)'!FF67","v":0},{"$f":"'Horário Geral (Semana 2)'!#REF!","v":{"$error":"#REF!"}},{"$f":"'Horário Geral (Semana 2)'!FG67","v":0},{"$f":"'Horário Geral (Semana 2)'!FH67","v":0},{"$f":"'Horário Geral (Semana 2)'!FI67","v":0},{"$f":"'Horário Geral (Semana 2)'!FJ67","v":0},{"$f":"'Horário Geral (Semana 2)'!FK67","v":0},{"$f":"'Horário Geral (Semana 2)'!FM67","v":0},{"$f":"'Horário Geral (Semana 2)'!FN67","v":0},{"$f":"'Horário Geral (Semana 2)'!FO67","v":0},{"$f":"'Horário Geral (Semana 2)'!FP67","v":0},{"$f":"'Horário Geral (Semana 2)'!FQ67","v":0},{"$f":"'Horário Geral (Semana 2)'!FR67","v":0},{"$f":"'Horário Geral (Semana 2)'!FS67","v":0},{"$f":"'Horário Geral (Semana 2)'!FT67","v":1},{"$f":"'Horário Geral (Semana 2)'!FU67","v":0},{"$f":"'Horário Geral (Semana 2)'!FV67","v":1},{"$f":"'Horário Geral (Semana 2)'!FW67","v":0},{"$f":"'Horário Geral (Semana 2)'!FX67","v":0},{"$f":"'Horário Geral (Semana 2)'!FY67","v":0},{"$f":"'Horário Geral (Semana 2)'!FZ67","v":0},{"$f":"'Horário Geral (Semana 2)'!GA67","v":0},{"$f":"'Horário Geral (Semana 2)'!GB67","v":0},{"$f":"'Horário Geral (Semana 2)'!GC67","v":0},{"$f":"'Horário Geral (Semana 2)'!GD67","v":1},{"$f":"'Horário Geral (Semana 2)'!GE67","v":0},{"$f":"'Horário Geral (Semana 2)'!GF67","v":0},{"$f":"'Horário Geral (Semana 2)'!GG67","v":0},{"$f":"'Horário Geral (Semana 2)'!GH67","v":0},{"$f":"'Horário Geral (Semana 2)'!GI67","v":0},{"$f":"'Horário Geral (Semana 2)'!GJ67","v":0},{"$f":"'Horário Geral (Semana 2)'!GK67","v":0},{"$f":"'Horário Geral (Semana 2)'!GL67","v":0},{"$f":"'Horário Geral (Semana 2)'!GM67","v":0},{"$f":"'Horário Geral (Semana 2)'!#REF!","v":{"$error":"#REF!"}},{"$f":"'Horário Geral (Semana 2)'!GN67","v":1},{"$f":"'Horário Geral (Semana 2)'!GO67","v":0},{"$f":"'Horário Geral (Semana 2)'!GP67","v":0},{"$f":"'Horário Geral (Semana 2)'!#REF!","v":{"$error":"#REF!"}},{"$f":"'Horário Geral (Semana 2)'!GQ67","v":0},{"$f":"'Horário Geral (Semana 2)'!GR67","v":0},{"$f":"'Horário Geral (Semana 2)'!GS67","v":0},{"$f":"'Horário Geral (Semana 2)'!GT67","v":0},{"$f":"'Horário Geral (Semana 2)'!GU67","v":1},{"$f":"'Horário Geral (Semana 2)'!GV67","v":0},{"$f":"'Horário Geral (Semana 2)'!GW67","v":0},{"$f":"'Horário Geral (Semana 2)'!GX67","v":0},{"$f":"'Horário Geral (Semana 2)'!GY67","v":0},{"$f":"'Horário Geral (Semana 2)'!GZ67","v":0},{"$f":"'Horário Geral (Semana 2)'!HA67","v":0},{"$f":"'Horário Geral (Semana 2)'!HB67","v":0},{"$f":"'Horário Geral (Semana 2)'!HC67","v":0},{"$f":"'Horário Geral (Semana 2)'!HD67","v":1},{"$f":"'Horário Geral (Semana 2)'!HE67","v":0},{"$f":"'Horário Geral (Semana 2)'!HF67","v":1},{"$f":"'Horário Geral (Semana 2)'!HG67","v":1},{"$f":"'Horário Geral (Semana 2)'!HH67","v":0},{"$f":"'Horário Geral (Semana 2)'!HI67","v":0},{"$f":"'Horário Geral (Semana 2)'!HJ67","v":1},{"$f":"'Horário Geral (Semana 2)'!HK67","v":0}]
[null,"5ª","10:45:00",{"$f":"'Horário Geral (Semana 2)'!EY68","v":0},{"$f":"'Horário Geral (Semana 2)'!EZ68","v":0},{"$f":"'Horário Geral (Semana 2)'!FA68","v":0},{"$f":"'Horário Geral (Semana 2)'!FB68","v":0},{"$f":"'Horário Geral (Semana 2)'!FC68","v":1},{"$f":"'Horário Geral (Semana 2)'!FD68","v":0},{"$f":"'Horário Geral (Semana 2)'!FE68","v":0},{"$f":"'Horário Geral (Semana 2)'!FF68","v":0},{"$f":"'Horário Geral (Semana 2)'!#REF!","v":{"$error":"#REF!"}},{"$f":"'Horário Geral (Semana 2)'!FG68","v":0},{"$f":"'Horário Geral (Semana 2)'!FH68","v":1},{"$f":"'Horário Geral (Semana 2)'!FI68","v":0},{"$f":"'Horário Geral (Semana 2)'!FJ68","v":0},{"$f":"'Horário Geral (Semana 2)'!FK68","v":0},{"$f":"'Horário Geral (Semana 2)'!FM68","v":0},{"$f":"'Horário Geral (Semana 2)'!FN68","v":0},{"$f":"'Horário Geral (Semana 2)'!FO68","v":0},{"$f":"'Horário Geral (Semana 2)'!FP68","v":0},{"$f":"'Horário Geral (Semana 2)'!FQ68","v":0},{"$f":"'Horário Geral (Semana 2)'!FR68","v":0},{"$f":"'Horário Geral (Semana 2)'!FS68","v":0},{"$f":"'Horário Geral (Semana 2)'!FT68","v":1},{"$f":"'Horário Geral (Semana 2)'!FU68","v":1},{"$f":"'Horário Geral (Semana 2)'!FV68","v":0},{"$f":"'Horário Geral (Semana 2)'!FW68","v":0},{"$f":"'Horário Geral (Semana 2)'!FX68","v":1},{"$f":"'Horário Geral (Semana 2)'!FY68","v":0},{"$f":"'Horário Geral (Semana 2)'!FZ68","v":0},{"$f":"'Horário Geral (Semana 2)'!GA68","v":0},{"$f":"'Horário Geral (Semana 2)'!GB68","v":0},{"$f":"'Horário Geral (Semana 2)'!GC68","v":1},{"$f":"'Horário Geral (Semana 2)'!GD68","v":0},{"$f":"'Horário Geral (Semana 2)'!GE68","v":0},{"$f":"'Horário Geral (Semana 2)'!GF68","v":0},{"$f":"'Horário Geral (Semana 2)'!GG68","v":0},{"$f":"'Horário Geral (Semana 2)'!GH68","v":0},{"$f":"'Horário Geral (Semana 2)'!GI68","v":1},{"$f":"'Horário Geral (Semana 2)'!GJ68","v":0},{"$f":"'Horário Geral (Semana 2)'!GK68","v":0},{"$f":"'Horário Geral (Semana 2)'!GL68","v":0},{"$f":"'Horário Geral (Semana 2)'!GM68","v":0},{"$f":"'Horário Geral (Semana 2)'!#REF!","v":{"$error":"#REF!"}},{"$f":"'Horário Geral (Semana 2)'!GN68","v":1},{"$f":"'Horário Geral (Semana 2)'!GO68","v":0},{"$f":"'Horário Geral (Semana 2)'!GP68","v":0},{"$f":"'Horário Geral (Semana 2)'!#REF!","v":{"$error":"#REF!"}},{"$f":"'Horário Geral (Semana 2)'!GQ68","v":0},{"$f":"'Horário Geral (Semana 2)'!GR68","v":0},{"$f":"'Horário Geral (Semana 2)'!GS68","v":0},{"$f":"'Horário Geral (Semana 2)'!GT68","v":0},{"$f":"'Horário Geral (Semana 2)'!GU68","v":1},{"$f":"'Horário Geral (Semana 2)'!GV68","v":0},{"$f":"'Horário Geral (Semana 2)'!GW68","v":0},{"$f":"'Horário Geral (Semana 2)'!GX68","v":0},{"$f":"'Horário Geral (Semana 2)'!GY68","v":0},{"$f":"'Horário Geral (Semana 2)'!GZ68","v":0},{"$f":"'Horário Geral (Semana 2)'!HA68","v":0},{"$f":"'Horário Geral (Semana 2)'!HB68","v":0},{"$f":"'Horário Geral (Semana 2)'!HC68","v":0},{"$f":"'Horário Geral (Semana 2)'!HD68","v":1},{"$f":"'Horário Geral (Semana 2)'!HE68","v":0},{"$f":"'Horário Geral (Semana 2)'!HF68","v":0},{"$f":"'Horário Geral (Semana 2)'!HG68","v":0},{"$f":"'Horário Geral (Semana 2)'!HH68","v":0},{"$f":"'Horário Geral (Semana 2)'!HI68","v":0},{"$f":"'Horário Geral (Semana 2)'!HJ68","v":1},{"$f":"'Horário Geral (Semana 2)'!HK68","v":0}]
[null,null,null,{"$f":"'Horário Geral (Semana 2)'!EY69","v":0},{"$f":"'Horário Geral (Semana 2)'!EZ69","v":0},{"$f":"'Horário Geral (Semana 2)'!FA69","v":0},{"$f":"'Horário Geral (Semana 2)'!FB69","v":0},{"$f":"'Horário Geral (Semana 2)'!FC69","v":1},{"$f":"'Horário Geral (Semana 2)'!FD69","v":0},{"$f":"'Horário Geral (Semana 2)'!FE69","v":0},{"$f":"'Horário Geral (Semana 2)'!FF69","v":0},{"$f":"'Horário Geral (Semana 2)'!#REF!","v":{"$error":"#REF!"}},{"$f":"'Horário Geral (Semana 2)'!FG69","v":0},{"$f":"'Horário Geral (Semana 2)'!FH69","v":1},{"$f":"'Horário Geral (Semana 2)'!FI69","v":0},{"$f":"'Horário Geral (Semana 2)'!FJ69","v":0},{"$f":"'Horário Geral (Semana 2)'!FK69","v":0},{"$f":"'Horário Geral (Semana 2)'!FM69","v":0},{"$f":"'Horário Geral (Semana 2)'!FN69","v":0},{"$f":"'Horário Geral (Semana 2)'!FO69","v":1},{"$f":"'Horário Geral (Semana 2)'!FP69","v":0},{"$f":"'Horário Geral (Semana 2)'!FQ69","v":0},{"$f":"'Horário Geral (Semana 2)'!FR69","v":0},{"$f":"'Horário Geral (Semana 2)'!FS69","v":0},{"$f":"'Horário Geral (Semana 2)'!FT69","v":1},{"$f":"'Horário Geral (Semana 2)'!FU69","v":1},{"$f":"'Horário Geral (Semana 2)'!FV69","v":1},{"$f":"'Horário Geral (Semana 2)'!FW69","v":0},{"$f":"'Horário Geral (Semana 2)'!FX69","v":1},{"$f":"'Horário Geral (Semana 2)'!FY69","v":0},{"$f":"'Horário Geral (Semana 2)'!FZ69","v":0},{"$f":"'Horário Geral (Semana 2)'!GA69","v":0},{"$f":"'Horário Geral (Semana 2)'!GB69","v":0},{"$f":"'Horário Geral (Semana 2)'!GC69","v":1},{"$f":"'Horário Geral (Semana 2)'!GD69","v":0},{"$f":"'Horário Geral (Semana 2)'!GE69","v":0},{"$f":"'Horário Geral (Semana 2)'!GF69","v":0},{"$f":"'Horário Geral (Semana 2)'!GG69","v":0},{"$f":"'Horário Geral (Semana 2)'!GH69","v":0},{"$f":"'Horário Geral (Semana 2)'!GI69","v":0},{"$f":"'Horário Geral (Semana 2)'!GJ69","v":0},{"$f":"'Horário Geral (Semana 2)'!GK69","v":0},{"$f":"'Horário Geral (Semana 2)'!GL69","v":0},{"$f":"'Horário Geral (Semana 2)'!GM69","v":0},{"$f":"'Horário Geral (Semana 2)'!#REF!","v":{"$error":"#REF!"}},{"$f":"'Horário Geral (Semana 2)'!GN69","v":1},{"$f":"'Horário Geral (Semana 2)'!GO69","v":0},{"$f":"'Horário Geral (Semana 2)'!GP69","v":0},{"$f":"'Horário Geral (Semana 2)'!#REF!","v":{"$error":"#REF!"}},{"$f":"'Horário Geral (Semana 2)'!GQ69","v":0},{"$f":"'Horário Geral (Semana 2)'!GR69","v":0},{"$f":"'Horário Geral (Semana 2)'!GS69","v":0},{"$f":"'Horário Geral (Semana 2)'!GT69","v":0},{"$f":"'Horário Geral (Semana 2)'!GU69","v":1},{"$f":"'Horário Geral (Semana 2)'!GV69","v":0},{"$f":"'Horário Geral (Semana 2)'!GW69","v":0},{"$f":"'Horário Geral (Semana 2)'!GX69","v":0},{"$f":"'Horário Geral (Semana 2)'!GY69","v":0},{"$f":"'Horário Geral (Semana 2)'!GZ69","v":0},{"$f":"'Horário Geral (Semana 2)'!HA69","v":0},{"$f":"'Horário Geral (Semana 2)'!HB69","v":0},{"$f":"'Horário Geral (Semana 2)'!HC69","v":0},{"$f":"'Horário Geral (Semana 2)'!HD69","v":0},{"$f":"'Horário Geral (Semana 2)'!HE69","v":0},{"$f":"'Horário Geral (Semana 2)'!HF69","v":0},{"$f":"'Horário Geral (Semana 2)'!HG69","v":0},{"$f":"'Horário Geral (Semana 2)'!HH69","v":0},{"$f":"'Horário Geral (Semana 2)'!HI69","v":0},{"$f":"'Horário Geral (Semana 2)'!HJ69","v":1},{"$f":"'Horário Geral (Semana 2)'!HK69","v":0}]
["SEX","1ª","07:10:00",{"$f":"'Horário Geral (Semana 2)'!EY82","v":0},{"$f":"'Horário Geral (Semana 2)'!EZ82","v":0},{"$f":"'Horário Geral (Semana 2)'!FA82","v":0},{"$f":"'Horário Geral (Semana 2)'!FB82","v":0},{"$f":"'Horário Geral (Semana 2)'!FC82","v":1},{"$f":"'Horário Geral (Semana 2)'!FD82","v":0},{"$f":"'Horário Geral (Semana 2)'!FE82","v":0},{"$f":"'Horário Geral (Semana 2)'!FF82","v":0},{"$f":"'Horário Geral (Semana 2)'!#REF!","v":{"$error":"#REF!"}},{"$f":"'Horário Geral (Semana 2)'!FG82","v":0},{"$f":"'Horário Geral (Semana 2)'!FH82","v":0},{"$f":"'Horário Geral (Semana 2)'!FI82","v":0},{"$f":"'Horário Geral (Semana 2)'!FJ82","v":1},{"$f":"'Horário Geral (Semana 2)'!FK82","v":0},{"$f":"'Horário Geral (Semana 2)'!FM82","v":0},{"$f":"'Horário Geral (Semana 2)'!FN82","v":0},{"$f":"'Horário Geral (Semana 2)'!FO82","v":0},{"$f":"'Horário Geral (Semana 2)'!FP82","v":0},{"$f":"'Horário Geral (Semana 2)'!FQ82","v":0},{"$f":"'Horário Geral (Semana 2)'!FR82","v":0},{"$f":"'Horário Geral (Semana 2)'!FS82","v":1},{"$f":"'Horário Geral (Semana 2)'!FT82","v":1},{"$f":"'Horário Geral (Semana 2)'!FU82","v":1},{"$f":"'Horário Geral (Semana 2)'!FV82","v":0},{"$f":"'Horário Geral (Semana 2)'!FW82","v":0},{"$f":"'Horário Geral (Semana 2)'!FX82","v":0},{"$f":"'Horário Geral (Semana 2)'!FY82","v":0},{"$f":"'Horário Geral (Semana 2)'!FZ82","v":0},{"$f":"'Horário Geral (Semana 2)'!GA82","v":0},{"$f":"'Horário Geral (Semana 2)'!GB82","v":0},{"$f":"'Horário Geral (Semana 2)'!GC82","v":0},{"$f":"'Horário Geral (Semana 2)'!GD82","v":0},{"$f":"'Horário Geral (Semana 2)'!GE82","v":0},{"$f":"'Horário Geral (Semana 2)'!GF82","v":1},{"$f":"'Horário Geral (Semana 2)'!GG82","v":0},{"$f":"'Horário Geral (Semana 2)'!GH82","v":1},{"$f":"'Horário Geral (Semana 2)'!GI82","v":0},{"$f":"'Horário Geral (Semana 2)'!GJ82","v":1},{"$f":"'Horário Geral (Semana 2)'!GK82","v":0},{"$f":"'Horário Geral (Semana 2)'!GL82","v":0},{"$f":"'Horário Geral (Semana 2)'!GM82","v":0},{"$f":"'Horário Geral (Semana 2)'!#REF!","v":{"$error":"#REF!"}},{"$f":"'Horário Geral (Semana 2)'!GN82","v":0},{"$f":"'Horário Geral (Semana 2)'!GO82","v":0},{"$f":"'Horário Geral (Semana 2)'!GP82","v":0},{"$f":"'Horário Geral (Semana 2)'!#REF!","v":{"$error":"#REF!"}},{"$f":"'Horário Geral (Semana 2)'!GQ82","v":1},{"$f":"'Horário Geral (Semana 2)'!GR82","v":0},{"$f":"'Horário Geral (Semana 2)'!GS82","v":0},{"$f":"'Horário Geral (Semana 2)'!GT82","v":0},{"$f":"'Horário Geral (Semana 2)'!GU82","v":1},{"$f":"'Horário Geral (Semana 2)'!GV82","v":0},{"$f":"'Horário Geral (Semana 2)'!GW82","v":0},{"$f":"'Horário Geral (Semana 2)'!GX82","v":0},{"$f":"'Horário Geral (Semana 2)'!GY82","v":0},{"$f":"'Horário Geral (Semana 2)'!GZ82","v":0},{"$f":"'Horário Geral (Semana 2)'!HA82","v":0},{"$f":"'Horário Geral (Semana 2)'!HB82","v":1},{"$f":"'Horário Geral (Semana 2)'!HC82","v":0},{"$f":"'Horário Geral (Semana 2)'!HD82","v":0},{"$f":"'Horário Geral (Semana 2)'!HE82","v":0},{"$f":"'Horário Geral (Semana 2)'!HF82","v":0},{"$f":"'Horário Geral (Semana 2)'!HG82","v":0},{"$f":"'Horário Geral (Semana 2)'!HH82","v":1},{"$f":"'Horário Geral (Semana 2)'!HI82","v":0},{"$f":"'Horário Geral (Semana 2)'!HJ82","v":0},{"$f":"'Horário Geral (Semana 2)'!HK82","v":0}]
[null,"2ª","07:55:00",{"$f":"'Horário Geral (Semana 2)'!EY83","v":0},{"$f":"'Horário Geral (Semana 2)'!EZ83","v":0},{"$f":"'Horário Geral (Semana 2)'!FA83","v":0},{"$f":"'Horário Geral (Semana 2)'!FB83","v":0},{"$f":"'Horário Geral (Semana 2)'!FC83","v":1},{"$f":"'Horário Geral (Semana 2)'!FD83","v":0},{"$f":"'Horário Geral (Semana 2)'!FE83","v":0},{"$f":"'Horário Geral (Semana 2)'!FF83","v":0},{"$f":"'Horário Geral (Semana 2)'!#REF!","v":{"$error":"#REF!"}},{"$f":"'Horário Geral (Semana 2)'!FG83","v":0},{"$f":"'Horário Geral (Semana 2)'!FH83","v":0},{"$f":"'Horário Geral (Semana 2)'!FI83","v":0},{"$f":"'Horário Geral (Semana 2)'!FJ83","v":1},{"$f":"'Horário Geral (Semana 2)'!FK83","v":0},{"$f":"'Horário Geral (Semana 2)'!FM83","v":0},{"$f":"'Horário Geral (Semana 2)'!FN83","v":0},{"$f":"'Horário Geral (Semana 2)'!FO83","v":0},{"$f":"'Horário Geral (Semana 2)'!FP83","v":0},{"$f":"'Horário Geral (Semana 2)'!FQ83","v":0},{"$f":"'Horário Geral (Semana 2)'!FR83","v":0},{"$f":"'Horário Geral (Semana 2)'!FS83","v":1},{"$f":"'Horário Geral (Semana 2)'!FT83","v":1},{"$f":"'Horário Geral (Semana 2)'!FU83","v":1},{"$f":"'Horário Geral (Semana 2)'!FV83","v":0},{"$f":"'Horário Geral (Semana 2)'!FW83","v":0},{"$f":"'Horário Geral (Semana 2)'!FX83","v":0},{"$f":"'Horário Geral (Semana 2)'!FY83","v":0},{"$f":"'Horário Geral (Semana 2)'!FZ83","v":0},{"$f":"'Horário Geral (Semana 2)'!GA83","v":0},{"$f":"'Horário Geral (Semana 2)'!GB83","v":0},{"$f":"'Horário Geral (Semana 2)'!GC83","v":0},{"$f":"'Horário Geral (Semana 2)'!GD83","v":0},{"$f":"'Horário Geral (Semana 2)'!GE83","v":0},{"$f":"'Horário Geral (Semana 2)'!GF83","v":1},{"$f":"'Horário Geral (Semana 2)'!GG83","v":0},{"$f":"'Horário Geral (Semana 2)'!GH83","v":1},{"$f":"'Horário Geral (Semana 2)'!GI83","v":0},{"$f":"'Horário Geral (Semana 2)'!GJ83","v":1},{"$f":"'Horário Geral (Semana 2)'!GK83","v":0},{"$f":"'Horário Geral (Semana 2)'!GL83","v":0},{"$f":"'Horário Geral (Semana 2)'!GM83","v":0},{"$f":"'Horário Geral (Semana 2)'!#REF!","v":{"$error":"#REF!"}},{"$f":"'Horário Geral (Semana 2)'!GN83","v":0},{"$f":"'Horário Geral (Semana 2)'!GO83","v":0},{"$f":"'Horário Geral (Semana 2)'!GP83","v":1},{"$f":"'Horário Geral (Semana 2)'!#REF!","v":{"$error":"#REF!"}},{"$f":"'Horário Geral (Semana 2)'!GQ83","v":1},{"$f":"'Horário Geral (Semana 2)'!GR83","v":0},{"$f":"'Horário Geral (Semana 2)'!GS83","v":0},{"$f":"'Horário Geral (Semana 2)'!GT83","v":0},{"$f":"'Horário Geral (Semana 2)'!GU83","v":1},{"$f":"'Horário Geral (Semana 2)'!GV83","v":0},{"$f":"'Horário Geral (Semana 2)'!GW83","v":0},{"$f":"'Horário Geral (Semana 2)'!GX83","v":0},{"$f":"'Horário Geral (Semana 2)'!GY83","v":0},{"$f":"'Horário Geral (Semana 2)'!GZ83","v":0},{"$f":"'Horário Geral (Semana 2)'!HA83","v":0},{"$f":"'Horário Geral (Semana 2)'!HB83","v":1},{"$f":"'Horário Geral (Semana 2)'!HC83","v":0},{"$f":"'Horário Geral (Semana 2)'!HD83","v":0},{"$f":"'Horário Geral (Semana 2)'!HE83","v":0},{"$f":"'Horário Geral (Semana 2)'!HF83","v":0},{"$f":"'Horário Geral (Semana 2)'!HG83","v":0},{"$f":"'Horário Geral (Semana 2)'!HH83","v":1},{"$f":"'Horário Geral (Semana 2)'!HI83","v":0},{"$f":"'Horário Geral (Semana 2)'!HJ83","v":0},{"$f":"'Horário Geral (Semana 2)'!HK83","v":0}]
[null,"3ª","08:40:00",{"$f":"'Horário Geral (Semana 2)'!EY84","v":0},{"$f":"'Horário Geral (Semana 2)'!EZ84","v":0},{"$f":"'Horário Geral (Semana 2)'!FA84","v":0},{"$f":"'Horário Geral (Semana 2)'!FB84","v":0},{"$f":"'Horário Geral (Semana 2)'!FC84","v":0},{"$f":"'Horário Geral (Semana 2)'!FD84","v":1},{"$f":"'Horário Geral (Semana 2)'!FE84","v":0},{"$f":"'Horário Geral (Semana 2)'!FF84","v":0},{"$f":"'Horário Geral (Semana 2)'!#REF!","v":{"$error":"#REF!"}},{"$f":"'Horário Geral (Semana 2)'!FG84","v":0},{"$f":"'Horário Geral (Semana 2)'!FH84","v":0},{"$f":"'Horário Geral (Semana 2)'!FI84","v":0},{"$f":"'Horário Geral (Semana 2)'!FJ84","v":1},{"$f":"'Horário Geral (Semana 2)'!FK84","v":0},{"$f":"'Horário Geral (Semana 2)'!FM84","v":0},{"$f":"'Horário Geral (Semana 2)'!FN84","v":0},{"$f":"'Horário Geral (Semana 2)'!FO84","v":0},{"$f":"'Horário Geral (Semana 2)'!FP84","v":0},{"$f":"'Horário Geral (Semana 2)'!FQ84","v":1},{"$f":"'Horário Geral (Semana 2)'!FR84","v":0},{"$f":"'Horário Geral (Semana 2)'!FS84","v":0},{"$f":"'Horário Geral (Semana 2)'!FT84","v":1},{"$f":"'Horário Geral (Semana 2)'!FU84","v":1},{"$f":"'Horário Geral (Semana 2)'!FV84","v":0},{"$f":"'Horário Geral (Semana 2)'!FW84","v":0},{"$f":"'Horário Geral (Semana 2)'!FX84","v":1},{"$f":"'Horário Geral (Semana 2)'!FY84","v":0},{"$f":"'Horário Geral (Semana 2)'!FZ84","v":0},{"$f":"'Horário Geral (Semana 2)'!GA84","v":0},{"$f":"'Horário Geral (Semana 2)'!GB84","v":0},{"$f":"'Horário Geral (Semana 2)'!GC84","v":0},{"$f":"'Horário Geral (Semana 2)'!GD84","v":1},{"$f":"'Horário Geral (Semana 2)'!GE84","v":0},{"$f":"'Horário Geral (Semana 2)'!GF84","v":0},{"$f":"'Horário Geral (Semana 2)'!GG84","v":0},{"$f":"'Horário Geral (Semana 2)'!GH84","v":0},{"$f":"'Horário Geral (Semana 2)'!GI84","v":0},{"$f":"'Horário Geral (Semana 2)'!GJ84","v":1},{"$f":"'Horário Geral (Semana 2)'!GK84","v":0},{"$f":"'Horário Geral (Semana 2)'!GL84","v":0},{"$f":"'Horário Geral (Semana 2)'!GM84","v":0},{"$f":"'Horário Geral (Semana 2)'!#REF!","v":{"$error":"#REF!"}},{"$f":"'Horário Geral (Semana 2)'!GN84","v":0},{"$f":"'Horário Geral (Semana 2)'!GO84","v":0},{"$f":"'Horário Geral (Semana 2)'!GP84","v":1},{"$f":"'Horário Geral (Semana 2)'!#REF!","v":{"$error":"#REF!"}},{"$f":"'Horário Geral (Semana 2)'!GQ84","v":0},{"$f":"'Horário Geral (Semana 2)'!GR84","v":0},{"$f":"'Horário Geral (Semana 2)'!GS84","v":0},{"$f":"'Horário Geral (Semana 2)'!GT84","v":0},{"$f":"'Horário Geral (Semana 2)'!GU84","v":1},{"$f":"'Horário Geral (Semana 2)'!GV84","v":0},{"$f":"'Horário Geral (Semana 2)'!GW84","v":0},{"$f":"'Horário Geral (Semana 2)'!GX84","v":0},{"$f":"'Horário Geral (Semana 2)'!GY84","v":0},{"$f":"'Horário Geral (Semana 2)'!GZ84","v":0},{"$f":"'Horário Geral (Semana 2)'!HA84","v":0},{"$f":"'Horário Geral (Semana 2)'!HB84","v":0},{"$f":"'Horário Geral (Semana 2)'!HC84","v":0},{"$f":"'Horário Geral (Semana 2)'!HD84","v":0},{"$f":"'Horário Geral (Semana 2)'!HE84","v":0},{"$f":"'Horário Geral (Semana 2)'!HF84","v":1},{"$f":"'Horário Geral (Semana 2)'!HG84","v":0},{"$f":"'Horário Geral (Semana 2)'!HH84","v":1},{"$f":"'Horário Geral (Semana 2)'!HI84","v":0},{"$f":"'Horário Geral (Semana 2)'!HJ84","v":0},{"$f":"'Horário Geral (Semana 2)'!HK84","v":0}]
[null,"4ª","09:40:00",{"$f":"'Horário Geral (Semana 2)'!EY85","v":0},{"$f":"'Horário Geral (Semana 2)'!EZ85","v":0},{"$f":"'Horário Geral (Semana 2)'!FA85","v":0},{"$f":"'Horário Geral (Semana 2)'!FB85","v":0},{"$f":"'Horário Geral (Semana 2)'!FC85","v":0},{"$f":"'Horário Geral (Semana 2)'!FD85","v":1},{"$f":"'Horário Geral (Semana 2)'!FE85","v":0},{"$f":"'Horário Geral (Semana 2)'!FF85","v":0},{"$f":"'Horário Geral (Semana 2)'!#REF!","v":{"$error":"#REF!"}},{"$f":"'Horário Geral (Semana 2)'!FG85","v":0},{"$f":"'Horário Geral (Semana 2)'!FH85","v":0},{"$f":"'Horário Geral (Semana 2)'!FI85","v":0},{"$f":"'Horário Geral (Semana 2)'!FJ85","v":1},{"$f":"'Horário Geral (Semana 2)'!FK85","v":0},{"$f":"'Horário Geral (Semana 2)'!FM85","v":0},{"$f":"'Horário Geral (Semana 2)'!FN85","v":0},{"$f":"'Horário Geral (Semana 2)'!FO85","v":0},{"$f":"'Horário Geral (Semana 2)'!FP85","v":0},{"$f":"'Horário Geral (Semana 2)'!FQ85","v":1},{"$f":"'Horário Geral (Semana 2)'!FR85","v":0},{"$f":"'Horário Geral (Semana 2)'!FS85","v":0},{"$f":"'Horário Geral (Semana 2)'!FT85","v":0},{"$f":"'Horário Geral (Semana 2)'!FU85","v":1},{"$f":"'Horário Geral (Semana 2)'!FV85","v":0},{"$f":"'Horário Geral (Semana 2)'!FW85","v":0},{"$f":"'Horário Geral (Semana 2)'!FX85","v":1},{"$f":"'Horário Geral (Semana 2)'!FY85","v":0},{"$f":"'Horário Geral (Semana 2)'!FZ85","v":0},{"$f":"'Horário Geral (Semana 2)'!GA85","v":0},{"$f":"'Horário Geral (Semana 2)'!GB85","v":0},{"$f":"'Horário Geral (Semana 2)'!GC85","v":0},{"$f":"'Horário Geral (Semana 2)'!GD85","v":1},{"$f":"'Horário Geral (Semana 2)'!GE85","v":0},{"$f":"'Horário Geral (Semana 2)'!GF85","v":0},{"$f":"'Horário Geral (Semana 2)'!GG85","v":0},{"$f":"'Horário Geral (Semana 2)'!GH85","v":0},{"$f":"'Horário Geral (Semana 2)'!GI85","v":0},{"$f":"'Horário Geral (Semana 2)'!GJ85","v":1},{"$f":"'Horário Geral (Semana 2)'!GK85","v":0},{"$f":"'Horário Geral (Semana 2)'!GL85","v":1},{"$f":"'Horário Geral (Semana 2)'!GM85","v":0},{"$f":"'Horário Geral (Semana 2)'!#REF!","v":{"$error":"#REF!"}},{"$f":"'Horário Geral (Semana 2)'!GN85","v":0},{"$f":"'Horário Geral (Semana 2)'!GO85","v":0},{"$f":"'Horário Geral (Semana 2)'!GP85","v":1},{"$f":"'Horário Geral (Semana 2)'!#REF!","v":{"$error":"#REF!"}},{"$f":"'Horário Geral (Semana 2)'!GQ85","v":0},{"$f":"'Horário Geral (Semana 2)'!GR85","v":0},{"$f":"'Horário Geral (Semana 2)'!GS85","v":0},{"$f":"'Horário Geral (Semana 2)'!GT85","v":0},{"$f":"'Horário Geral (Semana 2)'!GU85","v":1},{"$f":"'Horário Geral (Semana 2)'!GV85","v":0},{"$f":"'Horário Geral (Semana 2)'!GW85","v":0},{"$f":"'Horário Geral (Semana 2)'!GX85","v":0},{"$f":"'Horário Geral (Semana 2)'!GY85","v":0},{"$f":"'Horário Geral (Semana 2)'!GZ85","v":0},{"$f":"'Horário Geral (Semana 2)'!HA85","v":0},{"$f":"'Horário Geral (Semana 2)'!HB85","v":0},{"$f":"'Horário Geral (Semana 2)'!HC85","v":0},{"$f":"'Horário Geral (Semana 2)'!HD85","v":0},{"$f":"'Horário Geral (Semana 2)'!HE85","v":0},{"$f":"'Horário Geral (Semana 2)'!HF85","v":1},{"$f":"'Horário Geral (Semana 2)'!HG85","v":0},{"$f":"'Horário Geral (Semana 2)'!HH85","v":1},{"$f":"'Horário Geral (Semana 2)'!HI85","v":0},{"$f":"'Horário Geral (Semana 2)'!HJ85","v":0},{"$f":"'Horário Geral (Semana 2)'!HK85","v":0}]
[null,"5ª","10:25:00",{"$f":"'Horário Geral (Semana 2)'!EY86","v":0},{"$f":"'Horário Geral (Semana 2)'!EZ86","v":0},{"$f":"'Horário Geral (Semana 2)'!FA86","v":0},{"$f":"'Horário Geral (Semana 2)'!FB86","v":0},{"$f":"'Horário Geral (Semana 2)'!FC86","v":0},{"$f":"'Horário Geral (Semana 2)'!FD86","v":1},{"$f":"'Horário Geral (Semana 2)'!FE86","v":0},{"$f":"'Horário Geral (Semana 2)'!FF86","v":0},{"$f":"'Horário Geral (Semana 2)'!#REF!","v":{"$error":"#REF!"}},{"$f":"'Horário Geral (Semana 2)'!FG86","v":0},{"$f":"'Horário Geral (Semana 2)'!FH86","v":0},{"$f":"'Horário Geral (Semana 2)'!FI86","v":0},{"$f":"'Horário Geral (Semana 2)'!FJ86","v":1},{"$f":"'Horário Geral (Semana 2)'!FK86","v":0},{"$f":"'Horário Geral (Semana 2)'!FM86","v":0},{"$f":"'Horário Geral (Semana 2)'!FN86","v":0},{"$f":"'Horário Geral (Semana 2)'!FO86","v":0},{"$f":"'Horário Geral (Semana 2)'!FP86","v":0},{"$f":"'Horário Geral (Semana 2)'!FQ86","v":1},{"$f":"'Horário Geral (Semana 2)'!FR86","v":0},{"$f":"'Horário Geral (Semana 2)'!FS86","v":1},{"$f":"'Horário Geral (Semana 2)'!FT86","v":0},{"$f":"'Horário Geral (Semana 2)'!FU86","v":1},{"$f":"'Horário Geral (Semana 2)'!FV86","v":0},{"$f":"'Horário Geral (Semana 2)'!FW86","v":0},{"$f":"'Horário Geral (Semana 2)'!FX86","v":1},{"$f":"'Horário Geral (Semana 2)'!FY86","v":0},{"$f":"'Horário Geral (Semana 2)'!FZ86","v":0},{"$f":"'Horário Geral (Semana 2)'!GA86","v":0},{"$f":"'Horário Geral (Semana 2)'!GB86","v":0},{"$f":"'Horário Geral (Semana 2)'!GC86","v":0},{"$f":"'Horário Geral (Semana 2)'!GD86","v":0},{"$f":"'Horário Geral (Semana 2)'!GE86","v":0},{"$f":"'Horário Geral (Semana 2)'!GF86","v":0},{"$f":"'Horário Geral (Semana 2)'!GG86","v":0},{"$f":"'Horário Geral (Semana 2)'!GH86","v":1},{"$f":"'Horário Geral (Semana 2)'!GI86","v":0},{"$f":"'Horário Geral (Semana 2)'!GJ86","v":1},{"$f":"'Horário Geral (Semana 2)'!GK86","v":0},{"$f":"'Horário Geral (Semana 2)'!GL86","v":0},{"$f":"'Horário Geral (Semana 2)'!GM86","v":0},{"$f":"'Horário Geral (Semana 2)'!#REF!","v":{"$error":"#REF!"}},{"$f":"'Horário Geral (Semana 2)'!GN86","v":0},{"$f":"'Horário Geral (Semana 2)'!GO86","v":0},{"$f":"'Horário Geral (Semana 2)'!GP86","v":1},{"$f":"'Horário Geral (Semana 2)'!#REF!","v":{"$error":"#REF!"}},{"$f":"'Horário Geral (Semana 2)'!GQ86","v":0},{"$f":"'Horário Geral (Semana 2)'!GR86","v":1},{"$f":"'Horário Geral (Semana 2)'!GS86","v":0},{"$f":"'Horário Geral (Semana 2)'!GT86","v":0},{"$f":"'Horário Geral (Semana 2)'!GU86","v":0},{"$f":"'Horário Geral (Semana 2)'!GV86","v":0},{"$f":"'Horário Geral (Semana 2)'!GW86","v":0},{"$f":"'Horário Geral (Semana 2)'!GX86","v":0},{"$f":"'Horário Geral (Semana 2)'!GY86","v":0},{"$f":"'Horário Geral (Semana 2)'!GZ86","v":0},{"$f":"'Horário Geral (Semana 2)'!HA86","v":0},{"$f":"'Horário Geral (Semana 2)'!HB86","v":0},{"$f":"'Horário Geral (Semana 2)'!HC86","v":0},{"$f":"'Horário Geral (Semana 2)'!HD86","v":0},{"$f":"'Horário Geral (Semana 2)'!HE86","v":1},{"$f":"'Horário Geral (Semana 2)'!HF86","v":0},{"$f":"'Horário Geral (Semana 2)'!HG86","v":0},{"$f":"'Horário Geral (Semana 2)'!HH86","v":1},{"$f":"'Horário Geral (Semana 2)'!HI86","v":0},{"$f":"'Horário Geral (Semana 2)'!HJ86","v":0},{"$f":"'Horário Geral (Semana 2)'!HK86","v":0}]
[null,"6ª","11:10:00",{"$f":"'Horário Geral (Semana 2)'!EY87","v":0},{"$f":"'Horário Geral (Semana 2)'!EZ87","v":0},{"$f":"'Horário Geral (Semana 2)'!FA87","v":0},{"$f":"'Horário Geral (Semana 2)'!FB87","v":0},{"$f":"'Horário Geral (Semana 2)'!FC87","v":0},{"$f":"'Horário Geral (Semana 2)'!FD87","v":1},{"$f":"'Horário Geral (Semana 2)'!FE87","v":0},{"$f":"'Horário Geral (Semana 2)'!FF87","v":0},{"$f":"'Horário Geral (Semana 2)'!#REF!","v":{"$error":"#REF!"}},{"$f":"'Horário Geral (Semana 2)'!FG87","v":0},{"$f":"'Horário Geral (Semana 2)'!FH87","v":0},{"$f":"'Horário Geral (Semana 2)'!FI87","v":0},{"$f":"'Horário Geral (Semana 2)'!FJ87","v":1},{"$f":"'Horário Geral (Semana 2)'!FK87","v":0},{"$f":"'Horário Geral (Semana 2)'!FM87","v":0},{"$f":"'Horário Geral (Semana 2)'!FN87","v":0},{"$f":"'Horário Geral (Semana 2)'!FO87","v":0},{"$f":"'Horário Geral (Semana 2)'!FP87","v":0},{"$f":"'Horário Geral (Semana 2)'!FQ87","v":1},{"$f":"'Horário Geral (Semana 2)'!FR87","v":0},{"$f":"'Horário Geral (Semana 2)'!FS87","v":1},{"$f":"'Horário Geral (Semana 2)'!FT87","v":0},{"$f":"'Horário Geral (Semana 2)'!FU87","v":1},{"$f":"'Horário Geral (Semana 2)'!FV87","v":0},{"$f":"'Horário Geral (Semana 2)'!FW87","v":0},{"$f":"'Horário Geral (Semana 2)'!FX87","v":1},{"$f":"'Horário Geral (Semana 2)'!FY87","v":0},{"$f":"'Horário Geral (Semana 2)'!FZ87","v":0},{"$f":"'Horário Geral (Semana 2)'!GA87","v":0},{"$f":"'Horário Geral (Semana 2)'!GB87","v":0},{"$f":"'Horário Geral (Semana 2)'!GC87","v":0},{"$f":"'Horário Geral (Semana 2)'!GD87","v":0},{"$f":"'Horário Geral (Semana 2)'!GE87","v":0},{"$f":"'Horário Geral (Semana 2)'!GF87","v":0},{"$f":"'Horário Geral (Semana 2)'!GG87","v":0},{"$f":"'Horário Geral (Semana 2)'!GH87","v":1},{"$f":"'Horário Geral (Semana 2)'!GI87","v":0},{"$f":"'Horário Geral (Semana 2)'!GJ87","v":1},{"$f":"'Horário Geral (Semana 2)'!GK87","v":0},{"$f":"'Horário Geral (Semana 2)'!GL87","v":0},{"$f":"'Horário Geral (Semana 2)'!GM87","v":0},{"$f":"'Horário Geral (Semana 2)'!#REF!","v":{"$error":"#REF!"}},{"$f":"'Horário Geral (Semana 2)'!GN87","v":0},{"$f":"'Horário Geral (Semana 2)'!GO87","v":0},{"$f":"'Horário Geral (Semana 2)'!GP87","v":0},{"$f":"'Horário Geral (Semana 2)'!#REF!","v":{"$error":"#REF!"}},{"$f":"'Horário Geral (Semana 2)'!GQ87","v":0},{"$f":"'Horário Geral (Semana 2)'!GR87","v":1},{"$f":"'Horário Geral (Semana 2)'!GS87","v":0},{"$f":"'Horário Geral (Semana 2)'!GT87","v":0},{"$f":"'Horário Geral (Semana 2)'!GU87","v":0},{"$f":"'Horário Geral (Semana 2)'!GV87","v":0},{"$f":"'Horário Geral (Semana 2)'!GW87","v":0},{"$f":"'Horário Geral (Semana 2)'!GX87","v":0},{"$f":"'Horário Geral (Semana 2)'!GY87","v":0},{"$f":"'Horário Geral (Semana 2)'!GZ87","v":0},{"$f":"'Horário Geral (Semana 2)'!HA87","v":0},{"$f":"'Horário Geral (Semana 2)'!HB87","v":0},{"$f":"'Horário Geral (Semana 2)'!HC87","v":0},{"$f":"'Horário Geral (Semana 2)'!HD87","v":0},{"$f":"'Horário Geral (Semana 2)'!HE87","v":1},{"$f":"'Horário Geral (Semana 2)'!HF87","v":0},{"$f":"'Horário Geral (Semana 2)'!HG87","v":0},{"$f":"'Horário Geral (Semana 2)'!HH87","v":1},{"$f":"'Horário Geral (Semana 2)'!HI87","v":0},{"$f":"'Horário Geral (Semana 2)'!HJ87","v":0},{"$f":"'Horário Geral (Semana 2)'!HK87","v":0}]
[null,null,null,{"$f":"'Horário Geral (Semana 2)'!#REF!","v":{"$error":"#REF!"}},{"$f":"'Horário Geral (Semana 2)'!#REF!","v":{"$error":"#REF!"}},{"$f":"'Horário Geral (Semana 2)'!#REF!","v":{"$error":"#REF!"}},{"$f":"'Horário Geral (Semana 2)'!#REF!","v":{"$error":"#REF!"}},{"$f":"'Horário Geral (Semana 2)'!#REF!","v":{"$error":"#REF!"}},{"$f":"'Horário Geral (Semana 2)'!#REF!","v":{"$error":"#REF!"}},{"$f":"'Horário Geral (Semana 2)'!#REF!","v":{"$error":"#REF!"}},{"$f":"'Horário Geral (Semana 2)'!#REF!","v":{"$error":"#REF!"}},{"$f":"'Horário Geral (Semana 2)'!#REF!","v":{"$error":"#REF!"}},{"$f":"'Horário Geral (Semana 2)'!#REF!","v":{"$error":"#REF!"}},{"$f":"'Horário Geral (Semana 2)'!#REF!","v":{"$error":"#REF!"}},{"$f":"'Horário Geral (Semana 2)'!#REF!","v":{"$error":"#REF!"}},{"$f":"'Horário Geral (Semana 2)'!#REF!","v":{"$error":"#REF!"}},{"$f":"'Horário Geral (Semana 2)'!#REF!","v":{"$error":"#REF!"}},{"$f":"'Horário Geral (Semana 2)'!#REF!","v":{"$error":"#REF!"}},{"$f":"'Horário Geral (Semana 2)'!#REF!","v":{"$error":"#REF!"}},{"$f":"'Horário Geral (Semana 2)'!#REF!","v":{"$error":"#REF!"}},{"$f":"'Horário Geral (Semana 2)'!#REF!","v":{"$error":"#REF!"}},{"$f":"'Horário Geral (Semana 2)'!#REF!","v":{"$error":"#REF!"}},{"$f":"'Horário Geral (Semana 2)'!#REF!","v":{"$error":"#REF!"}},{"$f":"'Horário Geral (Semana 2)'!#REF!","v":{"$error":"#REF!"}},{"$f":"'Horário Geral (Semana 2)'!#REF!","v":{"$error":"#REF!"}},{"$f":"'Horário Geral (Semana 2)'!#REF!","v":{"$error":"#REF!"}},{"$f":"'Horário Geral (Semana 2)'!#REF!","v":{"$error":"#REF!"}},{"$f":"'Horário Geral (Semana 2)'!#REF!","v":{"$error":"#REF!"}},{"$f":"'Horário Geral (Semana 2)'!#REF!","v":{"$error":"#REF!"}},{"$f":"'Horário Geral (Semana 2)'!#REF!","v":{"$error":"#REF!"}},{"$f":"'Horário Geral (Semana 2)'!#REF!","v":{"$error":"#REF!"}},{"$f":"'Horário Geral (Semana 2)'!#REF!","v":{"$error":"#REF!"}},{"$f":"'Horário Geral (Semana 2)'!#REF!","v":{"$error":"#REF!"}},{"$f":"'Horário Geral (Semana 2)'!#REF!","v":{"$error":"#REF!"}},{"$f":"'Horário Geral (Semana 2)'!#REF!","v":{"$error":"#REF!"}},{"$f":"'Horário Geral (Semana 2)'!#REF!","v":{"$error":"#REF!"}},{"$f":"'Horário Geral (Semana 2)'!#REF!","v":{"$error":"#REF!"}},{"$f":"'Horário Geral (Semana 2)'!#REF!","v":{"$error":"#REF!"}},{"$f":"'Horário Geral (Semana 2)'!#REF!","v":{"$error":"#REF!"}},{"$f":"'Horário Geral (Semana 2)'!#REF!","v":{"$error":"#REF!"}},{"$f":"'Horário Geral (Semana 2)'!#REF!","v":{"$error":"#REF!"}},{"$f":"'Horário Geral (Semana 2)'!#REF!","v":{"$error":"#REF!"}},{"$f":"'Horário Geral (Semana 2)'!#REF!","v":{"$error":"#REF!"}},{"$f":"'Horário Geral (Semana 2)'!#REF!","v":{"$error":"#REF!"}},{"$f":"'Horário Geral (Semana 2)'!#REF!","v":{"$error":"#REF!"}},{"$f":"'Horário Geral (Semana 2)'!#REF!","v":{"$error":"#REF!"}},{"$f":"'Horário Geral (Semana 2)'!#REF!","v":{"$error":"#REF!"}},{"$f":"'Horário Geral (Semana 2)'!#REF!","v":{"$error":"#REF!"}},{"$f":"'Horário Geral (Semana 2)'!#REF!","v":{"$error":"#REF!"}},{"$f":"'Horário Geral (Semana 2)'!#REF!","v":{"$error":"#REF!"}},{"$f":"'Horário Geral (Semana 2)'!#REF!","v":{"$error":"#REF!"}},{"$f":"'Horário Geral (Semana 2)'!#REF!","v":{"$error":"#REF!"}},{"$f":"'Horário Geral (Semana 2)'!#REF!","v":{"$error":"#REF!"}},{"$f":"'Horário Geral (Semana 2)'!#REF!","v":{"$error":"#REF!"}},{"$f":"'Horário Geral (Semana 2)'!#REF!","v":{"$error":"#REF!"}},{"$f":"'Horário Geral (Semana 2)'!#REF!","v":{"$error":"#REF!"}},{"$f":"'Horário Geral (Semana 2)'!#REF!","v":{"$error":"#REF!"}},{"$f":"'Horário Geral (Semana 2)'!#REF!","v":{"$error":"#REF!"}},{"$f":"'Horário Geral (Semana 2)'!#REF!","v":{"$error":"#REF!"}},{"$f":"'Horário Geral (Semana 2)'!#REF!","v":{"$error":"#REF!"}},{"$f":"'Horário Geral (Semana 2)'!#REF!","v":{"$error":"#REF!"}},{"$f":"'Horário Geral (Semana 2)'!#REF!","v":{"$error":"#REF!"}},{"$f":"'Horário Geral (Semana 2)'!#REF!","v":{"$error":"#REF!"}},{"$f":"'Horário Geral (Semana 2)'!#REF!","v":{"$error":"#REF!"}},{"$f":"'Horário Geral (Semana 2)'!#REF!","v":{"$error":"#REF!"}},{"$f":"'Horário Geral (Semana 2)'!#REF!","v":{"$error":"#REF!"}},{"$f":"'Horário Geral (Semana 2)'!#REF!","v":{"$error":"#REF!"}},{"$f":"'Horário Geral (Semana 2)'!#REF!","v":{"$error":"#REF!"}},{"$f":"'Horário Geral (Semana 2)'!#REF!","v":{"$error":"#REF!"}},{"$f":"'Horário Geral (Semana 2)'!#REF!","v":{"$error":"#REF!"}}]
[]
[]
["TARDE"]
[]
[null,"Aula","Horário",{"$f":"'Horário Geral (Semana 2)'!#REF!","v":{"$error":"#REF!"}},{"$f":"'Horário Geral (Semana 2)'!#REF!","v":{"$error":"#REF!"}},{"$f":"'Horário Geral (Semana 2)'!#REF!","v":{"$error":"#REF!"}},{"$f":"'Horário Geral (Semana 2)'!#REF!","v":{"$error":"#REF!"}},{"$f":"'Horário Geral (Semana 2)'!#REF!","v":{"$error":"#REF!"}},{"$f":"'Horário Geral (Semana 2)'!#REF!","v":{"$error":"#REF!"}},{"$f":"'Horário Geral (Semana 2)'!#REF!","v":{"$error":"#REF!"}},{"$f":"'Horário Geral (Semana 2)'!#REF!","v":{"$error":"#REF!"}},{"$f":"'Horário Geral (Semana 2)'!#REF!","v":{"$error":"#REF!"}},{"$f":"'Horário Geral (Semana 2)'!#REF!","v":{"$error":"#REF!"}},{"$f":"'Horário Geral (Semana 2)'!#REF!","v":{"$error":"#REF!"}},{"$f":"'Horário Geral (Semana 2)'!#REF!","v":{"$error":"#REF!"}},{"$f":"'Horário Geral (Semana 2)'!#REF!","v":{"$error":"#REF!"}},{"$f":"'Horário Geral (Semana 2)'!#REF!","v":{"$error":"#REF!"}},{"$f":"'Horário Geral (Semana 2)'!#REF!","v":{"$error":"#REF!"}},{"$f":"'Horário Geral (Semana 2)'!#REF!","v":{"$error":"#REF!"}},{"$f":"'Horário Geral (Semana 2)'!#REF!","v":{"$error":"#REF!"}},{"$f":"'Horário Geral (Semana 2)'!#REF!","v":{"$error":"#REF!"}},{"$f":"'Horário Geral (Semana 2)'!#REF!","v":{"$error":"#REF!"}},{"$f":"'Horário Geral (Semana 2)'!#REF!","v":{"$error":"#REF!"}},{"$f":"'Horário Geral (Semana 2)'!#REF!","v":{"$error":"#REF!"}},{"$f":"'Horário Geral (Semana 2)'!#REF!","v":{"$error":"#REF!"}},{"$f":"'Horário Geral (Semana 2)'!#REF!","v":{"$error":"#REF!"}},{"$f":"'Horário Geral (Semana 2)'!#REF!","v":{"$error":"#REF!"}},{"$f":"'Horário Geral (Semana 2)'!#REF!","v":{"$error":"#REF!"}},{"$f":"'Horário Geral (Semana 2)'!#REF!","v":{"$error":"#REF!"}},{"$f":"'Horário Geral (Semana 2)'!#REF!","v":{"$error":"#REF!"}},{"$f":"'Horário Geral (Semana 2)'!#REF!","v":{"$error":"#REF!"}},{"$f":"'Horário Geral (Semana 2)'!#REF!","v":{"$error":"#REF!"}},{"$f":"'Horário Geral (Semana 2)'!#REF!","v":{"$error":"#REF!"}},{"$f":"'Horário Geral (Semana 2)'!#REF!","v":{"$error":"#REF!"}},{"$f":"'Horário Geral (Semana 2)'!#REF!","v":{"$error":"#REF!"}},{"$f":"'Horário Geral (Semana 2)'!#REF!","v":{"$error":"#REF!"}},{"$f":"'Horário Geral (Semana 2)'!#REF!","v":{"$error":"#REF!"}},{"$f":"'Horário Geral (Semana 2)'!#REF!","v":{"$error":"#REF!"}},{"$f":"'Horário Geral (Semana 2)'!#REF!","v":{"$error":"#REF!"}},{"$f":"'Horário Geral (Semana 2)'!#REF!","v":{"$error":"#REF!"}},{"$f":"'Horário Geral (Semana 2)'!#REF!","v":{"$error":"#REF!"}},{"$f":"'Horário Geral (Semana 2)'!#REF!","v":{"$error":"#REF!"}},{"$f":"'Horário Geral (Semana 2)'!#REF!","v":{"$error":"#REF!"}},{"$f":"'Horário Geral (Semana 2)'!#REF!","v":{"$error":"#REF!"}},{"$f":"'Horário Geral (Semana 2)'!#REF!","v":{"$error":"#REF!"}},{"$f":"'Horário Geral (Semana 2)'!#REF!","v":{"$error":"#REF!"}},{"$f":"'Horário Geral (Semana 2)'!#REF!","v":{"$error":"#REF!"}},{"$f":"'Horário Geral (Semana 2)'!#REF!","v":{"$error":"#REF!"}},{"$f":"'Horário Geral (Semana 2)'!#REF!","v":{"$error":"#REF!"}},{"$f":"'Horário Geral (Semana 2)'!#REF!","v":{"$error":"#REF!"}},{"$f":"'Horário Geral (Semana 2)'!#REF!","v":{"$error":"#REF!"}},{"$f":"'Horário Geral (Semana 2)'!#REF!","v":{"$error":"#REF!"}},{"$f":"'Horário Geral (Semana 2)'!#REF!","v":{"$error":"#REF!"}},{"$f":"'Horário Geral (Semana 2)'!#REF!","v":{"$error":"#REF!"}},{"$f":"'Horário Geral (Semana 2)'!#REF!","v":{"$error":"#REF!"}},{"$f":"'Horário Geral (Semana 2)'!#REF!","v":{"$error":"#REF!"}},{"$f":"'Horário Geral (Semana 2)'!#REF!","v":{"$error":"#REF!"}},{"$f":"'Horário Geral (Semana 2)'!#REF!","v":{"$error":"#REF!"}},{"$f":"'Horário Geral (Semana 2)'!#REF!","v":{"$error":"#REF!"}},{"$f":"'Horário Geral (Semana 2)'!#REF!","v":{"$error":"#REF!"}},{"$f":"'Horário Geral (Semana 2)'!#REF!","v":{"$error":"#REF!"}},{"$f":"'Horário Geral (Semana 2)'!#REF!","v":{"$error":"#REF!"}},{"$f":"'Horário Geral (Semana 2)'!#REF!","v":{"$error":"#REF!"}},{"$f":"'Horário Geral (Semana 2)'!#REF!","v":{"$error":"#REF!"}},{"$f":"'Horário Geral (Semana 2)'!#REF!","v":{"$error":"#REF!"}},{"$f":"'Horário Geral (Semana 2)'!#REF!","v":{"$error":"#REF!"}},{"$f":"'Horário Geral (Semana 2)'!#REF!","v":{"$error":"#REF!"}},{"$f":"'Horário Geral (Semana 2)'!#REF!","v":{"$error":"#REF!"}},{"$f":"'Horário Geral (Semana 2)'!#REF!","v":{"$error":"#REF!"}},{"$f":"'Horário Geral (Semana 2)'!#REF!","v":{"$error":"#REF!"}}]
["SEG","1ª","13:30:00",{"$f":"'Horário Geral (Semana 2)'!#REF!","v":{"$error":"#REF!"}},{"$f":"'Horário Geral (Semana 2)'!#REF!","v":{"$error":"#REF!"}},{"$f":"'Horário Geral (Semana 2)'!#REF!","v":{"$error":"#REF!"}},{"$f":"'Horário Geral (Semana 2)'!#REF!","v":{"$error":"#REF!"}},{"$f":"'Horário Geral (Semana 2)'!#REF!","v":{"$error":"#REF!"}},{"$f":"'Horário Geral (Semana 2)'!#REF!","v":{"$error":"#REF!"}},{"$f":"'Horário Geral (Semana 2)'!#REF!","v":{"$error":"#REF!"}},{"$f":"'Horário Geral (Semana 2)'!#REF!","v":{"$error":"#REF!"}},{"$f":"'Horário Geral (Semana 2)'!#REF!","v":{"$error":"#REF!"}},{"$f":"'Horário Geral (Semana 2)'!#REF!","v":{"$error":"#REF!"}},{"$f":"'Horário Geral (Semana 2)'!#REF!","v":{"$error":"#REF!"}},{"$f":"'Horário Geral (Semana 2)'!#REF!","v":{"$error":"#REF!"}},{"$f":"'Horário Geral (Semana 2)'!#REF!","v":{"$error":"#REF!"}},{"$f":"'Horário Geral (Semana 2)'!#REF!","v":{"$error":"#REF!"}},{"$f":"'Horário Geral (Semana 2)'!#REF!","v":{"$error":"#REF!"}},{"$f":"'Horário Geral (Semana 2)'!#REF!","v":{"$error":"#REF!"}},{"$f":"'Horário Geral (Semana 2)'!#REF!","v":{"$error":"#REF!"}},{"$f":"'Horário Geral (Semana 2)'!#REF!","v":{"$error":"#REF!"}},{"$f":"'Horário Geral (Semana 2)'!#REF!","v":{"$error":"#REF!"}},{"$f":"'Horário Geral (Semana 2)'!#REF!","v":{"$error":"#REF!"}},{"$f":"'Horário Geral (Semana 2)'!#REF!","v":{"$error":"#REF!"}},{"$f":"'Horário Geral (Semana 2)'!#REF!","v":{"$error":"#REF!"}},{"$f":"'Horário Geral (Semana 2)'!#REF!","v":{"$error":"#REF!"}},{"$f":"'Horário Geral (Semana 2)'!#REF!","v":{"$error":"#REF!"}},{"$f":"'Horário Geral (Semana 2)'!#REF!","v":{"$error":"#REF!"}},{"$f":"'Horário Geral (Semana 2)'!#REF!","v":{"$error":"#REF!"}},{"$f":"'Horário Geral (Semana 2)'!#REF!","v":{"$error":"#REF!"}},{"$f":"'Horário Geral (Semana 2)'!#REF!","v":{"$error":"#REF!"}},{"$f":"'Horário Geral (Semana 2)'!#REF!","v":{"$error":"#REF!"}},{"$f":"'Horário Geral (Semana 2)'!#REF!","v":{"$error":"#REF!"}},{"$f":"'Horário Geral (Semana 2)'!#REF!","v":{"$error":"#REF!"}},{"$f":"'Horário Geral (Semana 2)'!#REF!","v":{"$error":"#REF!"}},{"$f":"'Horário Geral (Semana 2)'!#REF!","v":{"$error":"#REF!"}},{"$f":"'Horário Geral (Semana 2)'!#REF!","v":{"$error":"#REF!"}},{"$f":"'Horário Geral (Semana 2)'!#REF!","v":{"$error":"#REF!"}},{"$f":"'Horário Geral (Semana 2)'!#REF!","v":{"$error":"#REF!"}},{"$f":"'Horário Geral (Semana 2)'!#REF!","v":{"$error":"#REF!"}},{"$f":"'Horário Geral (Semana 2)'!#REF!","v":{"$error":"#REF!"}},{"$f":"'Horário Geral (Semana 2)'!#REF!","v":{"$error":"#REF!"}},{"$f":"'Horário Geral (Semana 2)'!#REF!","v":{"$error":"#REF!"}},{"$f":"'Horário Geral (Semana 2)'!#REF!","v":{"$error":"#REF!"}},{"$f":"'Horário Geral (Semana 2)'!#REF!","v":{"$error":"#REF!"}},{"$f":"'Horário Geral (Semana 2)'!#REF!","v":{"$error":"#REF!"}},{"$f":"'Horário Geral (Semana 2)'!#REF!","v":{"$error":"#REF!"}},{"$f":"'Horário Geral (Semana 2)'!#REF!","v":{"$error":"#REF!"}},{"$f":"'Horário Geral (Semana 2)'!#REF!","v":{"$error":"#REF!"}},{"$f":"'Horário Geral (Semana 2)'!#REF!","v":{"$error":"#REF!"}},{"$f":"'Horário Geral (Semana 2)'!#REF!","v":{"$error":"#REF!"}},{"$f":"'Horário Geral (Semana 2)'!#REF!","v":{"$error":"#REF!"}},{"$f":"'Horário Geral (Semana 2)'!#REF!","v":{"$error":"#REF!"}},{"$f":"'Horário Geral (Semana 2)'!#REF!","v":{"$error":"#REF!"}},{"$f":"'Horário Geral (Semana 2)'!#REF!","v":{"$error":"#REF!"}},{"$f":"'Horário Geral (Semana 2)'!#REF!","v":{"$error":"#REF!"}},{"$f":"'Horário Geral (Semana 2)'!#REF!","v":{"$error":"#REF!"}},{"$f":"'Horário Geral (Semana 2)'!#REF!","v":{"$error":"#REF!"}},{"$f":"'Horário Geral (Semana 2)'!#REF!","v":{"$error":"#REF!"}},{"$f":"'Horário Geral (Semana 2)'!#REF!","v":{"$error":"#REF!"}},{"$f":"'Horário Geral (Semana 2)'!#REF!","v":{"$error":"#REF!"}},{"$f":"'Horário Geral (Semana 2)'!#REF!","v":{"$error":"#REF!"}},{"$f":"'Horário Geral (Semana 2)'!#REF!","v":{"$error":"#REF!"}},{"$f":"'Horário Geral (Semana 2)'!#REF!","v":{"$error":"#REF!"}},{"$f":"'Horário Geral (Semana 2)'!#REF!","v":{"$error":"#REF!"}},{"$f":"'Horário Geral (Semana 2)'!#REF!","v":{"$error":"#REF!"}},{"$f":"'Horário Geral (Semana 2)'!#REF!","v":{"$error":"#REF!"}},{"$f":"'Horário Geral (Semana 2)'!#REF!","v":{"$error":"#REF!"}},{"$f":"'Horário Geral (Semana 2)'!#REF!","v":{"$error":"#REF!"}},{"$f":"'Horário Geral (Semana 2)'!#REF!","v":{"$error":"#REF!"}}]
[null,"2ª","14:15:00",{"$f":"'Horário Geral (Semana 2)'!#REF!","v":{"$error":"#REF!"}},{"$f":"'Horário Geral (Semana 2)'!#REF!","v":{"$error":"#REF!"}},{"$f":"'Horário Geral (Semana 2)'!#REF!","v":{"$error":"#REF!"}},{"$f":"'Horário Geral (Semana 2)'!#REF!","v":{"$error":"#REF!"}},{"$f":"'Horário Geral (Semana 2)'!#REF!","v":{"$error":"#REF!"}},{"$f":"'Horário Geral (Semana 2)'!#REF!","v":{"$error":"#REF!"}},{"$f":"'Horário Geral (Semana 2)'!#REF!","v":{"$error":"#REF!"}},{"$f":"'Horário Geral (Semana 2)'!#REF!","v":{"$error":"#REF!"}},{"$f":"'Horário Geral (Semana 2)'!#REF!","v":{"$error":"#REF!"}},{"$f":"'Horário Geral (Semana 2)'!#REF!","v":{"$error":"#REF!"}},{"$f":"'Horário Geral (Semana 2)'!#REF!","v":{"$error":"#REF!"}},{"$f":"'Horário Geral (Semana 2)'!#REF!","v":{"$error":"#REF!"}},{"$f":"'Horário Geral (Semana 2)'!#REF!","v":{"$error":"#REF!"}},{"$f":"'Horário Geral (Semana 2)'!#REF!","v":{"$error":"#REF!"}},{"$f":"'Horário Geral (Semana 2)'!#REF!","v":{"$error":"#REF!"}},{"$f":"'Horário Geral (Semana 2)'!#REF!","v":{"$error":"#REF!"}},{"$f":"'Horário Geral (Semana 2)'!#REF!","v":{"$error":"#REF!"}},{"$f":"'Horário Geral (Semana 2)'!#REF!","v":{"$error":"#REF!"}},{"$f":"'Horário Geral (Semana 2)'!#REF!","v":{"$error":"#REF!"}},{"$f":"'Horário Geral (Semana 2)'!#REF!","v":{"$error":"#REF!"}},{"$f":"'Horário Geral (Semana 2)'!#REF!","v":{"$error":"#REF!"}},{"$f":"'Horário Geral (Semana 2)'!#REF!","v":{"$error":"#REF!"}},{"$f":"'Horário Geral (Semana 2)'!#REF!","v":{"$error":"#REF!"}},{"$f":"'Horário Geral (Semana 2)'!#REF!","v":{"$error":"#REF!"}},{"$f":"'Horário Geral (Semana 2)'!#REF!","v":{"$error":"#REF!"}},{"$f":"'Horário Geral (Semana 2)'!#REF!","v":{"$error":"#REF!"}},{"$f":"'Horário Geral (Semana 2)'!#REF!","v":{"$error":"#REF!"}},{"$f":"'Horário Geral (Semana 2)'!#REF!","v":{"$error":"#REF!"}},{"$f":"'Horário Geral (Semana 2)'!#REF!","v":{"$error":"#REF!"}},{"$f":"'Horário Geral (Semana 2)'!#REF!","v":{"$error":"#REF!"}},{"$f":"'Horário Geral (Semana 2)'!#REF!","v":{"$error":"#REF!"}},{"$f":"'Horário Geral (Semana 2)'!#REF!","v":{"$error":"#REF!"}},{"$f":"'Horário Geral (Semana 2)'!#REF!","v":{"$error":"#REF!"}},{"$f":"'Horário Geral (Semana 2)'!#REF!","v":{"$error":"#REF!"}},{"$f":"'Horário Geral (Semana 2)'!#REF!","v":{"$error":"#REF!"}},{"$f":"'Horário Geral (Semana 2)'!#REF!","v":{"$error":"#REF!"}},{"$f":"'Horário Geral (Semana 2)'!#REF!","v":{"$error":"#REF!"}},{"$f":"'Horário Geral (Semana 2)'!#REF!","v":{"$error":"#REF!"}},{"$f":"'Horário Geral (Semana 2)'!#REF!","v":{"$error":"#REF!"}},{"$f":"'Horário Geral (Semana 2)'!#REF!","v":{"$error":"#REF!"}},{"$f":"'Horário Geral (Semana 2)'!#REF!","v":{"$error":"#REF!"}},{"$f":"'Horário Geral (Semana 2)'!#REF!","v":{"$error":"#REF!"}},{"$f":"'Horário Geral (Semana 2)'!#REF!","v":{"$error":"#REF!"}},{"$f":"'Horário Geral (Semana 2)'!#REF!","v":{"$error":"#REF!"}},{"$f":"'Horário Geral (Semana 2)'!#REF!","v":{"$error":"#REF!"}},{"$f":"'Horário Geral (Semana 2)'!#REF!","v":{"$error":"#REF!"}},{"$f":"'Horário Geral (Semana 2)'!#REF!","v":{"$error":"#REF!"}},{"$f":"'Horário Geral (Semana 2)'!#REF!","v":{"$error":"#REF!"}},{"$f":"'Horário Geral (Semana 2)'!#REF!","v":{"$error":"#REF!"}},{"$f":"'Horário Geral (Semana 2)'!#REF!","v":{"$error":"#REF!"}},{"$f":"'Horário Geral (Semana 2)'!#REF!","v":{"$error":"#REF!"}},{"$f":"'Horário Geral (Semana 2)'!#REF!","v":{"$error":"#REF!"}},{"$f":"'Horário Geral (Semana 2)'!#REF!","v":{"$error":"#REF!"}},{"$f":"'Horário Geral (Semana 2)'!#REF!","v":{"$error":"#REF!"}},{"$f":"'Horário Geral (Semana 2)'!#REF!","v":{"$error":"#REF!"}},{"$f":"'Horário Geral (Semana 2)'!#REF!","v":{"$error":"#REF!"}},{"$f":"'Horário Geral (Semana 2)'!#REF!","v":{"$error":"#REF!"}},{"$f":"'Horário Geral (Semana 2)'!#REF!","v":{"$error":"#REF!"}},{"$f":"'Horário Geral (Semana 2)'!#REF!","v":{"$error":"#REF!"}},{"$f":"'Horário Geral (Semana 2)'!#REF!","v":{"$error":"#REF!"}},{"$f":"'Horário Geral (Semana 2)'!#REF!","v":{"$error":"#REF!"}},{"$f":"'Horário Geral (Semana 2)'!#REF!","v":{"$error":"#REF!"}},{"$f":"'Horário Geral (Semana 2)'!#REF!","v":{"$error":"#REF!"}},{"$f":"'Horário Geral (Semana 2)'!#REF!","v":{"$error":"#REF!"}},{"$f":"'Horário Geral (Semana 2)'!#REF!","v":{"$error":"#REF!"}},{"$f":"'Horário Geral (Semana 2)'!#REF!","v":{"$error":"#REF!"}},{"$f":"'Horário Geral (Semana 2)'!#REF!","v":{"$error":"#REF!"}}]
[null,"3ª","15:00:00",{"$f":"'Horário Geral (Semana 2)'!#REF!","v":{"$error":"#REF!"}},{"$f":"'Horário Geral (Semana 2)'!#REF!","v":{"$error":"#REF!"}},{"$f":"'Horário Geral (Semana 2)'!#REF!","v":{"$error":"#REF!"}},{"$f":"'Horário Geral (Semana 2)'!#REF!","v":{"$error":"#REF!"}},{"$f":"'Horário Geral (Semana 2)'!#REF!","v":{"$error":"#REF!"}},{"$f":"'Horário Geral (Semana 2)'!#REF!","v":{"$error":"#REF!"}},{"$f":"'Horário Geral (Semana 2)'!#REF!","v":{"$error":"#REF!"}},{"$f":"'Horário Geral (Semana 2)'!#REF!","v":{"$error":"#REF!"}},{"$f":"'Horário Geral (Semana 2)'!#REF!","v":{"$error":"#REF!"}},{"$f":"'Horário Geral (Semana 2)'!#REF!","v":{"$error":"#REF!"}},{"$f":"'Horário Geral (Semana 2)'!#REF!","v":{"$error":"#REF!"}},{"$f":"'Horário Geral (Semana 2)'!#REF!","v":{"$error":"#REF!"}},{"$f":"'Horário Geral (Semana 2)'!#REF!","v":{"$error":"#REF!"}},{"$f":"'Horário Geral (Semana 2)'!#REF!","v":{"$error":"#REF!"}},{"$f":"'Horário Geral (Semana 2)'!#REF!","v":{"$error":"#REF!"}},{"$f":"'Horário Geral (Semana 2)'!#REF!","v":{"$error":"#REF!"}},{"$f":"'Horário Geral (Semana 2)'!#REF!","v":{"$error":"#REF!"}},{"$f":"'Horário Geral (Semana 2)'!#REF!","v":{"$error":"#REF!"}},{"$f":"'Horário Geral (Semana 2)'!#REF!","v":{"$error":"#REF!"}},{"$f":"'Horário Geral (Semana 2)'!#REF!","v":{"$error":"#REF!"}},{"$f":"'Horário Geral (Semana 2)'!#REF!","v":{"$error":"#REF!"}},{"$f":"'Horário Geral (Semana 2)'!#REF!","v":{"$error":"#REF!"}},{"$f":"'Horário Geral (Semana 2)'!#REF!","v":{"$error":"#REF!"}},{"$f":"'Horário Geral (Semana 2)'!#REF!","v":{"$error":"#REF!"}},{"$f":"'Horário Geral (Semana 2)'!#REF!","v":{"$error":"#REF!"}},{"$f":"'Horário Geral (Semana 2)'!#REF!","v":{"$error":"#REF!"}},{"$f":"'Horário Geral (Semana 2)'!#REF!","v":{"$error":"#REF!"}},{"$f":"'Horário Geral (Semana 2)'!#REF!","v":{"$error":"#REF!"}},{"$f":"'Horário Geral (Semana 2)'!#REF!","v":{"$error":"#REF!"}},{"$f":"'Horário Geral (Semana 2)'!#REF!","v":{"$error":"#REF!"}},{"$f":"'Horário Geral (Semana 2)'!#REF!","v":{"$error":"#REF!"}},{"$f":"'Horário Geral (Semana 2)'!#REF!","v":{"$error":"#REF!"}},{"$f":"'Horário Geral (Semana 2)'!#REF!","v":{"$error":"#REF!"}},{"$f":"'Horário Geral (Semana 2)'!#REF!","v":{"$error":"#REF!"}},{"$f":"'Horário Geral (Semana 2)'!#REF!","v":{"$error":"#REF!"}},{"$f":"'Horário Geral (Semana 2)'!#REF!","v":{"$error":"#REF!"}},{"$f":"'Horário Geral (Semana 2)'!#REF!","v":{"$error":"#REF!"}},{"$f":"'Horário Geral (Semana 2)'!#REF!","v":{"$error":"#REF!"}},{"$f":"'Horário Geral (Semana 2)'!#REF!","v":{"$error":"#REF!"}},{"$f":"'Horário Geral (Semana 2)'!#REF!","v":{"$error":"#REF!"}},{"$f":"'Horário Geral (Semana 2)'!#REF!","v":{"$error":"#REF!"}},{"$f":"'Horário Geral (Semana 2)'!#REF!","v":{"$error":"#REF!"}},{"$f":"'Horário Geral (Semana 2)'!#REF!","v":{"$error":"#REF!"}},{"$f":"'Horário Geral (Semana 2)'!#REF!","v":{"$error":"#REF!"}},{"$f":"'Horário Geral (Semana 2)'!#REF!","v":{"$error":"#REF!"}},{"$f":"'Horário Geral (Semana 2)'!#REF!","v":{"$error":"#REF!"}},{"$f":"'Horário Geral (Semana 2)'!#REF!","v":{"$error":"#REF!"}},{"$f":"'Horário Geral (Semana 2)'!#REF!","v":{"$error":"#REF!"}},{"$f":"'Horário Geral (Semana 2)'!#REF!","v":{"$error":"#REF!"}},{"$f":"'Horário Geral (Semana 2)'!#REF!","v":{"$error":"#REF!"}},{"$f":"'Horário Geral (Semana 2)'!#REF!","v":{"$error":"#REF!"}},{"$f":"'Horário Geral (Semana 2)'!#REF!","v":{"$error":"#REF!"}},{"$f":"'Horário Geral (Semana 2)'!#REF!","v":{"$error":"#REF!"}},{"$f":"'Horário Geral (Semana 2)'!#REF!","v":{"$error":"#REF!"}},{"$f":"'Horário Geral (Semana 2)'!#REF!","v":{"$error":"#REF!"}},{"$f":"'Horário Geral (Semana 2)'!#REF!","v":{"$error":"#REF!"}},{"$f":"'Horário Geral (Semana 2)'!#REF!","v":{"$error":"#REF!"}},{"$f":"'Horário Geral (Semana 2)'!#REF!","v":{"$error":"#REF!"}},{"$f":"'Horário Geral (Semana 2)'!#REF!","v":{"$error":"#REF!"}},{"$f":"'Horário Geral (Semana 2)'!#REF!","v":{"$error":"#REF!"}},{"$f":"'Horário Geral (Semana 2)'!#REF!","v":{"$error":"#REF!"}},{"$f":"'Horário Geral (Semana 2)'!#REF!","v":{"$error":"#REF!"}},{"$f":"'Horário Geral (Semana 2)'!#REF!","v":{"$error":"#REF!"}},{"$f":"'Horário Geral (Semana 2)'!#REF!","v":{"$error":"#REF!"}},{"$f":"'Horário Geral (Semana 2)'!#REF!","v":{"$error":"#REF!"}},{"$f":"'Horário Geral (Semana 2)'!#REF!","v":{"$error":"#REF!"}},{"$f":"'Horário Geral (Semana 2)'!#REF!","v":{"$error":"#REF!"}}]
[null,"4ª","16:00:00",{"$f":"'Horário Geral (Semana 2)'!#REF!","v":{"$error":"#REF!"}},{"$f":"'Horário Geral (Semana 2)'!#REF!","v":{"$error":"#REF!"}},{"$f":"'Horário Geral (Semana 2)'!#REF!","v":{"$error":"#REF!"}},{"$f":"'Horário Geral (Semana 2)'!#REF!","v":{"$error":"#REF!"}},{"$f":"'Horário Geral (Semana 2)'!#REF!","v":{"$error":"#REF!"}},{"$f":"'Horário Geral (Semana 2)'!#REF!","v":{"$error":"#REF!"}},{"$f":"'Horário Geral (Semana 2)'!#REF!","v":{"$error":"#REF!"}},{"$f":"'Horário Geral (Semana 2)'!#REF!","v":{"$error":"#REF!"}},{"$f":"'Horário Geral (Semana 2)'!#REF!","v":{"$error":"#REF!"}},{"$f":"'Horário Geral (Semana 2)'!#REF!","v":{"$error":"#REF!"}},{"$f":"'Horário Geral (Semana 2)'!#REF!","v":{"$error":"#REF!"}},{"$f":"'Horário Geral (Semana 2)'!#REF!","v":{"$error":"#REF!"}},{"$f":"'Horário Geral (Semana 2)'!#REF!","v":{"$error":"#REF!"}},{"$f":"'Horário Geral (Semana 2)'!#REF!","v":{"$error":"#REF!"}},{"$f":"'Horário Geral (Semana 2)'!#REF!","v":{"$error":"#REF!"}},{"$f":"'Horário Geral (Semana 2)'!#REF!","v":{"$error":"#REF!"}},{"$f":"'Horário Geral (Semana 2)'!#REF!","v":{"$error":"#REF!"}},{"$f":"'Horário Geral (Semana 2)'!#REF!","v":{"$error":"#REF!"}},{"$f":"'Horário Geral (Semana 2)'!#REF!","v":{"$error":"#REF!"}},{"$f":"'Horário Geral (Semana 2)'!#REF!","v":{"$error":"#REF!"}},{"$f":"'Horário Geral (Semana 2)'!#REF!","v":{"$error":"#REF!"}},{"$f":"'Horário Geral (Semana 2)'!#REF!","v":{"$error":"#REF!"}},{"$f":"'Horário Geral (Semana 2)'!#REF!","v":{"$error":"#REF!"}},{"$f":"'Horário Geral (Semana 2)'!#REF!","v":{"$error":"#REF!"}},{"$f":"'Horário Geral (Semana 2)'!#REF!","v":{"$error":"#REF!"}},{"$f":"'Horário Geral (Semana 2)'!#REF!","v":{"$error":"#REF!"}},{"$f":"'Horário Geral (Semana 2)'!#REF!","v":{"$error":"#REF!"}},{"$f":"'Horário Geral (Semana 2)'!#REF!","v":{"$error":"#REF!"}},{"$f":"'Horário Geral (Semana 2)'!#REF!","v":{"$error":"#REF!"}},{"$f":"'Horário Geral (Semana 2)'!#REF!","v":{"$error":"#REF!"}},{"$f":"'Horário Geral (Semana 2)'!#REF!","v":{"$error":"#REF!"}},{"$f":"'Horário Geral (Semana 2)'!#REF!","v":{"$error":"#REF!"}},{"$f":"'Horário Geral (Semana 2)'!#REF!","v":{"$error":"#REF!"}},{"$f":"'Horário Geral (Semana 2)'!#REF!","v":{"$error":"#REF!"}},{"$f":"'Horário Geral (Semana 2)'!#REF!","v":{"$error":"#REF!"}},{"$f":"'Horário Geral (Semana 2)'!#REF!","v":{"$error":"#REF!"}},{"$f":"'Horário Geral (Semana 2)'!#REF!","v":{"$error":"#REF!"}},{"$f":"'Horário Geral (Semana 2)'!#REF!","v":{"$error":"#REF!"}},{"$f":"'Horário Geral (Semana 2)'!#REF!","v":{"$error":"#REF!"}},{"$f":"'Horário Geral (Semana 2)'!#REF!","v":{"$error":"#REF!"}},{"$f":"'Horário Geral (Semana 2)'!#REF!","v":{"$error":"#REF!"}},{"$f":"'Horário Geral (Semana 2)'!#REF!","v":{"$error":"#REF!"}},{"$f":"'Horário Geral (Semana 2)'!#REF!","v":{"$error":"#REF!"}},{"$f":"'Horário Geral (Semana 2)'!#REF!","v":{"$error":"#REF!"}},{"$f":"'Horário Geral (Semana 2)'!#REF!","v":{"$error":"#REF!"}},{"$f":"'Horário Geral (Semana 2)'!#REF!","v":{"$error":"#REF!"}},{"$f":"'Horário Geral (Semana 2)'!#REF!","v":{"$error":"#REF!"}},{"$f":"'Horário Geral (Semana 2)'!#REF!","v":{"$error":"#REF!"}},{"$f":"'Horário Geral (Semana 2)'!#REF!","v":{"$error":"#REF!"}},{"$f":"'Horário Geral (Semana 2)'!#REF!","v":{"$error":"#REF!"}},{"$f":"'Horário Geral (Semana 2)'!#REF!","v":{"$error":"#REF!"}},{"$f":"'Horário Geral (Semana 2)'!#REF!","v":{"$error":"#REF!"}},{"$f":"'Horário Geral (Semana 2)'!#REF!","v":{"$error":"#REF!"}},{"$f":"'Horário Geral (Semana 2)'!#REF!","v":{"$error":"#REF!"}},{"$f":"'Horário Geral (Semana 2)'!#REF!","v":{"$error":"#REF!"}},{"$f":"'Horário Geral (Semana 2)'!#REF!","v":{"$error":"#REF!"}},{"$f":"'Horário Geral (Semana 2)'!#REF!","v":{"$error":"#REF!"}},{"$f":"'Horário Geral (Semana 2)'!#REF!","v":{"$error":"#REF!"}},{"$f":"'Horário Geral (Semana 2)'!#REF!","v":{"$error":"#REF!"}},{"$f":"'Horário Geral (Semana 2)'!#REF!","v":{"$error":"#REF!"}},{"$f":"'Horário Geral (Semana 2)'!#REF!","v":{"$error":"#REF!"}},{"$f":"'Horário Geral (Semana 2)'!#REF!","v":{"$error":"#REF!"}},{"$f":"'Horário Geral (Semana 2)'!#REF!","v":{"$error":"#REF!"}},{"$f":"'Horário Geral (Semana 2)'!#REF!","v":{"$error":"#REF!"}},{"$f":"'Horário Geral (Semana 2)'!#REF!","v":{"$error":"#REF!"}},{"$f":"'Horário Geral (Semana 2)'!#REF!","v":{"$error":"#REF!"}},{"$f":"'Horário Geral (Semana 2)'!#REF!","v":{"$error":"#REF!"}}]
[null,"5ª","16:45:00",{"$f":"'Horário Geral (Semana 2)'!#REF!","v":{"$error":"#REF!"}},{"$f":"'Horário Geral (Semana 2)'!#REF!","v":{"$error":"#REF!"}},{"$f":"'Horário Geral (Semana 2)'!#REF!","v":{"$error":"#REF!"}},{"$f":"'Horário Geral (Semana 2)'!#REF!","v":{"$error":"#REF!"}},{"$f":"'Horário Geral (Semana 2)'!#REF!","v":{"$error":"#REF!"}},{"$f":"'Horário Geral (Semana 2)'!#REF!","v":{"$error":"#REF!"}},{"$f":"'Horário Geral (Semana 2)'!#REF!","v":{"$error":"#REF!"}},{"$f":"'Horário Geral (Semana 2)'!#REF!","v":{"$error":"#REF!"}},{"$f":"'Horário Geral (Semana 2)'!#REF!","v":{"$error":"#REF!"}},{"$f":"'Horário Geral (Semana 2)'!#REF!","v":{"$error":"#REF!"}},{"$f":"'Horário Geral (Semana 2)'!#REF!","v":{"$error":"#REF!"}},{"$f":"'Horário Geral (Semana 2)'!#REF!","v":{"$error":"#REF!"}},{"$f":"'Horário Geral (Semana 2)'!#REF!","v":{"$error":"#REF!"}},{"$f":"'Horário Geral (Semana 2)'!#REF!","v":{"$error":"#REF!"}},{"$f":"'Horário Geral (Semana 2)'!#REF!","v":{"$error":"#REF!"}},{"$f":"'Horário Geral (Semana 2)'!#REF!","v":{"$error":"#REF!"}},{"$f":"'Horário Geral (Semana 2)'!#REF!","v":{"$error":"#REF!"}},{"$f":"'Horário Geral (Semana 2)'!#REF!","v":{"$error":"#REF!"}},{"$f":"'Horário Geral (Semana 2)'!#REF!","v":{"$error":"#REF!"}},{"$f":"'Horário Geral (Semana 2)'!#REF!","v":{"$error":"#REF!"}},{"$f":"'Horário Geral (Semana 2)'!#REF!","v":{"$error":"#REF!"}},{"$f":"'Horário Geral (Semana 2)'!#REF!","v":{"$error":"#REF!"}},{"$f":"'Horário Geral (Semana 2)'!#REF!","v":{"$error":"#REF!"}},{"$f":"'Horário Geral (Semana 2)'!#REF!","v":{"$error":"#REF!"}},{"$f":"'Horário Geral (Semana 2)'!#REF!","v":{"$error":"#REF!"}},{"$f":"'Horário Geral (Semana 2)'!#REF!","v":{"$error":"#REF!"}},{"$f":"'Horário Geral (Semana 2)'!#REF!","v":{"$error":"#REF!"}},{"$f":"'Horário Geral (Semana 2)'!#REF!","v":{"$error":"#REF!"}},{"$f":"'Horário Geral (Semana 2)'!#REF!","v":{"$error":"#REF!"}},{"$f":"'Horário Geral (Semana 2)'!#REF!","v":{"$error":"#REF!"}},{"$f":"'Horário Geral (Semana 2)'!#REF!","v":{"$error":"#REF!"}},{"$f":"'Horário Geral (Semana 2)'!#REF!","v":{"$error":"#REF!"}},{"$f":"'Horário Geral (Semana 2)'!#REF!","v":{"$error":"#REF!"}},{"$f":"'Horário Geral (Semana 2)'!#REF!","v":{"$error":"#REF!"}},{"$f":"'Horário Geral (Semana 2)'!#REF!","v":{"$error":"#REF!"}},{"$f":"'Horário Geral (Semana 2)'!#REF!","v":{"$error":"#REF!"}},{"$f":"'Horário Geral (Semana 2)'!#REF!","v":{"$error":"#REF!"}},{"$f":"'Horário Geral (Semana 2)'!#REF!","v":{"$error":"#REF!"}},{"$f":"'Horário Geral (Semana 2)'!#REF!","v":{"$error":"#REF!"}},{"$f":"'Horário Geral (Semana 2)'!#REF!","v":{"$error":"#REF!"}},{"$f":"'Horário Geral (Semana 2)'!#REF!","v":{"$error":"#REF!"}},{"$f":"'Horário Geral (Semana 2)'!#REF!","v":{"$error":"#REF!"}},{"$f":"'Horário Geral (Semana 2)'!#REF!","v":{"$error":"#REF!"}},{"$f":"'Horário Geral (Semana 2)'!#REF!","v":{"$error":"#REF!"}},{"$f":"'Horário Geral (Semana 2)'!#REF!","v":{"$error":"#REF!"}},{"$f":"'Horário Geral (Semana 2)'!#REF!","v":{"$error":"#REF!"}},{"$f":"'Horário Geral (Semana 2)'!#REF!","v":{"$error":"#REF!"}},{"$f":"'Horário Geral (Semana 2)'!#REF!","v":{"$error":"#REF!"}},{"$f":"'Horário Geral (Semana 2)'!#REF!","v":{"$error":"#REF!"}},{"$f":"'Horário Geral (Semana 2)'!#REF!","v":{"$error":"#REF!"}},{"$f":"'Horário Geral (Semana 2)'!#REF!","v":{"$error":"#REF!"}},{"$f":"'Horário Geral (Semana 2)'!#REF!","v":{"$error":"#REF!"}},{"$f":"'Horário Geral (Semana 2)'!#REF!","v":{"$error":"#REF!"}},{"$f":"'Horário Geral (Semana 2)'!#REF!","v":{"$error":"#REF!"}},{"$f":"'Horário Geral (Semana 2)'!#REF!","v":{"$error":"#REF!"}},{"$f":"'Horário Geral (Semana 2)'!#REF!","v":{"$error":"#REF!"}},{"$f":"'Horário Geral (Semana 2)'!#REF!","v":{"$error":"#REF!"}},{"$f":"'Horário Geral (Semana 2)'!#REF!","v":{"$error":"#REF!"}},{"$f":"'Horário Geral (Semana 2)'!#REF!","v":{"$error":"#REF!"}},{"$f":"'Horário Geral (Semana 2)'!#REF!","v":{"$error":"#REF!"}},{"$f":"'Horário Geral (Semana 2)'!#REF!","v":{"$error":"#REF!"}},{"$f":"'Horário Geral (Semana 2)'!#REF!","v":{"$error":"#REF!"}},{"$f":"'Horário Geral (Semana 2)'!#REF!","v":{"$error":"#REF!"}},{"$f":"'Horário Geral (Semana 2)'!#REF!","v":{"$error":"#REF!"}},{"$f":"'Horário Geral (Semana 2)'!#REF!","v":{"$error":"#REF!"}},{"$f":"'Horário Geral (Semana 2)'!#REF!","v":{"$error":"#REF!"}},{"$f":"'Horário Geral (Semana 2)'!#REF!","v":{"$error":"#REF!"}}]
[null,null,null,{"$f":"'Horário Geral (Semana 2)'!#REF!","v":{"$error":"#REF!"}},{"$f":"'Horário Geral (Semana 2)'!#REF!","v":{"$error":"#REF!"}},{"$f":"'Horário Geral (Semana 2)'!#REF!","v":{"$error":"#REF!"}},{"$f":"'Horário Geral (Semana 2)'!#REF!","v":{"$error":"#REF!"}},{"$f":"'Horário Geral (Semana 2)'!#REF!","v":{"$error":"#REF!"}},{"$f":"'Horário Geral (Semana 2)'!#REF!","v":{"$error":"#REF!"}},{"$f":"'Horário Geral (Semana 2)'!#REF!","v":{"$error":"#REF!"}},{"$f":"'Horário Geral (Semana 2)'!#REF!","v":{"$error":"#REF!"}},{"$f":"'Horário Geral (Semana 2)'!#REF!","v":{"$error":"#REF!"}},{"$f":"'Horário Geral (Semana 2)'!#REF!","v":{"$error":"#REF!"}},{"$f":"'Horário Geral (Semana 2)'!#REF!","v":{"$error":"#REF!"}},{"$f":"'Horário Geral (Semana 2)'!#REF!","v":{"$error":"#REF!"}},{"$f":"'Horário Geral (Semana 2)'!#REF!","v":{"$error":"#REF!"}},{"$f":"'Horário Geral (Semana 2)'!#REF!","v":{"$error":"#REF!"}},{"$f":"'Horário Geral (Semana 2)'!#REF!","v":{"$error":"#REF!"}},{"$f":"'Horário Geral (Semana 2)'!#REF!","v":{"$error":"#REF!"}},{"$f":"'Horário Geral (Semana 2)'!#REF!","v":{"$error":"#REF!"}},{"$f":"'Horário Geral (Semana 2)'!#REF!","v":{"$error":"#REF!"}},{"$f":"'Horário Geral (Semana 2)'!#REF!","v":{"$error":"#REF!"}},{"$f":"'Horário Geral (Semana 2)'!#REF!","v":{"$error":"#REF!"}},{"$f":"'Horário Geral (Semana 2)'!#REF!","v":{"$error":"#REF!"}},{"$f":"'Horário Geral (Semana 2)'!#REF!","v":{"$error":"#REF!"}},{"$f":"'Horário Geral (Semana 2)'!#REF!","v":{"$error":"#REF!"}},{"$f":"'Horário Geral (Semana 2)'!#REF!","v":{"$error":"#REF!"}},{"$f":"'Horário Geral (Semana 2)'!#REF!","v":{"$error":"#REF!"}},{"$f":"'Horário Geral (Semana 2)'!#REF!","v":{"$error":"#REF!"}},{"$f":"'Horário Geral (Semana 2)'!#REF!","v":{"$error":"#REF!"}},{"$f":"'Horário Geral (Semana 2)'!#REF!","v":{"$error":"#REF!"}},{"$f":"'Horário Geral (Semana 2)'!#REF!","v":{"$error":"#REF!"}},{"$f":"'Horário Geral (Semana 2)'!#REF!","v":{"$error":"#REF!"}},{"$f":"'Horário Geral (Semana 2)'!#REF!","v":{"$error":"#REF!"}},{"$f":"'Horário Geral (Semana 2)'!#REF!","v":{"$error":"#REF!"}},{"$f":"'Horário Geral (Semana 2)'!#REF!","v":{"$error":"#REF!"}},{"$f":"'Horário Geral (Semana 2)'!#REF!","v":{"$error":"#REF!"}},{"$f":"'Horário Geral (Semana 2)'!#REF!","v":{"$error":"#REF!"}},{"$f":"'Horário Geral (Semana 2)'!#REF!","v":{"$error":"#REF!"}},{"$f":"'Horário Geral (Semana 2)'!#REF!","v":{"$error":"#REF!"}},{"$f":"'Horário Geral (Semana 2)'!#REF!","v":{"$error":"#REF!"}},{"$f":"'Horário Geral (Semana 2)'!#REF!","v":{"$error":"#REF!"}},{"$f":"'Horário Geral (Semana 2)'!#REF!","v":{"$error":"#REF!"}},{"$f":"'Horário Geral (Semana 2)'!#REF!","v":{"$error":"#REF!"}},{"$f":"'Horário Geral (Semana 2)'!#REF!","v":{"$error":"#REF!"}},{"$f":"'Horário Geral (Semana 2)'!#REF!","v":{"$error":"#REF!"}},{"$f":"'Horário Geral (Semana 2)'!#REF!","v":{"$error":"#REF!"}},{"$f":"'Horário Geral (Semana 2)'!#REF!","v":{"$error":"#REF!"}},{"$f":"'Horário Geral (Semana 2)'!#REF!","v":{"$error":"#REF!"}},{"$f":"'Horário Geral (Semana 2)'!#REF!","v":{"$error":"#REF!"}},{"$f":"'Horário Geral (Semana 2)'!#REF!","v":{"$error":"#REF!"}},{"$f":"'Horário Geral (Semana 2)'!#REF!","v":{"$error":"#REF!"}},{"$f":"'Horário Geral (Semana 2)'!#REF!","v":{"$error":"#REF!"}},{"$f":"'Horário Geral (Semana 2)'!#REF!","v":{"$error":"#REF!"}},{"$f":"'Horário Geral (Semana 2)'!#REF!","v":{"$error":"#REF!"}},{"$f":"'Horário Geral (Semana 2)'!#REF!","v":{"$error":"#REF!"}},{"$f":"'Horário Geral (Semana 2)'!#REF!","v":{"$error":"#REF!"}},{"$f":"'Horário Geral (Semana 2)'!#REF!","v":{"$error":"#REF!"}},{"$f":"'Horário Geral (Semana 2)'!#REF!","v":{"$error":"#REF!"}},{"$f":"'Horário Geral (Semana 2)'!#REF!","v":{"$error":"#REF!"}},{"$f":"'Horário Geral (Semana 2)'!#REF!","v":{"$error":"#REF!"}},{"$f":"'Horário Geral (Semana 2)'!#REF!","v":{"$error":"#REF!"}},{"$f":"'Horário Geral (Semana 2)'!#REF!","v":{"$error":"#REF!"}},{"$f":"'Horário Geral (Semana 2)'!#REF!","v":{"$error":"#REF!"}},{"$f":"'Horário Geral (Semana 2)'!#REF!","v":{"$error":"#REF!"}},{"$f":"'Horário Geral (Semana 2)'!#REF!","v":{"$error":"#REF!"}},{"$f":"'Horário Geral (Semana 2)'!#REF!","v":{"$error":"#REF!"}},{"$f":"'Horário Geral (Semana 2)'!#REF!","v":{"$error":"#REF!"}},{"$f":"'Horário Geral (Semana 2)'!#REF!","v":{"$error":"#REF!"}},{"$f":"'Horário Geral (Semana 2)'!#REF!","v":{"$error":"#REF!"}}]
["TER","1ª","13:10:00",{"$f":"'Horário Geral (Semana 2)'!#REF!","v":{"$error":"#REF!"}},{"$f":"'Horário Geral (Semana 2)'!#REF!","v":{"$error":"#REF!"}},{"$f":"'Horário Geral (Semana 2)'!#REF!","v":{"$error":"#REF!"}},{"$f":"'Horário Geral (Semana 2)'!#REF!","v":{"$error":"#REF!"}},{"$f":"'Horário Geral (Semana 2)'!#REF!","v":{"$error":"#REF!"}},{"$f":"'Horário Geral (Semana 2)'!#REF!","v":{"$error":"#REF!"}},{"$f":"'Horário Geral (Semana 2)'!#REF!","v":{"$error":"#REF!"}},{"$f":"'Horário Geral (Semana 2)'!#REF!","v":{"$error":"#REF!"}},{"$f":"'Horário Geral (Semana 2)'!#REF!","v":{"$error":"#REF!"}},{"$f":"'Horário Geral (Semana 2)'!#REF!","v":{"$error":"#REF!"}},{"$f":"'Horário Geral (Semana 2)'!#REF!","v":{"$error":"#REF!"}},{"$f":"'Horário Geral (Semana 2)'!#REF!","v":{"$error":"#REF!"}},{"$f":"'Horário Geral (Semana 2)'!#REF!","v":{"$error":"#REF!"}},{"$f":"'Horário Geral (Semana 2)'!#REF!","v":{"$error":"#REF!"}},{"$f":"'Horário Geral (Semana 2)'!#REF!","v":{"$error":"#REF!"}},{"$f":"'Horário Geral (Semana 2)'!#REF!","v":{"$error":"#REF!"}},{"$f":"'Horário Geral (Semana 2)'!#REF!","v":{"$error":"#REF!"}},{"$f":"'Horário Geral (Semana 2)'!#REF!","v":{"$error":"#REF!"}},{"$f":"'Horário Geral (Semana 2)'!#REF!","v":{"$error":"#REF!"}},{"$f":"'Horário Geral (Semana 2)'!#REF!","v":{"$error":"#REF!"}},{"$f":"'Horário Geral (Semana 2)'!#REF!","v":{"$error":"#REF!"}},{"$f":"'Horário Geral (Semana 2)'!#REF!","v":{"$error":"#REF!"}},{"$f":"'Horário Geral (Semana 2)'!#REF!","v":{"$error":"#REF!"}},{"$f":"'Horário Geral (Semana 2)'!#REF!","v":{"$error":"#REF!"}},{"$f":"'Horário Geral (Semana 2)'!#REF!","v":{"$error":"#REF!"}},{"$f":"'Horário Geral (Semana 2)'!#REF!","v":{"$error":"#REF!"}},{"$f":"'Horário Geral (Semana 2)'!#REF!","v":{"$error":"#REF!"}},{"$f":"'Horário Geral (Semana 2)'!#REF!","v":{"$error":"#REF!"}},{"$f":"'Horário Geral (Semana 2)'!#REF!","v":{"$error":"#REF!"}},{"$f":"'Horário Geral (Semana 2)'!#REF!","v":{"$error":"#REF!"}},{"$f":"'Horário Geral (Semana 2)'!#REF!","v":{"$error":"#REF!"}},{"$f":"'Horário Geral (Semana 2)'!#REF!","v":{"$error":"#REF!"}},{"$f":"'Horário Geral (Semana 2)'!#REF!","v":{"$error":"#REF!"}},{"$f":"'Horário Geral (Semana 2)'!#REF!","v":{"$error":"#REF!"}},{"$f":"'Horário Geral (Semana 2)'!#REF!","v":{"$error":"#REF!"}},{"$f":"'Horário Geral (Semana 2)'!#REF!","v":{"$error":"#REF!"}},{"$f":"'Horário Geral (Semana 2)'!#REF!","v":{"$error":"#REF!"}},{"$f":"'Horário Geral (Semana 2)'!#REF!","v":{"$error":"#REF!"}},{"$f":"'Horário Geral (Semana 2)'!#REF!","v":{"$error":"#REF!"}},{"$f":"'Horário Geral (Semana 2)'!#REF!","v":{"$error":"#REF!"}},{"$f":"'Horário Geral (Semana 2)'!#REF!","v":{"$error":"#REF!"}},{"$f":"'Horário Geral (Semana 2)'!#REF!","v":{"$error":"#REF!"}},{"$f":"'Horário Geral (Semana 2)'!#REF!","v":{"$error":"#REF!"}},{"$f":"'Horário Geral (Semana 2)'!#REF!","v":{"$error":"#REF!"}},{"$f":"'Horário Geral (Semana 2)'!#REF!","v":{"$error":"#REF!"}},{"$f":"'Horário Geral (Semana 2)'!#REF!","v":{"$error":"#REF!"}},{"$f":"'Horário Geral (Semana 2)'!#REF!","v":{"$error":"#REF!"}},{"$f":"'Horário Geral (Semana 2)'!#REF!","v":{"$error":"#REF!"}},{"$f":"'Horário Geral (Semana 2)'!#REF!","v":{"$error":"#REF!"}},{"$f":"'Horário Geral (Semana 2)'!#REF!","v":{"$error":"#REF!"}},{"$f":"'Horário Geral (Semana 2)'!#REF!","v":{"$error":"#REF!"}},{"$f":"'Horário Geral (Semana 2)'!#REF!","v":{"$error":"#REF!"}},{"$f":"'Horário Geral (Semana 2)'!#REF!","v":{"$error":"#REF!"}},{"$f":"'Horário Geral (Semana 2)'!#REF!","v":{"$error":"#REF!"}},{"$f":"'Horário Geral (Semana 2)'!#REF!","v":{"$error":"#REF!"}},{"$f":"'Horário Geral (Semana 2)'!#REF!","v":{"$error":"#REF!"}},{"$f":"'Horário Geral (Semana 2)'!#REF!","v":{"$error":"#REF!"}},{"$f":"'Horário Geral (Semana 2)'!#REF!","v":{"$error":"#REF!"}},{"$f":"'Horário Geral (Semana 2)'!#REF!","v":{"$error":"#REF!"}},{"$f":"'Horário Geral (Semana 2)'!#REF!","v":{"$error":"#REF!"}},{"$f":"'Horário Geral (Semana 2)'!#REF!","v":{"$error":"#REF!"}},{"$f":"'Horário Geral (Semana 2)'!#REF!","v":{"$error":"#REF!"}},{"$f":"'Horário Geral (Semana 2)'!#REF!","v":{"$error":"#REF!"}},{"$f":"'Horário Geral (Semana 2)'!#REF!","v":{"$error":"#REF!"}},{"$f":"'Horário Geral (Semana 2)'!#REF!","v":{"$error":"#REF!"}},{"$f":"'Horário Geral (Semana 2)'!#REF!","v":{"$error":"#REF!"}},{"$f":"'Horário Geral (Semana 2)'!#REF!","v":{"$error":"#REF!"}}]
[null,"2ª","13:55:00",{"$f":"'Horário Geral (Semana 2)'!#REF!","v":{"$error":"#REF!"}},{"$f":"'Horário Geral (Semana 2)'!#REF!","v":{"$error":"#REF!"}},{"$f":"'Horário Geral (Semana 2)'!#REF!","v":{"$error":"#REF!"}},{"$f":"'Horário Geral (Semana 2)'!#REF!","v":{"$error":"#REF!"}},{"$f":"'Horário Geral (Semana 2)'!#REF!","v":{"$error":"#REF!"}},{"$f":"'Horário Geral (Semana 2)'!#REF!","v":{"$error":"#REF!"}},{"$f":"'Horário Geral (Semana 2)'!#REF!","v":{"$error":"#REF!"}},{"$f":"'Horário Geral (Semana 2)'!#REF!","v":{"$error":"#REF!"}},{"$f":"'Horário Geral (Semana 2)'!#REF!","v":{"$error":"#REF!"}},{"$f":"'Horário Geral (Semana 2)'!#REF!","v":{"$error":"#REF!"}},{"$f":"'Horário Geral (Semana 2)'!#REF!","v":{"$error":"#REF!"}},{"$f":"'Horário Geral (Semana 2)'!#REF!","v":{"$error":"#REF!"}},{"$f":"'Horário Geral (Semana 2)'!#REF!","v":{"$error":"#REF!"}},{"$f":"'Horário Geral (Semana 2)'!#REF!","v":{"$error":"#REF!"}},{"$f":"'Horário Geral (Semana 2)'!#REF!","v":{"$error":"#REF!"}},{"$f":"'Horário Geral (Semana 2)'!#REF!","v":{"$error":"#REF!"}},{"$f":"'Horário Geral (Semana 2)'!#REF!","v":{"$error":"#REF!"}},{"$f":"'Horário Geral (Semana 2)'!#REF!","v":{"$error":"#REF!"}},{"$f":"'Horário Geral (Semana 2)'!#REF!","v":{"$error":"#REF!"}},{"$f":"'Horário Geral (Semana 2)'!#REF!","v":{"$error":"#REF!"}},{"$f":"'Horário Geral (Semana 2)'!#REF!","v":{"$error":"#REF!"}},{"$f":"'Horário Geral (Semana 2)'!#REF!","v":{"$error":"#REF!"}},{"$f":"'Horário Geral (Semana 2)'!#REF!","v":{"$error":"#REF!"}},{"$f":"'Horário Geral (Semana 2)'!#REF!","v":{"$error":"#REF!"}},{"$f":"'Horário Geral (Semana 2)'!#REF!","v":{"$error":"#REF!"}},{"$f":"'Horário Geral (Semana 2)'!#REF!","v":{"$error":"#REF!"}},{"$f":"'Horário Geral (Semana 2)'!#REF!","v":{"$error":"#REF!"}},{"$f":"'Horário Geral (Semana 2)'!#REF!","v":{"$error":"#REF!"}},{"$f":"'Horário Geral (Semana 2)'!#REF!","v":{"$error":"#REF!"}},{"$f":"'Horário Geral (Semana 2)'!#REF!","v":{"$error":"#REF!"}},{"$f":"'Horário Geral (Semana 2)'!#REF!","v":{"$error":"#REF!"}},{"$f":"'Horário Geral (Semana 2)'!#REF!","v":{"$error":"#REF!"}},{"$f":"'Horário Geral (Semana 2)'!#REF!","v":{"$error":"#REF!"}},{"$f":"'Horário Geral (Semana 2)'!#REF!","v":{"$error":"#REF!"}},{"$f":"'Horário Geral (Semana 2)'!#REF!","v":{"$error":"#REF!"}},{"$f":"'Horário Geral (Semana 2)'!#REF!","v":{"$error":"#REF!"}},{"$f":"'Horário Geral (Semana 2)'!#REF!","v":{"$error":"#REF!"}},{"$f":"'Horário Geral (Semana 2)'!#REF!","v":{"$error":"#REF!"}},{"$f":"'Horário Geral (Semana 2)'!#REF!","v":{"$error":"#REF!"}},{"$f":"'Horário Geral (Semana 2)'!#REF!","v":{"$error":"#REF!"}},{"$f":"'Horário Geral (Semana 2)'!#REF!","v":{"$error":"#REF!"}},{"$f":"'Horário Geral (Semana 2)'!#REF!","v":{"$error":"#REF!"}},{"$f":"'Horário Geral (Semana 2)'!#REF!","v":{"$error":"#REF!"}},{"$f":"'Horário Geral (Semana 2)'!#REF!","v":{"$error":"#REF!"}},{"$f":"'Horário Geral (Semana 2)'!#REF!","v":{"$error":"#REF!"}},{"$f":"'Horário Geral (Semana 2)'!#REF!","v":{"$error":"#REF!"}},{"$f":"'Horário Geral (Semana 2)'!#REF!","v":{"$error":"#REF!"}},{"$f":"'Horário Geral (Semana 2)'!#REF!","v":{"$error":"#REF!"}},{"$f":"'Horário Geral (Semana 2)'!#REF!","v":{"$error":"#REF!"}},{"$f":"'Horário Geral (Semana 2)'!#REF!","v":{"$error":"#REF!"}},{"$f":"'Horário Geral (Semana 2)'!#REF!","v":{"$error":"#REF!"}},{"$f":"'Horário Geral (Semana 2)'!#REF!","v":{"$error":"#REF!"}},{"$f":"'Horário Geral (Semana 2)'!#REF!","v":{"$error":"#REF!"}},{"$f":"'Horário Geral (Semana 2)'!#REF!","v":{"$error":"#REF!"}},{"$f":"'Horário Geral (Semana 2)'!#REF!","v":{"$error":"#REF!"}},{"$f":"'Horário Geral (Semana 2)'!#REF!","v":{"$error":"#REF!"}},{"$f":"'Horário Geral (Semana 2)'!#REF!","v":{"$error":"#REF!"}},{"$f":"'Horário Geral (Semana 2)'!#REF!","v":{"$error":"#REF!"}},{"$f":"'Horário Geral (Semana 2)'!#REF!","v":{"$error":"#REF!"}},{"$f":"'Horário Geral (Semana 2)'!#REF!","v":{"$error":"#REF!"}},{"$f":"'Horário Geral (Semana 2)'!#REF!","v":{"$error":"#REF!"}},{"$f":"'Horário Geral (Semana 2)'!#REF!","v":{"$error":"#REF!"}},{"$f":"'Horário Geral (Semana 2)'!#REF!","v":{"$error":"#REF!"}},{"$f":"'Horário Geral (Semana 2)'!#REF!","v":{"$error":"#REF!"}},{"$f":"'Horário Geral (Semana 2)'!#REF!","v":{"$error":"#REF!"}},{"$f":"'Horário Geral (Semana 2)'!#REF!","v":{"$error":"#REF!"}},{"$f":"'Horário Geral (Semana 2)'!#REF!","v":{"$error":"#REF!"}}]
[null,"3ª","14:40:00",{"$f":"'Horário Geral (Semana 2)'!#REF!","v":{"$error":"#REF!"}},{"$f":"'Horário Geral (Semana 2)'!#REF!","v":{"$error":"#REF!"}},{"$f":"'Horário Geral (Semana 2)'!#REF!","v":{"$error":"#REF!"}},{"$f":"'Horário Geral (Semana 2)'!#REF!","v":{"$error":"#REF!"}},{"$f":"'Horário Geral (Semana 2)'!#REF!","v":{"$error":"#REF!"}},{"$f":"'Horário Geral (Semana 2)'!#REF!","v":{"$error":"#REF!"}},{"$f":"'Horário Geral (Semana 2)'!#REF!","v":{"$error":"#REF!"}},{"$f":"'Horário Geral (Semana 2)'!#REF!","v":{"$error":"#REF!"}},{"$f":"'Horário Geral (Semana 2)'!#REF!","v":{"$error":"#REF!"}},{"$f":"'Horário Geral (Semana 2)'!#REF!","v":{"$error":"#REF!"}},{"$f":"'Horário Geral (Semana 2)'!#REF!","v":{"$error":"#REF!"}},{"$f":"'Horário Geral (Semana 2)'!#REF!","v":{"$error":"#REF!"}},{"$f":"'Horário Geral (Semana 2)'!#REF!","v":{"$error":"#REF!"}},{"$f":"'Horário Geral (Semana 2)'!#REF!","v":{"$error":"#REF!"}},{"$f":"'Horário Geral (Semana 2)'!#REF!","v":{"$error":"#REF!"}},{"$f":"'Horário Geral (Semana 2)'!#REF!","v":{"$error":"#REF!"}},{"$f":"'Horário Geral (Semana 2)'!#REF!","v":{"$error":"#REF!"}},{"$f":"'Horário Geral (Semana 2)'!#REF!","v":{"$error":"#REF!"}},{"$f":"'Horário Geral (Semana 2)'!#REF!","v":{"$error":"#REF!"}},{"$f":"'Horário Geral (Semana 2)'!#REF!","v":{"$error":"#REF!"}},{"$f":"'Horário Geral (Semana 2)'!#REF!","v":{"$error":"#REF!"}},{"$f":"'Horário Geral (Semana 2)'!#REF!","v":{"$error":"#REF!"}},{"$f":"'Horário Geral (Semana 2)'!#REF!","v":{"$error":"#REF!"}},{"$f":"'Horário Geral (Semana 2)'!#REF!","v":{"$error":"#REF!"}},{"$f":"'Horário Geral (Semana 2)'!#REF!","v":{"$error":"#REF!"}},{"$f":"'Horário Geral (Semana 2)'!#REF!","v":{"$error":"#REF!"}},{"$f":"'Horário Geral (Semana 2)'!#REF!","v":{"$error":"#REF!"}},{"$f":"'Horário Geral (Semana 2)'!#REF!","v":{"$error":"#REF!"}},{"$f":"'Horário Geral (Semana 2)'!#REF!","v":{"$error":"#REF!"}},{"$f":"'Horário Geral (Semana 2)'!#REF!","v":{"$error":"#REF!"}},{"$f":"'Horário Geral (Semana 2)'!#REF!","v":{"$error":"#REF!"}},{"$f":"'Horário Geral (Semana 2)'!#REF!","v":{"$error":"#REF!"}},{"$f":"'Horário Geral (Semana 2)'!#REF!","v":{"$error":"#REF!"}},{"$f":"'Horário Geral (Semana 2)'!#REF!","v":{"$error":"#REF!"}},{"$f":"'Horário Geral (Semana 2)'!#REF!","v":{"$error":"#REF!"}},{"$f":"'Horário Geral (Semana 2)'!#REF!","v":{"$error":"#REF!"}},{"$f":"'Horário Geral (Semana 2)'!#REF!","v":{"$error":"#REF!"}},{"$f":"'Horário Geral (Semana 2)'!#REF!","v":{"$error":"#REF!"}},{"$f":"'Horário Geral (Semana 2)'!#REF!","v":{"$error":"#REF!"}},{"$f":"'Horário Geral (Semana 2)'!#REF!","v":{"$error":"#REF!"}},{"$f":"'Horário Geral (Semana 2)'!#REF!","v":{"$error":"#REF!"}},{"$f":"'Horário Geral (Semana 2)'!#REF!","v":{"$error":"#REF!"}},{"$f":"'Horário Geral (Semana 2)'!#REF!","v":{"$error":"#REF!"}},{"$f":"'Horário Geral (Semana 2)'!#REF!","v":{"$error":"#REF!"}},{"$f":"'Horário Geral (Semana 2)'!#REF!","v":{"$error":"#REF!"}},{"$f":"'Horário Geral (Semana 2)'!#REF!","v":{"$error":"#REF!"}},{"$f":"'Horário Geral (Semana 2)'!#REF!","v":{"$error":"#REF!"}},{"$f":"'Horário Geral (Semana 2)'!#REF!","v":{"$error":"#REF!"}},{"$f":"'Horário Geral (Semana 2)'!#REF!","v":{"$error":"#REF!"}},{"$f":"'Horário Geral (Semana 2)'!#REF!","v":{"$error":"#REF!"}},{"$f":"'Horário Geral (Semana 2)'!#REF!","v":{"$error":"#REF!"}},{"$f":"'Horário Geral (Semana 2)'!#REF!","v":{"$error":"#REF!"}},{"$f":"'Horário Geral (Semana 2)'!#REF!","v":{"$error":"#REF!"}},{"$f":"'Horário Geral (Semana 2)'!#REF!","v":{"$error":"#REF!"}},{"$f":"'Horário Geral (Semana 2)'!#REF!","v":{"$error":"#REF!"}},{"$f":"'Horário Geral (Semana 2)'!#REF!","v":{"$error":"#REF!"}},{"$f":"'Horário Geral (Semana 2)'!#REF!","v":{"$error":"#REF!"}},{"$f":"'Horário Geral (Semana 2)'!#REF!","v":{"$error":"#REF!"}},{"$f":"'Horário Geral (Semana 2)'!#REF!","v":{"$error":"#REF!"}},{"$f":"'Horário Geral (Semana 2)'!#REF!","v":{"$error":"#REF!"}},{"$f":"'Horário Geral (Semana 2)'!#REF!","v":{"$error":"#REF!"}},{"$f":"'Horário Geral (Semana 2)'!#REF!","v":{"$error":"#REF!"}},{"$f":"'Horário Geral (Semana 2)'!#REF!","v":{"$error":"#REF!"}},{"$f":"'Horário Geral (Semana 2)'!#REF!","v":{"$error":"#REF!"}},{"$f":"'Horário Geral (Semana 2)'!#REF!","v":{"$error":"#REF!"}},{"$f":"'Horário Geral (Semana 2)'!#REF!","v":{"$error":"#REF!"}},{"$f":"'Horário Geral (Semana 2)'!#REF!","v":{"$error":"#REF!"}}]
[null,"4ª","15:40:00",{"$f":"'Horário Geral (Semana 2)'!#REF!","v":{"$error":"#REF!"}},{"$f":"'Horário Geral (Semana 2)'!#REF!","v":{"$error":"#REF!"}},{"$f":"'Horário Geral (Semana 2)'!#REF!","v":{"$error":"#REF!"}},{"$f":"'Horário Geral (Semana 2)'!#REF!","v":{"$error":"#REF!"}},{"$f":"'Horário Geral (Semana 2)'!#REF!","v":{"$error":"#REF!"}},{"$f":"'Horário Geral (Semana 2)'!#REF!","v":{"$error":"#REF!"}},{"$f":"'Horário Geral (Semana 2)'!#REF!","v":{"$error":"#REF!"}},{"$f":"'Horário Geral (Semana 2)'!#REF!","v":{"$error":"#REF!"}},{"$f":"'Horário Geral (Semana 2)'!#REF!","v":{"$error":"#REF!"}},{"$f":"'Horário Geral (Semana 2)'!#REF!","v":{"$error":"#REF!"}},{"$f":"'Horário Geral (Semana 2)'!#REF!","v":{"$error":"#REF!"}},{"$f":"'Horário Geral (Semana 2)'!#REF!","v":{"$error":"#REF!"}},{"$f":"'Horário Geral (Semana 2)'!#REF!","v":{"$error":"#REF!"}},{"$f":"'Horário Geral (Semana 2)'!#REF!","v":{"$error":"#REF!"}},{"$f":"'Horário Geral (Semana 2)'!#REF!","v":{"$error":"#REF!"}},{"$f":"'Horário Geral (Semana 2)'!#REF!","v":{"$error":"#REF!"}},{"$f":"'Horário Geral (Semana 2)'!#REF!","v":{"$error":"#REF!"}},{"$f":"'Horário Geral (Semana 2)'!#REF!","v":{"$error":"#REF!"}},{"$f":"'Horário Geral (Semana 2)'!#REF!","v":{"$error":"#REF!"}},{"$f":"'Horário Geral (Semana 2)'!#REF!","v":{"$error":"#REF!"}},{"$f":"'Horário Geral (Semana 2)'!#REF!","v":{"$error":"#REF!"}},{"$f":"'Horário Geral (Semana 2)'!#REF!","v":{"$error":"#REF!"}},{"$f":"'Horário Geral (Semana 2)'!#REF!","v":{"$error":"#REF!"}},{"$f":"'Horário Geral (Semana 2)'!#REF!","v":{"$error":"#REF!"}},{"$f":"'Horário Geral (Semana 2)'!#REF!","v":{"$error":"#REF!"}},{"$f":"'Horário Geral (Semana 2)'!#REF!","v":{"$error":"#REF!"}},{"$f":"'Horário Geral (Semana 2)'!#REF!","v":{"$error":"#REF!"}},{"$f":"'Horário Geral (Semana 2)'!#REF!","v":{"$error":"#REF!"}},{"$f":"'Horário Geral (Semana 2)'!#REF!","v":{"$error":"#REF!"}},{"$f":"'Horário Geral (Semana 2)'!#REF!","v":{"$error":"#REF!"}},{"$f":"'Horário Geral (Semana 2)'!#REF!","v":{"$error":"#REF!"}},{"$f":"'Horário Geral (Semana 2)'!#REF!","v":{"$error":"#REF!"}},{"$f":"'Horário Geral (Semana 2)'!#REF!","v":{"$error":"#REF!"}},{"$f":"'Horário Geral (Semana 2)'!#REF!","v":{"$error":"#REF!"}},{"$f":"'Horário Geral (Semana 2)'!#REF!","v":{"$error":"#REF!"}},{"$f":"'Horário Geral (Semana 2)'!#REF!","v":{"$error":"#REF!"}},{"$f":"'Horário Geral (Semana 2)'!#REF!","v":{"$error":"#REF!"}},{"$f":"'Horário Geral (Semana 2)'!#REF!","v":{"$error":"#REF!"}},{"$f":"'Horário Geral (Semana 2)'!#REF!","v":{"$error":"#REF!"}},{"$f":"'Horário Geral (Semana 2)'!#REF!","v":{"$error":"#REF!"}},{"$f":"'Horário Geral (Semana 2)'!#REF!","v":{"$error":"#REF!"}},{"$f":"'Horário Geral (Semana 2)'!#REF!","v":{"$error":"#REF!"}},{"$f":"'Horário Geral (Semana 2)'!#REF!","v":{"$error":"#REF!"}},{"$f":"'Horário Geral (Semana 2)'!#REF!","v":{"$error":"#REF!"}},{"$f":"'Horário Geral (Semana 2)'!#REF!","v":{"$error":"#REF!"}},{"$f":"'Horário Geral (Semana 2)'!#REF!","v":{"$error":"#REF!"}},{"$f":"'Horário Geral (Semana 2)'!#REF!","v":{"$error":"#REF!"}},{"$f":"'Horário Geral (Semana 2)'!#REF!","v":{"$error":"#REF!"}},{"$f":"'Horário Geral (Semana 2)'!#REF!","v":{"$error":"#REF!"}},{"$f":"'Horário Geral (Semana 2)'!#REF!","v":{"$error":"#REF!"}},{"$f":"'Horário Geral (Semana 2)'!#REF!","v":{"$error":"#REF!"}},{"$f":"'Horário Geral (Semana 2)'!#REF!","v":{"$error":"#REF!"}},{"$f":"'Horário Geral (Semana 2)'!#REF!","v":{"$error":"#REF!"}},{"$f":"'Horário Geral (Semana 2)'!#REF!","v":{"$error":"#REF!"}},{"$f":"'Horário Geral (Semana 2)'!#REF!","v":{"$error":"#REF!"}},{"$f":"'Horário Geral (Semana 2)'!#REF!","v":{"$error":"#REF!"}},{"$f":"'Horário Geral (Semana 2)'!#REF!","v":{"$error":"#REF!"}},{"$f":"'Horário Geral (Semana 2)'!#REF!","v":{"$error":"#REF!"}},{"$f":"'Horário Geral (Semana 2)'!#REF!","v":{"$error":"#REF!"}},{"$f":"'Horário Geral (Semana 2)'!#REF!","v":{"$error":"#REF!"}},{"$f":"'Horário Geral (Semana 2)'!#REF!","v":{"$error":"#REF!"}},{"$f":"'Horário Geral (Semana 2)'!#REF!","v":{"$error":"#REF!"}},{"$f":"'Horário Geral (Semana 2)'!#REF!","v":{"$error":"#REF!"}},{"$f":"'Horário Geral (Semana 2)'!#REF!","v":{"$error":"#REF!"}},{"$f":"'Horário Geral (Semana 2)'!#REF!","v":{"$error":"#REF!"}},{"$f":"'Horário Geral (Semana 2)'!#REF!","v":{"$error":"#REF!"}},{"$f":"'Horário Geral (Semana 2)'!#REF!","v":{"$error":"#REF!"}}]
[null,"5ª","16:25:00",{"$f":"'Horário Geral (Semana 2)'!#REF!","v":{"$error":"#REF!"}},{"$f":"'Horário Geral (Semana 2)'!#REF!","v":{"$error":"#REF!"}},{"$f":"'Horário Geral (Semana 2)'!#REF!","v":{"$error":"#REF!"}},{"$f":"'Horário Geral (Semana 2)'!#REF!","v":{"$error":"#REF!"}},{"$f":"'Horário Geral (Semana 2)'!#REF!","v":{"$error":"#REF!"}},{"$f":"'Horário Geral (Semana 2)'!#REF!","v":{"$error":"#REF!"}},{"$f":"'Horário Geral (Semana 2)'!#REF!","v":{"$error":"#REF!"}},{"$f":"'Horário Geral (Semana 2)'!#REF!","v":{"$error":"#REF!"}},{"$f":"'Horário Geral (Semana 2)'!#REF!","v":{"$error":"#REF!"}},{"$f":"'Horário Geral (Semana 2)'!#REF!","v":{"$error":"#REF!"}},{"$f":"'Horário Geral (Semana 2)'!#REF!","v":{"$error":"#REF!"}},{"$f":"'Horário Geral (Semana 2)'!#REF!","v":{"$error":"#REF!"}},{"$f":"'Horário Geral (Semana 2)'!#REF!","v":{"$error":"#REF!"}},{"$f":"'Horário Geral (Semana 2)'!#REF!","v":{"$error":"#REF!"}},{"$f":"'Horário Geral (Semana 2)'!#REF!","v":{"$error":"#REF!"}},{"$f":"'Horário Geral (Semana 2)'!#REF!","v":{"$error":"#REF!"}},{"$f":"'Horário Geral (Semana 2)'!#REF!","v":{"$error":"#REF!"}},{"$f":"'Horário Geral (Semana 2)'!#REF!","v":{"$error":"#REF!"}},{"$f":"'Horário Geral (Semana 2)'!#REF!","v":{"$error":"#REF!"}},{"$f":"'Horário Geral (Semana 2)'!#REF!","v":{"$error":"#REF!"}},{"$f":"'Horário Geral (Semana 2)'!#REF!","v":{"$error":"#REF!"}},{"$f":"'Horário Geral (Semana 2)'!#REF!","v":{"$error":"#REF!"}},{"$f":"'Horário Geral (Semana 2)'!#REF!","v":{"$error":"#REF!"}},{"$f":"'Horário Geral (Semana 2)'!#REF!","v":{"$error":"#REF!"}},{"$f":"'Horário Geral (Semana 2)'!#REF!","v":{"$error":"#REF!"}},{"$f":"'Horário Geral (Semana 2)'!#REF!","v":{"$error":"#REF!"}},{"$f":"'Horário Geral (Semana 2)'!#REF!","v":{"$error":"#REF!"}},{"$f":"'Horário Geral (Semana 2)'!#REF!","v":{"$error":"#REF!"}},{"$f":"'Horário Geral (Semana 2)'!#REF!","v":{"$error":"#REF!"}},{"$f":"'Horário Geral (Semana 2)'!#REF!","v":{"$error":"#REF!"}},{"$f":"'Horário Geral (Semana 2)'!#REF!","v":{"$error":"#REF!"}},{"$f":"'Horário Geral (Semana 2)'!#REF!","v":{"$error":"#REF!"}},{"$f":"'Horário Geral (Semana 2)'!#REF!","v":{"$error":"#REF!"}},{"$f":"'Horário Geral (Semana 2)'!#REF!","v":{"$error":"#REF!"}},{"$f":"'Horário Geral (Semana 2)'!#REF!","v":{"$error":"#REF!"}},{"$f":"'Horário Geral (Semana 2)'!#REF!","v":{"$error":"#REF!"}},{"$f":"'Horário Geral (Semana 2)'!#REF!","v":{"$error":"#REF!"}},{"$f":"'Horário Geral (Semana 2)'!#REF!","v":{"$error":"#REF!"}},{"$f":"'Horário Geral (Semana 2)'!#REF!","v":{"$error":"#REF!"}},{"$f":"'Horário Geral (Semana 2)'!#REF!","v":{"$error":"#REF!"}},{"$f":"'Horário Geral (Semana 2)'!#REF!","v":{"$error":"#REF!"}},{"$f":"'Horário Geral (Semana 2)'!#REF!","v":{"$error":"#REF!"}},{"$f":"'Horário Geral (Semana 2)'!#REF!","v":{"$error":"#REF!"}},{"$f":"'Horário Geral (Semana 2)'!#REF!","v":{"$error":"#REF!"}},{"$f":"'Horário Geral (Semana 2)'!#REF!","v":{"$error":"#REF!"}},{"$f":"'Horário Geral (Semana 2)'!#REF!","v":{"$error":"#REF!"}},{"$f":"'Horário Geral (Semana 2)'!#REF!","v":{"$error":"#REF!"}},{"$f":"'Horário Geral (Semana 2)'!#REF!","v":{"$error":"#REF!"}},{"$f":"'Horário Geral (Semana 2)'!#REF!","v":{"$error":"#REF!"}},{"$f":"'Horário Geral (Semana 2)'!#REF!","v":{"$error":"#REF!"}},{"$f":"'Horário Geral (Semana 2)'!#REF!","v":{"$error":"#REF!"}},{"$f":"'Horário Geral (Semana 2)'!#REF!","v":{"$error":"#REF!"}},{"$f":"'Horário Geral (Semana 2)'!#REF!","v":{"$error":"#REF!"}},{"$f":"'Horário Geral (Semana 2)'!#REF!","v":{"$error":"#REF!"}},{"$f":"'Horário Geral (Semana 2)'!#REF!","v":{"$error":"#REF!"}},{"$f":"'Horário Geral (Semana 2)'!#REF!","v":{"$error":"#REF!"}},{"$f":"'Horário Geral (Semana 2)'!#REF!","v":{"$error":"#REF!"}},{"$f":"'Horário Geral (Semana 2)'!#REF!","v":{"$error":"#REF!"}},{"$f":"'Horário Geral (Semana 2)'!#REF!","v":{"$error":"#REF!"}},{"$f":"'Horário Geral (Semana 2)'!#REF!","v":{"$error":"#REF!"}},{"$f":"'Horário Geral (Semana 2)'!#REF!","v":{"$error":"#REF!"}},{"$f":"'Horário Geral (Semana 2)'!#REF!","v":{"$error":"#REF!"}},{"$f":"'Horário Geral (Semana 2)'!#REF!","v":{"$error":"#REF!"}},{"$f":"'Horário Geral (Semana 2)'!#REF!","v":{"$error":"#REF!"}},{"$f":"'Horário Geral (Semana 2)'!#REF!","v":{"$error":"#REF!"}},{"$f":"'Horário Geral (Semana 2)'!#REF!","v":{"$error":"#REF!"}},{"$f":"'Horário Geral (Semana 2)'!#REF!","v":{"$error":"#REF!"}}]
[null,"6ª","17:10:00",{"$f":"'Horário Geral (Semana 2)'!#REF!","v":{"$error":"#REF!"}},{"$f":"'Horário Geral (Semana 2)'!#REF!","v":{"$error":"#REF!"}},{"$f":"'Horário Geral (Semana 2)'!#REF!","v":{"$error":"#REF!"}},{"$f":"'Horário Geral (Semana 2)'!#REF!","v":{"$error":"#REF!"}},{"$f":"'Horário Geral (Semana 2)'!#REF!","v":{"$error":"#REF!"}},{"$f":"'Horário Geral (Semana 2)'!#REF!","v":{"$error":"#REF!"}},{"$f":"'Horário Geral (Semana 2)'!#REF!","v":{"$error":"#REF!"}},{"$f":"'Horário Geral (Semana 2)'!#REF!","v":{"$error":"#REF!"}},{"$f":"'Horário Geral (Semana 2)'!#REF!","v":{"$error":"#REF!"}},{"$f":"'Horário Geral (Semana 2)'!#REF!","v":{"$error":"#REF!"}},{"$f":"'Horário Geral (Semana 2)'!#REF!","v":{"$error":"#REF!"}},{"$f":"'Horário Geral (Semana 2)'!#REF!","v":{"$error":"#REF!"}},{"$f":"'Horário Geral (Semana 2)'!#REF!","v":{"$error":"#REF!"}},{"$f":"'Horário Geral (Semana 2)'!#REF!","v":{"$error":"#REF!"}},{"$f":"'Horário Geral (Semana 2)'!#REF!","v":{"$error":"#REF!"}},{"$f":"'Horário Geral (Semana 2)'!#REF!","v":{"$error":"#REF!"}},{"$f":"'Horário Geral (Semana 2)'!#REF!","v":{"$error":"#REF!"}},{"$f":"'Horário Geral (Semana 2)'!#REF!","v":{"$error":"#REF!"}},{"$f":"'Horário Geral (Semana 2)'!#REF!","v":{"$error":"#REF!"}},{"$f":"'Horário Geral (Semana 2)'!#REF!","v":{"$error":"#REF!"}},{"$f":"'Horário Geral (Semana 2)'!#REF!","v":{"$error":"#REF!"}},{"$f":"'Horário Geral (Semana 2)'!#REF!","v":{"$error":"#REF!"}},{"$f":"'Horário Geral (Semana 2)'!#REF!","v":{"$error":"#REF!"}},{"$f":"'Horário Geral (Semana 2)'!#REF!","v":{"$error":"#REF!"}},{"$f":"'Horário Geral (Semana 2)'!#REF!","v":{"$error":"#REF!"}},{"$f":"'Horário Geral (Semana 2)'!#REF!","v":{"$error":"#REF!"}},{"$f":"'Horário Geral (Semana 2)'!#REF!","v":{"$error":"#REF!"}},{"$f":"'Horário Geral (Semana 2)'!#REF!","v":{"$error":"#REF!"}},{"$f":"'Horário Geral (Semana 2)'!#REF!","v":{"$error":"#REF!"}},{"$f":"'Horário Geral (Semana 2)'!#REF!","v":{"$error":"#REF!"}},{"$f":"'Horário Geral (Semana 2)'!#REF!","v":{"$error":"#REF!"}},{"$f":"'Horário Geral (Semana 2)'!#REF!","v":{"$error":"#REF!"}},{"$f":"'Horário Geral (Semana 2)'!#REF!","v":{"$error":"#REF!"}},{"$f":"'Horário Geral (Semana 2)'!#REF!","v":{"$error":"#REF!"}},{"$f":"'Horário Geral (Semana 2)'!#REF!","v":{"$error":"#REF!"}},{"$f":"'Horário Geral (Semana 2)'!#REF!","v":{"$error":"#REF!"}},{"$f":"'Horário Geral (Semana 2)'!#REF!","v":{"$error":"#REF!"}},{"$f":"'Horário Geral (Semana 2)'!#REF!","v":{"$error":"#REF!"}},{"$f":"'Horário Geral (Semana 2)'!#REF!","v":{"$error":"#REF!"}},{"$f":"'Horário Geral (Semana 2)'!#REF!","v":{"$error":"#REF!"}},{"$f":"'Horário Geral (Semana 2)'!#REF!","v":{"$error":"#REF!"}},{"$f":"'Horário Geral (Semana 2)'!#REF!","v":{"$error":"#REF!"}},{"$f":"'Horário Geral (Semana 2)'!#REF!","v":{"$error":"#REF!"}},{"$f":"'Horário Geral (Semana 2)'!#REF!","v":{"$error":"#REF!"}},{"$f":"'Horário Geral (Semana 2)'!#REF!","v":{"$error":"#REF!"}},{"$f":"'Horário Geral (Semana 2)'!#REF!","v":{"$error":"#REF!"}},{"$f":"'Horário Geral (Semana 2)'!#REF!","v":{"$error":"#REF!"}},{"$f":"'Horário Geral (Semana 2)'!#REF!","v":{"$error":"#REF!"}},{"$f":"'Horário Geral (Semana 2)'!#REF!","v":{"$error":"#REF!"}},{"$f":"'Horário Geral (Semana 2)'!#REF!","v":{"$error":"#REF!"}},{"$f":"'Horário Geral (Semana 2)'!#REF!","v":{"$error":"#REF!"}},{"$f":"'Horário Geral (Semana 2)'!#REF!","v":{"$error":"#REF!"}},{"$f":"'Horário Geral (Semana 2)'!#REF!","v":{"$error":"#REF!"}},{"$f":"'Horário Geral (Semana 2)'!#REF!","v":{"$error":"#REF!"}},{"$f":"'Horário Geral (Semana 2)'!#REF!","v":{"$error":"#REF!"}},{"$f":"'Horário Geral (Semana 2)'!#REF!","v":{"$error":"#REF!"}},{"$f":"'Horário Geral (Semana 2)'!#REF!","v":{"$error":"#REF!"}},{"$f":"'Horário Geral (Semana 2)'!#REF!","v":{"$error":"#REF!"}},{"$f":"'Horário Geral (Semana 2)'!#REF!","v":{"$error":"#REF!"}},{"$f":"'Horário Geral (Semana 2)'!#REF!","v":{"$error":"#REF!"}},{"$f":"'Horário Geral (Semana 2)'!#REF!","v":{"$error":"#REF!"}},{"$f":"'Horário Geral (Semana 2)'!#REF!","v":{"$error":"#REF!"}},{"$f":"'Horário Geral (Semana 2)'!#REF!","v":{"$error":"#REF!"}},{"$f":"'Horário Geral (Semana 2)'!#REF!","v":{"$error":"#REF!"}},{"$f":"'Horário Geral (Semana 2)'!#REF!","v":{"$error":"#REF!"}},{"$f":"'Horário Geral (Semana 2)'!#REF!","v":{"$error":"#REF!"}},{"$f":"'Horário Geral (Semana 2)'!#REF!","v":{"$error":"#REF!"}}]
[null,null,null,{"$f":"'Horário Geral (Semana 2)'!#REF!","v":{"$error":"#REF!"}},{"$f":"'Horário Geral (Semana 2)'!#REF!","v":{"$error":"#REF!"}},{"$f":"'Horário Geral (Semana 2)'!#REF!","v":{"$error":"#REF!"}},{"$f":"'Horário Geral (Semana 2)'!#REF!","v":{"$error":"#REF!"}},{"$f":"'Horário Geral (Semana 2)'!#REF!","v":{"$error":"#REF!"}},{"$f":"'Horário Geral (Semana 2)'!#REF!","v":{"$error":"#REF!"}},{"$f":"'Horário Geral (Semana 2)'!#REF!","v":{"$error":"#REF!"}},{"$f":"'Horário Geral (Semana 2)'!#REF!","v":{"$error":"#REF!"}},{"$f":"'Horário Geral (Semana 2)'!#REF!","v":{"$error":"#REF!"}},{"$f":"'Horário Geral (Semana 2)'!#REF!","v":{"$error":"#REF!"}},{"$f":"'Horário Geral (Semana 2)'!#REF!","v":{"$error":"#REF!"}},{"$f":"'Horário Geral (Semana 2)'!#REF!","v":{"$error":"#REF!"}},{"$f":"'Horário Geral (Semana 2)'!#REF!","v":{"$error":"#REF!"}},{"$f":"'Horário Geral (Semana 2)'!#REF!","v":{"$error":"#REF!"}},{"$f":"'Horário Geral (Semana 2)'!#REF!","v":{"$error":"#REF!"}},{"$f":"'Horário Geral (Semana 2)'!#REF!","v":{"$error":"#REF!"}},{"$f":"'Horário Geral (Semana 2)'!#REF!","v":{"$error":"#REF!"}},{"$f":"'Horário Geral (Semana 2)'!#REF!","v":{"$error":"#REF!"}},{"$f":"'Horário Geral (Semana 2)'!#REF!","v":{"$error":"#REF!"}},{"$f":"'Horário Geral (Semana 2)'!#REF!","v":{"$error":"#REF!"}},{"$f":"'Horário Geral (Semana 2)'!#REF!","v":{"$error":"#REF!"}},{"$f":"'Horário Geral (Semana 2)'!#REF!","v":{"$error":"#REF!"}},{"$f":"'Horário Geral (Semana 2)'!#REF!","v":{"$error":"#REF!"}},{"$f":"'Horário Geral (Semana 2)'!#REF!","v":{"$error":"#REF!"}},{"$f":"'Horário Geral (Semana 2)'!#REF!","v":{"$error":"#REF!"}},{"$f":"'Horário Geral (Semana 2)'!#REF!","v":{"$error":"#REF!"}},{"$f":"'Horário Geral (Semana 2)'!#REF!","v":{"$error":"#REF!"}},{"$f":"'Horário Geral (Semana 2)'!#REF!","v":{"$error":"#REF!"}},{"$f":"'Horário Geral (Semana 2)'!#REF!","v":{"$error":"#REF!"}},{"$f":"'Horário Geral (Semana 2)'!#REF!","v":{"$error":"#REF!"}},{"$f":"'Horário Geral (Semana 2)'!#REF!","v":{"$error":"#REF!"}},{"$f":"'Horário Geral (Semana 2)'!#REF!","v":{"$error":"#REF!"}},{"$f":"'Horário Geral (Semana 2)'!#REF!","v":{"$error":"#REF!"}},{"$f":"'Horário Geral (Semana 2)'!#REF!","v":{"$error":"#REF!"}},{"$f":"'Horário Geral (Semana 2)'!#REF!","v":{"$error":"#REF!"}},{"$f":"'Horário Geral (Semana 2)'!#REF!","v":{"$error":"#REF!"}},{"$f":"'Horário Geral (Semana 2)'!#REF!","v":{"$error":"#REF!"}},{"$f":"'Horário Geral (Semana 2)'!#REF!","v":{"$error":"#REF!"}},{"$f":"'Horário Geral (Semana 2)'!#REF!","v":{"$error":"#REF!"}},{"$f":"'Horário Geral (Semana 2)'!#REF!","v":{"$error":"#REF!"}},{"$f":"'Horário Geral (Semana 2)'!#REF!","v":{"$error":"#REF!"}},{"$f":"'Horário Geral (Semana 2)'!#REF!","v":{"$error":"#REF!"}},{"$f":"'Horário Geral (Semana 2)'!#REF!","v":{"$error":"#REF!"}},{"$f":"'Horário Geral (Semana 2)'!#REF!","v":{"$error":"#REF!"}},{"$f":"'Horário Geral (Semana 2)'!#REF!","v":{"$error":"#REF!"}},{"$f":"'Horário Geral (Semana 2)'!#REF!","v":{"$error":"#REF!"}},{"$f":"'Horário Geral (Semana 2)'!#REF!","v":{"$error":"#REF!"}},{"$f":"'Horário Geral (Semana 2)'!#REF!","v":{"$error":"#REF!"}},{"$f":"'Horário Geral (Semana 2)'!#REF!","v":{"$error":"#REF!"}},{"$f":"'Horário Geral (Semana 2)'!#REF!","v":{"$error":"#REF!"}},{"$f":"'Horário Geral (Semana 2)'!#REF!","v":{"$error":"#REF!"}},{"$f":"'Horário Geral (Semana 2)'!#REF!","v":{"$error":"#REF!"}},{"$f":"'Horário Geral (Semana 2)'!#REF!","v":{"$error":"#REF!"}},{"$f":"'Horário Geral (Semana 2)'!#REF!","v":{"$error":"#REF!"}},{"$f":"'Horário Geral (Semana 2)'!#REF!","v":{"$error":"#REF!"}},{"$f":"'Horário Geral (Semana 2)'!#REF!","v":{"$error":"#REF!"}},{"$f":"'Horário Geral (Semana 2)'!#REF!","v":{"$error":"#REF!"}},{"$f":"'Horário Geral (Semana 2)'!#REF!","v":{"$error":"#REF!"}},{"$f":"'Horário Geral (Semana 2)'!#REF!","v":{"$error":"#REF!"}},{"$f":"'Horário Geral (Semana 2)'!#REF!","v":{"$error":"#REF!"}},{"$f":"'Horário Geral (Semana 2)'!#REF!","v":{"$error":"#REF!"}},{"$f":"'Horário Geral (Semana 2)'!#REF!","v":{"$error":"#REF!"}},{"$f":"'Horário Geral (Semana 2)'!#REF!","v":{"$error":"#REF!"}},{"$f":"'Horário Geral (Semana 2)'!#REF!","v":{"$error":"#REF!"}},{"$f":"'Horário Geral (Semana 2)'!#REF!","v":{"$error":"#REF!"}},{"$f":"'Horário Geral (Semana 2)'!#REF!","v":{"$error":"#REF!"}},{"$f":"'Horário Geral (Semana 2)'!#REF!","v":{"$error":"#REF!"}}]
["QUA","1ª","13:10:00",{"$f":"'Horário Geral (Semana 2)'!#REF!","v":{"$error":"#REF!"}},{"$f":"'Horário Geral (Semana 2)'!#REF!","v":{"$error":"#REF!"}},{"$f":"'Horário Geral (Semana 2)'!#REF!","v":{"$error":"#REF!"}},{"$f":"'Horário Geral (Semana 2)'!#REF!","v":{"$error":"#REF!"}},{"$f":"'Horário Geral (Semana 2)'!#REF!","v":{"$error":"#REF!"}},{"$f":"'Horário Geral (Semana 2)'!#REF!","v":{"$error":"#REF!"}},{"$f":"'Horário Geral (Semana 2)'!#REF!","v":{"$error":"#REF!"}},{"$f":"'Horário Geral (Semana 2)'!#REF!","v":{"$error":"#REF!"}},{"$f":"'Horário Geral (Semana 2)'!#REF!","v":{"$error":"#REF!"}},{"$f":"'Horário Geral (Semana 2)'!#REF!","v":{"$error":"#REF!"}},{"$f":"'Horário Geral (Semana 2)'!#REF!","v":{"$error":"#REF!"}},{"$f":"'Horário Geral (Semana 2)'!#REF!","v":{"$error":"#REF!"}},{"$f":"'Horário Geral (Semana 2)'!#REF!","v":{"$error":"#REF!"}},{"$f":"'Horário Geral (Semana 2)'!#REF!","v":{"$error":"#REF!"}},{"$f":"'Horário Geral (Semana 2)'!#REF!","v":{"$error":"#REF!"}},{"$f":"'Horário Geral (Semana 2)'!#REF!","v":{"$error":"#REF!"}},{"$f":"'Horário Geral (Semana 2)'!#REF!","v":{"$error":"#REF!"}},{"$f":"'Horário Geral (Semana 2)'!#REF!","v":{"$error":"#REF!"}},{"$f":"'Horário Geral (Semana 2)'!#REF!","v":{"$error":"#REF!"}},{"$f":"'Horário Geral (Semana 2)'!#REF!","v":{"$error":"#REF!"}},{"$f":"'Horário Geral (Semana 2)'!#REF!","v":{"$error":"#REF!"}},{"$f":"'Horário Geral (Semana 2)'!#REF!","v":{"$error":"#REF!"}},{"$f":"'Horário Geral (Semana 2)'!#REF!","v":{"$error":"#REF!"}},{"$f":"'Horário Geral (Semana 2)'!#REF!","v":{"$error":"#REF!"}},{"$f":"'Horário Geral (Semana 2)'!#REF!","v":{"$error":"#REF!"}},{"$f":"'Horário Geral (Semana 2)'!#REF!","v":{"$error":"#REF!"}},{"$f":"'Horário Geral (Semana 2)'!#REF!","v":{"$error":"#REF!"}},{"$f":"'Horário Geral (Semana 2)'!#REF!","v":{"$error":"#REF!"}},{"$f":"'Horário Geral (Semana 2)'!#REF!","v":{"$error":"#REF!"}},{"$f":"'Horário Geral (Semana 2)'!#REF!","v":{"$error":"#REF!"}},{"$f":"'Horário Geral (Semana 2)'!#REF!","v":{"$error":"#REF!"}},{"$f":"'Horário Geral (Semana 2)'!#REF!","v":{"$error":"#REF!"}},{"$f":"'Horário Geral (Semana 2)'!#REF!","v":{"$error":"#REF!"}},{"$f":"'Horário Geral (Semana 2)'!#REF!","v":{"$error":"#REF!"}},{"$f":"'Horário Geral (Semana 2)'!#REF!","v":{"$error":"#REF!"}},{"$f":"'Horário Geral (Semana 2)'!#REF!","v":{"$error":"#REF!"}},{"$f":"'Horário Geral (Semana 2)'!#REF!","v":{"$error":"#REF!"}},{"$f":"'Horário Geral (Semana 2)'!#REF!","v":{"$error":"#REF!"}},{"$f":"'Horário Geral (Semana 2)'!#REF!","v":{"$error":"#REF!"}},{"$f":"'Horário Geral (Semana 2)'!#REF!","v":{"$error":"#REF!"}},{"$f":"'Horário Geral (Semana 2)'!#REF!","v":{"$error":"#REF!"}},{"$f":"'Horário Geral (Semana 2)'!#REF!","v":{"$error":"#REF!"}},{"$f":"'Horário Geral (Semana 2)'!#REF!","v":{"$error":"#REF!"}},{"$f":"'Horário Geral (Semana 2)'!#REF!","v":{"$error":"#REF!"}},{"$f":"'Horário Geral (Semana 2)'!#REF!","v":{"$error":"#REF!"}},{"$f":"'Horário Geral (Semana 2)'!#REF!","v":{"$error":"#REF!"}},{"$f":"'Horário Geral (Semana 2)'!#REF!","v":{"$error":"#REF!"}},{"$f":"'Horário Geral (Semana 2)'!#REF!","v":{"$error":"#REF!"}},{"$f":"'Horário Geral (Semana 2)'!#REF!","v":{"$error":"#REF!"}},{"$f":"'Horário Geral (Semana 2)'!#REF!","v":{"$error":"#REF!"}},{"$f":"'Horário Geral (Semana 2)'!#REF!","v":{"$error":"#REF!"}},{"$f":"'Horário Geral (Semana 2)'!#REF!","v":{"$error":"#REF!"}},{"$f":"'Horário Geral (Semana 2)'!#REF!","v":{"$error":"#REF!"}},{"$f":"'Horário Geral (Semana 2)'!#REF!","v":{"$error":"#REF!"}},{"$f":"'Horário Geral (Semana 2)'!#REF!","v":{"$error":"#REF!"}},{"$f":"'Horário Geral (Semana 2)'!#REF!","v":{"$error":"#REF!"}},{"$f":"'Horário Geral (Semana 2)'!#REF!","v":{"$error":"#REF!"}},{"$f":"'Horário Geral (Semana 2)'!#REF!","v":{"$error":"#REF!"}},{"$f":"'Horário Geral (Semana 2)'!#REF!","v":{"$error":"#REF!"}},{"$f":"'Horário Geral (Semana 2)'!#REF!","v":{"$error":"#REF!"}},{"$f":"'Horário Geral (Semana 2)'!#REF!","v":{"$error":"#REF!"}},{"$f":"'Horário Geral (Semana 2)'!#REF!","v":{"$error":"#REF!"}},{"$f":"'Horário Geral (Semana 2)'!#REF!","v":{"$error":"#REF!"}},{"$f":"'Horário Geral (Semana 2)'!#REF!","v":{"$error":"#REF!"}},{"$f":"'Horário Geral (Semana 2)'!#REF!","v":{"$error":"#REF!"}},{"$f":"'Horário Geral (Semana 2)'!#REF!","v":{"$error":"#REF!"}},{"$f":"'Horário Geral (Semana 2)'!#REF!","v":{"$error":"#REF!"}}]
[null,"2ª","14:00:00",{"$f":"'Horário Geral (Semana 2)'!#REF!","v":{"$error":"#REF!"}},{"$f":"'Horário Geral (Semana 2)'!#REF!","v":{"$error":"#REF!"}},{"$f":"'Horário Geral (Semana 2)'!#REF!","v":{"$error":"#REF!"}},{"$f":"'Horário Geral (Semana 2)'!#REF!","v":{"$error":"#REF!"}},{"$f":"'Horário Geral (Semana 2)'!#REF!","v":{"$error":"#REF!"}},{"$f":"'Horário Geral (Semana 2)'!#REF!","v":{"$error":"#REF!"}},{"$f":"'Horário Geral (Semana 2)'!#REF!","v":{"$error":"#REF!"}},{"$f":"'Horário Geral (Semana 2)'!#REF!","v":{"$error":"#REF!"}},{"$f":"'Horário Geral (Semana 2)'!#REF!","v":{"$error":"#REF!"}},{"$f":"'Horário Geral (Semana 2)'!#REF!","v":{"$error":"#REF!"}},{"$f":"'Horário Geral (Semana 2)'!#REF!","v":{"$error":"#REF!"}},{"$f":"'Horário Geral (Semana 2)'!#REF!","v":{"$error":"#REF!"}},{"$f":"'Horário Geral (Semana 2)'!#REF!","v":{"$error":"#REF!"}},{"$f":"'Horário Geral (Semana 2)'!#REF!","v":{"$error":"#REF!"}},{"$f":"'Horário Geral (Semana 2)'!#REF!","v":{"$error":"#REF!"}},{"$f":"'Horário Geral (Semana 2)'!#REF!","v":{"$error":"#REF!"}},{"$f":"'Horário Geral (Semana 2)'!#REF!","v":{"$error":"#REF!"}},{"$f":"'Horário Geral (Semana 2)'!#REF!","v":{"$error":"#REF!"}},{"$f":"'Horário Geral (Semana 2)'!#REF!","v":{"$error":"#REF!"}},{"$f":"'Horário Geral (Semana 2)'!#REF!","v":{"$error":"#REF!"}},{"$f":"'Horário Geral (Semana 2)'!#REF!","v":{"$error":"#REF!"}},{"$f":"'Horário Geral (Semana 2)'!#REF!","v":{"$error":"#REF!"}},{"$f":"'Horário Geral (Semana 2)'!#REF!","v":{"$error":"#REF!"}},{"$f":"'Horário Geral (Semana 2)'!#REF!","v":{"$error":"#REF!"}},{"$f":"'Horário Geral (Semana 2)'!#REF!","v":{"$error":"#REF!"}},{"$f":"'Horário Geral (Semana 2)'!#REF!","v":{"$error":"#REF!"}},{"$f":"'Horário Geral (Semana 2)'!#REF!","v":{"$error":"#REF!"}},{"$f":"'Horário Geral (Semana 2)'!#REF!","v":{"$error":"#REF!"}},{"$f":"'Horário Geral (Semana 2)'!#REF!","v":{"$error":"#REF!"}},{"$f":"'Horário Geral (Semana 2)'!#REF!","v":{"$error":"#REF!"}},{"$f":"'Horário Geral (Semana 2)'!#REF!","v":{"$error":"#REF!"}},{"$f":"'Horário Geral (Semana 2)'!#REF!","v":{"$error":"#REF!"}},{"$f":"'Horário Geral (Semana 2)'!#REF!","v":{"$error":"#REF!"}},{"$f":"'Horário Geral (Semana 2)'!#REF!","v":{"$error":"#REF!"}},{"$f":"'Horário Geral (Semana 2)'!#REF!","v":{"$error":"#REF!"}},{"$f":"'Horário Geral (Semana 2)'!#REF!","v":{"$error":"#REF!"}},{"$f":"'Horário Geral (Semana 2)'!#REF!","v":{"$error":"#REF!"}},{"$f":"'Horário Geral (Semana 2)'!#REF!","v":{"$error":"#REF!"}},{"$f":"'Horário Geral (Semana 2)'!#REF!","v":{"$error":"#REF!"}},{"$f":"'Horário Geral (Semana 2)'!#REF!","v":{"$error":"#REF!"}},{"$f":"'Horário Geral (Semana 2)'!#REF!","v":{"$error":"#REF!"}},{"$f":"'Horário Geral (Semana 2)'!#REF!","v":{"$error":"#REF!"}},{"$f":"'Horário Geral (Semana 2)'!#REF!","v":{"$error":"#REF!"}},{"$f":"'Horário Geral (Semana 2)'!#REF!","v":{"$error":"#REF!"}},{"$f":"'Horário Geral (Semana 2)'!#REF!","v":{"$error":"#REF!"}},{"$f":"'Horário Geral (Semana 2)'!#REF!","v":{"$error":"#REF!"}},{"$f":"'Horário Geral (Semana 2)'!#REF!","v":{"$error":"#REF!"}},{"$f":"'Horário Geral (Semana 2)'!#REF!","v":{"$error":"#REF!"}},{"$f":"'Horário Geral (Semana 2)'!#REF!","v":{"$error":"#REF!"}},{"$f":"'Horário Geral (Semana 2)'!#REF!","v":{"$error":"#REF!"}},{"$f":"'Horário Geral (Semana 2)'!#REF!","v":{"$error":"#REF!"}},{"$f":"'Horário Geral (Semana 2)'!#REF!","v":{"$error":"#REF!"}},{"$f":"'Horário Geral (Semana 2)'!#REF!","v":{"$error":"#REF!"}},{"$f":"'Horário Geral (Semana 2)'!#REF!","v":{"$error":"#REF!"}},{"$f":"'Horário Geral (Semana 2)'!#REF!","v":{"$error":"#REF!"}},{"$f":"'Horário Geral (Semana 2)'!#REF!","v":{"$error":"#REF!"}},{"$f":"'Horário Geral (Semana 2)'!#REF!","v":{"$error":"#REF!"}},{"$f":"'Horário Geral (Semana 2)'!#REF!","v":{"$error":"#REF!"}},{"$f":"'Horário Geral (Semana 2)'!#REF!","v":{"$error":"#REF!"}},{"$f":"'Horário Geral (Semana 2)'!#REF!","v":{"$error":"#REF!"}},{"$f":"'Horário Geral (Semana 2)'!#REF!","v":{"$error":"#REF!"}},{"$f":"'Horário Geral (Semana 2)'!#REF!","v":{"$error":"#REF!"}},{"$f":"'Horário Geral (Semana 2)'!#REF!","v":{"$error":"#REF!"}},{"$f":"'Horário Geral (Semana 2)'!#REF!","v":{"$error":"#REF!"}},{"$f":"'Horário Geral (Semana 2)'!#REF!","v":{"$error":"#REF!"}},{"$f":"'Horário Geral (Semana 2)'!#REF!","v":{"$error":"#REF!"}},{"$f":"'Horário Geral (Semana 2)'!#REF!","v":{"$error":"#REF!"}}]
[null,"3ª","14:50:00",{"$f":"'Horário Geral (Semana 2)'!#REF!","v":{"$error":"#REF!"}},{"$f":"'Horário Geral (Semana 2)'!#REF!","v":{"$error":"#REF!"}},{"$f":"'Horário Geral (Semana 2)'!#REF!","v":{"$error":"#REF!"}},{"$f":"'Horário Geral (Semana 2)'!#REF!","v":{"$error":"#REF!"}},{"$f":"'Horário Geral (Semana 2)'!#REF!","v":{"$error":"#REF!"}},{"$f":"'Horário Geral (Semana 2)'!#REF!","v":{"$error":"#REF!"}},{"$f":"'Horário Geral (Semana 2)'!#REF!","v":{"$error":"#REF!"}},{"$f":"'Horário Geral (Semana 2)'!#REF!","v":{"$error":"#REF!"}},{"$f":"'Horário Geral (Semana 2)'!#REF!","v":{"$error":"#REF!"}},{"$f":"'Horário Geral (Semana 2)'!#REF!","v":{"$error":"#REF!"}},{"$f":"'Horário Geral (Semana 2)'!#REF!","v":{"$error":"#REF!"}},{"$f":"'Horário Geral (Semana 2)'!#REF!","v":{"$error":"#REF!"}},{"$f":"'Horário Geral (Semana 2)'!#REF!","v":{"$error":"#REF!"}},{"$f":"'Horário Geral (Semana 2)'!#REF!","v":{"$error":"#REF!"}},{"$f":"'Horário Geral (Semana 2)'!#REF!","v":{"$error":"#REF!"}},{"$f":"'Horário Geral (Semana 2)'!#REF!","v":{"$error":"#REF!"}},{"$f":"'Horário Geral (Semana 2)'!#REF!","v":{"$error":"#REF!"}},{"$f":"'Horário Geral (Semana 2)'!#REF!","v":{"$error":"#REF!"}},{"$f":"'Horário Geral (Semana 2)'!#REF!","v":{"$error":"#REF!"}},{"$f":"'Horário Geral (Semana 2)'!#REF!","v":{"$error":"#REF!"}},{"$f":"'Horário Geral (Semana 2)'!#REF!","v":{"$error":"#REF!"}},{"$f":"'Horário Geral (Semana 2)'!#REF!","v":{"$error":"#REF!"}},{"$f":"'Horário Geral (Semana 2)'!#REF!","v":{"$error":"#REF!"}},{"$f":"'Horário Geral (Semana 2)'!#REF!","v":{"$error":"#REF!"}},{"$f":"'Horário Geral (Semana 2)'!#REF!","v":{"$error":"#REF!"}},{"$f":"'Horário Geral (Semana 2)'!#REF!","v":{"$error":"#REF!"}},{"$f":"'Horário Geral (Semana 2)'!#REF!","v":{"$error":"#REF!"}},{"$f":"'Horário Geral (Semana 2)'!#REF!","v":{"$error":"#REF!"}},{"$f":"'Horário Geral (Semana 2)'!#REF!","v":{"$error":"#REF!"}},{"$f":"'Horário Geral (Semana 2)'!#REF!","v":{"$error":"#REF!"}},{"$f":"'Horário Geral (Semana 2)'!#REF!","v":{"$error":"#REF!"}},{"$f":"'Horário Geral (Semana 2)'!#REF!","v":{"$error":"#REF!"}},{"$f":"'Horário Geral (Semana 2)'!#REF!","v":{"$error":"#REF!"}},{"$f":"'Horário Geral (Semana 2)'!#REF!","v":{"$error":"#REF!"}},{"$f":"'Horário Geral (Semana 2)'!#REF!","v":{"$error":"#REF!"}},{"$f":"'Horário Geral (Semana 2)'!#REF!","v":{"$error":"#REF!"}},{"$f":"'Horário Geral (Semana 2)'!#REF!","v":{"$error":"#REF!"}},{"$f":"'Horário Geral (Semana 2)'!#REF!","v":{"$error":"#REF!"}},{"$f":"'Horário Geral (Semana 2)'!#REF!","v":{"$error":"#REF!"}},{"$f":"'Horário Geral (Semana 2)'!#REF!","v":{"$error":"#REF!"}},{"$f":"'Horário Geral (Semana 2)'!#REF!","v":{"$error":"#REF!"}},{"$f":"'Horário Geral (Semana 2)'!#REF!","v":{"$error":"#REF!"}},{"$f":"'Horário Geral (Semana 2)'!#REF!","v":{"$error":"#REF!"}},{"$f":"'Horário Geral (Semana 2)'!#REF!","v":{"$error":"#REF!"}},{"$f":"'Horário Geral (Semana 2)'!#REF!","v":{"$error":"#REF!"}},{"$f":"'Horário Geral (Semana 2)'!#REF!","v":{"$error":"#REF!"}},{"$f":"'Horário Geral (Semana 2)'!#REF!","v":{"$error":"#REF!"}},{"$f":"'Horário Geral (Semana 2)'!#REF!","v":{"$error":"#REF!"}},{"$f":"'Horário Geral (Semana 2)'!#REF!","v":{"$error":"#REF!"}},{"$f":"'Horário Geral (Semana 2)'!#REF!","v":{"$error":"#REF!"}},{"$f":"'Horário Geral (Semana 2)'!#REF!","v":{"$error":"#REF!"}},{"$f":"'Horário Geral (Semana 2)'!#REF!","v":{"$error":"#REF!"}},{"$f":"'Horário Geral (Semana 2)'!#REF!","v":{"$error":"#REF!"}},{"$f":"'Horário Geral (Semana 2)'!#REF!","v":{"$error":"#REF!"}},{"$f":"'Horário Geral (Semana 2)'!#REF!","v":{"$error":"#REF!"}},{"$f":"'Horário Geral (Semana 2)'!#REF!","v":{"$error":"#REF!"}},{"$f":"'Horário Geral (Semana 2)'!#REF!","v":{"$error":"#REF!"}},{"$f":"'Horário Geral (Semana 2)'!#REF!","v":{"$error":"#REF!"}},{"$f":"'Horário Geral (Semana 2)'!#REF!","v":{"$error":"#REF!"}},{"$f":"'Horário Geral (Semana 2)'!#REF!","v":{"$error":"#REF!"}},{"$f":"'Horário Geral (Semana 2)'!#REF!","v":{"$error":"#REF!"}},{"$f":"'Horário Geral (Semana 2)'!#REF!","v":{"$error":"#REF!"}},{"$f":"'Horário Geral (Semana 2)'!#REF!","v":{"$error":"#REF!"}},{"$f":"'Horário Geral (Semana 2)'!#REF!","v":{"$error":"#REF!"}},{"$f":"'Horário Geral (Semana 2)'!#REF!","v":{"$error":"#REF!"}},{"$f":"'Horário Geral (Semana 2)'!#REF!","v":{"$error":"#REF!"}},{"$f":"'Horário Geral (Semana 2)'!#REF!","v":{"$error":"#REF!"}}]
[null,"4ª","15:55:00",{"$f":"'Horário Geral (Semana 2)'!#REF!","v":{"$error":"#REF!"}},{"$f":"'Horário Geral (Semana 2)'!#REF!","v":{"$error":"#REF!"}},{"$f":"'Horário Geral (Semana 2)'!#REF!","v":{"$error":"#REF!"}},{"$f":"'Horário Geral (Semana 2)'!#REF!","v":{"$error":"#REF!"}},{"$f":"'Horário Geral (Semana 2)'!#REF!","v":{"$error":"#REF!"}},{"$f":"'Horário Geral (Semana 2)'!#REF!","v":{"$error":"#REF!"}},{"$f":"'Horário Geral (Semana 2)'!#REF!","v":{"$error":"#REF!"}},{"$f":"'Horário Geral (Semana 2)'!#REF!","v":{"$error":"#REF!"}},{"$f":"'Horário Geral (Semana 2)'!#REF!","v":{"$error":"#REF!"}},{"$f":"'Horário Geral (Semana 2)'!#REF!","v":{"$error":"#REF!"}},{"$f":"'Horário Geral (Semana 2)'!#REF!","v":{"$error":"#REF!"}},{"$f":"'Horário Geral (Semana 2)'!#REF!","v":{"$error":"#REF!"}},{"$f":"'Horário Geral (Semana 2)'!#REF!","v":{"$error":"#REF!"}},{"$f":"'Horário Geral (Semana 2)'!#REF!","v":{"$error":"#REF!"}},{"$f":"'Horário Geral (Semana 2)'!#REF!","v":{"$error":"#REF!"}},{"$f":"'Horário Geral (Semana 2)'!#REF!","v":{"$error":"#REF!"}},{"$f":"'Horário Geral (Semana 2)'!#REF!","v":{"$error":"#REF!"}},{"$f":"'Horário Geral (Semana 2)'!#REF!","v":{"$error":"#REF!"}},{"$f":"'Horário Geral (Semana 2)'!#REF!","v":{"$error":"#REF!"}},{"$f":"'Horário Geral (Semana 2)'!#REF!","v":{"$error":"#REF!"}},{"$f":"'Horário Geral (Semana 2)'!#REF!","v":{"$error":"#REF!"}},{"$f":"'Horário Geral (Semana 2)'!#REF!","v":{"$error":"#REF!"}},{"$f":"'Horário Geral (Semana 2)'!#REF!","v":{"$error":"#REF!"}},{"$f":"'Horário Geral (Semana 2)'!#REF!","v":{"$error":"#REF!"}},{"$f":"'Horário Geral (Semana 2)'!#REF!","v":{"$error":"#REF!"}},{"$f":"'Horário Geral (Semana 2)'!#REF!","v":{"$error":"#REF!"}},{"$f":"'Horário Geral (Semana 2)'!#REF!","v":{"$error":"#REF!"}},{"$f":"'Horário Geral (Semana 2)'!#REF!","v":{"$error":"#REF!"}},{"$f":"'Horário Geral (Semana 2)'!#REF!","v":{"$error":"#REF!"}},{"$f":"'Horário Geral (Semana 2)'!#REF!","v":{"$error":"#REF!"}},{"$f":"'Horário Geral (Semana 2)'!#REF!","v":{"$error":"#REF!"}},{"$f":"'Horário Geral (Semana 2)'!#REF!","v":{"$error":"#REF!"}},{"$f":"'Horário Geral (Semana 2)'!#REF!","v":{"$error":"#REF!"}},{"$f":"'Horário Geral (Semana 2)'!#REF!","v":{"$error":"#REF!"}},{"$f":"'Horário Geral (Semana 2)'!#REF!","v":{"$error":"#REF!"}},{"$f":"'Horário Geral (Semana 2)'!#REF!","v":{"$error":"#REF!"}},{"$f":"'Horário Geral (Semana 2)'!#REF!","v":{"$error":"#REF!"}},{"$f":"'Horário Geral (Semana 2)'!#REF!","v":{"$error":"#REF!"}},{"$f":"'Horário Geral (Semana 2)'!#REF!","v":{"$error":"#REF!"}},{"$f":"'Horário Geral (Semana 2)'!#REF!","v":{"$error":"#REF!"}},{"$f":"'Horário Geral (Semana 2)'!#REF!","v":{"$error":"#REF!"}},{"$f":"'Horário Geral (Semana 2)'!#REF!","v":{"$error":"#REF!"}},{"$f":"'Horário Geral (Semana 2)'!#REF!","v":{"$error":"#REF!"}},{"$f":"'Horário Geral (Semana 2)'!#REF!","v":{"$error":"#REF!"}},{"$f":"'Horário Geral (Semana 2)'!#REF!","v":{"$error":"#REF!"}},{"$f":"'Horário Geral (Semana 2)'!#REF!","v":{"$error":"#REF!"}},{"$f":"'Horário Geral (Semana 2)'!#REF!","v":{"$error":"#REF!"}},{"$f":"'Horário Geral (Semana 2)'!#REF!","v":{"$error":"#REF!"}},{"$f":"'Horário Geral (Semana 2)'!#REF!","v":{"$error":"#REF!"}},{"$f":"'Horário Geral (Semana 2)'!#REF!","v":{"$error":"#REF!"}},{"$f":"'Horário Geral (Semana 2)'!#REF!","v":{"$error":"#REF!"}},{"$f":"'Horário Geral (Semana 2)'!#REF!","v":{"$error":"#REF!"}},{"$f":"'Horário Geral (Semana 2)'!#REF!","v":{"$error":"#REF!"}},{"$f":"'Horário Geral (Semana 2)'!#REF!","v":{"$error":"#REF!"}},{"$f":"'Horário Geral (Semana 2)'!#REF!","v":{"$error":"#REF!"}},{"$f":"'Horário Geral (Semana 2)'!#REF!","v":{"$error":"#REF!"}},{"$f":"'Horário Geral (Semana 2)'!#REF!","v":{"$error":"#REF!"}},{"$f":"'Horário Geral (Semana 2)'!#REF!","v":{"$error":"#REF!"}},{"$f":"'Horário Geral (Semana 2)'!#REF!","v":{"$error":"#REF!"}},{"$f":"'Horário Geral (Semana 2)'!#REF!","v":{"$error":"#REF!"}},{"$f":"'Horário Geral (Semana 2)'!#REF!","v":{"$error":"#REF!"}},{"$f":"'Horário Geral (Semana 2)'!#REF!","v":{"$error":"#REF!"}},{"$f":"'Horário Geral (Semana 2)'!#REF!","v":{"$error":"#REF!"}},{"$f":"'Horário Geral (Semana 2)'!#REF!","v":{"$error":"#REF!"}},{"$f":"'Horário Geral (Semana 2)'!#REF!","v":{"$error":"#REF!"}},{"$f":"'Horário Geral (Semana 2)'!#REF!","v":{"$error":"#REF!"}},{"$f":"'Horário Geral (Semana 2)'!#REF!","v":{"$error":"#REF!"}}]
[null,"5ª","16:45:00",{"$f":"'Horário Geral (Semana 2)'!#REF!","v":{"$error":"#REF!"}},{"$f":"'Horário Geral (Semana 2)'!#REF!","v":{"$error":"#REF!"}},{"$f":"'Horário Geral (Semana 2)'!#REF!","v":{"$error":"#REF!"}},{"$f":"'Horário Geral (Semana 2)'!#REF!","v":{"$error":"#REF!"}},{"$f":"'Horário Geral (Semana 2)'!#REF!","v":{"$error":"#REF!"}},{"$f":"'Horário Geral (Semana 2)'!#REF!","v":{"$error":"#REF!"}},{"$f":"'Horário Geral (Semana 2)'!#REF!","v":{"$error":"#REF!"}},{"$f":"'Horário Geral (Semana 2)'!#REF!","v":{"$error":"#REF!"}},{"$f":"'Horário Geral (Semana 2)'!#REF!","v":{"$error":"#REF!"}},{"$f":"'Horário Geral (Semana 2)'!#REF!","v":{"$error":"#REF!"}},{"$f":"'Horário Geral (Semana 2)'!#REF!","v":{"$error":"#REF!"}},{"$f":"'Horário Geral (Semana 2)'!#REF!","v":{"$error":"#REF!"}},{"$f":"'Horário Geral (Semana 2)'!#REF!","v":{"$error":"#REF!"}},{"$f":"'Horário Geral (Semana 2)'!#REF!","v":{"$error":"#REF!"}},{"$f":"'Horário Geral (Semana 2)'!#REF!","v":{"$error":"#REF!"}},{"$f":"'Horário Geral (Semana 2)'!#REF!","v":{"$error":"#REF!"}},{"$f":"'Horário Geral (Semana 2)'!#REF!","v":{"$error":"#REF!"}},{"$f":"'Horário Geral (Semana 2)'!#REF!","v":{"$error":"#REF!"}},{"$f":"'Horário Geral (Semana 2)'!#REF!","v":{"$error":"#REF!"}},{"$f":"'Horário Geral (Semana 2)'!#REF!","v":{"$error":"#REF!"}},{"$f":"'Horário Geral (Semana 2)'!#REF!","v":{"$error":"#REF!"}},{"$f":"'Horário Geral (Semana 2)'!#REF!","v":{"$error":"#REF!"}},{"$f":"'Horário Geral (Semana 2)'!#REF!","v":{"$error":"#REF!"}},{"$f":"'Horário Geral (Semana 2)'!#REF!","v":{"$error":"#REF!"}},{"$f":"'Horário Geral (Semana 2)'!#REF!","v":{"$error":"#REF!"}},{"$f":"'Horário Geral (Semana 2)'!#REF!","v":{"$error":"#REF!"}},{"$f":"'Horário Geral (Semana 2)'!#REF!","v":{"$error":"#REF!"}},{"$f":"'Horário Geral (Semana 2)'!#REF!","v":{"$error":"#REF!"}},{"$f":"'Horário Geral (Semana 2)'!#REF!","v":{"$error":"#REF!"}},{"$f":"'Horário Geral (Semana 2)'!#REF!","v":{"$error":"#REF!"}},{"$f":"'Horário Geral (Semana 2)'!#REF!","v":{"$error":"#REF!"}},{"$f":"'Horário Geral (Semana 2)'!#REF!","v":{"$error":"#REF!"}},{"$f":"'Horário Geral (Semana 2)'!#REF!","v":{"$error":"#REF!"}},{"$f":"'Horário Geral (Semana 2)'!#REF!","v":{"$error":"#REF!"}},{"$f":"'Horário Geral (Semana 2)'!#REF!","v":{"$error":"#REF!"}},{"$f":"'Horário Geral (Semana 2)'!#REF!","v":{"$error":"#REF!"}},{"$f":"'Horário Geral (Semana 2)'!#REF!","v":{"$error":"#REF!"}},{"$f":"'Horário Geral (Semana 2)'!#REF!","v":{"$error":"#REF!"}},{"$f":"'Horário Geral (Semana 2)'!#REF!","v":{"$error":"#REF!"}},{"$f":"'Horário Geral (Semana 2)'!#REF!","v":{"$error":"#REF!"}},{"$f":"'Horário Geral (Semana 2)'!#REF!","v":{"$error":"#REF!"}},{"$f":"'Horário Geral (Semana 2)'!#REF!","v":{"$error":"#REF!"}},{"$f":"'Horário Geral (Semana 2)'!#REF!","v":{"$error":"#REF!"}},{"$f":"'Horário Geral (Semana 2)'!#REF!","v":{"$error":"#REF!"}},{"$f":"'Horário Geral (Semana 2)'!#REF!","v":{"$error":"#REF!"}},{"$f":"'Horário Geral (Semana 2)'!#REF!","v":{"$error":"#REF!"}},{"$f":"'Horário Geral (Semana 2)'!#REF!","v":{"$error":"#REF!"}},{"$f":"'Horário Geral (Semana 2)'!#REF!","v":{"$error":"#REF!"}},{"$f":"'Horário Geral (Semana 2)'!#REF!","v":{"$error":"#REF!"}},{"$f":"'Horário Geral (Semana 2)'!#REF!","v":{"$error":"#REF!"}},{"$f":"'Horário Geral (Semana 2)'!#REF!","v":{"$error":"#REF!"}},{"$f":"'Horário Geral (Semana 2)'!#REF!","v":{"$error":"#REF!"}},{"$f":"'Horário Geral (Semana 2)'!#REF!","v":{"$error":"#REF!"}},{"$f":"'Horário Geral (Semana 2)'!#REF!","v":{"$error":"#REF!"}},{"$f":"'Horário Geral (Semana 2)'!#REF!","v":{"$error":"#REF!"}},{"$f":"'Horário Geral (Semana 2)'!#REF!","v":{"$error":"#REF!"}},{"$f":"'Horário Geral (Semana 2)'!#REF!","v":{"$error":"#REF!"}},{"$f":"'Horário Geral (Semana 2)'!#REF!","v":{"$error":"#REF!"}},{"$f":"'Horário Geral (Semana 2)'!#REF!","v":{"$error":"#REF!"}},{"$f":"'Horário Geral (Semana 2)'!#REF!","v":{"$error":"#REF!"}},{"$f":"'Horário Geral (Semana 2)'!#REF!","v":{"$error":"#REF!"}},{"$f":"'Horário Geral (Semana 2)'!#REF!","v":{"$error":"#REF!"}},{"$f":"'Horário Geral (Semana 2)'!#REF!","v":{"$error":"#REF!"}},{"$f":"'Horário Geral (Semana 2)'!#REF!","v":{"$error":"#REF!"}},{"$f":"'Horário Geral (Semana 2)'!#REF!","v":{"$error":"#REF!"}},{"$f":"'Horário Geral (Semana 2)'!#REF!","v":{"$error":"#REF!"}},{"$f":"'Horário Geral (Semana 2)'!#REF!","v":{"$error":"#REF!"}}]
[null,null,null,{"$f":"'Horário Geral (Semana 2)'!#REF!","v":{"$error":"#REF!"}},{"$f":"'Horário Geral (Semana 2)'!#REF!","v":{"$error":"#REF!"}},{"$f":"'Horário Geral (Semana 2)'!#REF!","v":{"$error":"#REF!"}},{"$f":"'Horário Geral (Semana 2)'!#REF!","v":{"$error":"#REF!"}},{"$f":"'Horário Geral (Semana 2)'!#REF!","v":{"$error":"#REF!"}},{"$f":"'Horário Geral (Semana 2)'!#REF!","v":{"$error":"#REF!"}},{"$f":"'Horário Geral (Semana 2)'!#REF!","v":{"$error":"#REF!"}},{"$f":"'Horário Geral (Semana 2)'!#REF!","v":{"$error":"#REF!"}},{"$f":"'Horário Geral (Semana 2)'!#REF!","v":{"$error":"#REF!"}},{"$f":"'Horário Geral (Semana 2)'!#REF!","v":{"$error":"#REF!"}},{"$f":"'Horário Geral (Semana 2)'!#REF!","v":{"$error":"#REF!"}},{"$f":"'Horário Geral (Semana 2)'!#REF!","v":{"$error":"#REF!"}},{"$f":"'Horário Geral (Semana 2)'!#REF!","v":{"$error":"#REF!"}},{"$f":"'Horário Geral (Semana 2)'!#REF!","v":{"$error":"#REF!"}},{"$f":"'Horário Geral (Semana 2)'!#REF!","v":{"$error":"#REF!"}},{"$f":"'Horário Geral (Semana 2)'!#REF!","v":{"$error":"#REF!"}},{"$f":"'Horário Geral (Semana 2)'!#REF!","v":{"$error":"#REF!"}},{"$f":"'Horário Geral (Semana 2)'!#REF!","v":{"$error":"#REF!"}},{"$f":"'Horário Geral (Semana 2)'!#REF!","v":{"$error":"#REF!"}},{"$f":"'Horário Geral (Semana 2)'!#REF!","v":{"$error":"#REF!"}},{"$f":"'Horário Geral (Semana 2)'!#REF!","v":{"$error":"#REF!"}},{"$f":"'Horário Geral (Semana 2)'!#REF!","v":{"$error":"#REF!"}},{"$f":"'Horário Geral (Semana 2)'!#REF!","v":{"$error":"#REF!"}},{"$f":"'Horário Geral (Semana 2)'!#REF!","v":{"$error":"#REF!"}},{"$f":"'Horário Geral (Semana 2)'!#REF!","v":{"$error":"#REF!"}},{"$f":"'Horário Geral (Semana 2)'!#REF!","v":{"$error":"#REF!"}},{"$f":"'Horário Geral (Semana 2)'!#REF!","v":{"$error":"#REF!"}},{"$f":"'Horário Geral (Semana 2)'!#REF!","v":{"$error":"#REF!"}},{"$f":"'Horário Geral (Semana 2)'!#REF!","v":{"$error":"#REF!"}},{"$f":"'Horário Geral (Semana 2)'!#REF!","v":{"$error":"#REF!"}},{"$f":"'Horário Geral (Semana 2)'!#REF!","v":{"$error":"#REF!"}},{"$f":"'Horário Geral (Semana 2)'!#REF!","v":{"$error":"#REF!"}},{"$f":"'Horário Geral (Semana 2)'!#REF!","v":{"$error":"#REF!"}},{"$f":"'Horário Geral (Semana 2)'!#REF!","v":{"$error":"#REF!"}},{"$f":"'Horário Geral (Semana 2)'!#REF!","v":{"$error":"#REF!"}},{"$f":"'Horário Geral (Semana 2)'!#REF!","v":{"$error":"#REF!"}},{"$f":"'Horário Geral (Semana 2)'!#REF!","v":{"$error":"#REF!"}},{"$f":"'Horário Geral (Semana 2)'!#REF!","v":{"$error":"#REF!"}},{"$f":"'Horário Geral (Semana 2)'!#REF!","v":{"$error":"#REF!"}},{"$f":"'Horário Geral (Semana 2)'!#REF!","v":{"$error":"#REF!"}},{"$f":"'Horário Geral (Semana 2)'!#REF!","v":{"$error":"#REF!"}},{"$f":"'Horário Geral (Semana 2)'!#REF!","v":{"$error":"#REF!"}},{"$f":"'Horário Geral (Semana 2)'!#REF!","v":{"$error":"#REF!"}},{"$f":"'Horário Geral (Semana 2)'!#REF!","v":{"$error":"#REF!"}},{"$f":"'Horário Geral (Semana 2)'!#REF!","v":{"$error":"#REF!"}},{"$f":"'Horário Geral (Semana 2)'!#REF!","v":{"$error":"#REF!"}},{"$f":"'Horário Geral (Semana 2)'!#REF!","v":{"$error":"#REF!"}},{"$f":"'Horário Geral (Semana 2)'!#REF!","v":{"$error":"#REF!"}},{"$f":"'Horário Geral (Semana 2)'!#REF!","v":{"$error":"#REF!"}},{"$f":"'Horário Geral (Semana 2)'!#REF!","v":{"$error":"#REF!"}},{"$f":"'Horário Geral (Semana 2)'!#REF!","v":{"$error":"#REF!"}},{"$f":"'Horário Geral (Semana 2)'!#REF!","v":{"$error":"#REF!"}},{"$f":"'Horário Geral (Semana 2)'!#REF!","v":{"$error":"#REF!"}},{"$f":"'Horário Geral (Semana 2)'!#REF!","v":{"$error":"#REF!"}},{"$f":"'Horário Geral (Semana 2)'!#REF!","v":{"$error":"#REF!"}},{"$f":"'Horário Geral (Semana 2)'!#REF!","v":{"$error":"#REF!"}},{"$f":"'Horário Geral (Semana 2)'!#REF!","v":{"$error":"#REF!"}},{"$f":"'Horário Geral (Semana 2)'!#REF!","v":{"$error":"#REF!"}},{"$f":"'Horário Geral (Semana 2)'!#REF!","v":{"$error":"#REF!"}},{"$f":"'Horário Geral (Semana 2)'!#REF!","v":{"$error":"#REF!"}},{"$f":"'Horário Geral (Semana 2)'!#REF!","v":{"$error":"#REF!"}},{"$f":"'Horário Geral (Semana 2)'!#REF!","v":{"$error":"#REF!"}},{"$f":"'Horário Geral (Semana 2)'!#REF!","v":{"$error":"#REF!"}},{"$f":"'Horário Geral (Semana 2)'!#REF!","v":{"$error":"#REF!"}},{"$f":"'Horário Geral (Semana 2)'!#REF!","v":{"$error":"#REF!"}},{"$f":"'Horário Geral (Semana 2)'!#REF!","v":{"$error":"#REF!"}},{"$f":"'Horário Geral (Semana 2)'!#REF!","v":{"$error":"#REF!"}}]
["QUI","1ª","13:10:00",{"$f":"'Horário Geral (Semana 2)'!#REF!","v":{"$error":"#REF!"}},{"$f":"'Horário Geral (Semana 2)'!#REF!","v":{"$error":"#REF!"}},{"$f":"'Horário Geral (Semana 2)'!#REF!","v":{"$error":"#REF!"}},{"$f":"'Horário Geral (Semana 2)'!#REF!","v":{"$error":"#REF!"}},{"$f":"'Horário Geral (Semana 2)'!#REF!","v":{"$error":"#REF!"}},{"$f":"'Horário Geral (Semana 2)'!#REF!","v":{"$error":"#REF!"}},{"$f":"'Horário Geral (Semana 2)'!#REF!","v":{"$error":"#REF!"}},{"$f":"'Horário Geral (Semana 2)'!#REF!","v":{"$error":"#REF!"}},{"$f":"'Horário Geral (Semana 2)'!#REF!","v":{"$error":"#REF!"}},{"$f":"'Horário Geral (Semana 2)'!#REF!","v":{"$error":"#REF!"}},{"$f":"'Horário Geral (Semana 2)'!#REF!","v":{"$error":"#REF!"}},{"$f":"'Horário Geral (Semana 2)'!#REF!","v":{"$error":"#REF!"}},{"$f":"'Horário Geral (Semana 2)'!#REF!","v":{"$error":"#REF!"}},{"$f":"'Horário Geral (Semana 2)'!#REF!","v":{"$error":"#REF!"}},{"$f":"'Horário Geral (Semana 2)'!#REF!","v":{"$error":"#REF!"}},{"$f":"'Horário Geral (Semana 2)'!#REF!","v":{"$error":"#REF!"}},{"$f":"'Horário Geral (Semana 2)'!#REF!","v":{"$error":"#REF!"}},{"$f":"'Horário Geral (Semana 2)'!#REF!","v":{"$error":"#REF!"}},{"$f":"'Horário Geral (Semana 2)'!#REF!","v":{"$error":"#REF!"}},{"$f":"'Horário Geral (Semana 2)'!#REF!","v":{"$error":"#REF!"}},{"$f":"'Horário Geral (Semana 2)'!#REF!","v":{"$error":"#REF!"}},{"$f":"'Horário Geral (Semana 2)'!#REF!","v":{"$error":"#REF!"}},{"$f":"'Horário Geral (Semana 2)'!#REF!","v":{"$error":"#REF!"}},{"$f":"'Horário Geral (Semana 2)'!#REF!","v":{"$error":"#REF!"}},{"$f":"'Horário Geral (Semana 2)'!#REF!","v":{"$error":"#REF!"}},{"$f":"'Horário Geral (Semana 2)'!#REF!","v":{"$error":"#REF!"}},{"$f":"'Horário Geral (Semana 2)'!#REF!","v":{"$error":"#REF!"}},{"$f":"'Horário Geral (Semana 2)'!#REF!","v":{"$error":"#REF!"}},{"$f":"'Horário Geral (Semana 2)'!#REF!","v":{"$error":"#REF!"}},{"$f":"'Horário Geral (Semana 2)'!#REF!","v":{"$error":"#REF!"}},{"$f":"'Horário Geral (Semana 2)'!#REF!","v":{"$error":"#REF!"}},{"$f":"'Horário Geral (Semana 2)'!#REF!","v":{"$error":"#REF!"}},{"$f":"'Horário Geral (Semana 2)'!#REF!","v":{"$error":"#REF!"}},{"$f":"'Horário Geral (Semana 2)'!#REF!","v":{"$error":"#REF!"}},{"$f":"'Horário Geral (Semana 2)'!#REF!","v":{"$error":"#REF!"}},{"$f":"'Horário Geral (Semana 2)'!#REF!","v":{"$error":"#REF!"}},{"$f":"'Horário Geral (Semana 2)'!#REF!","v":{"$error":"#REF!"}},{"$f":"'Horário Geral (Semana 2)'!#REF!","v":{"$error":"#REF!"}},{"$f":"'Horário Geral (Semana 2)'!#REF!","v":{"$error":"#REF!"}},{"$f":"'Horário Geral (Semana 2)'!#REF!","v":{"$error":"#REF!"}},{"$f":"'Horário Geral (Semana 2)'!#REF!","v":{"$error":"#REF!"}},{"$f":"'Horário Geral (Semana 2)'!#REF!","v":{"$error":"#REF!"}},{"$f":"'Horário Geral (Semana 2)'!#REF!","v":{"$error":"#REF!"}},{"$f":"'Horário Geral (Semana 2)'!#REF!","v":{"$error":"#REF!"}},{"$f":"'Horário Geral (Semana 2)'!#REF!","v":{"$error":"#REF!"}},{"$f":"'Horário Geral (Semana 2)'!#REF!","v":{"$error":"#REF!"}},{"$f":"'Horário Geral (Semana 2)'!#REF!","v":{"$error":"#REF!"}},{"$f":"'Horário Geral (Semana 2)'!#REF!","v":{"$error":"#REF!"}},{"$f":"'Horário Geral (Semana 2)'!#REF!","v":{"$error":"#REF!"}},{"$f":"'Horário Geral (Semana 2)'!#REF!","v":{"$error":"#REF!"}},{"$f":"'Horário Geral (Semana 2)'!#REF!","v":{"$error":"#REF!"}},{"$f":"'Horário Geral (Semana 2)'!#REF!","v":{"$error":"#REF!"}},{"$f":"'Horário Geral (Semana 2)'!#REF!","v":{"$error":"#REF!"}},{"$f":"'Horário Geral (Semana 2)'!#REF!","v":{"$error":"#REF!"}},{"$f":"'Horário Geral (Semana 2)'!#REF!","v":{"$error":"#REF!"}},{"$f":"'Horário Geral (Semana 2)'!#REF!","v":{"$error":"#REF!"}},{"$f":"'Horário Geral (Semana 2)'!#REF!","v":{"$error":"#REF!"}},{"$f":"'Horário Geral (Semana 2)'!#REF!","v":{"$error":"#REF!"}},{"$f":"'Horário Geral (Semana 2)'!#REF!","v":{"$error":"#REF!"}},{"$f":"'Horário Geral (Semana 2)'!#REF!","v":{"$error":"#REF!"}},{"$f":"'Horário Geral (Semana 2)'!#REF!","v":{"$error":"#REF!"}},{"$f":"'Horário Geral (Semana 2)'!#REF!","v":{"$error":"#REF!"}},{"$f":"'Horário Geral (Semana 2)'!#REF!","v":{"$error":"#REF!"}},{"$f":"'Horário Geral (Semana 2)'!#REF!","v":{"$error":"#REF!"}},{"$f":"'Horário Geral (Semana 2)'!#REF!","v":{"$error":"#REF!"}},{"$f":"'Horário Geral (Semana 2)'!#REF!","v":{"$error":"#REF!"}},{"$f":"'Horário Geral (Semana 2)'!#REF!","v":{"$error":"#REF!"}}]
[null,"2ª","13:55:00",{"$f":"'Horário Geral (Semana 2)'!#REF!","v":{"$error":"#REF!"}},{"$f":"'Horário Geral (Semana 2)'!#REF!","v":{"$error":"#REF!"}},{"$f":"'Horário Geral (Semana 2)'!#REF!","v":{"$error":"#REF!"}},{"$f":"'Horário Geral (Semana 2)'!#REF!","v":{"$error":"#REF!"}},{"$f":"'Horário Geral (Semana 2)'!#REF!","v":{"$error":"#REF!"}},{"$f":"'Horário Geral (Semana 2)'!#REF!","v":{"$error":"#REF!"}},{"$f":"'Horário Geral (Semana 2)'!#REF!","v":{"$error":"#REF!"}},{"$f":"'Horário Geral (Semana 2)'!#REF!","v":{"$error":"#REF!"}},{"$f":"'Horário Geral (Semana 2)'!#REF!","v":{"$error":"#REF!"}},{"$f":"'Horário Geral (Semana 2)'!#REF!","v":{"$error":"#REF!"}},{"$f":"'Horário Geral (Semana 2)'!#REF!","v":{"$error":"#REF!"}},{"$f":"'Horário Geral (Semana 2)'!#REF!","v":{"$error":"#REF!"}},{"$f":"'Horário Geral (Semana 2)'!#REF!","v":{"$error":"#REF!"}},{"$f":"'Horário Geral (Semana 2)'!#REF!","v":{"$error":"#REF!"}},{"$f":"'Horário Geral (Semana 2)'!#REF!","v":{"$error":"#REF!"}},{"$f":"'Horário Geral (Semana 2)'!#REF!","v":{"$error":"#REF!"}},{"$f":"'Horário Geral (Semana 2)'!#REF!","v":{"$error":"#REF!"}},{"$f":"'Horário Geral (Semana 2)'!#REF!","v":{"$error":"#REF!"}},{"$f":"'Horário Geral (Semana 2)'!#REF!","v":{"$error":"#REF!"}},{"$f":"'Horário Geral (Semana 2)'!#REF!","v":{"$error":"#REF!"}},{"$f":"'Horário Geral (Semana 2)'!#REF!","v":{"$error":"#REF!"}},{"$f":"'Horário Geral (Semana 2)'!#REF!","v":{"$error":"#REF!"}},{"$f":"'Horário Geral (Semana 2)'!#REF!","v":{"$error":"#REF!"}},{"$f":"'Horário Geral (Semana 2)'!#REF!","v":{"$error":"#REF!"}},{"$f":"'Horário Geral (Semana 2)'!#REF!","v":{"$error":"#REF!"}},{"$f":"'Horário Geral (Semana 2)'!#REF!","v":{"$error":"#REF!"}},{"$f":"'Horário Geral (Semana 2)'!#REF!","v":{"$error":"#REF!"}},{"$f":"'Horário Geral (Semana 2)'!#REF!","v":{"$error":"#REF!"}},{"$f":"'Horário Geral (Semana 2)'!#REF!","v":{"$error":"#REF!"}},{"$f":"'Horário Geral (Semana 2)'!#REF!","v":{"$error":"#REF!"}},{"$f":"'Horário Geral (Semana 2)'!#REF!","v":{"$error":"#REF!"}},{"$f":"'Horário Geral (Semana 2)'!#REF!","v":{"$error":"#REF!"}},{"$f":"'Horário Geral (Semana 2)'!#REF!","v":{"$error":"#REF!"}},{"$f":"'Horário Geral (Semana 2)'!#REF!","v":{"$error":"#REF!"}},{"$f":"'Horário Geral (Semana 2)'!#REF!","v":{"$error":"#REF!"}},{"$f":"'Horário Geral (Semana 2)'!#REF!","v":{"$error":"#REF!"}},{"$f":"'Horário Geral (Semana 2)'!#REF!","v":{"$error":"#REF!"}},{"$f":"'Horário Geral (Semana 2)'!#REF!","v":{"$error":"#REF!"}},{"$f":"'Horário Geral (Semana 2)'!#REF!","v":{"$error":"#REF!"}},{"$f":"'Horário Geral (Semana 2)'!#REF!","v":{"$error":"#REF!"}},{"$f":"'Horário Geral (Semana 2)'!#REF!","v":{"$error":"#REF!"}},{"$f":"'Horário Geral (Semana 2)'!#REF!","v":{"$error":"#REF!"}},{"$f":"'Horário Geral (Semana 2)'!#REF!","v":{"$error":"#REF!"}},{"$f":"'Horário Geral (Semana 2)'!#REF!","v":{"$error":"#REF!"}},{"$f":"'Horário Geral (Semana 2)'!#REF!","v":{"$error":"#REF!"}},{"$f":"'Horário Geral (Semana 2)'!#REF!","v":{"$error":"#REF!"}},{"$f":"'Horário Geral (Semana 2)'!#REF!","v":{"$error":"#REF!"}},{"$f":"'Horário Geral (Semana 2)'!#REF!","v":{"$error":"#REF!"}},{"$f":"'Horário Geral (Semana 2)'!#REF!","v":{"$error":"#REF!"}},{"$f":"'Horário Geral (Semana 2)'!#REF!","v":{"$error":"#REF!"}},{"$f":"'Horário Geral (Semana 2)'!#REF!","v":{"$error":"#REF!"}},{"$f":"'Horário Geral (Semana 2)'!#REF!","v":{"$error":"#REF!"}},{"$f":"'Horário Geral (Semana 2)'!#REF!","v":{"$error":"#REF!"}},{"$f":"'Horário Geral (Semana 2)'!#REF!","v":{"$error":"#REF!"}},{"$f":"'Horário Geral (Semana 2)'!#REF!","v":{"$error":"#REF!"}},{"$f":"'Horário Geral (Semana 2)'!#REF!","v":{"$error":"#REF!"}},{"$f":"'Horário Geral (Semana 2)'!#REF!","v":{"$error":"#REF!"}},{"$f":"'Horário Geral (Semana 2)'!#REF!","v":{"$error":"#REF!"}},{"$f":"'Horário Geral (Semana 2)'!#REF!","v":{"$error":"#REF!"}},{"$f":"'Horário Geral (Semana 2)'!#REF!","v":{"$error":"#REF!"}},{"$f":"'Horário Geral (Semana 2)'!#REF!","v":{"$error":"#REF!"}},{"$f":"'Horário Geral (Semana 2)'!#REF!","v":{"$error":"#REF!"}},{"$f":"'Horário Geral (Semana 2)'!#REF!","v":{"$error":"#REF!"}},{"$f":"'Horário Geral (Semana 2)'!#REF!","v":{"$error":"#REF!"}},{"$f":"'Horário Geral (Semana 2)'!#REF!","v":{"$error":"#REF!"}},{"$f":"'Horário Geral (Semana 2)'!#REF!","v":{"$error":"#REF!"}},{"$f":"'Horário Geral (Semana 2)'!#REF!","v":{"$error":"#REF!"}}]
[null,"3ª","14:40:00",{"$f":"'Horário Geral (Semana 2)'!#REF!","v":{"$error":"#REF!"}},{"$f":"'Horário Geral (Semana 2)'!#REF!","v":{"$error":"#REF!"}},{"$f":"'Horário Geral (Semana 2)'!#REF!","v":{"$error":"#REF!"}},{"$f":"'Horário Geral (Semana 2)'!#REF!","v":{"$error":"#REF!"}},{"$f":"'Horário Geral (Semana 2)'!#REF!","v":{"$error":"#REF!"}},{"$f":"'Horário Geral (Semana 2)'!#REF!","v":{"$error":"#REF!"}},{"$f":"'Horário Geral (Semana 2)'!#REF!","v":{"$error":"#REF!"}},{"$f":"'Horário Geral (Semana 2)'!#REF!","v":{"$error":"#REF!"}},{"$f":"'Horário Geral (Semana 2)'!#REF!","v":{"$error":"#REF!"}},{"$f":"'Horário Geral (Semana 2)'!#REF!","v":{"$error":"#REF!"}},{"$f":"'Horário Geral (Semana 2)'!#REF!","v":{"$error":"#REF!"}},{"$f":"'Horário Geral (Semana 2)'!#REF!","v":{"$error":"#REF!"}},{"$f":"'Horário Geral (Semana 2)'!#REF!","v":{"$error":"#REF!"}},{"$f":"'Horário Geral (Semana 2)'!#REF!","v":{"$error":"#REF!"}},{"$f":"'Horário Geral (Semana 2)'!#REF!","v":{"$error":"#REF!"}},{"$f":"'Horário Geral (Semana 2)'!#REF!","v":{"$error":"#REF!"}},{"$f":"'Horário Geral (Semana 2)'!#REF!","v":{"$error":"#REF!"}},{"$f":"'Horário Geral (Semana 2)'!#REF!","v":{"$error":"#REF!"}},{"$f":"'Horário Geral (Semana 2)'!#REF!","v":{"$error":"#REF!"}},{"$f":"'Horário Geral (Semana 2)'!#REF!","v":{"$error":"#REF!"}},{"$f":"'Horário Geral (Semana 2)'!#REF!","v":{"$error":"#REF!"}},{"$f":"'Horário Geral (Semana 2)'!#REF!","v":{"$error":"#REF!"}},{"$f":"'Horário Geral (Semana 2)'!#REF!","v":{"$error":"#REF!"}},{"$f":"'Horário Geral (Semana 2)'!#REF!","v":{"$error":"#REF!"}},{"$f":"'Horário Geral (Semana 2)'!#REF!","v":{"$error":"#REF!"}},{"$f":"'Horário Geral (Semana 2)'!#REF!","v":{"$error":"#REF!"}},{"$f":"'Horário Geral (Semana 2)'!#REF!","v":{"$error":"#REF!"}},{"$f":"'Horário Geral (Semana 2)'!#REF!","v":{"$error":"#REF!"}},{"$f":"'Horário Geral (Semana 2)'!#REF!","v":{"$error":"#REF!"}},{"$f":"'Horário Geral (Semana 2)'!#REF!","v":{"$error":"#REF!"}},{"$f":"'Horário Geral (Semana 2)'!#REF!","v":{"$error":"#REF!"}},{"$f":"'Horário Geral (Semana 2)'!#REF!","v":{"$error":"#REF!"}},{"$f":"'Horário Geral (Semana 2)'!#REF!","v":{"$error":"#REF!"}},{"$f":"'Horário Geral (Semana 2)'!#REF!","v":{"$error":"#REF!"}},{"$f":"'Horário Geral (Semana 2)'!#REF!","v":{"$error":"#REF!"}},{"$f":"'Horário Geral (Semana 2)'!#REF!","v":{"$error":"#REF!"}},{"$f":"'Horário Geral (Semana 2)'!#REF!","v":{"$error":"#REF!"}},{"$f":"'Horário Geral (Semana 2)'!#REF!","v":{"$error":"#REF!"}},{"$f":"'Horário Geral (Semana 2)'!#REF!","v":{"$error":"#REF!"}},{"$f":"'Horário Geral (Semana 2)'!#REF!","v":{"$error":"#REF!"}},{"$f":"'Horário Geral (Semana 2)'!#REF!","v":{"$error":"#REF!"}},{"$f":"'Horário Geral (Semana 2)'!#REF!","v":{"$error":"#REF!"}},{"$f":"'Horário Geral (Semana 2)'!#REF!","v":{"$error":"#REF!"}},{"$f":"'Horário Geral (Semana 2)'!#REF!","v":{"$error":"#REF!"}},{"$f":"'Horário Geral (Semana 2)'!#REF!","v":{"$error":"#REF!"}},{"$f":"'Horário Geral (Semana 2)'!#REF!","v":{"$error":"#REF!"}},{"$f":"'Horário Geral (Semana 2)'!#REF!","v":{"$error":"#REF!"}},{"$f":"'Horário Geral (Semana 2)'!#REF!","v":{"$error":"#REF!"}},{"$f":"'Horário Geral (Semana 2)'!#REF!","v":{"$error":"#REF!"}},{"$f":"'Horário Geral (Semana 2)'!#REF!","v":{"$error":"#REF!"}},{"$f":"'Horário Geral (Semana 2)'!#REF!","v":{"$error":"#REF!"}},{"$f":"'Horário Geral (Semana 2)'!#REF!","v":{"$error":"#REF!"}},{"$f":"'Horário Geral (Semana 2)'!#REF!","v":{"$error":"#REF!"}},{"$f":"'Horário Geral (Semana 2)'!#REF!","v":{"$error":"#REF!"}},{"$f":"'Horário Geral (Semana 2)'!#REF!","v":{"$error":"#REF!"}},{"$f":"'Horário Geral (Semana 2)'!#REF!","v":{"$error":"#REF!"}},{"$f":"'Horário Geral (Semana 2)'!#REF!","v":{"$error":"#REF!"}},{"$f":"'Horário Geral (Semana 2)'!#REF!","v":{"$error":"#REF!"}},{"$f":"'Horário Geral (Semana 2)'!#REF!","v":{"$error":"#REF!"}},{"$f":"'Horário Geral (Semana 2)'!#REF!","v":{"$error":"#REF!"}},{"$f":"'Horário Geral (Semana 2)'!#REF!","v":{"$error":"#REF!"}},{"$f":"'Horário Geral (Semana 2)'!#REF!","v":{"$error":"#REF!"}},{"$f":"'Horário Geral (Semana 2)'!#REF!","v":{"$error":"#REF!"}},{"$f":"'Horário Geral (Semana 2)'!#REF!","v":{"$error":"#REF!"}},{"$f":"'Horário Geral (Semana 2)'!#REF!","v":{"$error":"#REF!"}},{"$f":"'Horário Geral (Semana 2)'!#REF!","v":{"$error":"#REF!"}},{"$f":"'Horário Geral (Semana 2)'!#REF!","v":{"$error":"#REF!"}}]
[null,"4ª","15:40:00",{"$f":"'Horário Geral (Semana 2)'!#REF!","v":{"$error":"#REF!"}},{"$f":"'Horário Geral (Semana 2)'!#REF!","v":{"$error":"#REF!"}},{"$f":"'Horário Geral (Semana 2)'!#REF!","v":{"$error":"#REF!"}},{"$f":"'Horário Geral (Semana 2)'!#REF!","v":{"$error":"#REF!"}},{"$f":"'Horário Geral (Semana 2)'!#REF!","v":{"$error":"#REF!"}},{"$f":"'Horário Geral (Semana 2)'!#REF!","v":{"$error":"#REF!"}},{"$f":"'Horário Geral (Semana 2)'!#REF!","v":{"$error":"#REF!"}},{"$f":"'Horário Geral (Semana 2)'!#REF!","v":{"$error":"#REF!"}},{"$f":"'Horário Geral (Semana 2)'!#REF!","v":{"$error":"#REF!"}},{"$f":"'Horário Geral (Semana 2)'!#REF!","v":{"$error":"#REF!"}},{"$f":"'Horário Geral (Semana 2)'!#REF!","v":{"$error":"#REF!"}},{"$f":"'Horário Geral (Semana 2)'!#REF!","v":{"$error":"#REF!"}},{"$f":"'Horário Geral (Semana 2)'!#REF!","v":{"$error":"#REF!"}},{"$f":"'Horário Geral (Semana 2)'!#REF!","v":{"$error":"#REF!"}},{"$f":"'Horário Geral (Semana 2)'!#REF!","v":{"$error":"#REF!"}},{"$f":"'Horário Geral (Semana 2)'!#REF!","v":{"$error":"#REF!"}},{"$f":"'Horário Geral (Semana 2)'!#REF!","v":{"$error":"#REF!"}},{"$f":"'Horário Geral (Semana 2)'!#REF!","v":{"$error":"#REF!"}},{"$f":"'Horário Geral (Semana 2)'!#REF!","v":{"$error":"#REF!"}},{"$f":"'Horário Geral (Semana 2)'!#REF!","v":{"$error":"#REF!"}},{"$f":"'Horário Geral (Semana 2)'!#REF!","v":{"$error":"#REF!"}},{"$f":"'Horário Geral (Semana 2)'!#REF!","v":{"$error":"#REF!"}},{"$f":"'Horário Geral (Semana 2)'!#REF!","v":{"$error":"#REF!"}},{"$f":"'Horário Geral (Semana 2)'!#REF!","v":{"$error":"#REF!"}},{"$f":"'Horário Geral (Semana 2)'!#REF!","v":{"$error":"#REF!"}},{"$f":"'Horário Geral (Semana 2)'!#REF!","v":{"$error":"#REF!"}},{"$f":"'Horário Geral (Semana 2)'!#REF!","v":{"$error":"#REF!"}},{"$f":"'Horário Geral (Semana 2)'!#REF!","v":{"$error":"#REF!"}},{"$f":"'Horário Geral (Semana 2)'!#REF!","v":{"$error":"#REF!"}},{"$f":"'Horário Geral (Semana 2)'!#REF!","v":{"$error":"#REF!"}},{"$f":"'Horário Geral (Semana 2)'!#REF!","v":{"$error":"#REF!"}},{"$f":"'Horário Geral (Semana 2)'!#REF!","v":{"$error":"#REF!"}},{"$f":"'Horário Geral (Semana 2)'!#REF!","v":{"$error":"#REF!"}},{"$f":"'Horário Geral (Semana 2)'!#REF!","v":{"$error":"#REF!"}},{"$f":"'Horário Geral (Semana 2)'!#REF!","v":{"$error":"#REF!"}},{"$f":"'Horário Geral (Semana 2)'!#REF!","v":{"$error":"#REF!"}},{"$f":"'Horário Geral (Semana 2)'!#REF!","v":{"$error":"#REF!"}},{"$f":"'Horário Geral (Semana 2)'!#REF!","v":{"$error":"#REF!"}},{"$f":"'Horário Geral (Semana 2)'!#REF!","v":{"$error":"#REF!"}},{"$f":"'Horário Geral (Semana 2)'!#REF!","v":{"$error":"#REF!"}},{"$f":"'Horário Geral (Semana 2)'!#REF!","v":{"$error":"#REF!"}},{"$f":"'Horário Geral (Semana 2)'!#REF!","v":{"$error":"#REF!"}},{"$f":"'Horário Geral (Semana 2)'!#REF!","v":{"$error":"#REF!"}},{"$f":"'Horário Geral (Semana 2)'!#REF!","v":{"$error":"#REF!"}},{"$f":"'Horário Geral (Semana 2)'!#REF!","v":{"$error":"#REF!"}},{"$f":"'Horário Geral (Semana 2)'!#REF!","v":{"$error":"#REF!"}},{"$f":"'Horário Geral (Semana 2)'!#REF!","v":{"$error":"#REF!"}},{"$f":"'Horário Geral (Semana 2)'!#REF!","v":{"$error":"#REF!"}},{"$f":"'Horário Geral (Semana 2)'!#REF!","v":{"$error":"#REF!"}},{"$f":"'Horário Geral (Semana 2)'!#REF!","v":{"$error":"#REF!"}},{"$f":"'Horário Geral (Semana 2)'!#REF!","v":{"$error":"#REF!"}},{"$f":"'Horário Geral (Semana 2)'!#REF!","v":{"$error":"#REF!"}},{"$f":"'Horário Geral (Semana 2)'!#REF!","v":{"$error":"#REF!"}},{"$f":"'Horário Geral (Semana 2)'!#REF!","v":{"$error":"#REF!"}},{"$f":"'Horário Geral (Semana 2)'!#REF!","v":{"$error":"#REF!"}},{"$f":"'Horário Geral (Semana 2)'!#REF!","v":{"$error":"#REF!"}},{"$f":"'Horário Geral (Semana 2)'!#REF!","v":{"$error":"#REF!"}},{"$f":"'Horário Geral (Semana 2)'!#REF!","v":{"$error":"#REF!"}},{"$f":"'Horário Geral (Semana 2)'!#REF!","v":{"$error":"#REF!"}},{"$f":"'Horário Geral (Semana 2)'!#REF!","v":{"$error":"#REF!"}},{"$f":"'Horário Geral (Semana 2)'!#REF!","v":{"$error":"#REF!"}},{"$f":"'Horário Geral (Semana 2)'!#REF!","v":{"$error":"#REF!"}},{"$f":"'Horário Geral (Semana 2)'!#REF!","v":{"$error":"#REF!"}},{"$f":"'Horário Geral (Semana 2)'!#REF!","v":{"$error":"#REF!"}},{"$f":"'Horário Geral (Semana 2)'!#REF!","v":{"$error":"#REF!"}},{"$f":"'Horário Geral (Semana 2)'!#REF!","v":{"$error":"#REF!"}},{"$f":"'Horário Geral (Semana 2)'!#REF!","v":{"$error":"#REF!"}}]
[null,"5ª","16:25:00",{"$f":"'Horário Geral (Semana 2)'!#REF!","v":{"$error":"#REF!"}},{"$f":"'Horário Geral (Semana 2)'!#REF!","v":{"$error":"#REF!"}},{"$f":"'Horário Geral (Semana 2)'!#REF!","v":{"$error":"#REF!"}},{"$f":"'Horário Geral (Semana 2)'!#REF!","v":{"$error":"#REF!"}},{"$f":"'Horário Geral (Semana 2)'!#REF!","v":{"$error":"#REF!"}},{"$f":"'Horário Geral (Semana 2)'!#REF!","v":{"$error":"#REF!"}},{"$f":"'Horário Geral (Semana 2)'!#REF!","v":{"$error":"#REF!"}},{"$f":"'Horário Geral (Semana 2)'!#REF!","v":{"$error":"#REF!"}},{"$f":"'Horário Geral (Semana 2)'!#REF!","v":{"$error":"#REF!"}},{"$f":"'Horário Geral (Semana 2)'!#REF!","v":{"$error":"#REF!"}},{"$f":"'Horário Geral (Semana 2)'!#REF!","v":{"$error":"#REF!"}},{"$f":"'Horário Geral (Semana 2)'!#REF!","v":{"$error":"#REF!"}},{"$f":"'Horário Geral (Semana 2)'!#REF!","v":{"$error":"#REF!"}},{"$f":"'Horário Geral (Semana 2)'!#REF!","v":{"$error":"#REF!"}},{"$f":"'Horário Geral (Semana 2)'!#REF!","v":{"$error":"#REF!"}},{"$f":"'Horário Geral (Semana 2)'!#REF!","v":{"$error":"#REF!"}},{"$f":"'Horário Geral (Semana 2)'!#REF!","v":{"$error":"#REF!"}},{"$f":"'Horário Geral (Semana 2)'!#REF!","v":{"$error":"#REF!"}},{"$f":"'Horário Geral (Semana 2)'!#REF!","v":{"$error":"#REF!"}},{"$f":"'Horário Geral (Semana 2)'!#REF!","v":{"$error":"#REF!"}},{"$f":"'Horário Geral (Semana 2)'!#REF!","v":{"$error":"#REF!"}},{"$f":"'Horário Geral (Semana 2)'!#REF!","v":{"$error":"#REF!"}},{"$f":"'Horário Geral (Semana 2)'!#REF!","v":{"$error":"#REF!"}},{"$f":"'Horário Geral (Semana 2)'!#REF!","v":{"$error":"#REF!"}},{"$f":"'Horário Geral (Semana 2)'!#REF!","v":{"$error":"#REF!"}},{"$f":"'Horário Geral (Semana 2)'!#REF!","v":{"$error":"#REF!"}},{"$f":"'Horário Geral (Semana 2)'!#REF!","v":{"$error":"#REF!"}},{"$f":"'Horário Geral (Semana 2)'!#REF!","v":{"$error":"#REF!"}},{"$f":"'Horário Geral (Semana 2)'!#REF!","v":{"$error":"#REF!"}},{"$f":"'Horário Geral (Semana 2)'!#REF!","v":{"$error":"#REF!"}},{"$f":"'Horário Geral (Semana 2)'!#REF!","v":{"$error":"#REF!"}},{"$f":"'Horário Geral (Semana 2)'!#REF!","v":{"$error":"#REF!"}},{"$f":"'Horário Geral (Semana 2)'!#REF!","v":{"$error":"#REF!"}},{"$f":"'Horário Geral (Semana 2)'!#REF!","v":{"$error":"#REF!"}},{"$f":"'Horário Geral (Semana 2)'!#REF!","v":{"$error":"#REF!"}},{"$f":"'Horário Geral (Semana 2)'!#REF!","v":{"$error":"#REF!"}},{"$f":"'Horário Geral (Semana 2)'!#REF!","v":{"$error":"#REF!"}},{"$f":"'Horário Geral (Semana 2)'!#REF!","v":{"$error":"#REF!"}},{"$f":"'Horário Geral (Semana 2)'!#REF!","v":{"$error":"#REF!"}},{"$f":"'Horário Geral (Semana 2)'!#REF!","v":{"$error":"#REF!"}},{"$f":"'Horário Geral (Semana 2)'!#REF!","v":{"$error":"#REF!"}},{"$f":"'Horário Geral (Semana 2)'!#REF!","v":{"$error":"#REF!"}},{"$f":"'Horário Geral (Semana 2)'!#REF!","v":{"$error":"#REF!"}},{"$f":"'Horário Geral (Semana 2)'!#REF!","v":{"$error":"#REF!"}},{"$f":"'Horário Geral (Semana 2)'!#REF!","v":{"$error":"#REF!"}},{"$f":"'Horário Geral (Semana 2)'!#REF!","v":{"$error":"#REF!"}},{"$f":"'Horário Geral (Semana 2)'!#REF!","v":{"$error":"#REF!"}},{"$f":"'Horário Geral (Semana 2)'!#REF!","v":{"$error":"#REF!"}},{"$f":"'Horário Geral (Semana 2)'!#REF!","v":{"$error":"#REF!"}},{"$f":"'Horário Geral (Semana 2)'!#REF!","v":{"$error":"#REF!"}},{"$f":"'Horário Geral (Semana 2)'!#REF!","v":{"$error":"#REF!"}},{"$f":"'Horário Geral (Semana 2)'!#REF!","v":{"$error":"#REF!"}},{"$f":"'Horário Geral (Semana 2)'!#REF!","v":{"$error":"#REF!"}},{"$f":"'Horário Geral (Semana 2)'!#REF!","v":{"$error":"#REF!"}},{"$f":"'Horário Geral (Semana 2)'!#REF!","v":{"$error":"#REF!"}},{"$f":"'Horário Geral (Semana 2)'!#REF!","v":{"$error":"#REF!"}},{"$f":"'Horário Geral (Semana 2)'!#REF!","v":{"$error":"#REF!"}},{"$f":"'Horário Geral (Semana 2)'!#REF!","v":{"$error":"#REF!"}},{"$f":"'Horário Geral (Semana 2)'!#REF!","v":{"$error":"#REF!"}},{"$f":"'Horário Geral (Semana 2)'!#REF!","v":{"$error":"#REF!"}},{"$f":"'Horário Geral (Semana 2)'!#REF!","v":{"$error":"#REF!"}},{"$f":"'Horário Geral (Semana 2)'!#REF!","v":{"$error":"#REF!"}},{"$f":"'Horário Geral (Semana 2)'!#REF!","v":{"$error":"#REF!"}},{"$f":"'Horário Geral (Semana 2)'!#REF!","v":{"$error":"#REF!"}},{"$f":"'Horário Geral (Semana 2)'!#REF!","v":{"$error":"#REF!"}},{"$f":"'Horário Geral (Semana 2)'!#REF!","v":{"$error":"#REF!"}},{"$f":"'Horário Geral (Semana 2)'!#REF!","v":{"$error":"#REF!"}}]
[null,"6ª","17:10:00",{"$f":"'Horário Geral (Semana 2)'!#REF!","v":{"$error":"#REF!"}},{"$f":"'Horário Geral (Semana 2)'!#REF!","v":{"$error":"#REF!"}},{"$f":"'Horário Geral (Semana 2)'!#REF!","v":{"$error":"#REF!"}},{"$f":"'Horário Geral (Semana 2)'!#REF!","v":{"$error":"#REF!"}},{"$f":"'Horário Geral (Semana 2)'!#REF!","v":{"$error":"#REF!"}},{"$f":"'Horário Geral (Semana 2)'!#REF!","v":{"$error":"#REF!"}},{"$f":"'Horário Geral (Semana 2)'!#REF!","v":{"$error":"#REF!"}},{"$f":"'Horário Geral (Semana 2)'!#REF!","v":{"$error":"#REF!"}},{"$f":"'Horário Geral (Semana 2)'!#REF!","v":{"$error":"#REF!"}},{"$f":"'Horário Geral (Semana 2)'!#REF!","v":{"$error":"#REF!"}},{"$f":"'Horário Geral (Semana 2)'!#REF!","v":{"$error":"#REF!"}},{"$f":"'Horário Geral (Semana 2)'!#REF!","v":{"$error":"#REF!"}},{"$f":"'Horário Geral (Semana 2)'!#REF!","v":{"$error":"#REF!"}},{"$f":"'Horário Geral (Semana 2)'!#REF!","v":{"$error":"#REF!"}},{"$f":"'Horário Geral (Semana 2)'!#REF!","v":{"$error":"#REF!"}},{"$f":"'Horário Geral (Semana 2)'!#REF!","v":{"$error":"#REF!"}},{"$f":"'Horário Geral (Semana 2)'!#REF!","v":{"$error":"#REF!"}},{"$f":"'Horário Geral (Semana 2)'!#REF!","v":{"$error":"#REF!"}},{"$f":"'Horário Geral (Semana 2)'!#REF!","v":{"$error":"#REF!"}},{"$f":"'Horário Geral (Semana 2)'!#REF!","v":{"$error":"#REF!"}},{"$f":"'Horário Geral (Semana 2)'!#REF!","v":{"$error":"#REF!"}},{"$f":"'Horário Geral (Semana 2)'!#REF!","v":{"$error":"#REF!"}},{"$f":"'Horário Geral (Semana 2)'!#REF!","v":{"$error":"#REF!"}},{"$f":"'Horário Geral (Semana 2)'!#REF!","v":{"$error":"#REF!"}},{"$f":"'Horário Geral (Semana 2)'!#REF!","v":{"$error":"#REF!"}},{"$f":"'Horário Geral (Semana 2)'!#REF!","v":{"$error":"#REF!"}},{"$f":"'Horário Geral (Semana 2)'!#REF!","v":{"$error":"#REF!"}},{"$f":"'Horário Geral (Semana 2)'!#REF!","v":{"$error":"#REF!"}},{"$f":"'Horário Geral (Semana 2)'!#REF!","v":{"$error":"#REF!"}},{"$f":"'Horário Geral (Semana 2)'!#REF!","v":{"$error":"#REF!"}},{"$f":"'Horário Geral (Semana 2)'!#REF!","v":{"$error":"#REF!"}},{"$f":"'Horário Geral (Semana 2)'!#REF!","v":{"$error":"#REF!"}},{"$f":"'Horário Geral (Semana 2)'!#REF!","v":{"$error":"#REF!"}},{"$f":"'Horário Geral (Semana 2)'!#REF!","v":{"$error":"#REF!"}},{"$f":"'Horário Geral (Semana 2)'!#REF!","v":{"$error":"#REF!"}},{"$f":"'Horário Geral (Semana 2)'!#REF!","v":{"$error":"#REF!"}},{"$f":"'Horário Geral (Semana 2)'!#REF!","v":{"$error":"#REF!"}},{"$f":"'Horário Geral (Semana 2)'!#REF!","v":{"$error":"#REF!"}},{"$f":"'Horário Geral (Semana 2)'!#REF!","v":{"$error":"#REF!"}},{"$f":"'Horário Geral (Semana 2)'!#REF!","v":{"$error":"#REF!"}},{"$f":"'Horário Geral (Semana 2)'!#REF!","v":{"$error":"#REF!"}},{"$f":"'Horário Geral (Semana 2)'!#REF!","v":{"$error":"#REF!"}},{"$f":"'Horário Geral (Semana 2)'!#REF!","v":{"$error":"#REF!"}},{"$f":"'Horário Geral (Semana 2)'!#REF!","v":{"$error":"#REF!"}},{"$f":"'Horário Geral (Semana 2)'!#REF!","v":{"$error":"#REF!"}},{"$f":"'Horário Geral (Semana 2)'!#REF!","v":{"$error":"#REF!"}},{"$f":"'Horário Geral (Semana 2)'!#REF!","v":{"$error":"#REF!"}},{"$f":"'Horário Geral (Semana 2)'!#REF!","v":{"$error":"#REF!"}},{"$f":"'Horário Geral (Semana 2)'!#REF!","v":{"$error":"#REF!"}},{"$f":"'Horário Geral (Semana 2)'!#REF!","v":{"$error":"#REF!"}},{"$f":"'Horário Geral (Semana 2)'!#REF!","v":{"$error":"#REF!"}},{"$f":"'Horário Geral (Semana 2)'!#REF!","v":{"$error":"#REF!"}},{"$f":"'Horário Geral (Semana 2)'!#REF!","v":{"$error":"#REF!"}},{"$f":"'Horário Geral (Semana 2)'!#REF!","v":{"$error":"#REF!"}},{"$f":"'Horário Geral (Semana 2)'!#REF!","v":{"$error":"#REF!"}},{"$f":"'Horário Geral (Semana 2)'!#REF!","v":{"$error":"#REF!"}},{"$f":"'Horário Geral (Semana 2)'!#REF!","v":{"$error":"#REF!"}},{"$f":"'Horário Geral (Semana 2)'!#REF!","v":{"$error":"#REF!"}},{"$f":"'Horário Geral (Semana 2)'!#REF!","v":{"$error":"#REF!"}},{"$f":"'Horário Geral (Semana 2)'!#REF!","v":{"$error":"#REF!"}},{"$f":"'Horário Geral (Semana 2)'!#REF!","v":{"$error":"#REF!"}},{"$f":"'Horário Geral (Semana 2)'!#REF!","v":{"$error":"#REF!"}},{"$f":"'Horário Geral (Semana 2)'!#REF!","v":{"$error":"#REF!"}},{"$f":"'Horário Geral (Semana 2)'!#REF!","v":{"$error":"#REF!"}},{"$f":"'Horário Geral (Semana 2)'!#REF!","v":{"$error":"#REF!"}},{"$f":"'Horário Geral (Semana 2)'!#REF!","v":{"$error":"#REF!"}},{"$f":"'Horário Geral (Semana 2)'!#REF!","v":{"$error":"#REF!"}}]
[null,null,null,{"$f":"'Horário Geral (Semana 2)'!#REF!","v":{"$error":"#REF!"}},{"$f":"'Horário Geral (Semana 2)'!#REF!","v":{"$error":"#REF!"}},{"$f":"'Horário Geral (Semana 2)'!#REF!","v":{"$error":"#REF!"}},{"$f":"'Horário Geral (Semana 2)'!#REF!","v":{"$error":"#REF!"}},{"$f":"'Horário Geral (Semana 2)'!#REF!","v":{"$error":"#REF!"}},{"$f":"'Horário Geral (Semana 2)'!#REF!","v":{"$error":"#REF!"}},{"$f":"'Horário Geral (Semana 2)'!#REF!","v":{"$error":"#REF!"}},{"$f":"'Horário Geral (Semana 2)'!#REF!","v":{"$error":"#REF!"}},{"$f":"'Horário Geral (Semana 2)'!#REF!","v":{"$error":"#REF!"}},{"$f":"'Horário Geral (Semana 2)'!#REF!","v":{"$error":"#REF!"}},{"$f":"'Horário Geral (Semana 2)'!#REF!","v":{"$error":"#REF!"}},{"$f":"'Horário Geral (Semana 2)'!#REF!","v":{"$error":"#REF!"}},{"$f":"'Horário Geral (Semana 2)'!#REF!","v":{"$error":"#REF!"}},{"$f":"'Horário Geral (Semana 2)'!#REF!","v":{"$error":"#REF!"}},{"$f":"'Horário Geral (Semana 2)'!#REF!","v":{"$error":"#REF!"}},{"$f":"'Horário Geral (Semana 2)'!#REF!","v":{"$error":"#REF!"}},{"$f":"'Horário Geral (Semana 2)'!#REF!","v":{"$error":"#REF!"}},{"$f":"'Horário Geral (Semana 2)'!#REF!","v":{"$error":"#REF!"}},{"$f":"'Horário Geral (Semana 2)'!#REF!","v":{"$error":"#REF!"}},{"$f":"'Horário Geral (Semana 2)'!#REF!","v":{"$error":"#REF!"}},{"$f":"'Horário Geral (Semana 2)'!#REF!","v":{"$error":"#REF!"}},{"$f":"'Horário Geral (Semana 2)'!#REF!","v":{"$error":"#REF!"}},{"$f":"'Horário Geral (Semana 2)'!#REF!","v":{"$error":"#REF!"}},{"$f":"'Horário Geral (Semana 2)'!#REF!","v":{"$error":"#REF!"}},{"$f":"'Horário Geral (Semana 2)'!#REF!","v":{"$error":"#REF!"}},{"$f":"'Horário Geral (Semana 2)'!#REF!","v":{"$error":"#REF!"}},{"$f":"'Horário Geral (Semana 2)'!#REF!","v":{"$error":"#REF!"}},{"$f":"'Horário Geral (Semana 2)'!#REF!","v":{"$error":"#REF!"}},{"$f":"'Horário Geral (Semana 2)'!#REF!","v":{"$error":"#REF!"}},{"$f":"'Horário Geral (Semana 2)'!#REF!","v":{"$error":"#REF!"}},{"$f":"'Horário Geral (Semana 2)'!#REF!","v":{"$error":"#REF!"}},{"$f":"'Horário Geral (Semana 2)'!#REF!","v":{"$error":"#REF!"}},{"$f":"'Horário Geral (Semana 2)'!#REF!","v":{"$error":"#REF!"}},{"$f":"'Horário Geral (Semana 2)'!#REF!","v":{"$error":"#REF!"}},{"$f":"'Horário Geral (Semana 2)'!#REF!","v":{"$error":"#REF!"}},{"$f":"'Horário Geral (Semana 2)'!#REF!","v":{"$error":"#REF!"}},{"$f":"'Horário Geral (Semana 2)'!#REF!","v":{"$error":"#REF!"}},{"$f":"'Horário Geral (Semana 2)'!#REF!","v":{"$error":"#REF!"}},{"$f":"'Horário Geral (Semana 2)'!#REF!","v":{"$error":"#REF!"}},{"$f":"'Horário Geral (Semana 2)'!#REF!","v":{"$error":"#REF!"}},{"$f":"'Horário Geral (Semana 2)'!#REF!","v":{"$error":"#REF!"}},{"$f":"'Horário Geral (Semana 2)'!#REF!","v":{"$error":"#REF!"}},{"$f":"'Horário Geral (Semana 2)'!#REF!","v":{"$error":"#REF!"}},{"$f":"'Horário Geral (Semana 2)'!#REF!","v":{"$error":"#REF!"}},{"$f":"'Horário Geral (Semana 2)'!#REF!","v":{"$error":"#REF!"}},{"$f":"'Horário Geral (Semana 2)'!#REF!","v":{"$error":"#REF!"}},{"$f":"'Horário Geral (Semana 2)'!#REF!","v":{"$error":"#REF!"}},{"$f":"'Horário Geral (Semana 2)'!#REF!","v":{"$error":"#REF!"}},{"$f":"'Horário Geral (Semana 2)'!#REF!","v":{"$error":"#REF!"}},{"$f":"'Horário Geral (Semana 2)'!#REF!","v":{"$error":"#REF!"}},{"$f":"'Horário Geral (Semana 2)'!#REF!","v":{"$error":"#REF!"}},{"$f":"'Horário Geral (Semana 2)'!#REF!","v":{"$error":"#REF!"}},{"$f":"'Horário Geral (Semana 2)'!#REF!","v":{"$error":"#REF!"}},{"$f":"'Horário Geral (Semana 2)'!#REF!","v":{"$error":"#REF!"}},{"$f":"'Horário Geral (Semana 2)'!#REF!","v":{"$error":"#REF!"}},{"$f":"'Horário Geral (Semana 2)'!#REF!","v":{"$error":"#REF!"}},{"$f":"'Horário Geral (Semana 2)'!#REF!","v":{"$error":"#REF!"}},{"$f":"'Horário Geral (Semana 2)'!#REF!","v":{"$error":"#REF!"}},{"$f":"'Horário Geral (Semana 2)'!#REF!","v":{"$error":"#REF!"}},{"$f":"'Horário Geral (Semana 2)'!#REF!","v":{"$error":"#REF!"}},{"$f":"'Horário Geral (Semana 2)'!#REF!","v":{"$error":"#REF!"}},{"$f":"'Horário Geral (Semana 2)'!#REF!","v":{"$error":"#REF!"}},{"$f":"'Horário Geral (Semana 2)'!#REF!","v":{"$error":"#REF!"}},{"$f":"'Horário Geral (Semana 2)'!#REF!","v":{"$error":"#REF!"}},{"$f":"'Horário Geral (Semana 2)'!#REF!","v":{"$error":"#REF!"}},{"$f":"'Horário Geral (Semana 2)'!#REF!","v":{"$error":"#REF!"}},{"$f":"'Horário Geral (Semana 2)'!#REF!","v":{"$error":"#REF!"}}]
["SEX","1ª","13:10:00",{"$f":"'Horário Geral (Semana 2)'!#REF!","v":{"$error":"#REF!"}},{"$f":"'Horário Geral (Semana 2)'!#REF!","v":{"$error":"#REF!"}},{"$f":"'Horário Geral (Semana 2)'!#REF!","v":{"$error":"#REF!"}},{"$f":"'Horário Geral (Semana 2)'!#REF!","v":{"$error":"#REF!"}},{"$f":"'Horário Geral (Semana 2)'!#REF!","v":{"$error":"#REF!"}},{"$f":"'Horário Geral (Semana 2)'!#REF!","v":{"$error":"#REF!"}},{"$f":"'Horário Geral (Semana 2)'!#REF!","v":{"$error":"#REF!"}},{"$f":"'Horário Geral (Semana 2)'!#REF!","v":{"$error":"#REF!"}},{"$f":"'Horário Geral (Semana 2)'!#REF!","v":{"$error":"#REF!"}},{"$f":"'Horário Geral (Semana 2)'!#REF!","v":{"$error":"#REF!"}},{"$f":"'Horário Geral (Semana 2)'!#REF!","v":{"$error":"#REF!"}},{"$f":"'Horário Geral (Semana 2)'!#REF!","v":{"$error":"#REF!"}},{"$f":"'Horário Geral (Semana 2)'!#REF!","v":{"$error":"#REF!"}},{"$f":"'Horário Geral (Semana 2)'!#REF!","v":{"$error":"#REF!"}},{"$f":"'Horário Geral (Semana 2)'!#REF!","v":{"$error":"#REF!"}},{"$f":"'Horário Geral (Semana 2)'!#REF!","v":{"$error":"#REF!"}},{"$f":"'Horário Geral (Semana 2)'!#REF!","v":{"$error":"#REF!"}},{"$f":"'Horário Geral (Semana 2)'!#REF!","v":{"$error":"#REF!"}},{"$f":"'Horário Geral (Semana 2)'!#REF!","v":{"$error":"#REF!"}},{"$f":"'Horário Geral (Semana 2)'!#REF!","v":{"$error":"#REF!"}},{"$f":"'Horário Geral (Semana 2)'!#REF!","v":{"$error":"#REF!"}},{"$f":"'Horário Geral (Semana 2)'!#REF!","v":{"$error":"#REF!"}},{"$f":"'Horário Geral (Semana 2)'!#REF!","v":{"$error":"#REF!"}},{"$f":"'Horário Geral (Semana 2)'!#REF!","v":{"$error":"#REF!"}},{"$f":"'Horário Geral (Semana 2)'!#REF!","v":{"$error":"#REF!"}},{"$f":"'Horário Geral (Semana 2)'!#REF!","v":{"$error":"#REF!"}},{"$f":"'Horário Geral (Semana 2)'!#REF!","v":{"$error":"#REF!"}},{"$f":"'Horário Geral (Semana 2)'!#REF!","v":{"$error":"#REF!"}},{"$f":"'Horário Geral (Semana 2)'!#REF!","v":{"$error":"#REF!"}},{"$f":"'Horário Geral (Semana 2)'!#REF!","v":{"$error":"#REF!"}},{"$f":"'Horário Geral (Semana 2)'!#REF!","v":{"$error":"#REF!"}},{"$f":"'Horário Geral (Semana 2)'!#REF!","v":{"$error":"#REF!"}},{"$f":"'Horário Geral (Semana 2)'!#REF!","v":{"$error":"#REF!"}},{"$f":"'Horário Geral (Semana 2)'!#REF!","v":{"$error":"#REF!"}},{"$f":"'Horário Geral (Semana 2)'!#REF!","v":{"$error":"#REF!"}},{"$f":"'Horário Geral (Semana 2)'!#REF!","v":{"$error":"#REF!"}},{"$f":"'Horário Geral (Semana 2)'!#REF!","v":{"$error":"#REF!"}},{"$f":"'Horário Geral (Semana 2)'!#REF!","v":{"$error":"#REF!"}},{"$f":"'Horário Geral (Semana 2)'!#REF!","v":{"$error":"#REF!"}},{"$f":"'Horário Geral (Semana 2)'!#REF!","v":{"$error":"#REF!"}},{"$f":"'Horário Geral (Semana 2)'!#REF!","v":{"$error":"#REF!"}},{"$f":"'Horário Geral (Semana 2)'!#REF!","v":{"$error":"#REF!"}},{"$f":"'Horário Geral (Semana 2)'!#REF!","v":{"$error":"#REF!"}},{"$f":"'Horário Geral (Semana 2)'!#REF!","v":{"$error":"#REF!"}},{"$f":"'Horário Geral (Semana 2)'!#REF!","v":{"$error":"#REF!"}},{"$f":"'Horário Geral (Semana 2)'!#REF!","v":{"$error":"#REF!"}},{"$f":"'Horário Geral (Semana 2)'!#REF!","v":{"$error":"#REF!"}},{"$f":"'Horário Geral (Semana 2)'!#REF!","v":{"$error":"#REF!"}},{"$f":"'Horário Geral (Semana 2)'!#REF!","v":{"$error":"#REF!"}},{"$f":"'Horário Geral (Semana 2)'!#REF!","v":{"$error":"#REF!"}},{"$f":"'Horário Geral (Semana 2)'!#REF!","v":{"$error":"#REF!"}},{"$f":"'Horário Geral (Semana 2)'!#REF!","v":{"$error":"#REF!"}},{"$f":"'Horário Geral (Semana 2)'!#REF!","v":{"$error":"#REF!"}},{"$f":"'Horário Geral (Semana 2)'!#REF!","v":{"$error":"#REF!"}},{"$f":"'Horário Geral (Semana 2)'!#REF!","v":{"$error":"#REF!"}},{"$f":"'Horário Geral (Semana 2)'!#REF!","v":{"$error":"#REF!"}},{"$f":"'Horário Geral (Semana 2)'!#REF!","v":{"$error":"#REF!"}},{"$f":"'Horário Geral (Semana 2)'!#REF!","v":{"$error":"#REF!"}},{"$f":"'Horário Geral (Semana 2)'!#REF!","v":{"$error":"#REF!"}},{"$f":"'Horário Geral (Semana 2)'!#REF!","v":{"$error":"#REF!"}},{"$f":"'Horário Geral (Semana 2)'!#REF!","v":{"$error":"#REF!"}},{"$f":"'Horário Geral (Semana 2)'!#REF!","v":{"$error":"#REF!"}},{"$f":"'Horário Geral (Semana 2)'!#REF!","v":{"$error":"#REF!"}},{"$f":"'Horário Geral (Semana 2)'!#REF!","v":{"$error":"#REF!"}},{"$f":"'Horário Geral (Semana 2)'!#REF!","v":{"$error":"#REF!"}},{"$f":"'Horário Geral (Semana 2)'!#REF!","v":{"$error":"#REF!"}},{"$f":"'Horário Geral (Semana 2)'!#REF!","v":{"$error":"#REF!"}}]
[null,"2ª","14:00:00",{"$f":"'Horário Geral (Semana 2)'!#REF!","v":{"$error":"#REF!"}},{"$f":"'Horário Geral (Semana 2)'!#REF!","v":{"$error":"#REF!"}},{"$f":"'Horário Geral (Semana 2)'!#REF!","v":{"$error":"#REF!"}},{"$f":"'Horário Geral (Semana 2)'!#REF!","v":{"$error":"#REF!"}},{"$f":"'Horário Geral (Semana 2)'!#REF!","v":{"$error":"#REF!"}},{"$f":"'Horário Geral (Semana 2)'!#REF!","v":{"$error":"#REF!"}},{"$f":"'Horário Geral (Semana 2)'!#REF!","v":{"$error":"#REF!"}},{"$f":"'Horário Geral (Semana 2)'!#REF!","v":{"$error":"#REF!"}},{"$f":"'Horário Geral (Semana 2)'!#REF!","v":{"$error":"#REF!"}},{"$f":"'Horário Geral (Semana 2)'!#REF!","v":{"$error":"#REF!"}},{"$f":"'Horário Geral (Semana 2)'!#REF!","v":{"$error":"#REF!"}},{"$f":"'Horário Geral (Semana 2)'!#REF!","v":{"$error":"#REF!"}},{"$f":"'Horário Geral (Semana 2)'!#REF!","v":{"$error":"#REF!"}},{"$f":"'Horário Geral (Semana 2)'!#REF!","v":{"$error":"#REF!"}},{"$f":"'Horário Geral (Semana 2)'!#REF!","v":{"$error":"#REF!"}},{"$f":"'Horário Geral (Semana 2)'!#REF!","v":{"$error":"#REF!"}},{"$f":"'Horário Geral (Semana 2)'!#REF!","v":{"$error":"#REF!"}},{"$f":"'Horário Geral (Semana 2)'!#REF!","v":{"$error":"#REF!"}},{"$f":"'Horário Geral (Semana 2)'!#REF!","v":{"$error":"#REF!"}},{"$f":"'Horário Geral (Semana 2)'!#REF!","v":{"$error":"#REF!"}},{"$f":"'Horário Geral (Semana 2)'!#REF!","v":{"$error":"#REF!"}},{"$f":"'Horário Geral (Semana 2)'!#REF!","v":{"$error":"#REF!"}},{"$f":"'Horário Geral (Semana 2)'!#REF!","v":{"$error":"#REF!"}},{"$f":"'Horário Geral (Semana 2)'!#REF!","v":{"$error":"#REF!"}},{"$f":"'Horário Geral (Semana 2)'!#REF!","v":{"$error":"#REF!"}},{"$f":"'Horário Geral (Semana 2)'!#REF!","v":{"$error":"#REF!"}},{"$f":"'Horário Geral (Semana 2)'!#REF!","v":{"$error":"#REF!"}},{"$f":"'Horário Geral (Semana 2)'!#REF!","v":{"$error":"#REF!"}},{"$f":"'Horário Geral (Semana 2)'!#REF!","v":{"$error":"#REF!"}},{"$f":"'Horário Geral (Semana 2)'!#REF!","v":{"$error":"#REF!"}},{"$f":"'Horário Geral (Semana 2)'!#REF!","v":{"$error":"#REF!"}},{"$f":"'Horário Geral (Semana 2)'!#REF!","v":{"$error":"#REF!"}},{"$f":"'Horário Geral (Semana 2)'!#REF!","v":{"$error":"#REF!"}},{"$f":"'Horário Geral (Semana 2)'!#REF!","v":{"$error":"#REF!"}},{"$f":"'Horário Geral (Semana 2)'!#REF!","v":{"$error":"#REF!"}},{"$f":"'Horário Geral (Semana 2)'!#REF!","v":{"$error":"#REF!"}},{"$f":"'Horário Geral (Semana 2)'!#REF!","v":{"$error":"#REF!"}},{"$f":"'Horário Geral (Semana 2)'!#REF!","v":{"$error":"#REF!"}},{"$f":"'Horário Geral (Semana 2)'!#REF!","v":{"$error":"#REF!"}},{"$f":"'Horário Geral (Semana 2)'!#REF!","v":{"$error":"#REF!"}},{"$f":"'Horário Geral (Semana 2)'!#REF!","v":{"$error":"#REF!"}},{"$f":"'Horário Geral (Semana 2)'!#REF!","v":{"$error":"#REF!"}},{"$f":"'Horário Geral (Semana 2)'!#REF!","v":{"$error":"#REF!"}},{"$f":"'Horário Geral (Semana 2)'!#REF!","v":{"$error":"#REF!"}},{"$f":"'Horário Geral (Semana 2)'!#REF!","v":{"$error":"#REF!"}},{"$f":"'Horário Geral (Semana 2)'!#REF!","v":{"$error":"#REF!"}},{"$f":"'Horário Geral (Semana 2)'!#REF!","v":{"$error":"#REF!"}},{"$f":"'Horário Geral (Semana 2)'!#REF!","v":{"$error":"#REF!"}},{"$f":"'Horário Geral (Semana 2)'!#REF!","v":{"$error":"#REF!"}},{"$f":"'Horário Geral (Semana 2)'!#REF!","v":{"$error":"#REF!"}},{"$f":"'Horário Geral (Semana 2)'!#REF!","v":{"$error":"#REF!"}},{"$f":"'Horário Geral (Semana 2)'!#REF!","v":{"$error":"#REF!"}},{"$f":"'Horário Geral (Semana 2)'!#REF!","v":{"$error":"#REF!"}},{"$f":"'Horário Geral (Semana 2)'!#REF!","v":{"$error":"#REF!"}},{"$f":"'Horário Geral (Semana 2)'!#REF!","v":{"$error":"#REF!"}},{"$f":"'Horário Geral (Semana 2)'!#REF!","v":{"$error":"#REF!"}},{"$f":"'Horário Geral (Semana 2)'!#REF!","v":{"$error":"#REF!"}},{"$f":"'Horário Geral (Semana 2)'!#REF!","v":{"$error":"#REF!"}},{"$f":"'Horário Geral (Semana 2)'!#REF!","v":{"$error":"#REF!"}},{"$f":"'Horário Geral (Semana 2)'!#REF!","v":{"$error":"#REF!"}},{"$f":"'Horário Geral (Semana 2)'!#REF!","v":{"$error":"#REF!"}},{"$f":"'Horário Geral (Semana 2)'!#REF!","v":{"$error":"#REF!"}},{"$f":"'Horário Geral (Semana 2)'!#REF!","v":{"$error":"#REF!"}},{"$f":"'Horário Geral (Semana 2)'!#REF!","v":{"$error":"#REF!"}},{"$f":"'Horário Geral (Semana 2)'!#REF!","v":{"$error":"#REF!"}},{"$f":"'Horário Geral (Semana 2)'!#REF!","v":{"$error":"#REF!"}},{"$f":"'Horário Geral (Semana 2)'!#REF!","v":{"$error":"#REF!"}}]
[null,"3ª","14:50:00",{"$f":"'Horário Geral (Semana 2)'!#REF!","v":{"$error":"#REF!"}},{"$f":"'Horário Geral (Semana 2)'!#REF!","v":{"$error":"#REF!"}},{"$f":"'Horário Geral (Semana 2)'!#REF!","v":{"$error":"#REF!"}},{"$f":"'Horário Geral (Semana 2)'!#REF!","v":{"$error":"#REF!"}},{"$f":"'Horário Geral (Semana 2)'!#REF!","v":{"$error":"#REF!"}},{"$f":"'Horário Geral (Semana 2)'!#REF!","v":{"$error":"#REF!"}},{"$f":"'Horário Geral (Semana 2)'!#REF!","v":{"$error":"#REF!"}},{"$f":"'Horário Geral (Semana 2)'!#REF!","v":{"$error":"#REF!"}},{"$f":"'Horário Geral (Semana 2)'!#REF!","v":{"$error":"#REF!"}},{"$f":"'Horário Geral (Semana 2)'!#REF!","v":{"$error":"#REF!"}},{"$f":"'Horário Geral (Semana 2)'!#REF!","v":{"$error":"#REF!"}},{"$f":"'Horário Geral (Semana 2)'!#REF!","v":{"$error":"#REF!"}},{"$f":"'Horário Geral (Semana 2)'!#REF!","v":{"$error":"#REF!"}},{"$f":"'Horário Geral (Semana 2)'!#REF!","v":{"$error":"#REF!"}},{"$f":"'Horário Geral (Semana 2)'!#REF!","v":{"$error":"#REF!"}},{"$f":"'Horário Geral (Semana 2)'!#REF!","v":{"$error":"#REF!"}},{"$f":"'Horário Geral (Semana 2)'!#REF!","v":{"$error":"#REF!"}},{"$f":"'Horário Geral (Semana 2)'!#REF!","v":{"$error":"#REF!"}},{"$f":"'Horário Geral (Semana 2)'!#REF!","v":{"$error":"#REF!"}},{"$f":"'Horário Geral (Semana 2)'!#REF!","v":{"$error":"#REF!"}},{"$f":"'Horário Geral (Semana 2)'!#REF!","v":{"$error":"#REF!"}},{"$f":"'Horário Geral (Semana 2)'!#REF!","v":{"$error":"#REF!"}},{"$f":"'Horário Geral (Semana 2)'!#REF!","v":{"$error":"#REF!"}},{"$f":"'Horário Geral (Semana 2)'!#REF!","v":{"$error":"#REF!"}},{"$f":"'Horário Geral (Semana 2)'!#REF!","v":{"$error":"#REF!"}},{"$f":"'Horário Geral (Semana 2)'!#REF!","v":{"$error":"#REF!"}},{"$f":"'Horário Geral (Semana 2)'!#REF!","v":{"$error":"#REF!"}},{"$f":"'Horário Geral (Semana 2)'!#REF!","v":{"$error":"#REF!"}},{"$f":"'Horário Geral (Semana 2)'!#REF!","v":{"$error":"#REF!"}},{"$f":"'Horário Geral (Semana 2)'!#REF!","v":{"$error":"#REF!"}},{"$f":"'Horário Geral (Semana 2)'!#REF!","v":{"$error":"#REF!"}},{"$f":"'Horário Geral (Semana 2)'!#REF!","v":{"$error":"#REF!"}},{"$f":"'Horário Geral (Semana 2)'!#REF!","v":{"$error":"#REF!"}},{"$f":"'Horário Geral (Semana 2)'!#REF!","v":{"$error":"#REF!"}},{"$f":"'Horário Geral (Semana 2)'!#REF!","v":{"$error":"#REF!"}},{"$f":"'Horário Geral (Semana 2)'!#REF!","v":{"$error":"#REF!"}},{"$f":"'Horário Geral (Semana 2)'!#REF!","v":{"$error":"#REF!"}},{"$f":"'Horário Geral (Semana 2)'!#REF!","v":{"$error":"#REF!"}},{"$f":"'Horário Geral (Semana 2)'!#REF!","v":{"$error":"#REF!"}},{"$f":"'Horário Geral (Semana 2)'!#REF!","v":{"$error":"#REF!"}},{"$f":"'Horário Geral (Semana 2)'!#REF!","v":{"$error":"#REF!"}},{"$f":"'Horário Geral (Semana 2)'!#REF!","v":{"$error":"#REF!"}},{"$f":"'Horário Geral (Semana 2)'!#REF!","v":{"$error":"#REF!"}},{"$f":"'Horário Geral (Semana 2)'!#REF!","v":{"$error":"#REF!"}},{"$f":"'Horário Geral (Semana 2)'!#REF!","v":{"$error":"#REF!"}},{"$f":"'Horário Geral (Semana 2)'!#REF!","v":{"$error":"#REF!"}},{"$f":"'Horário Geral (Semana 2)'!#REF!","v":{"$error":"#REF!"}},{"$f":"'Horário Geral (Semana 2)'!#REF!","v":{"$error":"#REF!"}},{"$f":"'Horário Geral (Semana 2)'!#REF!","v":{"$error":"#REF!"}},{"$f":"'Horário Geral (Semana 2)'!#REF!","v":{"$error":"#REF!"}},{"$f":"'Horário Geral (Semana 2)'!#REF!","v":{"$error":"#REF!"}},{"$f":"'Horário Geral (Semana 2)'!#REF!","v":{"$error":"#REF!"}},{"$f":"'Horário Geral (Semana 2)'!#REF!","v":{"$error":"#REF!"}},{"$f":"'Horário Geral (Semana 2)'!#REF!","v":{"$error":"#REF!"}},{"$f":"'Horário Geral (Semana 2)'!#REF!","v":{"$error":"#REF!"}},{"$f":"'Horário Geral (Semana 2)'!#REF!","v":{"$error":"#REF!"}},{"$f":"'Horário Geral (Semana 2)'!#REF!","v":{"$error":"#REF!"}},{"$f":"'Horário Geral (Semana 2)'!#REF!","v":{"$error":"#REF!"}},{"$f":"'Horário Geral (Semana 2)'!#REF!","v":{"$error":"#REF!"}},{"$f":"'Horário Geral (Semana 2)'!#REF!","v":{"$error":"#REF!"}},{"$f":"'Horário Geral (Semana 2)'!#REF!","v":{"$error":"#REF!"}},{"$f":"'Horário Geral (Semana 2)'!#REF!","v":{"$error":"#REF!"}},{"$f":"'Horário Geral (Semana 2)'!#REF!","v":{"$error":"#REF!"}},{"$f":"'Horário Geral (Semana 2)'!#REF!","v":{"$error":"#REF!"}},{"$f":"'Horário Geral (Semana 2)'!#REF!","v":{"$error":"#REF!"}},{"$f":"'Horário Geral (Semana 2)'!#REF!","v":{"$error":"#REF!"}},{"$f":"'Horário Geral (Semana 2)'!#REF!","v":{"$error":"#REF!"}}]
[null,"4ª","15:55:00",{"$f":"'Horário Geral (Semana 2)'!#REF!","v":{"$error":"#REF!"}},{"$f":"'Horário Geral (Semana 2)'!#REF!","v":{"$error":"#REF!"}},{"$f":"'Horário Geral (Semana 2)'!#REF!","v":{"$error":"#REF!"}},{"$f":"'Horário Geral (Semana 2)'!#REF!","v":{"$error":"#REF!"}},{"$f":"'Horário Geral (Semana 2)'!#REF!","v":{"$error":"#REF!"}},{"$f":"'Horário Geral (Semana 2)'!#REF!","v":{"$error":"#REF!"}},{"$f":"'Horário Geral (Semana 2)'!#REF!","v":{"$error":"#REF!"}},{"$f":"'Horário Geral (Semana 2)'!#REF!","v":{"$error":"#REF!"}},{"$f":"'Horário Geral (Semana 2)'!#REF!","v":{"$error":"#REF!"}},{"$f":"'Horário Geral (Semana 2)'!#REF!","v":{"$error":"#REF!"}},{"$f":"'Horário Geral (Semana 2)'!#REF!","v":{"$error":"#REF!"}},{"$f":"'Horário Geral (Semana 2)'!#REF!","v":{"$error":"#REF!"}},{"$f":"'Horário Geral (Semana 2)'!#REF!","v":{"$error":"#REF!"}},{"$f":"'Horário Geral (Semana 2)'!#REF!","v":{"$error":"#REF!"}},{"$f":"'Horário Geral (Semana 2)'!#REF!","v":{"$error":"#REF!"}},{"$f":"'Horário Geral (Semana 2)'!#REF!","v":{"$error":"#REF!"}},{"$f":"'Horário Geral (Semana 2)'!#REF!","v":{"$error":"#REF!"}},{"$f":"'Horário Geral (Semana 2)'!#REF!","v":{"$error":"#REF!"}},{"$f":"'Horário Geral (Semana 2)'!#REF!","v":{"$error":"#REF!"}},{"$f":"'Horário Geral (Semana 2)'!#REF!","v":{"$error":"#REF!"}},{"$f":"'Horário Geral (Semana 2)'!#REF!","v":{"$error":"#REF!"}},{"$f":"'Horário Geral (Semana 2)'!#REF!","v":{"$error":"#REF!"}},{"$f":"'Horário Geral (Semana 2)'!#REF!","v":{"$error":"#REF!"}},{"$f":"'Horário Geral (Semana 2)'!#REF!","v":{"$error":"#REF!"}},{"$f":"'Horário Geral (Semana 2)'!#REF!","v":{"$error":"#REF!"}},{"$f":"'Horário Geral (Semana 2)'!#REF!","v":{"$error":"#REF!"}},{"$f":"'Horário Geral (Semana 2)'!#REF!","v":{"$error":"#REF!"}},{"$f":"'Horário Geral (Semana 2)'!#REF!","v":{"$error":"#REF!"}},{"$f":"'Horário Geral (Semana 2)'!#REF!","v":{"$error":"#REF!"}},{"$f":"'Horário Geral (Semana 2)'!#REF!","v":{"$error":"#REF!"}},{"$f":"'Horário Geral (Semana 2)'!#REF!","v":{"$error":"#REF!"}},{"$f":"'Horário Geral (Semana 2)'!#REF!","v":{"$error":"#REF!"}},{"$f":"'Horário Geral (Semana 2)'!#REF!","v":{"$error":"#REF!"}},{"$f":"'Horário Geral (Semana 2)'!#REF!","v":{"$error":"#REF!"}},{"$f":"'Horário Geral (Semana 2)'!#REF!","v":{"$error":"#REF!"}},{"$f":"'Horário Geral (Semana 2)'!#REF!","v":{"$error":"#REF!"}},{"$f":"'Horário Geral (Semana 2)'!#REF!","v":{"$error":"#REF!"}},{"$f":"'Horário Geral (Semana 2)'!#REF!","v":{"$error":"#REF!"}},{"$f":"'Horário Geral (Semana 2)'!#REF!","v":{"$error":"#REF!"}},{"$f":"'Horário Geral (Semana 2)'!#REF!","v":{"$error":"#REF!"}},{"$f":"'Horário Geral (Semana 2)'!#REF!","v":{"$error":"#REF!"}},{"$f":"'Horário Geral (Semana 2)'!#REF!","v":{"$error":"#REF!"}},{"$f":"'Horário Geral (Semana 2)'!#REF!","v":{"$error":"#REF!"}},{"$f":"'Horário Geral (Semana 2)'!#REF!","v":{"$error":"#REF!"}},{"$f":"'Horário Geral (Semana 2)'!#REF!","v":{"$error":"#REF!"}},{"$f":"'Horário Geral (Semana 2)'!#REF!","v":{"$error":"#REF!"}},{"$f":"'Horário Geral (Semana 2)'!#REF!","v":{"$error":"#REF!"}},{"$f":"'Horário Geral (Semana 2)'!#REF!","v":{"$error":"#REF!"}},{"$f":"'Horário Geral (Semana 2)'!#REF!","v":{"$error":"#REF!"}},{"$f":"'Horário Geral (Semana 2)'!#REF!","v":{"$error":"#REF!"}},{"$f":"'Horário Geral (Semana 2)'!#REF!","v":{"$error":"#REF!"}},{"$f":"'Horário Geral (Semana 2)'!#REF!","v":{"$error":"#REF!"}},{"$f":"'Horário Geral (Semana 2)'!#REF!","v":{"$error":"#REF!"}},{"$f":"'Horário Geral (Semana 2)'!#REF!","v":{"$error":"#REF!"}},{"$f":"'Horário Geral (Semana 2)'!#REF!","v":{"$error":"#REF!"}},{"$f":"'Horário Geral (Semana 2)'!#REF!","v":{"$error":"#REF!"}},{"$f":"'Horário Geral (Semana 2)'!#REF!","v":{"$error":"#REF!"}},{"$f":"'Horário Geral (Semana 2)'!#REF!","v":{"$error":"#REF!"}},{"$f":"'Horário Geral (Semana 2)'!#REF!","v":{"$error":"#REF!"}},{"$f":"'Horário Geral (Semana 2)'!#REF!","v":{"$error":"#REF!"}},{"$f":"'Horário Geral (Semana 2)'!#REF!","v":{"$error":"#REF!"}},{"$f":"'Horário Geral (Semana 2)'!#REF!","v":{"$error":"#REF!"}},{"$f":"'Horário Geral (Semana 2)'!#REF!","v":{"$error":"#REF!"}},{"$f":"'Horário Geral (Semana 2)'!#REF!","v":{"$error":"#REF!"}},{"$f":"'Horário Geral (Semana 2)'!#REF!","v":{"$error":"#REF!"}},{"$f":"'Horário Geral (Semana 2)'!#REF!","v":{"$error":"#REF!"}},{"$f":"'Horário Geral (Semana 2)'!#REF!","v":{"$error":"#REF!"}}]
[null,"5ª","16:45:00",{"$f":"'Horário Geral (Semana 2)'!#REF!","v":{"$error":"#REF!"}},{"$f":"'Horário Geral (Semana 2)'!#REF!","v":{"$error":"#REF!"}},{"$f":"'Horário Geral (Semana 2)'!#REF!","v":{"$error":"#REF!"}},{"$f":"'Horário Geral (Semana 2)'!#REF!","v":{"$error":"#REF!"}},{"$f":"'Horário Geral (Semana 2)'!#REF!","v":{"$error":"#REF!"}},{"$f":"'Horário Geral (Semana 2)'!#REF!","v":{"$error":"#REF!"}},{"$f":"'Horário Geral (Semana 2)'!#REF!","v":{"$error":"#REF!"}},{"$f":"'Horário Geral (Semana 2)'!#REF!","v":{"$error":"#REF!"}},{"$f":"'Horário Geral (Semana 2)'!#REF!","v":{"$error":"#REF!"}},{"$f":"'Horário Geral (Semana 2)'!#REF!","v":{"$error":"#REF!"}},{"$f":"'Horário Geral (Semana 2)'!#REF!","v":{"$error":"#REF!"}},{"$f":"'Horário Geral (Semana 2)'!#REF!","v":{"$error":"#REF!"}},{"$f":"'Horário Geral (Semana 2)'!#REF!","v":{"$error":"#REF!"}},{"$f":"'Horário Geral (Semana 2)'!#REF!","v":{"$error":"#REF!"}},{"$f":"'Horário Geral (Semana 2)'!#REF!","v":{"$error":"#REF!"}},{"$f":"'Horário Geral (Semana 2)'!#REF!","v":{"$error":"#REF!"}},{"$f":"'Horário Geral (Semana 2)'!#REF!","v":{"$error":"#REF!"}},{"$f":"'Horário Geral (Semana 2)'!#REF!","v":{"$error":"#REF!"}},{"$f":"'Horário Geral (Semana 2)'!#REF!","v":{"$error":"#REF!"}},{"$f":"'Horário Geral (Semana 2)'!#REF!","v":{"$error":"#REF!"}},{"$f":"'Horário Geral (Semana 2)'!#REF!","v":{"$error":"#REF!"}},{"$f":"'Horário Geral (Semana 2)'!#REF!","v":{"$error":"#REF!"}},{"$f":"'Horário Geral (Semana 2)'!#REF!","v":{"$error":"#REF!"}},{"$f":"'Horário Geral (Semana 2)'!#REF!","v":{"$error":"#REF!"}},{"$f":"'Horário Geral (Semana 2)'!#REF!","v":{"$error":"#REF!"}},{"$f":"'Horário Geral (Semana 2)'!#REF!","v":{"$error":"#REF!"}},{"$f":"'Horário Geral (Semana 2)'!#REF!","v":{"$error":"#REF!"}},{"$f":"'Horário Geral (Semana 2)'!#REF!","v":{"$error":"#REF!"}},{"$f":"'Horário Geral (Semana 2)'!#REF!","v":{"$error":"#REF!"}},{"$f":"'Horário Geral (Semana 2)'!#REF!","v":{"$error":"#REF!"}},{"$f":"'Horário Geral (Semana 2)'!#REF!","v":{"$error":"#REF!"}},{"$f":"'Horário Geral (Semana 2)'!#REF!","v":{"$error":"#REF!"}},{"$f":"'Horário Geral (Semana 2)'!#REF!","v":{"$error":"#REF!"}},{"$f":"'Horário Geral (Semana 2)'!#REF!","v":{"$error":"#REF!"}},{"$f":"'Horário Geral (Semana 2)'!#REF!","v":{"$error":"#REF!"}},{"$f":"'Horário Geral (Semana 2)'!#REF!","v":{"$error":"#REF!"}},{"$f":"'Horário Geral (Semana 2)'!#REF!","v":{"$error":"#REF!"}},{"$f":"'Horário Geral (Semana 2)'!#REF!","v":{"$error":"#REF!"}},{"$f":"'Horário Geral (Semana 2)'!#REF!","v":{"$error":"#REF!"}},{"$f":"'Horário Geral (Semana 2)'!#REF!","v":{"$error":"#REF!"}},{"$f":"'Horário Geral (Semana 2)'!#REF!","v":{"$error":"#REF!"}},{"$f":"'Horário Geral (Semana 2)'!#REF!","v":{"$error":"#REF!"}},{"$f":"'Horário Geral (Semana 2)'!#REF!","v":{"$error":"#REF!"}},{"$f":"'Horário Geral (Semana 2)'!#REF!","v":{"$error":"#REF!"}},{"$f":"'Horário Geral (Semana 2)'!#REF!","v":{"$error":"#REF!"}},{"$f":"'Horário Geral (Semana 2)'!#REF!","v":{"$error":"#REF!"}},{"$f":"'Horário Geral (Semana 2)'!#REF!","v":{"$error":"#REF!"}},{"$f":"'Horário Geral (Semana 2)'!#REF!","v":{"$error":"#REF!"}},{"$f":"'Horário Geral (Semana 2)'!#REF!","v":{"$error":"#REF!"}},{"$f":"'Horário Geral (Semana 2)'!#REF!","v":{"$error":"#REF!"}},{"$f":"'Horário Geral (Semana 2)'!#REF!","v":{"$error":"#REF!"}},{"$f":"'Horário Geral (Semana 2)'!#REF!","v":{"$error":"#REF!"}},{"$f":"'Horário Geral (Semana 2)'!#REF!","v":{"$error":"#REF!"}},{"$f":"'Horário Geral (Semana 2)'!#REF!","v":{"$error":"#REF!"}},{"$f":"'Horário Geral (Semana 2)'!#REF!","v":{"$error":"#REF!"}},{"$f":"'Horário Geral (Semana 2)'!#REF!","v":{"$error":"#REF!"}},{"$f":"'Horário Geral (Semana 2)'!#REF!","v":{"$error":"#REF!"}},{"$f":"'Horário Geral (Semana 2)'!#REF!","v":{"$error":"#REF!"}},{"$f":"'Horário Geral (Semana 2)'!#REF!","v":{"$error":"#REF!"}},{"$f":"'Horário Geral (Semana 2)'!#REF!","v":{"$error":"#REF!"}},{"$f":"'Horário Geral (Semana 2)'!#REF!","v":{"$error":"#REF!"}},{"$f":"'Horário Geral (Semana 2)'!#REF!","v":{"$error":"#REF!"}},{"$f":"'Horário Geral (Semana 2)'!#REF!","v":{"$error":"#REF!"}},{"$f":"'Horário Geral (Semana 2)'!#REF!","v":{"$error":"#REF!"}},{"$f":"'Horário Geral (Semana 2)'!#REF!","v":{"$error":"#REF!"}},{"$f":"'Horário Geral (Semana 2)'!#REF!","v":{"$error":"#REF!"}},{"$f":"'Horário Geral (Semana 2)'!#REF!","v":{"$error":"#REF!"}}]
[null,null,null,{"$f":"'Horário Geral (Semana 2)'!#REF!","v":{"$error":"#REF!"}},{"$f":"'Horário Geral (Semana 2)'!#REF!","v":{"$error":"#REF!"}},{"$f":"'Horário Geral (Semana 2)'!#REF!","v":{"$error":"#REF!"}},{"$f":"'Horário Geral (Semana 2)'!#REF!","v":{"$error":"#REF!"}},{"$f":"'Horário Geral (Semana 2)'!#REF!","v":{"$error":"#REF!"}},{"$f":"'Horário Geral (Semana 2)'!#REF!","v":{"$error":"#REF!"}},{"$f":"'Horário Geral (Semana 2)'!#REF!","v":{"$error":"#REF!"}},{"$f":"'Horário Geral (Semana 2)'!#REF!","v":{"$error":"#REF!"}},{"$f":"'Horário Geral (Semana 2)'!#REF!","v":{"$error":"#REF!"}},{"$f":"'Horário Geral (Semana 2)'!#REF!","v":{"$error":"#REF!"}},{"$f":"'Horário Geral (Semana 2)'!#REF!","v":{"$error":"#REF!"}},{"$f":"'Horário Geral (Semana 2)'!#REF!","v":{"$error":"#REF!"}},{"$f":"'Horário Geral (Semana 2)'!#REF!","v":{"$error":"#REF!"}},{"$f":"'Horário Geral (Semana 2)'!#REF!","v":{"$error":"#REF!"}},{"$f":"'Horário Geral (Semana 2)'!#REF!","v":{"$error":"#REF!"}},{"$f":"'Horário Geral (Semana 2)'!#REF!","v":{"$error":"#REF!"}},{"$f":"'Horário Geral (Semana 2)'!#REF!","v":{"$error":"#REF!"}},{"$f":"'Horário Geral (Semana 2)'!#REF!","v":{"$error":"#REF!"}},{"$f":"'Horário Geral (Semana 2)'!#REF!","v":{"$error":"#REF!"}},{"$f":"'Horário Geral (Semana 2)'!#REF!","v":{"$error":"#REF!"}},{"$f":"'Horário Geral (Semana 2)'!#REF!","v":{"$error":"#REF!"}},{"$f":"'Horário Geral (Semana 2)'!#REF!","v":{"$error":"#REF!"}},{"$f":"'Horário Geral (Semana 2)'!#REF!","v":{"$error":"#REF!"}},{"$f":"'Horário Geral (Semana 2)'!#REF!","v":{"$error":"#REF!"}},{"$f":"'Horário Geral (Semana 2)'!#REF!","v":{"$error":"#REF!"}},{"$f":"'Horário Geral (Semana 2)'!#REF!","v":{"$error":"#REF!"}},{"$f":"'Horário Geral (Semana 2)'!#REF!","v":{"$error":"#REF!"}},{"$f":"'Horário Geral (Semana 2)'!#REF!","v":{"$error":"#REF!"}},{"$f":"'Horário Geral (Semana 2)'!#REF!","v":{"$error":"#REF!"}},{"$f":"'Horário Geral (Semana 2)'!#REF!","v":{"$error":"#REF!"}},{"$f":"'Horário Geral (Semana 2)'!#REF!","v":{"$error":"#REF!"}},{"$f":"'Horário Geral (Semana 2)'!#REF!","v":{"$error":"#REF!"}},{"$f":"'Horário Geral (Semana 2)'!#REF!","v":{"$error":"#REF!"}},{"$f":"'Horário Geral (Semana 2)'!#REF!","v":{"$error":"#REF!"}},{"$f":"'Horário Geral (Semana 2)'!#REF!","v":{"$error":"#REF!"}},{"$f":"'Horário Geral (Semana 2)'!#REF!","v":{"$error":"#REF!"}},{"$f":"'Horário Geral (Semana 2)'!#REF!","v":{"$error":"#REF!"}},{"$f":"'Horário Geral (Semana 2)'!#REF!","v":{"$error":"#REF!"}},{"$f":"'Horário Geral (Semana 2)'!#REF!","v":{"$error":"#REF!"}},{"$f":"'Horário Geral (Semana 2)'!#REF!","v":{"$error":"#REF!"}},{"$f":"'Horário Geral (Semana 2)'!#REF!","v":{"$error":"#REF!"}},{"$f":"'Horário Geral (Semana 2)'!#REF!","v":{"$error":"#REF!"}},{"$f":"'Horário Geral (Semana 2)'!#REF!","v":{"$error":"#REF!"}},{"$f":"'Horário Geral (Semana 2)'!#REF!","v":{"$error":"#REF!"}},{"$f":"'Horário Geral (Semana 2)'!#REF!","v":{"$error":"#REF!"}},{"$f":"'Horário Geral (Semana 2)'!#REF!","v":{"$error":"#REF!"}},{"$f":"'Horário Geral (Semana 2)'!#REF!","v":{"$error":"#REF!"}},{"$f":"'Horário Geral (Semana 2)'!#REF!","v":{"$error":"#REF!"}},{"$f":"'Horário Geral (Semana 2)'!#REF!","v":{"$error":"#REF!"}},{"$f":"'Horário Geral (Semana 2)'!#REF!","v":{"$error":"#REF!"}},{"$f":"'Horário Geral (Semana 2)'!#REF!","v":{"$error":"#REF!"}},{"$f":"'Horário Geral (Semana 2)'!#REF!","v":{"$error":"#REF!"}},{"$f":"'Horário Geral (Semana 2)'!#REF!","v":{"$error":"#REF!"}},{"$f":"'Horário Geral (Semana 2)'!#REF!","v":{"$error":"#REF!"}},{"$f":"'Horário Geral (Semana 2)'!#REF!","v":{"$error":"#REF!"}},{"$f":"'Horário Geral (Semana 2)'!#REF!","v":{"$error":"#REF!"}},{"$f":"'Horário Geral (Semana 2)'!#REF!","v":{"$error":"#REF!"}},{"$f":"'Horário Geral (Semana 2)'!#REF!","v":{"$error":"#REF!"}},{"$f":"'Horário Geral (Semana 2)'!#REF!","v":{"$error":"#REF!"}},{"$f":"'Horário Geral (Semana 2)'!#REF!","v":{"$error":"#REF!"}},{"$f":"'Horário Geral (Semana 2)'!#REF!","v":{"$error":"#REF!"}},{"$f":"'Horário Geral (Semana 2)'!#REF!","v":{"$error":"#REF!"}},{"$f":"'Horário Geral (Semana 2)'!#REF!","v":{"$error":"#REF!"}},{"$f":"'Horário Geral (Semana 2)'!#REF!","v":{"$error":"#REF!"}},{"$f":"'Horário Geral (Semana 2)'!#REF!","v":{"$error":"#REF!"}},{"$f":"'Horário Geral (Semana 2)'!#REF!","v":{"$error":"#REF!"}},{"$f":"'Horário Geral (Semana 2)'!#REF!","v":{"$error":"#REF!"}}]
[]
[]
["NOITE"]
[]
[null,"Aula","Horário",{"$f":"'Horário Geral (Semana 2)'!#REF!","v":{"$error":"#REF!"}},{"$f":"'Horário Geral (Semana 2)'!#REF!","v":{"$error":"#REF!"}},{"$f":"'Horário Geral (Semana 2)'!#REF!","v":{"$error":"#REF!"}},{"$f":"'Horário Geral (Semana 2)'!#REF!","v":{"$error":"#REF!"}},{"$f":"'Horário Geral (Semana 2)'!#REF!","v":{"$error":"#REF!"}},{"$f":"'Horário Geral (Semana 2)'!#REF!","v":{"$error":"#REF!"}},{"$f":"'Horário Geral (Semana 2)'!#REF!","v":{"$error":"#REF!"}},{"$f":"'Horário Geral (Semana 2)'!#REF!","v":{"$error":"#REF!"}},{"$f":"'Horário Geral (Semana 2)'!#REF!","v":{"$error":"#REF!"}},{"$f":"'Horário Geral (Semana 2)'!#REF!","v":{"$error":"#REF!"}},{"$f":"'Horário Geral (Semana 2)'!#REF!","v":{"$error":"#REF!"}},{"$f":"'Horário Geral (Semana 2)'!#REF!","v":{"$error":"#REF!"}},{"$f":"'Horário Geral (Semana 2)'!#REF!","v":{"$error":"#REF!"}},{"$f":"'Horário Geral (Semana 2)'!#REF!","v":{"$error":"#REF!"}},{"$f":"'Horário Geral (Semana 2)'!#REF!","v":{"$error":"#REF!"}},{"$f":"'Horário Geral (Semana 2)'!#REF!","v":{"$error":"#REF!"}},{"$f":"'Horário Geral (Semana 2)'!#REF!","v":{"$error":"#REF!"}},{"$f":"'Horário Geral (Semana 2)'!#REF!","v":{"$error":"#REF!"}},{"$f":"'Horário Geral (Semana 2)'!#REF!","v":{"$error":"#REF!"}},{"$f":"'Horário Geral (Semana 2)'!#REF!","v":{"$error":"#REF!"}},{"$f":"'Horário Geral (Semana 2)'!#REF!","v":{"$error":"#REF!"}},{"$f":"'Horário Geral (Semana 2)'!#REF!","v":{"$error":"#REF!"}},{"$f":"'Horário Geral (Semana 2)'!#REF!","v":{"$error":"#REF!"}},{"$f":"'Horário Geral (Semana 2)'!#REF!","v":{"$error":"#REF!"}},{"$f":"'Horário Geral (Semana 2)'!#REF!","v":{"$error":"#REF!"}},{"$f":"'Horário Geral (Semana 2)'!#REF!","v":{"$error":"#REF!"}},{"$f":"'Horário Geral (Semana 2)'!#REF!","v":{"$error":"#REF!"}},{"$f":"'Horário Geral (Semana 2)'!#REF!","v":{"$error":"#REF!"}},{"$f":"'Horário Geral (Semana 2)'!#REF!","v":{"$error":"#REF!"}},{"$f":"'Horário Geral (Semana 2)'!#REF!","v":{"$error":"#REF!"}},{"$f":"'Horário Geral (Semana 2)'!#REF!","v":{"$error":"#REF!"}},{"$f":"'Horário Geral (Semana 2)'!#REF!","v":{"$error":"#REF!"}},{"$f":"'Horário Geral (Semana 2)'!#REF!","v":{"$error":"#REF!"}},{"$f":"'Horário Geral (Semana 2)'!#REF!","v":{"$error":"#REF!"}},{"$f":"'Horário Geral (Semana 2)'!#REF!","v":{"$error":"#REF!"}},{"$f":"'Horário Geral (Semana 2)'!#REF!","v":{"$error":"#REF!"}},{"$f":"'Horário Geral (Semana 2)'!#REF!","v":{"$error":"#REF!"}},{"$f":"'Horário Geral (Semana 2)'!#REF!","v":{"$error":"#REF!"}},{"$f":"'Horário Geral (Semana 2)'!#REF!","v":{"$error":"#REF!"}},{"$f":"'Horário Geral (Semana 2)'!#REF!","v":{"$error":"#REF!"}},{"$f":"'Horário Geral (Semana 2)'!#REF!","v":{"$error":"#REF!"}},{"$f":"'Horário Geral (Semana 2)'!#REF!","v":{"$error":"#REF!"}},{"$f":"'Horário Geral (Semana 2)'!#REF!","v":{"$error":"#REF!"}},{"$f":"'Horário Geral (Semana 2)'!#REF!","v":{"$error":"#REF!"}},{"$f":"'Horário Geral (Semana 2)'!#REF!","v":{"$error":"#REF!"}},{"$f":"'Horário Geral (Semana 2)'!#REF!","v":{"$error":"#REF!"}},{"$f":"'Horário Geral (Semana 2)'!#REF!","v":{"$error":"#REF!"}},{"$f":"'Horário Geral (Semana 2)'!#REF!","v":{"$error":"#REF!"}},{"$f":"'Horário Geral (Semana 2)'!#REF!","v":{"$error":"#REF!"}},{"$f":"'Horário Geral (Semana 2)'!#REF!","v":{"$error":"#REF!"}},{"$f":"'Horário Geral (Semana 2)'!#REF!","v":{"$error":"#REF!"}},{"$f":"'Horário Geral (Semana 2)'!#REF!","v":{"$error":"#REF!"}},{"$f":"'Horário Geral (Semana 2)'!#REF!","v":{"$error":"#REF!"}},{"$f":"'Horário Geral (Semana 2)'!#REF!","v":{"$error":"#REF!"}},{"$f":"'Horário Geral (Semana 2)'!#REF!","v":{"$error":"#REF!"}},{"$f":"'Horário Geral (Semana 2)'!#REF!","v":{"$error":"#REF!"}},{"$f":"'Horário Geral (Semana 2)'!#REF!","v":{"$error":"#REF!"}},{"$f":"'Horário Geral (Semana 2)'!#REF!","v":{"$error":"#REF!"}},{"$f":"'Horário Geral (Semana 2)'!#REF!","v":{"$error":"#REF!"}},{"$f":"'Horário Geral (Semana 2)'!#REF!","v":{"$error":"#REF!"}},{"$f":"'Horário Geral (Semana 2)'!#REF!","v":{"$error":"#REF!"}},{"$f":"'Horário Geral (Semana 2)'!#REF!","v":{"$error":"#REF!"}},{"$f":"'Horário Geral (Semana 2)'!#REF!","v":{"$error":"#REF!"}},{"$f":"'Horário Geral (Semana 2)'!#REF!","v":{"$error":"#REF!"}},{"$f":"'Horário Geral (Semana 2)'!#REF!","v":{"$error":"#REF!"}},{"$f":"'Horário Geral (Semana 2)'!#REF!","v":{"$error":"#REF!"}},{"$f":"'Horário Geral (Semana 2)'!#REF!","v":{"$error":"#REF!"}}]
["SEG","1ª","18:10:00",{"$f":"'Horário Geral (Semana 2)'!#REF!","v":{"$error":"#REF!"}},{"$f":"'Horário Geral (Semana 2)'!#REF!","v":{"$error":"#REF!"}},{"$f":"'Horário Geral (Semana 2)'!#REF!","v":{"$error":"#REF!"}},{"$f":"'Horário Geral (Semana 2)'!#REF!","v":{"$error":"#REF!"}},{"$f":"'Horário Geral (Semana 2)'!#REF!","v":{"$error":"#REF!"}},{"$f":"'Horário Geral (Semana 2)'!#REF!","v":{"$error":"#REF!"}},{"$f":"'Horário Geral (Semana 2)'!#REF!","v":{"$error":"#REF!"}},{"$f":"'Horário Geral (Semana 2)'!#REF!","v":{"$error":"#REF!"}},{"$f":"'Horário Geral (Semana 2)'!#REF!","v":{"$error":"#REF!"}},{"$f":"'Horário Geral (Semana 2)'!#REF!","v":{"$error":"#REF!"}},{"$f":"'Horário Geral (Semana 2)'!#REF!","v":{"$error":"#REF!"}},{"$f":"'Horário Geral (Semana 2)'!#REF!","v":{"$error":"#REF!"}},{"$f":"'Horário Geral (Semana 2)'!#REF!","v":{"$error":"#REF!"}},{"$f":"'Horário Geral (Semana 2)'!#REF!","v":{"$error":"#REF!"}},{"$f":"'Horário Geral (Semana 2)'!#REF!","v":{"$error":"#REF!"}},{"$f":"'Horário Geral (Semana 2)'!#REF!","v":{"$error":"#REF!"}},{"$f":"'Horário Geral (Semana 2)'!#REF!","v":{"$error":"#REF!"}},{"$f":"'Horário Geral (Semana 2)'!#REF!","v":{"$error":"#REF!"}},{"$f":"'Horário Geral (Semana 2)'!#REF!","v":{"$error":"#REF!"}},{"$f":"'Horário Geral (Semana 2)'!#REF!","v":{"$error":"#REF!"}},{"$f":"'Horário Geral (Semana 2)'!#REF!","v":{"$error":"#REF!"}},{"$f":"'Horário Geral (Semana 2)'!#REF!","v":{"$error":"#REF!"}},{"$f":"'Horário Geral (Semana 2)'!#REF!","v":{"$error":"#REF!"}},{"$f":"'Horário Geral (Semana 2)'!#REF!","v":{"$error":"#REF!"}},{"$f":"'Horário Geral (Semana 2)'!#REF!","v":{"$error":"#REF!"}},{"$f":"'Horário Geral (Semana 2)'!#REF!","v":{"$error":"#REF!"}},{"$f":"'Horário Geral (Semana 2)'!#REF!","v":{"$error":"#REF!"}},{"$f":"'Horário Geral (Semana 2)'!#REF!","v":{"$error":"#REF!"}},{"$f":"'Horário Geral (Semana 2)'!#REF!","v":{"$error":"#REF!"}},{"$f":"'Horário Geral (Semana 2)'!#REF!","v":{"$error":"#REF!"}},{"$f":"'Horário Geral (Semana 2)'!#REF!","v":{"$error":"#REF!"}},{"$f":"'Horário Geral (Semana 2)'!#REF!","v":{"$error":"#REF!"}},{"$f":"'Horário Geral (Semana 2)'!#REF!","v":{"$error":"#REF!"}},{"$f":"'Horário Geral (Semana 2)'!#REF!","v":{"$error":"#REF!"}},{"$f":"'Horário Geral (Semana 2)'!#REF!","v":{"$error":"#REF!"}},{"$f":"'Horário Geral (Semana 2)'!#REF!","v":{"$error":"#REF!"}},{"$f":"'Horário Geral (Semana 2)'!#REF!","v":{"$error":"#REF!"}},{"$f":"'Horário Geral (Semana 2)'!#REF!","v":{"$error":"#REF!"}},{"$f":"'Horário Geral (Semana 2)'!#REF!","v":{"$error":"#REF!"}},{"$f":"'Horário Geral (Semana 2)'!#REF!","v":{"$error":"#REF!"}},{"$f":"'Horário Geral (Semana 2)'!#REF!","v":{"$error":"#REF!"}},{"$f":"'Horário Geral (Semana 2)'!#REF!","v":{"$error":"#REF!"}},{"$f":"'Horário Geral (Semana 2)'!#REF!","v":{"$error":"#REF!"}},{"$f":"'Horário Geral (Semana 2)'!#REF!","v":{"$error":"#REF!"}},{"$f":"'Horário Geral (Semana 2)'!#REF!","v":{"$error":"#REF!"}},{"$f":"'Horário Geral (Semana 2)'!#REF!","v":{"$error":"#REF!"}},{"$f":"'Horário Geral (Semana 2)'!#REF!","v":{"$error":"#REF!"}},{"$f":"'Horário Geral (Semana 2)'!#REF!","v":{"$error":"#REF!"}},{"$f":"'Horário Geral (Semana 2)'!#REF!","v":{"$error":"#REF!"}},{"$f":"'Horário Geral (Semana 2)'!#REF!","v":{"$error":"#REF!"}},{"$f":"'Horário Geral (Semana 2)'!#REF!","v":{"$error":"#REF!"}},{"$f":"'Horário Geral (Semana 2)'!#REF!","v":{"$error":"#REF!"}},{"$f":"'Horário Geral (Semana 2)'!#REF!","v":{"$error":"#REF!"}},{"$f":"'Horário Geral (Semana 2)'!#REF!","v":{"$error":"#REF!"}},{"$f":"'Horário Geral (Semana 2)'!#REF!","v":{"$error":"#REF!"}},{"$f":"'Horário Geral (Semana 2)'!#REF!","v":{"$error":"#REF!"}},{"$f":"'Horário Geral (Semana 2)'!#REF!","v":{"$error":"#REF!"}},{"$f":"'Horário Geral (Semana 2)'!#REF!","v":{"$error":"#REF!"}},{"$f":"'Horário Geral (Semana 2)'!#REF!","v":{"$error":"#REF!"}},{"$f":"'Horário Geral (Semana 2)'!#REF!","v":{"$error":"#REF!"}},{"$f":"'Horário Geral (Semana 2)'!#REF!","v":{"$error":"#REF!"}},{"$f":"'Horário Geral (Semana 2)'!#REF!","v":{"$error":"#REF!"}},{"$f":"'Horário Geral (Semana 2)'!#REF!","v":{"$error":"#REF!"}},{"$f":"'Horário Geral (Semana 2)'!#REF!","v":{"$error":"#REF!"}},{"$f":"'Horário Geral (Semana 2)'!#REF!","v":{"$error":"#REF!"}},{"$f":"'Horário Geral (Semana 2)'!#REF!","v":{"$error":"#REF!"}},{"$f":"'Horário Geral (Semana 2)'!#REF!","v":{"$error":"#REF!"}}]
[null,"2ª","19:00:00",{"$f":"'Horário Geral (Semana 2)'!#REF!","v":{"$error":"#REF!"}},{"$f":"'Horário Geral (Semana 2)'!#REF!","v":{"$error":"#REF!"}},{"$f":"'Horário Geral (Semana 2)'!#REF!","v":{"$error":"#REF!"}},{"$f":"'Horário Geral (Semana 2)'!#REF!","v":{"$error":"#REF!"}},{"$f":"'Horário Geral (Semana 2)'!#REF!","v":{"$error":"#REF!"}},{"$f":"'Horário Geral (Semana 2)'!#REF!","v":{"$error":"#REF!"}},{"$f":"'Horário Geral (Semana 2)'!#REF!","v":{"$error":"#REF!"}},{"$f":"'Horário Geral (Semana 2)'!#REF!","v":{"$error":"#REF!"}},{"$f":"'Horário Geral (Semana 2)'!#REF!","v":{"$error":"#REF!"}},{"$f":"'Horário Geral (Semana 2)'!#REF!","v":{"$error":"#REF!"}},{"$f":"'Horário Geral (Semana 2)'!#REF!","v":{"$error":"#REF!"}},{"$f":"'Horário Geral (Semana 2)'!#REF!","v":{"$error":"#REF!"}},{"$f":"'Horário Geral (Semana 2)'!#REF!","v":{"$error":"#REF!"}},{"$f":"'Horário Geral (Semana 2)'!#REF!","v":{"$error":"#REF!"}},{"$f":"'Horário Geral (Semana 2)'!#REF!","v":{"$error":"#REF!"}},{"$f":"'Horário Geral (Semana 2)'!#REF!","v":{"$error":"#REF!"}},{"$f":"'Horário Geral (Semana 2)'!#REF!","v":{"$error":"#REF!"}},{"$f":"'Horário Geral (Semana 2)'!#REF!","v":{"$error":"#REF!"}},{"$f":"'Horário Geral (Semana 2)'!#REF!","v":{"$error":"#REF!"}},{"$f":"'Horário Geral (Semana 2)'!#REF!","v":{"$error":"#REF!"}},{"$f":"'Horário Geral (Semana 2)'!#REF!","v":{"$error":"#REF!"}},{"$f":"'Horário Geral (Semana 2)'!#REF!","v":{"$error":"#REF!"}},{"$f":"'Horário Geral (Semana 2)'!#REF!","v":{"$error":"#REF!"}},{"$f":"'Horário Geral (Semana 2)'!#REF!","v":{"$error":"#REF!"}},{"$f":"'Horário Geral (Semana 2)'!#REF!","v":{"$error":"#REF!"}},{"$f":"'Horário Geral (Semana 2)'!#REF!","v":{"$error":"#REF!"}},{"$f":"'Horário Geral (Semana 2)'!#REF!","v":{"$error":"#REF!"}},{"$f":"'Horário Geral (Semana 2)'!#REF!","v":{"$error":"#REF!"}},{"$f":"'Horário Geral (Semana 2)'!#REF!","v":{"$error":"#REF!"}},{"$f":"'Horário Geral (Semana 2)'!#REF!","v":{"$error":"#REF!"}},{"$f":"'Horário Geral (Semana 2)'!#REF!","v":{"$error":"#REF!"}},{"$f":"'Horário Geral (Semana 2)'!#REF!","v":{"$error":"#REF!"}},{"$f":"'Horário Geral (Semana 2)'!#REF!","v":{"$error":"#REF!"}},{"$f":"'Horário Geral (Semana 2)'!#REF!","v":{"$error":"#REF!"}},{"$f":"'Horário Geral (Semana 2)'!#REF!","v":{"$error":"#REF!"}},{"$f":"'Horário Geral (Semana 2)'!#REF!","v":{"$error":"#REF!"}},{"$f":"'Horário Geral (Semana 2)'!#REF!","v":{"$error":"#REF!"}},{"$f":"'Horário Geral (Semana 2)'!#REF!","v":{"$error":"#REF!"}},{"$f":"'Horário Geral (Semana 2)'!#REF!","v":{"$error":"#REF!"}},{"$f":"'Horário Geral (Semana 2)'!#REF!","v":{"$error":"#REF!"}},{"$f":"'Horário Geral (Semana 2)'!#REF!","v":{"$error":"#REF!"}},{"$f":"'Horário Geral (Semana 2)'!#REF!","v":{"$error":"#REF!"}},{"$f":"'Horário Geral (Semana 2)'!#REF!","v":{"$error":"#REF!"}},{"$f":"'Horário Geral (Semana 2)'!#REF!","v":{"$error":"#REF!"}},{"$f":"'Horário Geral (Semana 2)'!#REF!","v":{"$error":"#REF!"}},{"$f":"'Horário Geral (Semana 2)'!#REF!","v":{"$error":"#REF!"}},{"$f":"'Horário Geral (Semana 2)'!#REF!","v":{"$error":"#REF!"}},{"$f":"'Horário Geral (Semana 2)'!#REF!","v":{"$error":"#REF!"}},{"$f":"'Horário Geral (Semana 2)'!#REF!","v":{"$error":"#REF!"}},{"$f":"'Horário Geral (Semana 2)'!#REF!","v":{"$error":"#REF!"}},{"$f":"'Horário Geral (Semana 2)'!#REF!","v":{"$error":"#REF!"}},{"$f":"'Horário Geral (Semana 2)'!#REF!","v":{"$error":"#REF!"}},{"$f":"'Horário Geral (Semana 2)'!#REF!","v":{"$error":"#REF!"}},{"$f":"'Horário Geral (Semana 2)'!#REF!","v":{"$error":"#REF!"}},{"$f":"'Horário Geral (Semana 2)'!#REF!","v":{"$error":"#REF!"}},{"$f":"'Horário Geral (Semana 2)'!#REF!","v":{"$error":"#REF!"}},{"$f":"'Horário Geral (Semana 2)'!#REF!","v":{"$error":"#REF!"}},{"$f":"'Horário Geral (Semana 2)'!#REF!","v":{"$error":"#REF!"}},{"$f":"'Horário Geral (Semana 2)'!#REF!","v":{"$error":"#REF!"}},{"$f":"'Horário Geral (Semana 2)'!#REF!","v":{"$error":"#REF!"}},{"$f":"'Horário Geral (Semana 2)'!#REF!","v":{"$error":"#REF!"}},{"$f":"'Horário Geral (Semana 2)'!#REF!","v":{"$error":"#REF!"}},{"$f":"'Horário Geral (Semana 2)'!#REF!","v":{"$error":"#REF!"}},{"$f":"'Horário Geral (Semana 2)'!#REF!","v":{"$error":"#REF!"}},{"$f":"'Horário Geral (Semana 2)'!#REF!","v":{"$error":"#REF!"}},{"$f":"'Horário Geral (Semana 2)'!#REF!","v":{"$error":"#REF!"}},{"$f":"'Horário Geral (Semana 2)'!#REF!","v":{"$error":"#REF!"}}]
[null,"3ª","19:50:00",{"$f":"'Horário Geral (Semana 2)'!#REF!","v":{"$error":"#REF!"}},{"$f":"'Horário Geral (Semana 2)'!#REF!","v":{"$error":"#REF!"}},{"$f":"'Horário Geral (Semana 2)'!#REF!","v":{"$error":"#REF!"}},{"$f":"'Horário Geral (Semana 2)'!#REF!","v":{"$error":"#REF!"}},{"$f":"'Horário Geral (Semana 2)'!#REF!","v":{"$error":"#REF!"}},{"$f":"'Horário Geral (Semana 2)'!#REF!","v":{"$error":"#REF!"}},{"$f":"'Horário Geral (Semana 2)'!#REF!","v":{"$error":"#REF!"}},{"$f":"'Horário Geral (Semana 2)'!#REF!","v":{"$error":"#REF!"}},{"$f":"'Horário Geral (Semana 2)'!#REF!","v":{"$error":"#REF!"}},{"$f":"'Horário Geral (Semana 2)'!#REF!","v":{"$error":"#REF!"}},{"$f":"'Horário Geral (Semana 2)'!#REF!","v":{"$error":"#REF!"}},{"$f":"'Horário Geral (Semana 2)'!#REF!","v":{"$error":"#REF!"}},{"$f":"'Horário Geral (Semana 2)'!#REF!","v":{"$error":"#REF!"}},{"$f":"'Horário Geral (Semana 2)'!#REF!","v":{"$error":"#REF!"}},{"$f":"'Horário Geral (Semana 2)'!#REF!","v":{"$error":"#REF!"}},{"$f":"'Horário Geral (Semana 2)'!#REF!","v":{"$error":"#REF!"}},{"$f":"'Horário Geral (Semana 2)'!#REF!","v":{"$error":"#REF!"}},{"$f":"'Horário Geral (Semana 2)'!#REF!","v":{"$error":"#REF!"}},{"$f":"'Horário Geral (Semana 2)'!#REF!","v":{"$error":"#REF!"}},{"$f":"'Horário Geral (Semana 2)'!#REF!","v":{"$error":"#REF!"}},{"$f":"'Horário Geral (Semana 2)'!#REF!","v":{"$error":"#REF!"}},{"$f":"'Horário Geral (Semana 2)'!#REF!","v":{"$error":"#REF!"}},{"$f":"'Horário Geral (Semana 2)'!#REF!","v":{"$error":"#REF!"}},{"$f":"'Horário Geral (Semana 2)'!#REF!","v":{"$error":"#REF!"}},{"$f":"'Horário Geral (Semana 2)'!#REF!","v":{"$error":"#REF!"}},{"$f":"'Horário Geral (Semana 2)'!#REF!","v":{"$error":"#REF!"}},{"$f":"'Horário Geral (Semana 2)'!#REF!","v":{"$error":"#REF!"}},{"$f":"'Horário Geral (Semana 2)'!#REF!","v":{"$error":"#REF!"}},{"$f":"'Horário Geral (Semana 2)'!#REF!","v":{"$error":"#REF!"}},{"$f":"'Horário Geral (Semana 2)'!#REF!","v":{"$error":"#REF!"}},{"$f":"'Horário Geral (Semana 2)'!#REF!","v":{"$error":"#REF!"}},{"$f":"'Horário Geral (Semana 2)'!#REF!","v":{"$error":"#REF!"}},{"$f":"'Horário Geral (Semana 2)'!#REF!","v":{"$error":"#REF!"}},{"$f":"'Horário Geral (Semana 2)'!#REF!","v":{"$error":"#REF!"}},{"$f":"'Horário Geral (Semana 2)'!#REF!","v":{"$error":"#REF!"}},{"$f":"'Horário Geral (Semana 2)'!#REF!","v":{"$error":"#REF!"}},{"$f":"'Horário Geral (Semana 2)'!#REF!","v":{"$error":"#REF!"}},{"$f":"'Horário Geral (Semana 2)'!#REF!","v":{"$error":"#REF!"}},{"$f":"'Horário Geral (Semana 2)'!#REF!","v":{"$error":"#REF!"}},{"$f":"'Horário Geral (Semana 2)'!#REF!","v":{"$error":"#REF!"}},{"$f":"'Horário Geral (Semana 2)'!#REF!","v":{"$error":"#REF!"}},{"$f":"'Horário Geral (Semana 2)'!#REF!","v":{"$error":"#REF!"}},{"$f":"'Horário Geral (Semana 2)'!#REF!","v":{"$error":"#REF!"}},{"$f":"'Horário Geral (Semana 2)'!#REF!","v":{"$error":"#REF!"}},{"$f":"'Horário Geral (Semana 2)'!#REF!","v":{"$error":"#REF!"}},{"$f":"'Horário Geral (Semana 2)'!#REF!","v":{"$error":"#REF!"}},{"$f":"'Horário Geral (Semana 2)'!#REF!","v":{"$error":"#REF!"}},{"$f":"'Horário Geral (Semana 2)'!#REF!","v":{"$error":"#REF!"}},{"$f":"'Horário Geral (Semana 2)'!#REF!","v":{"$error":"#REF!"}},{"$f":"'Horário Geral (Semana 2)'!#REF!","v":{"$error":"#REF!"}},{"$f":"'Horário Geral (Semana 2)'!#REF!","v":{"$error":"#REF!"}},{"$f":"'Horário Geral (Semana 2)'!#REF!","v":{"$error":"#REF!"}},{"$f":"'Horário Geral (Semana 2)'!#REF!","v":{"$error":"#REF!"}},{"$f":"'Horário Geral (Semana 2)'!#REF!","v":{"$error":"#REF!"}},{"$f":"'Horário Geral (Semana 2)'!#REF!","v":{"$error":"#REF!"}},{"$f":"'Horário Geral (Semana 2)'!#REF!","v":{"$error":"#REF!"}},{"$f":"'Horário Geral (Semana 2)'!#REF!","v":{"$error":"#REF!"}},{"$f":"'Horário Geral (Semana 2)'!#REF!","v":{"$error":"#REF!"}},{"$f":"'Horário Geral (Semana 2)'!#REF!","v":{"$error":"#REF!"}},{"$f":"'Horário Geral (Semana 2)'!#REF!","v":{"$error":"#REF!"}},{"$f":"'Horário Geral (Semana 2)'!#REF!","v":{"$error":"#REF!"}},{"$f":"'Horário Geral (Semana 2)'!#REF!","v":{"$error":"#REF!"}},{"$f":"'Horário Geral (Semana 2)'!#REF!","v":{"$error":"#REF!"}},{"$f":"'Horário Geral (Semana 2)'!#REF!","v":{"$error":"#REF!"}},{"$f":"'Horário Geral (Semana 2)'!#REF!","v":{"$error":"#REF!"}},{"$f":"'Horário Geral (Semana 2)'!#REF!","v":{"$error":"#REF!"}},{"$f":"'Horário Geral (Semana 2)'!#REF!","v":{"$error":"#REF!"}}]
[null,"4ª","20:55:00",{"$f":"'Horário Geral (Semana 2)'!#REF!","v":{"$error":"#REF!"}},{"$f":"'Horário Geral (Semana 2)'!#REF!","v":{"$error":"#REF!"}},{"$f":"'Horário Geral (Semana 2)'!#REF!","v":{"$error":"#REF!"}},{"$f":"'Horário Geral (Semana 2)'!#REF!","v":{"$error":"#REF!"}},{"$f":"'Horário Geral (Semana 2)'!#REF!","v":{"$error":"#REF!"}},{"$f":"'Horário Geral (Semana 2)'!#REF!","v":{"$error":"#REF!"}},{"$f":"'Horário Geral (Semana 2)'!#REF!","v":{"$error":"#REF!"}},{"$f":"'Horário Geral (Semana 2)'!#REF!","v":{"$error":"#REF!"}},{"$f":"'Horário Geral (Semana 2)'!#REF!","v":{"$error":"#REF!"}},{"$f":"'Horário Geral (Semana 2)'!#REF!","v":{"$error":"#REF!"}},{"$f":"'Horário Geral (Semana 2)'!#REF!","v":{"$error":"#REF!"}},{"$f":"'Horário Geral (Semana 2)'!#REF!","v":{"$error":"#REF!"}},{"$f":"'Horário Geral (Semana 2)'!#REF!","v":{"$error":"#REF!"}},{"$f":"'Horário Geral (Semana 2)'!#REF!","v":{"$error":"#REF!"}},{"$f":"'Horário Geral (Semana 2)'!#REF!","v":{"$error":"#REF!"}},{"$f":"'Horário Geral (Semana 2)'!#REF!","v":{"$error":"#REF!"}},{"$f":"'Horário Geral (Semana 2)'!#REF!","v":{"$error":"#REF!"}},{"$f":"'Horário Geral (Semana 2)'!#REF!","v":{"$error":"#REF!"}},{"$f":"'Horário Geral (Semana 2)'!#REF!","v":{"$error":"#REF!"}},{"$f":"'Horário Geral (Semana 2)'!#REF!","v":{"$error":"#REF!"}},{"$f":"'Horário Geral (Semana 2)'!#REF!","v":{"$error":"#REF!"}},{"$f":"'Horário Geral (Semana 2)'!#REF!","v":{"$error":"#REF!"}},{"$f":"'Horário Geral (Semana 2)'!#REF!","v":{"$error":"#REF!"}},{"$f":"'Horário Geral (Semana 2)'!#REF!","v":{"$error":"#REF!"}},{"$f":"'Horário Geral (Semana 2)'!#REF!","v":{"$error":"#REF!"}},{"$f":"'Horário Geral (Semana 2)'!#REF!","v":{"$error":"#REF!"}},{"$f":"'Horário Geral (Semana 2)'!#REF!","v":{"$error":"#REF!"}},{"$f":"'Horário Geral (Semana 2)'!#REF!","v":{"$error":"#REF!"}},{"$f":"'Horário Geral (Semana 2)'!#REF!","v":{"$error":"#REF!"}},{"$f":"'Horário Geral (Semana 2)'!#REF!","v":{"$error":"#REF!"}},{"$f":"'Horário Geral (Semana 2)'!#REF!","v":{"$error":"#REF!"}},{"$f":"'Horário Geral (Semana 2)'!#REF!","v":{"$error":"#REF!"}},{"$f":"'Horário Geral (Semana 2)'!#REF!","v":{"$error":"#REF!"}},{"$f":"'Horário Geral (Semana 2)'!#REF!","v":{"$error":"#REF!"}},{"$f":"'Horário Geral (Semana 2)'!#REF!","v":{"$error":"#REF!"}},{"$f":"'Horário Geral (Semana 2)'!#REF!","v":{"$error":"#REF!"}},{"$f":"'Horário Geral (Semana 2)'!#REF!","v":{"$error":"#REF!"}},{"$f":"'Horário Geral (Semana 2)'!#REF!","v":{"$error":"#REF!"}},{"$f":"'Horário Geral (Semana 2)'!#REF!","v":{"$error":"#REF!"}},{"$f":"'Horário Geral (Semana 2)'!#REF!","v":{"$error":"#REF!"}},{"$f":"'Horário Geral (Semana 2)'!#REF!","v":{"$error":"#REF!"}},{"$f":"'Horário Geral (Semana 2)'!#REF!","v":{"$error":"#REF!"}},{"$f":"'Horário Geral (Semana 2)'!#REF!","v":{"$error":"#REF!"}},{"$f":"'Horário Geral (Semana 2)'!#REF!","v":{"$error":"#REF!"}},{"$f":"'Horário Geral (Semana 2)'!#REF!","v":{"$error":"#REF!"}},{"$f":"'Horário Geral (Semana 2)'!#REF!","v":{"$error":"#REF!"}},{"$f":"'Horário Geral (Semana 2)'!#REF!","v":{"$error":"#REF!"}},{"$f":"'Horário Geral (Semana 2)'!#REF!","v":{"$error":"#REF!"}},{"$f":"'Horário Geral (Semana 2)'!#REF!","v":{"$error":"#REF!"}},{"$f":"'Horário Geral (Semana 2)'!#REF!","v":{"$error":"#REF!"}},{"$f":"'Horário Geral (Semana 2)'!#REF!","v":{"$error":"#REF!"}},{"$f":"'Horário Geral (Semana 2)'!#REF!","v":{"$error":"#REF!"}},{"$f":"'Horário Geral (Semana 2)'!#REF!","v":{"$error":"#REF!"}},{"$f":"'Horário Geral (Semana 2)'!#REF!","v":{"$error":"#REF!"}},{"$f":"'Horário Geral (Semana 2)'!#REF!","v":{"$error":"#REF!"}},{"$f":"'Horário Geral (Semana 2)'!#REF!","v":{"$error":"#REF!"}},{"$f":"'Horário Geral (Semana 2)'!#REF!","v":{"$error":"#REF!"}},{"$f":"'Horário Geral (Semana 2)'!#REF!","v":{"$error":"#REF!"}},{"$f":"'Horário Geral (Semana 2)'!#REF!","v":{"$error":"#REF!"}},{"$f":"'Horário Geral (Semana 2)'!#REF!","v":{"$error":"#REF!"}},{"$f":"'Horário Geral (Semana 2)'!#REF!","v":{"$error":"#REF!"}},{"$f":"'Horário Geral (Semana 2)'!#REF!","v":{"$error":"#REF!"}},{"$f":"'Horário Geral (Semana 2)'!#REF!","v":{"$error":"#REF!"}},{"$f":"'Horário Geral (Semana 2)'!#REF!","v":{"$error":"#REF!"}},{"$f":"'Horário Geral (Semana 2)'!#REF!","v":{"$error":"#REF!"}},{"$f":"'Horário Geral (Semana 2)'!#REF!","v":{"$error":"#REF!"}},{"$f":"'Horário Geral (Semana 2)'!#REF!","v":{"$error":"#REF!"}}]
[null,"5ª","21:45:00",{"$f":"'Horário Geral (Semana 2)'!#REF!","v":{"$error":"#REF!"}},{"$f":"'Horário Geral (Semana 2)'!#REF!","v":{"$error":"#REF!"}},{"$f":"'Horário Geral (Semana 2)'!#REF!","v":{"$error":"#REF!"}},{"$f":"'Horário Geral (Semana 2)'!#REF!","v":{"$error":"#REF!"}},{"$f":"'Horário Geral (Semana 2)'!#REF!","v":{"$error":"#REF!"}},{"$f":"'Horário Geral (Semana 2)'!#REF!","v":{"$error":"#REF!"}},{"$f":"'Horário Geral (Semana 2)'!#REF!","v":{"$error":"#REF!"}},{"$f":"'Horário Geral (Semana 2)'!#REF!","v":{"$error":"#REF!"}},{"$f":"'Horário Geral (Semana 2)'!#REF!","v":{"$error":"#REF!"}},{"$f":"'Horário Geral (Semana 2)'!#REF!","v":{"$error":"#REF!"}},{"$f":"'Horário Geral (Semana 2)'!#REF!","v":{"$error":"#REF!"}},{"$f":"'Horário Geral (Semana 2)'!#REF!","v":{"$error":"#REF!"}},{"$f":"'Horário Geral (Semana 2)'!#REF!","v":{"$error":"#REF!"}},{"$f":"'Horário Geral (Semana 2)'!#REF!","v":{"$error":"#REF!"}},{"$f":"'Horário Geral (Semana 2)'!#REF!","v":{"$error":"#REF!"}},{"$f":"'Horário Geral (Semana 2)'!#REF!","v":{"$error":"#REF!"}},{"$f":"'Horário Geral (Semana 2)'!#REF!","v":{"$error":"#REF!"}},{"$f":"'Horário Geral (Semana 2)'!#REF!","v":{"$error":"#REF!"}},{"$f":"'Horário Geral (Semana 2)'!#REF!","v":{"$error":"#REF!"}},{"$f":"'Horário Geral (Semana 2)'!#REF!","v":{"$error":"#REF!"}},{"$f":"'Horário Geral (Semana 2)'!#REF!","v":{"$error":"#REF!"}},{"$f":"'Horário Geral (Semana 2)'!#REF!","v":{"$error":"#REF!"}},{"$f":"'Horário Geral (Semana 2)'!#REF!","v":{"$error":"#REF!"}},{"$f":"'Horário Geral (Semana 2)'!#REF!","v":{"$error":"#REF!"}},{"$f":"'Horário Geral (Semana 2)'!#REF!","v":{"$error":"#REF!"}},{"$f":"'Horário Geral (Semana 2)'!#REF!","v":{"$error":"#REF!"}},{"$f":"'Horário Geral (Semana 2)'!#REF!","v":{"$error":"#REF!"}},{"$f":"'Horário Geral (Semana 2)'!#REF!","v":{"$error":"#REF!"}},{"$f":"'Horário Geral (Semana 2)'!#REF!","v":{"$error":"#REF!"}},{"$f":"'Horário Geral (Semana 2)'!#REF!","v":{"$error":"#REF!"}},{"$f":"'Horário Geral (Semana 2)'!#REF!","v":{"$error":"#REF!"}},{"$f":"'Horário Geral (Semana 2)'!#REF!","v":{"$error":"#REF!"}},{"$f":"'Horário Geral (Semana 2)'!#REF!","v":{"$error":"#REF!"}},{"$f":"'Horário Geral (Semana 2)'!#REF!","v":{"$error":"#REF!"}},{"$f":"'Horário Geral (Semana 2)'!#REF!","v":{"$error":"#REF!"}},{"$f":"'Horário Geral (Semana 2)'!#REF!","v":{"$error":"#REF!"}},{"$f":"'Horário Geral (Semana 2)'!#REF!","v":{"$error":"#REF!"}},{"$f":"'Horário Geral (Semana 2)'!#REF!","v":{"$error":"#REF!"}},{"$f":"'Horário Geral (Semana 2)'!#REF!","v":{"$error":"#REF!"}},{"$f":"'Horário Geral (Semana 2)'!#REF!","v":{"$error":"#REF!"}},{"$f":"'Horário Geral (Semana 2)'!#REF!","v":{"$error":"#REF!"}},{"$f":"'Horário Geral (Semana 2)'!#REF!","v":{"$error":"#REF!"}},{"$f":"'Horário Geral (Semana 2)'!#REF!","v":{"$error":"#REF!"}},{"$f":"'Horário Geral (Semana 2)'!#REF!","v":{"$error":"#REF!"}},{"$f":"'Horário Geral (Semana 2)'!#REF!","v":{"$error":"#REF!"}},{"$f":"'Horário Geral (Semana 2)'!#REF!","v":{"$error":"#REF!"}},{"$f":"'Horário Geral (Semana 2)'!#REF!","v":{"$error":"#REF!"}},{"$f":"'Horário Geral (Semana 2)'!#REF!","v":{"$error":"#REF!"}},{"$f":"'Horário Geral (Semana 2)'!#REF!","v":{"$error":"#REF!"}},{"$f":"'Horário Geral (Semana 2)'!#REF!","v":{"$error":"#REF!"}},{"$f":"'Horário Geral (Semana 2)'!#REF!","v":{"$error":"#REF!"}},{"$f":"'Horário Geral (Semana 2)'!#REF!","v":{"$error":"#REF!"}},{"$f":"'Horário Geral (Semana 2)'!#REF!","v":{"$error":"#REF!"}},{"$f":"'Horário Geral (Semana 2)'!#REF!","v":{"$error":"#REF!"}},{"$f":"'Horário Geral (Semana 2)'!#REF!","v":{"$error":"#REF!"}},{"$f":"'Horário Geral (Semana 2)'!#REF!","v":{"$error":"#REF!"}},{"$f":"'Horário Geral (Semana 2)'!#REF!","v":{"$error":"#REF!"}},{"$f":"'Horário Geral (Semana 2)'!#REF!","v":{"$error":"#REF!"}},{"$f":"'Horário Geral (Semana 2)'!#REF!","v":{"$error":"#REF!"}},{"$f":"'Horário Geral (Semana 2)'!#REF!","v":{"$error":"#REF!"}},{"$f":"'Horário Geral (Semana 2)'!#REF!","v":{"$error":"#REF!"}},{"$f":"'Horário Geral (Semana 2)'!#REF!","v":{"$error":"#REF!"}},{"$f":"'Horário Geral (Semana 2)'!#REF!","v":{"$error":"#REF!"}},{"$f":"'Horário Geral (Semana 2)'!#REF!","v":{"$error":"#REF!"}},{"$f":"'Horário Geral (Semana 2)'!#REF!","v":{"$error":"#REF!"}},{"$f":"'Horário Geral (Semana 2)'!#REF!","v":{"$error":"#REF!"}},{"$f":"'Horário Geral (Semana 2)'!#REF!","v":{"$error":"#REF!"}}]
[null,"6º","22:35:00",{"$f":"'Horário Geral (Semana 2)'!#REF!","v":{"$error":"#REF!"}},{"$f":"'Horário Geral (Semana 2)'!#REF!","v":{"$error":"#REF!"}},{"$f":"'Horário Geral (Semana 2)'!#REF!","v":{"$error":"#REF!"}},{"$f":"'Horário Geral (Semana 2)'!#REF!","v":{"$error":"#REF!"}},{"$f":"'Horário Geral (Semana 2)'!#REF!","v":{"$error":"#REF!"}},{"$f":"'Horário Geral (Semana 2)'!#REF!","v":{"$error":"#REF!"}},{"$f":"'Horário Geral (Semana 2)'!#REF!","v":{"$error":"#REF!"}},{"$f":"'Horário Geral (Semana 2)'!#REF!","v":{"$error":"#REF!"}},{"$f":"'Horário Geral (Semana 2)'!#REF!","v":{"$error":"#REF!"}},{"$f":"'Horário Geral (Semana 2)'!#REF!","v":{"$error":"#REF!"}},{"$f":"'Horário Geral (Semana 2)'!#REF!","v":{"$error":"#REF!"}},{"$f":"'Horário Geral (Semana 2)'!#REF!","v":{"$error":"#REF!"}},{"$f":"'Horário Geral (Semana 2)'!#REF!","v":{"$error":"#REF!"}},{"$f":"'Horário Geral (Semana 2)'!#REF!","v":{"$error":"#REF!"}},{"$f":"'Horário Geral (Semana 2)'!#REF!","v":{"$error":"#REF!"}},{"$f":"'Horário Geral (Semana 2)'!#REF!","v":{"$error":"#REF!"}},{"$f":"'Horário Geral (Semana 2)'!#REF!","v":{"$error":"#REF!"}},{"$f":"'Horário Geral (Semana 2)'!#REF!","v":{"$error":"#REF!"}},{"$f":"'Horário Geral (Semana 2)'!#REF!","v":{"$error":"#REF!"}},{"$f":"'Horário Geral (Semana 2)'!#REF!","v":{"$error":"#REF!"}},{"$f":"'Horário Geral (Semana 2)'!#REF!","v":{"$error":"#REF!"}},{"$f":"'Horário Geral (Semana 2)'!#REF!","v":{"$error":"#REF!"}},{"$f":"'Horário Geral (Semana 2)'!#REF!","v":{"$error":"#REF!"}},{"$f":"'Horário Geral (Semana 2)'!#REF!","v":{"$error":"#REF!"}},{"$f":"'Horário Geral (Semana 2)'!#REF!","v":{"$error":"#REF!"}},{"$f":"'Horário Geral (Semana 2)'!#REF!","v":{"$error":"#REF!"}},{"$f":"'Horário Geral (Semana 2)'!#REF!","v":{"$error":"#REF!"}},{"$f":"'Horário Geral (Semana 2)'!#REF!","v":{"$error":"#REF!"}},{"$f":"'Horário Geral (Semana 2)'!#REF!","v":{"$error":"#REF!"}},{"$f":"'Horário Geral (Semana 2)'!#REF!","v":{"$error":"#REF!"}},{"$f":"'Horário Geral (Semana 2)'!#REF!","v":{"$error":"#REF!"}},{"$f":"'Horário Geral (Semana 2)'!#REF!","v":{"$error":"#REF!"}},{"$f":"'Horário Geral (Semana 2)'!#REF!","v":{"$error":"#REF!"}},{"$f":"'Horário Geral (Semana 2)'!#REF!","v":{"$error":"#REF!"}},{"$f":"'Horário Geral (Semana 2)'!#REF!","v":{"$error":"#REF!"}},{"$f":"'Horário Geral (Semana 2)'!#REF!","v":{"$error":"#REF!"}},{"$f":"'Horário Geral (Semana 2)'!#REF!","v":{"$error":"#REF!"}},{"$f":"'Horário Geral (Semana 2)'!#REF!","v":{"$error":"#REF!"}},{"$f":"'Horário Geral (Semana 2)'!#REF!","v":{"$error":"#REF!"}},{"$f":"'Horário Geral (Semana 2)'!#REF!","v":{"$error":"#REF!"}},{"$f":"'Horário Geral (Semana 2)'!#REF!","v":{"$error":"#REF!"}},{"$f":"'Horário Geral (Semana 2)'!#REF!","v":{"$error":"#REF!"}},{"$f":"'Horário Geral (Semana 2)'!#REF!","v":{"$error":"#REF!"}},{"$f":"'Horário Geral (Semana 2)'!#REF!","v":{"$error":"#REF!"}},{"$f":"'Horário Geral (Semana 2)'!#REF!","v":{"$error":"#REF!"}},{"$f":"'Horário Geral (Semana 2)'!#REF!","v":{"$error":"#REF!"}},{"$f":"'Horário Geral (Semana 2)'!#REF!","v":{"$error":"#REF!"}},{"$f":"'Horário Geral (Semana 2)'!#REF!","v":{"$error":"#REF!"}},{"$f":"'Horário Geral (Semana 2)'!#REF!","v":{"$error":"#REF!"}},{"$f":"'Horário Geral (Semana 2)'!#REF!","v":{"$error":"#REF!"}},{"$f":"'Horário Geral (Semana 2)'!#REF!","v":{"$error":"#REF!"}},{"$f":"'Horário Geral (Semana 2)'!#REF!","v":{"$error":"#REF!"}},{"$f":"'Horário Geral (Semana 2)'!#REF!","v":{"$error":"#REF!"}},{"$f":"'Horário Geral (Semana 2)'!#REF!","v":{"$error":"#REF!"}},{"$f":"'Horário Geral (Semana 2)'!#REF!","v":{"$error":"#REF!"}},{"$f":"'Horário Geral (Semana 2)'!#REF!","v":{"$error":"#REF!"}},{"$f":"'Horário Geral (Semana 2)'!#REF!","v":{"$error":"#REF!"}},{"$f":"'Horário Geral (Semana 2)'!#REF!","v":{"$error":"#REF!"}},{"$f":"'Horário Geral (Semana 2)'!#REF!","v":{"$error":"#REF!"}},{"$f":"'Horário Geral (Semana 2)'!#REF!","v":{"$error":"#REF!"}},{"$f":"'Horário Geral (Semana 2)'!#REF!","v":{"$error":"#REF!"}},{"$f":"'Horário Geral (Semana 2)'!#REF!","v":{"$error":"#REF!"}},{"$f":"'Horário Geral (Semana 2)'!#REF!","v":{"$error":"#REF!"}},{"$f":"'Horário Geral (Semana 2)'!#REF!","v":{"$error":"#REF!"}},{"$f":"'Horário Geral (Semana 2)'!#REF!","v":{"$error":"#REF!"}},{"$f":"'Horário Geral (Semana 2)'!#REF!","v":{"$error":"#REF!"}},{"$f":"'Horário Geral (Semana 2)'!#REF!","v":{"$error":"#REF!"}}]
["TER","1ª","18:10:00",{"$f":"'Horário Geral (Semana 2)'!#REF!","v":{"$error":"#REF!"}},{"$f":"'Horário Geral (Semana 2)'!#REF!","v":{"$error":"#REF!"}},{"$f":"'Horário Geral (Semana 2)'!#REF!","v":{"$error":"#REF!"}},{"$f":"'Horário Geral (Semana 2)'!#REF!","v":{"$error":"#REF!"}},{"$f":"'Horário Geral (Semana 2)'!#REF!","v":{"$error":"#REF!"}},{"$f":"'Horário Geral (Semana 2)'!#REF!","v":{"$error":"#REF!"}},{"$f":"'Horário Geral (Semana 2)'!#REF!","v":{"$error":"#REF!"}},{"$f":"'Horário Geral (Semana 2)'!#REF!","v":{"$error":"#REF!"}},{"$f":"'Horário Geral (Semana 2)'!#REF!","v":{"$error":"#REF!"}},{"$f":"'Horário Geral (Semana 2)'!#REF!","v":{"$error":"#REF!"}},{"$f":"'Horário Geral (Semana 2)'!#REF!","v":{"$error":"#REF!"}},{"$f":"'Horário Geral (Semana 2)'!#REF!","v":{"$error":"#REF!"}},{"$f":"'Horário Geral (Semana 2)'!#REF!","v":{"$error":"#REF!"}},{"$f":"'Horário Geral (Semana 2)'!#REF!","v":{"$error":"#REF!"}},{"$f":"'Horário Geral (Semana 2)'!#REF!","v":{"$error":"#REF!"}},{"$f":"'Horário Geral (Semana 2)'!#REF!","v":{"$error":"#REF!"}},{"$f":"'Horário Geral (Semana 2)'!#REF!","v":{"$error":"#REF!"}},{"$f":"'Horário Geral (Semana 2)'!#REF!","v":{"$error":"#REF!"}},{"$f":"'Horário Geral (Semana 2)'!#REF!","v":{"$error":"#REF!"}},{"$f":"'Horário Geral (Semana 2)'!#REF!","v":{"$error":"#REF!"}},{"$f":"'Horário Geral (Semana 2)'!#REF!","v":{"$error":"#REF!"}},{"$f":"'Horário Geral (Semana 2)'!#REF!","v":{"$error":"#REF!"}},{"$f":"'Horário Geral (Semana 2)'!#REF!","v":{"$error":"#REF!"}},{"$f":"'Horário Geral (Semana 2)'!#REF!","v":{"$error":"#REF!"}},{"$f":"'Horário Geral (Semana 2)'!#REF!","v":{"$error":"#REF!"}},{"$f":"'Horário Geral (Semana 2)'!#REF!","v":{"$error":"#REF!"}},{"$f":"'Horário Geral (Semana 2)'!#REF!","v":{"$error":"#REF!"}},{"$f":"'Horário Geral (Semana 2)'!#REF!","v":{"$error":"#REF!"}},{"$f":"'Horário Geral (Semana 2)'!#REF!","v":{"$error":"#REF!"}},{"$f":"'Horário Geral (Semana 2)'!#REF!","v":{"$error":"#REF!"}},{"$f":"'Horário Geral (Semana 2)'!#REF!","v":{"$error":"#REF!"}},{"$f":"'Horário Geral (Semana 2)'!#REF!","v":{"$error":"#REF!"}},{"$f":"'Horário Geral (Semana 2)'!#REF!","v":{"$error":"#REF!"}},{"$f":"'Horário Geral (Semana 2)'!#REF!","v":{"$error":"#REF!"}},{"$f":"'Horário Geral (Semana 2)'!#REF!","v":{"$error":"#REF!"}},{"$f":"'Horário Geral (Semana 2)'!#REF!","v":{"$error":"#REF!"}},{"$f":"'Horário Geral (Semana 2)'!#REF!","v":{"$error":"#REF!"}},{"$f":"'Horário Geral (Semana 2)'!#REF!","v":{"$error":"#REF!"}},{"$f":"'Horário Geral (Semana 2)'!#REF!","v":{"$error":"#REF!"}},{"$f":"'Horário Geral (Semana 2)'!#REF!","v":{"$error":"#REF!"}},{"$f":"'Horário Geral (Semana 2)'!#REF!","v":{"$error":"#REF!"}},{"$f":"'Horário Geral (Semana 2)'!#REF!","v":{"$error":"#REF!"}},{"$f":"'Horário Geral (Semana 2)'!#REF!","v":{"$error":"#REF!"}},{"$f":"'Horário Geral (Semana 2)'!#REF!","v":{"$error":"#REF!"}},{"$f":"'Horário Geral (Semana 2)'!#REF!","v":{"$error":"#REF!"}},{"$f":"'Horário Geral (Semana 2)'!#REF!","v":{"$error":"#REF!"}},{"$f":"'Horário Geral (Semana 2)'!#REF!","v":{"$error":"#REF!"}},{"$f":"'Horário Geral (Semana 2)'!#REF!","v":{"$error":"#REF!"}},{"$f":"'Horário Geral (Semana 2)'!#REF!","v":{"$error":"#REF!"}},{"$f":"'Horário Geral (Semana 2)'!#REF!","v":{"$error":"#REF!"}},{"$f":"'Horário Geral (Semana 2)'!#REF!","v":{"$error":"#REF!"}},{"$f":"'Horário Geral (Semana 2)'!#REF!","v":{"$error":"#REF!"}},{"$f":"'Horário Geral (Semana 2)'!#REF!","v":{"$error":"#REF!"}},{"$f":"'Horário Geral (Semana 2)'!#REF!","v":{"$error":"#REF!"}},{"$f":"'Horário Geral (Semana 2)'!#REF!","v":{"$error":"#REF!"}},{"$f":"'Horário Geral (Semana 2)'!#REF!","v":{"$error":"#REF!"}},{"$f":"'Horário Geral (Semana 2)'!#REF!","v":{"$error":"#REF!"}},{"$f":"'Horário Geral (Semana 2)'!#REF!","v":{"$error":"#REF!"}},{"$f":"'Horário Geral (Semana 2)'!#REF!","v":{"$error":"#REF!"}},{"$f":"'Horário Geral (Semana 2)'!#REF!","v":{"$error":"#REF!"}},{"$f":"'Horário Geral (Semana 2)'!#REF!","v":{"$error":"#REF!"}},{"$f":"'Horário Geral (Semana 2)'!#REF!","v":{"$error":"#REF!"}},{"$f":"'Horário Geral (Semana 2)'!#REF!","v":{"$error":"#REF!"}},{"$f":"'Horário Geral (Semana 2)'!#REF!","v":{"$error":"#REF!"}},{"$f":"'Horário Geral (Semana 2)'!#REF!","v":{"$error":"#REF!"}},{"$f":"'Horário Geral (Semana 2)'!#REF!","v":{"$error":"#REF!"}},{"$f":"'Horário Geral (Semana 2)'!#REF!","v":{"$error":"#REF!"}}]
[null,"2ª","19:00:00",{"$f":"'Horário Geral (Semana 2)'!#REF!","v":{"$error":"#REF!"}},{"$f":"'Horário Geral (Semana 2)'!#REF!","v":{"$error":"#REF!"}},{"$f":"'Horário Geral (Semana 2)'!#REF!","v":{"$error":"#REF!"}},{"$f":"'Horário Geral (Semana 2)'!#REF!","v":{"$error":"#REF!"}},{"$f":"'Horário Geral (Semana 2)'!#REF!","v":{"$error":"#REF!"}},{"$f":"'Horário Geral (Semana 2)'!#REF!","v":{"$error":"#REF!"}},{"$f":"'Horário Geral (Semana 2)'!#REF!","v":{"$error":"#REF!"}},{"$f":"'Horário Geral (Semana 2)'!#REF!","v":{"$error":"#REF!"}},{"$f":"'Horário Geral (Semana 2)'!#REF!","v":{"$error":"#REF!"}},{"$f":"'Horário Geral (Semana 2)'!#REF!","v":{"$error":"#REF!"}},{"$f":"'Horário Geral (Semana 2)'!#REF!","v":{"$error":"#REF!"}},{"$f":"'Horário Geral (Semana 2)'!#REF!","v":{"$error":"#REF!"}},{"$f":"'Horário Geral (Semana 2)'!#REF!","v":{"$error":"#REF!"}},{"$f":"'Horário Geral (Semana 2)'!#REF!","v":{"$error":"#REF!"}},{"$f":"'Horário Geral (Semana 2)'!#REF!","v":{"$error":"#REF!"}},{"$f":"'Horário Geral (Semana 2)'!#REF!","v":{"$error":"#REF!"}},{"$f":"'Horário Geral (Semana 2)'!#REF!","v":{"$error":"#REF!"}},{"$f":"'Horário Geral (Semana 2)'!#REF!","v":{"$error":"#REF!"}},{"$f":"'Horário Geral (Semana 2)'!#REF!","v":{"$error":"#REF!"}},{"$f":"'Horário Geral (Semana 2)'!#REF!","v":{"$error":"#REF!"}},{"$f":"'Horário Geral (Semana 2)'!#REF!","v":{"$error":"#REF!"}},{"$f":"'Horário Geral (Semana 2)'!#REF!","v":{"$error":"#REF!"}},{"$f":"'Horário Geral (Semana 2)'!#REF!","v":{"$error":"#REF!"}},{"$f":"'Horário Geral (Semana 2)'!#REF!","v":{"$error":"#REF!"}},{"$f":"'Horário Geral (Semana 2)'!#REF!","v":{"$error":"#REF!"}},{"$f":"'Horário Geral (Semana 2)'!#REF!","v":{"$error":"#REF!"}},{"$f":"'Horário Geral (Semana 2)'!#REF!","v":{"$error":"#REF!"}},{"$f":"'Horário Geral (Semana 2)'!#REF!","v":{"$error":"#REF!"}},{"$f":"'Horário Geral (Semana 2)'!#REF!","v":{"$error":"#REF!"}},{"$f":"'Horário Geral (Semana 2)'!#REF!","v":{"$error":"#REF!"}},{"$f":"'Horário Geral (Semana 2)'!#REF!","v":{"$error":"#REF!"}},{"$f":"'Horário Geral (Semana 2)'!#REF!","v":{"$error":"#REF!"}},{"$f":"'Horário Geral (Semana 2)'!#REF!","v":{"$error":"#REF!"}},{"$f":"'Horário Geral (Semana 2)'!#REF!","v":{"$error":"#REF!"}},{"$f":"'Horário Geral (Semana 2)'!#REF!","v":{"$error":"#REF!"}},{"$f":"'Horário Geral (Semana 2)'!#REF!","v":{"$error":"#REF!"}},{"$f":"'Horário Geral (Semana 2)'!#REF!","v":{"$error":"#REF!"}},{"$f":"'Horário Geral (Semana 2)'!#REF!","v":{"$error":"#REF!"}},{"$f":"'Horário Geral (Semana 2)'!#REF!","v":{"$error":"#REF!"}},{"$f":"'Horário Geral (Semana 2)'!#REF!","v":{"$error":"#REF!"}},{"$f":"'Horário Geral (Semana 2)'!#REF!","v":{"$error":"#REF!"}},{"$f":"'Horário Geral (Semana 2)'!#REF!","v":{"$error":"#REF!"}},{"$f":"'Horário Geral (Semana 2)'!#REF!","v":{"$error":"#REF!"}},{"$f":"'Horário Geral (Semana 2)'!#REF!","v":{"$error":"#REF!"}},{"$f":"'Horário Geral (Semana 2)'!#REF!","v":{"$error":"#REF!"}},{"$f":"'Horário Geral (Semana 2)'!#REF!","v":{"$error":"#REF!"}},{"$f":"'Horário Geral (Semana 2)'!#REF!","v":{"$error":"#REF!"}},{"$f":"'Horário Geral (Semana 2)'!#REF!","v":{"$error":"#REF!"}},{"$f":"'Horário Geral (Semana 2)'!#REF!","v":{"$error":"#REF!"}},{"$f":"'Horário Geral (Semana 2)'!#REF!","v":{"$error":"#REF!"}},{"$f":"'Horário Geral (Semana 2)'!#REF!","v":{"$error":"#REF!"}},{"$f":"'Horário Geral (Semana 2)'!#REF!","v":{"$error":"#REF!"}},{"$f":"'Horário Geral (Semana 2)'!#REF!","v":{"$error":"#REF!"}},{"$f":"'Horário Geral (Semana 2)'!#REF!","v":{"$error":"#REF!"}},{"$f":"'Horário Geral (Semana 2)'!#REF!","v":{"$error":"#REF!"}},{"$f":"'Horário Geral (Semana 2)'!#REF!","v":{"$error":"#REF!"}},{"$f":"'Horário Geral (Semana 2)'!#REF!","v":{"$error":"#REF!"}},{"$f":"'Horário Geral (Semana 2)'!#REF!","v":{"$error":"#REF!"}},{"$f":"'Horário Geral (Semana 2)'!#REF!","v":{"$error":"#REF!"}},{"$f":"'Horário Geral (Semana 2)'!#REF!","v":{"$error":"#REF!"}},{"$f":"'Horário Geral (Semana 2)'!#REF!","v":{"$error":"#REF!"}},{"$f":"'Horário Geral (Semana 2)'!#REF!","v":{"$error":"#REF!"}},{"$f":"'Horário Geral (Semana 2)'!#REF!","v":{"$error":"#REF!"}},{"$f":"'Horário Geral (Semana 2)'!#REF!","v":{"$error":"#REF!"}},{"$f":"'Horário Geral (Semana 2)'!#REF!","v":{"$error":"#REF!"}},{"$f":"'Horário Geral (Semana 2)'!#REF!","v":{"$error":"#REF!"}},{"$f":"'Horário Geral (Semana 2)'!#REF!","v":{"$error":"#REF!"}}]
[null,"3ª","19:50:00",{"$f":"'Horário Geral (Semana 2)'!#REF!","v":{"$error":"#REF!"}},{"$f":"'Horário Geral (Semana 2)'!#REF!","v":{"$error":"#REF!"}},{"$f":"'Horário Geral (Semana 2)'!#REF!","v":{"$error":"#REF!"}},{"$f":"'Horário Geral (Semana 2)'!#REF!","v":{"$error":"#REF!"}},{"$f":"'Horário Geral (Semana 2)'!#REF!","v":{"$error":"#REF!"}},{"$f":"'Horário Geral (Semana 2)'!#REF!","v":{"$error":"#REF!"}},{"$f":"'Horário Geral (Semana 2)'!#REF!","v":{"$error":"#REF!"}},{"$f":"'Horário Geral (Semana 2)'!#REF!","v":{"$error":"#REF!"}},{"$f":"'Horário Geral (Semana 2)'!#REF!","v":{"$error":"#REF!"}},{"$f":"'Horário Geral (Semana 2)'!#REF!","v":{"$error":"#REF!"}},{"$f":"'Horário Geral (Semana 2)'!#REF!","v":{"$error":"#REF!"}},{"$f":"'Horário Geral (Semana 2)'!#REF!","v":{"$error":"#REF!"}},{"$f":"'Horário Geral (Semana 2)'!#REF!","v":{"$error":"#REF!"}},{"$f":"'Horário Geral (Semana 2)'!#REF!","v":{"$error":"#REF!"}},{"$f":"'Horário Geral (Semana 2)'!#REF!","v":{"$error":"#REF!"}},{"$f":"'Horário Geral (Semana 2)'!#REF!","v":{"$error":"#REF!"}},{"$f":"'Horário Geral (Semana 2)'!#REF!","v":{"$error":"#REF!"}},{"$f":"'Horário Geral (Semana 2)'!#REF!","v":{"$error":"#REF!"}},{"$f":"'Horário Geral (Semana 2)'!#REF!","v":{"$error":"#REF!"}},{"$f":"'Horário Geral (Semana 2)'!#REF!","v":{"$error":"#REF!"}},{"$f":"'Horário Geral (Semana 2)'!#REF!","v":{"$error":"#REF!"}},{"$f":"'Horário Geral (Semana 2)'!#REF!","v":{"$error":"#REF!"}},{"$f":"'Horário Geral (Semana 2)'!#REF!","v":{"$error":"#REF!"}},{"$f":"'Horário Geral (Semana 2)'!#REF!","v":{"$error":"#REF!"}},{"$f":"'Horário Geral (Semana 2)'!#REF!","v":{"$error":"#REF!"}},{"$f":"'Horário Geral (Semana 2)'!#REF!","v":{"$error":"#REF!"}},{"$f":"'Horário Geral (Semana 2)'!#REF!","v":{"$error":"#REF!"}},{"$f":"'Horário Geral (Semana 2)'!#REF!","v":{"$error":"#REF!"}},{"$f":"'Horário Geral (Semana 2)'!#REF!","v":{"$error":"#REF!"}},{"$f":"'Horário Geral (Semana 2)'!#REF!","v":{"$error":"#REF!"}},{"$f":"'Horário Geral (Semana 2)'!#REF!","v":{"$error":"#REF!"}},{"$f":"'Horário Geral (Semana 2)'!#REF!","v":{"$error":"#REF!"}},{"$f":"'Horário Geral (Semana 2)'!#REF!","v":{"$error":"#REF!"}},{"$f":"'Horário Geral (Semana 2)'!#REF!","v":{"$error":"#REF!"}},{"$f":"'Horário Geral (Semana 2)'!#REF!","v":{"$error":"#REF!"}},{"$f":"'Horário Geral (Semana 2)'!#REF!","v":{"$error":"#REF!"}},{"$f":"'Horário Geral (Semana 2)'!#REF!","v":{"$error":"#REF!"}},{"$f":"'Horário Geral (Semana 2)'!#REF!","v":{"$error":"#REF!"}},{"$f":"'Horário Geral (Semana 2)'!#REF!","v":{"$error":"#REF!"}},{"$f":"'Horário Geral (Semana 2)'!#REF!","v":{"$error":"#REF!"}},{"$f":"'Horário Geral (Semana 2)'!#REF!","v":{"$error":"#REF!"}},{"$f":"'Horário Geral (Semana 2)'!#REF!","v":{"$error":"#REF!"}},{"$f":"'Horário Geral (Semana 2)'!#REF!","v":{"$error":"#REF!"}},{"$f":"'Horário Geral (Semana 2)'!#REF!","v":{"$error":"#REF!"}},{"$f":"'Horário Geral (Semana 2)'!#REF!","v":{"$error":"#REF!"}},{"$f":"'Horário Geral (Semana 2)'!#REF!","v":{"$error":"#REF!"}},{"$f":"'Horário Geral (Semana 2)'!#REF!","v":{"$error":"#REF!"}},{"$f":"'Horário Geral (Semana 2)'!#REF!","v":{"$error":"#REF!"}},{"$f":"'Horário Geral (Semana 2)'!#REF!","v":{"$error":"#REF!"}},{"$f":"'Horário Geral (Semana 2)'!#REF!","v":{"$error":"#REF!"}},{"$f":"'Horário Geral (Semana 2)'!#REF!","v":{"$error":"#REF!"}},{"$f":"'Horário Geral (Semana 2)'!#REF!","v":{"$error":"#REF!"}},{"$f":"'Horário Geral (Semana 2)'!#REF!","v":{"$error":"#REF!"}},{"$f":"'Horário Geral (Semana 2)'!#REF!","v":{"$error":"#REF!"}},{"$f":"'Horário Geral (Semana 2)'!#REF!","v":{"$error":"#REF!"}},{"$f":"'Horário Geral (Semana 2)'!#REF!","v":{"$error":"#REF!"}},{"$f":"'Horário Geral (Semana 2)'!#REF!","v":{"$error":"#REF!"}},{"$f":"'Horário Geral (Semana 2)'!#REF!","v":{"$error":"#REF!"}},{"$f":"'Horário Geral (Semana 2)'!#REF!","v":{"$error":"#REF!"}},{"$f":"'Horário Geral (Semana 2)'!#REF!","v":{"$error":"#REF!"}},{"$f":"'Horário Geral (Semana 2)'!#REF!","v":{"$error":"#REF!"}},{"$f":"'Horário Geral (Semana 2)'!#REF!","v":{"$error":"#REF!"}},{"$f":"'Horário Geral (Semana 2)'!#REF!","v":{"$error":"#REF!"}},{"$f":"'Horário Geral (Semana 2)'!#REF!","v":{"$error":"#REF!"}},{"$f":"'Horário Geral (Semana 2)'!#REF!","v":{"$error":"#REF!"}},{"$f":"'Horário Geral (Semana 2)'!#REF!","v":{"$error":"#REF!"}},{"$f":"'Horário Geral (Semana 2)'!#REF!","v":{"$error":"#REF!"}}]
[null,"4ª","20:55:00",{"$f":"'Horário Geral (Semana 2)'!#REF!","v":{"$error":"#REF!"}},{"$f":"'Horário Geral (Semana 2)'!#REF!","v":{"$error":"#REF!"}},{"$f":"'Horário Geral (Semana 2)'!#REF!","v":{"$error":"#REF!"}},{"$f":"'Horário Geral (Semana 2)'!#REF!","v":{"$error":"#REF!"}},{"$f":"'Horário Geral (Semana 2)'!#REF!","v":{"$error":"#REF!"}},{"$f":"'Horário Geral (Semana 2)'!#REF!","v":{"$error":"#REF!"}},{"$f":"'Horário Geral (Semana 2)'!#REF!","v":{"$error":"#REF!"}},{"$f":"'Horário Geral (Semana 2)'!#REF!","v":{"$error":"#REF!"}},{"$f":"'Horário Geral (Semana 2)'!#REF!","v":{"$error":"#REF!"}},{"$f":"'Horário Geral (Semana 2)'!#REF!","v":{"$error":"#REF!"}},{"$f":"'Horário Geral (Semana 2)'!#REF!","v":{"$error":"#REF!"}},{"$f":"'Horário Geral (Semana 2)'!#REF!","v":{"$error":"#REF!"}},{"$f":"'Horário Geral (Semana 2)'!#REF!","v":{"$error":"#REF!"}},{"$f":"'Horário Geral (Semana 2)'!#REF!","v":{"$error":"#REF!"}},{"$f":"'Horário Geral (Semana 2)'!#REF!","v":{"$error":"#REF!"}},{"$f":"'Horário Geral (Semana 2)'!#REF!","v":{"$error":"#REF!"}},{"$f":"'Horário Geral (Semana 2)'!#REF!","v":{"$error":"#REF!"}},{"$f":"'Horário Geral (Semana 2)'!#REF!","v":{"$error":"#REF!"}},{"$f":"'Horário Geral (Semana 2)'!#REF!","v":{"$error":"#REF!"}},{"$f":"'Horário Geral (Semana 2)'!#REF!","v":{"$error":"#REF!"}},{"$f":"'Horário Geral (Semana 2)'!#REF!","v":{"$error":"#REF!"}},{"$f":"'Horário Geral (Semana 2)'!#REF!","v":{"$error":"#REF!"}},{"$f":"'Horário Geral (Semana 2)'!#REF!","v":{"$error":"#REF!"}},{"$f":"'Horário Geral (Semana 2)'!#REF!","v":{"$error":"#REF!"}},{"$f":"'Horário Geral (Semana 2)'!#REF!","v":{"$error":"#REF!"}},{"$f":"'Horário Geral (Semana 2)'!#REF!","v":{"$error":"#REF!"}},{"$f":"'Horário Geral (Semana 2)'!#REF!","v":{"$error":"#REF!"}},{"$f":"'Horário Geral (Semana 2)'!#REF!","v":{"$error":"#REF!"}},{"$f":"'Horário Geral (Semana 2)'!#REF!","v":{"$error":"#REF!"}},{"$f":"'Horário Geral (Semana 2)'!#REF!","v":{"$error":"#REF!"}},{"$f":"'Horário Geral (Semana 2)'!#REF!","v":{"$error":"#REF!"}},{"$f":"'Horário Geral (Semana 2)'!#REF!","v":{"$error":"#REF!"}},{"$f":"'Horário Geral (Semana 2)'!#REF!","v":{"$error":"#REF!"}},{"$f":"'Horário Geral (Semana 2)'!#REF!","v":{"$error":"#REF!"}},{"$f":"'Horário Geral (Semana 2)'!#REF!","v":{"$error":"#REF!"}},{"$f":"'Horário Geral (Semana 2)'!#REF!","v":{"$error":"#REF!"}},{"$f":"'Horário Geral (Semana 2)'!#REF!","v":{"$error":"#REF!"}},{"$f":"'Horário Geral (Semana 2)'!#REF!","v":{"$error":"#REF!"}},{"$f":"'Horário Geral (Semana 2)'!#REF!","v":{"$error":"#REF!"}},{"$f":"'Horário Geral (Semana 2)'!#REF!","v":{"$error":"#REF!"}},{"$f":"'Horário Geral (Semana 2)'!#REF!","v":{"$error":"#REF!"}},{"$f":"'Horário Geral (Semana 2)'!#REF!","v":{"$error":"#REF!"}},{"$f":"'Horário Geral (Semana 2)'!#REF!","v":{"$error":"#REF!"}},{"$f":"'Horário Geral (Semana 2)'!#REF!","v":{"$error":"#REF!"}},{"$f":"'Horário Geral (Semana 2)'!#REF!","v":{"$error":"#REF!"}},{"$f":"'Horário Geral (Semana 2)'!#REF!","v":{"$error":"#REF!"}},{"$f":"'Horário Geral (Semana 2)'!#REF!","v":{"$error":"#REF!"}},{"$f":"'Horário Geral (Semana 2)'!#REF!","v":{"$error":"#REF!"}},{"$f":"'Horário Geral (Semana 2)'!#REF!","v":{"$error":"#REF!"}},{"$f":"'Horário Geral (Semana 2)'!#REF!","v":{"$error":"#REF!"}},{"$f":"'Horário Geral (Semana 2)'!#REF!","v":{"$error":"#REF!"}},{"$f":"'Horário Geral (Semana 2)'!#REF!","v":{"$error":"#REF!"}},{"$f":"'Horário Geral (Semana 2)'!#REF!","v":{"$error":"#REF!"}},{"$f":"'Horário Geral (Semana 2)'!#REF!","v":{"$error":"#REF!"}},{"$f":"'Horário Geral (Semana 2)'!#REF!","v":{"$error":"#REF!"}},{"$f":"'Horário Geral (Semana 2)'!#REF!","v":{"$error":"#REF!"}},{"$f":"'Horário Geral (Semana 2)'!#REF!","v":{"$error":"#REF!"}},{"$f":"'Horário Geral (Semana 2)'!#REF!","v":{"$error":"#REF!"}},{"$f":"'Horário Geral (Semana 2)'!#REF!","v":{"$error":"#REF!"}},{"$f":"'Horário Geral (Semana 2)'!#REF!","v":{"$error":"#REF!"}},{"$f":"'Horário Geral (Semana 2)'!#REF!","v":{"$error":"#REF!"}},{"$f":"'Horário Geral (Semana 2)'!#REF!","v":{"$error":"#REF!"}},{"$f":"'Horário Geral (Semana 2)'!#REF!","v":{"$error":"#REF!"}},{"$f":"'Horário Geral (Semana 2)'!#REF!","v":{"$error":"#REF!"}},{"$f":"'Horário Geral (Semana 2)'!#REF!","v":{"$error":"#REF!"}},{"$f":"'Horário Geral (Semana 2)'!#REF!","v":{"$error":"#REF!"}},{"$f":"'Horário Geral (Semana 2)'!#REF!","v":{"$error":"#REF!"}}]
[null,"5ª","21:45:00",{"$f":"'Horário Geral (Semana 2)'!#REF!","v":{"$error":"#REF!"}},{"$f":"'Horário Geral (Semana 2)'!#REF!","v":{"$error":"#REF!"}},{"$f":"'Horário Geral (Semana 2)'!#REF!","v":{"$error":"#REF!"}},{"$f":"'Horário Geral (Semana 2)'!#REF!","v":{"$error":"#REF!"}},{"$f":"'Horário Geral (Semana 2)'!#REF!","v":{"$error":"#REF!"}},{"$f":"'Horário Geral (Semana 2)'!#REF!","v":{"$error":"#REF!"}},{"$f":"'Horário Geral (Semana 2)'!#REF!","v":{"$error":"#REF!"}},{"$f":"'Horário Geral (Semana 2)'!#REF!","v":{"$error":"#REF!"}},{"$f":"'Horário Geral (Semana 2)'!#REF!","v":{"$error":"#REF!"}},{"$f":"'Horário Geral (Semana 2)'!#REF!","v":{"$error":"#REF!"}},{"$f":"'Horário Geral (Semana 2)'!#REF!","v":{"$error":"#REF!"}},{"$f":"'Horário Geral (Semana 2)'!#REF!","v":{"$error":"#REF!"}},{"$f":"'Horário Geral (Semana 2)'!#REF!","v":{"$error":"#REF!"}},{"$f":"'Horário Geral (Semana 2)'!#REF!","v":{"$error":"#REF!"}},{"$f":"'Horário Geral (Semana 2)'!#REF!","v":{"$error":"#REF!"}},{"$f":"'Horário Geral (Semana 2)'!#REF!","v":{"$error":"#REF!"}},{"$f":"'Horário Geral (Semana 2)'!#REF!","v":{"$error":"#REF!"}},{"$f":"'Horário Geral (Semana 2)'!#REF!","v":{"$error":"#REF!"}},{"$f":"'Horário Geral (Semana 2)'!#REF!","v":{"$error":"#REF!"}},{"$f":"'Horário Geral (Semana 2)'!#REF!","v":{"$error":"#REF!"}},{"$f":"'Horário Geral (Semana 2)'!#REF!","v":{"$error":"#REF!"}},{"$f":"'Horário Geral (Semana 2)'!#REF!","v":{"$error":"#REF!"}},{"$f":"'Horário Geral (Semana 2)'!#REF!","v":{"$error":"#REF!"}},{"$f":"'Horário Geral (Semana 2)'!#REF!","v":{"$error":"#REF!"}},{"$f":"'Horário Geral (Semana 2)'!#REF!","v":{"$error":"#REF!"}},{"$f":"'Horário Geral (Semana 2)'!#REF!","v":{"$error":"#REF!"}},{"$f":"'Horário Geral (Semana 2)'!#REF!","v":{"$error":"#REF!"}},{"$f":"'Horário Geral (Semana 2)'!#REF!","v":{"$error":"#REF!"}},{"$f":"'Horário Geral (Semana 2)'!#REF!","v":{"$error":"#REF!"}},{"$f":"'Horário Geral (Semana 2)'!#REF!","v":{"$error":"#REF!"}},{"$f":"'Horário Geral (Semana 2)'!#REF!","v":{"$error":"#REF!"}},{"$f":"'Horário Geral (Semana 2)'!#REF!","v":{"$error":"#REF!"}},{"$f":"'Horário Geral (Semana 2)'!#REF!","v":{"$error":"#REF!"}},{"$f":"'Horário Geral (Semana 2)'!#REF!","v":{"$error":"#REF!"}},{"$f":"'Horário Geral (Semana 2)'!#REF!","v":{"$error":"#REF!"}},{"$f":"'Horário Geral (Semana 2)'!#REF!","v":{"$error":"#REF!"}},{"$f":"'Horário Geral (Semana 2)'!#REF!","v":{"$error":"#REF!"}},{"$f":"'Horário Geral (Semana 2)'!#REF!","v":{"$error":"#REF!"}},{"$f":"'Horário Geral (Semana 2)'!#REF!","v":{"$error":"#REF!"}},{"$f":"'Horário Geral (Semana 2)'!#REF!","v":{"$error":"#REF!"}},{"$f":"'Horário Geral (Semana 2)'!#REF!","v":{"$error":"#REF!"}},{"$f":"'Horário Geral (Semana 2)'!#REF!","v":{"$error":"#REF!"}},{"$f":"'Horário Geral (Semana 2)'!#REF!","v":{"$error":"#REF!"}},{"$f":"'Horário Geral (Semana 2)'!#REF!","v":{"$error":"#REF!"}},{"$f":"'Horário Geral (Semana 2)'!#REF!","v":{"$error":"#REF!"}},{"$f":"'Horário Geral (Semana 2)'!#REF!","v":{"$error":"#REF!"}},{"$f":"'Horário Geral (Semana 2)'!#REF!","v":{"$error":"#REF!"}},{"$f":"'Horário Geral (Semana 2)'!#REF!","v":{"$error":"#REF!"}},{"$f":"'Horário Geral (Semana 2)'!#REF!","v":{"$error":"#REF!"}},{"$f":"'Horário Geral (Semana 2)'!#REF!","v":{"$error":"#REF!"}},{"$f":"'Horário Geral (Semana 2)'!#REF!","v":{"$error":"#REF!"}},{"$f":"'Horário Geral (Semana 2)'!#REF!","v":{"$error":"#REF!"}},{"$f":"'Horário Geral (Semana 2)'!#REF!","v":{"$error":"#REF!"}},{"$f":"'Horário Geral (Semana 2)'!#REF!","v":{"$error":"#REF!"}},{"$f":"'Horário Geral (Semana 2)'!#REF!","v":{"$error":"#REF!"}},{"$f":"'Horário Geral (Semana 2)'!#REF!","v":{"$error":"#REF!"}},{"$f":"'Horário Geral (Semana 2)'!#REF!","v":{"$error":"#REF!"}},{"$f":"'Horário Geral (Semana 2)'!#REF!","v":{"$error":"#REF!"}},{"$f":"'Horário Geral (Semana 2)'!#REF!","v":{"$error":"#REF!"}},{"$f":"'Horário Geral (Semana 2)'!#REF!","v":{"$error":"#REF!"}},{"$f":"'Horário Geral (Semana 2)'!#REF!","v":{"$error":"#REF!"}},{"$f":"'Horário Geral (Semana 2)'!#REF!","v":{"$error":"#REF!"}},{"$f":"'Horário Geral (Semana 2)'!#REF!","v":{"$error":"#REF!"}},{"$f":"'Horário Geral (Semana 2)'!#REF!","v":{"$error":"#REF!"}},{"$f":"'Horário Geral (Semana 2)'!#REF!","v":{"$error":"#REF!"}},{"$f":"'Horário Geral (Semana 2)'!#REF!","v":{"$error":"#REF!"}},{"$f":"'Horário Geral (Semana 2)'!#REF!","v":{"$error":"#REF!"}}]
[null,"6º","22:35:00",{"$f":"'Horário Geral (Semana 2)'!#REF!","v":{"$error":"#REF!"}},{"$f":"'Horário Geral (Semana 2)'!#REF!","v":{"$error":"#REF!"}},{"$f":"'Horário Geral (Semana 2)'!#REF!","v":{"$error":"#REF!"}},{"$f":"'Horário Geral (Semana 2)'!#REF!","v":{"$error":"#REF!"}},{"$f":"'Horário Geral (Semana 2)'!#REF!","v":{"$error":"#REF!"}},{"$f":"'Horário Geral (Semana 2)'!#REF!","v":{"$error":"#REF!"}},{"$f":"'Horário Geral (Semana 2)'!#REF!","v":{"$error":"#REF!"}},{"$f":"'Horário Geral (Semana 2)'!#REF!","v":{"$error":"#REF!"}},{"$f":"'Horário Geral (Semana 2)'!#REF!","v":{"$error":"#REF!"}},{"$f":"'Horário Geral (Semana 2)'!#REF!","v":{"$error":"#REF!"}},{"$f":"'Horário Geral (Semana 2)'!#REF!","v":{"$error":"#REF!"}},{"$f":"'Horário Geral (Semana 2)'!#REF!","v":{"$error":"#REF!"}},{"$f":"'Horário Geral (Semana 2)'!#REF!","v":{"$error":"#REF!"}},{"$f":"'Horário Geral (Semana 2)'!#REF!","v":{"$error":"#REF!"}},{"$f":"'Horário Geral (Semana 2)'!#REF!","v":{"$error":"#REF!"}},{"$f":"'Horário Geral (Semana 2)'!#REF!","v":{"$error":"#REF!"}},{"$f":"'Horário Geral (Semana 2)'!#REF!","v":{"$error":"#REF!"}},{"$f":"'Horário Geral (Semana 2)'!#REF!","v":{"$error":"#REF!"}},{"$f":"'Horário Geral (Semana 2)'!#REF!","v":{"$error":"#REF!"}},{"$f":"'Horário Geral (Semana 2)'!#REF!","v":{"$error":"#REF!"}},{"$f":"'Horário Geral (Semana 2)'!#REF!","v":{"$error":"#REF!"}},{"$f":"'Horário Geral (Semana 2)'!#REF!","v":{"$error":"#REF!"}},{"$f":"'Horário Geral (Semana 2)'!#REF!","v":{"$error":"#REF!"}},{"$f":"'Horário Geral (Semana 2)'!#REF!","v":{"$error":"#REF!"}},{"$f":"'Horário Geral (Semana 2)'!#REF!","v":{"$error":"#REF!"}},{"$f":"'Horário Geral (Semana 2)'!#REF!","v":{"$error":"#REF!"}},{"$f":"'Horário Geral (Semana 2)'!#REF!","v":{"$error":"#REF!"}},{"$f":"'Horário Geral (Semana 2)'!#REF!","v":{"$error":"#REF!"}},{"$f":"'Horário Geral (Semana 2)'!#REF!","v":{"$error":"#REF!"}},{"$f":"'Horário Geral (Semana 2)'!#REF!","v":{"$error":"#REF!"}},{"$f":"'Horário Geral (Semana 2)'!#REF!","v":{"$error":"#REF!"}},{"$f":"'Horário Geral (Semana 2)'!#REF!","v":{"$error":"#REF!"}},{"$f":"'Horário Geral (Semana 2)'!#REF!","v":{"$error":"#REF!"}},{"$f":"'Horário Geral (Semana 2)'!#REF!","v":{"$error":"#REF!"}},{"$f":"'Horário Geral (Semana 2)'!#REF!","v":{"$error":"#REF!"}},{"$f":"'Horário Geral (Semana 2)'!#REF!","v":{"$error":"#REF!"}},{"$f":"'Horário Geral (Semana 2)'!#REF!","v":{"$error":"#REF!"}},{"$f":"'Horário Geral (Semana 2)'!#REF!","v":{"$error":"#REF!"}},{"$f":"'Horário Geral (Semana 2)'!#REF!","v":{"$error":"#REF!"}},{"$f":"'Horário Geral (Semana 2)'!#REF!","v":{"$error":"#REF!"}},{"$f":"'Horário Geral (Semana 2)'!#REF!","v":{"$error":"#REF!"}},{"$f":"'Horário Geral (Semana 2)'!#REF!","v":{"$error":"#REF!"}},{"$f":"'Horário Geral (Semana 2)'!#REF!","v":{"$error":"#REF!"}},{"$f":"'Horário Geral (Semana 2)'!#REF!","v":{"$error":"#REF!"}},{"$f":"'Horário Geral (Semana 2)'!#REF!","v":{"$error":"#REF!"}},{"$f":"'Horário Geral (Semana 2)'!#REF!","v":{"$error":"#REF!"}},{"$f":"'Horário Geral (Semana 2)'!#REF!","v":{"$error":"#REF!"}},{"$f":"'Horário Geral (Semana 2)'!#REF!","v":{"$error":"#REF!"}},{"$f":"'Horário Geral (Semana 2)'!#REF!","v":{"$error":"#REF!"}},{"$f":"'Horário Geral (Semana 2)'!#REF!","v":{"$error":"#REF!"}},{"$f":"'Horário Geral (Semana 2)'!#REF!","v":{"$error":"#REF!"}},{"$f":"'Horário Geral (Semana 2)'!#REF!","v":{"$error":"#REF!"}},{"$f":"'Horário Geral (Semana 2)'!#REF!","v":{"$error":"#REF!"}},{"$f":"'Horário Geral (Semana 2)'!#REF!","v":{"$error":"#REF!"}},{"$f":"'Horário Geral (Semana 2)'!#REF!","v":{"$error":"#REF!"}},{"$f":"'Horário Geral (Semana 2)'!#REF!","v":{"$error":"#REF!"}},{"$f":"'Horário Geral (Semana 2)'!#REF!","v":{"$error":"#REF!"}},{"$f":"'Horário Geral (Semana 2)'!#REF!","v":{"$error":"#REF!"}},{"$f":"'Horário Geral (Semana 2)'!#REF!","v":{"$error":"#REF!"}},{"$f":"'Horário Geral (Semana 2)'!#REF!","v":{"$error":"#REF!"}},{"$f":"'Horário Geral (Semana 2)'!#REF!","v":{"$error":"#REF!"}},{"$f":"'Horário Geral (Semana 2)'!#REF!","v":{"$error":"#REF!"}},{"$f":"'Horário Geral (Semana 2)'!#REF!","v":{"$error":"#REF!"}},{"$f":"'Horário Geral (Semana 2)'!#REF!","v":{"$error":"#REF!"}},{"$f":"'Horário Geral (Semana 2)'!#REF!","v":{"$error":"#REF!"}},{"$f":"'Horário Geral (Semana 2)'!#REF!","v":{"$error":"#REF!"}},{"$f":"'Horário Geral (Semana 2)'!#REF!","v":{"$error":"#REF!"}}]
["QUA","1ª","18:10:00",{"$f":"'Horário Geral (Semana 2)'!#REF!","v":{"$error":"#REF!"}},{"$f":"'Horário Geral (Semana 2)'!#REF!","v":{"$error":"#REF!"}},{"$f":"'Horário Geral (Semana 2)'!#REF!","v":{"$error":"#REF!"}},{"$f":"'Horário Geral (Semana 2)'!#REF!","v":{"$error":"#REF!"}},{"$f":"'Horário Geral (Semana 2)'!#REF!","v":{"$error":"#REF!"}},{"$f":"'Horário Geral (Semana 2)'!#REF!","v":{"$error":"#REF!"}},{"$f":"'Horário Geral (Semana 2)'!#REF!","v":{"$error":"#REF!"}},{"$f":"'Horário Geral (Semana 2)'!#REF!","v":{"$error":"#REF!"}},{"$f":"'Horário Geral (Semana 2)'!#REF!","v":{"$error":"#REF!"}},{"$f":"'Horário Geral (Semana 2)'!#REF!","v":{"$error":"#REF!"}},{"$f":"'Horário Geral (Semana 2)'!#REF!","v":{"$error":"#REF!"}},{"$f":"'Horário Geral (Semana 2)'!#REF!","v":{"$error":"#REF!"}},{"$f":"'Horário Geral (Semana 2)'!#REF!","v":{"$error":"#REF!"}},{"$f":"'Horário Geral (Semana 2)'!#REF!","v":{"$error":"#REF!"}},{"$f":"'Horário Geral (Semana 2)'!#REF!","v":{"$error":"#REF!"}},{"$f":"'Horário Geral (Semana 2)'!#REF!","v":{"$error":"#REF!"}},{"$f":"'Horário Geral (Semana 2)'!#REF!","v":{"$error":"#REF!"}},{"$f":"'Horário Geral (Semana 2)'!#REF!","v":{"$error":"#REF!"}},{"$f":"'Horário Geral (Semana 2)'!#REF!","v":{"$error":"#REF!"}},{"$f":"'Horário Geral (Semana 2)'!#REF!","v":{"$error":"#REF!"}},{"$f":"'Horário Geral (Semana 2)'!#REF!","v":{"$error":"#REF!"}},{"$f":"'Horário Geral (Semana 2)'!#REF!","v":{"$error":"#REF!"}},{"$f":"'Horário Geral (Semana 2)'!#REF!","v":{"$error":"#REF!"}},{"$f":"'Horário Geral (Semana 2)'!#REF!","v":{"$error":"#REF!"}},{"$f":"'Horário Geral (Semana 2)'!#REF!","v":{"$error":"#REF!"}},{"$f":"'Horário Geral (Semana 2)'!#REF!","v":{"$error":"#REF!"}},{"$f":"'Horário Geral (Semana 2)'!#REF!","v":{"$error":"#REF!"}},{"$f":"'Horário Geral (Semana 2)'!#REF!","v":{"$error":"#REF!"}},{"$f":"'Horário Geral (Semana 2)'!#REF!","v":{"$error":"#REF!"}},{"$f":"'Horário Geral (Semana 2)'!#REF!","v":{"$error":"#REF!"}},{"$f":"'Horário Geral (Semana 2)'!#REF!","v":{"$error":"#REF!"}},{"$f":"'Horário Geral (Semana 2)'!#REF!","v":{"$error":"#REF!"}},{"$f":"'Horário Geral (Semana 2)'!#REF!","v":{"$error":"#REF!"}},{"$f":"'Horário Geral (Semana 2)'!#REF!","v":{"$error":"#REF!"}},{"$f":"'Horário Geral (Semana 2)'!#REF!","v":{"$error":"#REF!"}},{"$f":"'Horário Geral (Semana 2)'!#REF!","v":{"$error":"#REF!"}},{"$f":"'Horário Geral (Semana 2)'!#REF!","v":{"$error":"#REF!"}},{"$f":"'Horário Geral (Semana 2)'!#REF!","v":{"$error":"#REF!"}},{"$f":"'Horário Geral (Semana 2)'!#REF!","v":{"$error":"#REF!"}},{"$f":"'Horário Geral (Semana 2)'!#REF!","v":{"$error":"#REF!"}},{"$f":"'Horário Geral (Semana 2)'!#REF!","v":{"$error":"#REF!"}},{"$f":"'Horário Geral (Semana 2)'!#REF!","v":{"$error":"#REF!"}},{"$f":"'Horário Geral (Semana 2)'!#REF!","v":{"$error":"#REF!"}},{"$f":"'Horário Geral (Semana 2)'!#REF!","v":{"$error":"#REF!"}},{"$f":"'Horário Geral (Semana 2)'!#REF!","v":{"$error":"#REF!"}},{"$f":"'Horário Geral (Semana 2)'!#REF!","v":{"$error":"#REF!"}},{"$f":"'Horário Geral (Semana 2)'!#REF!","v":{"$error":"#REF!"}},{"$f":"'Horário Geral (Semana 2)'!#REF!","v":{"$error":"#REF!"}},{"$f":"'Horário Geral (Semana 2)'!#REF!","v":{"$error":"#REF!"}},{"$f":"'Horário Geral (Semana 2)'!#REF!","v":{"$error":"#REF!"}},{"$f":"'Horário Geral (Semana 2)'!#REF!","v":{"$error":"#REF!"}},{"$f":"'Horário Geral (Semana 2)'!#REF!","v":{"$error":"#REF!"}},{"$f":"'Horário Geral (Semana 2)'!#REF!","v":{"$error":"#REF!"}},{"$f":"'Horário Geral (Semana 2)'!#REF!","v":{"$error":"#REF!"}},{"$f":"'Horário Geral (Semana 2)'!#REF!","v":{"$error":"#REF!"}},{"$f":"'Horário Geral (Semana 2)'!#REF!","v":{"$error":"#REF!"}},{"$f":"'Horário Geral (Semana 2)'!#REF!","v":{"$error":"#REF!"}},{"$f":"'Horário Geral (Semana 2)'!#REF!","v":{"$error":"#REF!"}},{"$f":"'Horário Geral (Semana 2)'!#REF!","v":{"$error":"#REF!"}},{"$f":"'Horário Geral (Semana 2)'!#REF!","v":{"$error":"#REF!"}},{"$f":"'Horário Geral (Semana 2)'!#REF!","v":{"$error":"#REF!"}},{"$f":"'Horário Geral (Semana 2)'!#REF!","v":{"$error":"#REF!"}},{"$f":"'Horário Geral (Semana 2)'!#REF!","v":{"$error":"#REF!"}},{"$f":"'Horário Geral (Semana 2)'!#REF!","v":{"$error":"#REF!"}},{"$f":"'Horário Geral (Semana 2)'!#REF!","v":{"$error":"#REF!"}},{"$f":"'Horário Geral (Semana 2)'!#REF!","v":{"$error":"#REF!"}},{"$f":"'Horário Geral (Semana 2)'!#REF!","v":{"$error":"#REF!"}}]
[null,"2ª","19:00:00",{"$f":"'Horário Geral (Semana 2)'!#REF!","v":{"$error":"#REF!"}},{"$f":"'Horário Geral (Semana 2)'!#REF!","v":{"$error":"#REF!"}},{"$f":"'Horário Geral (Semana 2)'!#REF!","v":{"$error":"#REF!"}},{"$f":"'Horário Geral (Semana 2)'!#REF!","v":{"$error":"#REF!"}},{"$f":"'Horário Geral (Semana 2)'!#REF!","v":{"$error":"#REF!"}},{"$f":"'Horário Geral (Semana 2)'!#REF!","v":{"$error":"#REF!"}},{"$f":"'Horário Geral (Semana 2)'!#REF!","v":{"$error":"#REF!"}},{"$f":"'Horário Geral (Semana 2)'!#REF!","v":{"$error":"#REF!"}},{"$f":"'Horário Geral (Semana 2)'!#REF!","v":{"$error":"#REF!"}},{"$f":"'Horário Geral (Semana 2)'!#REF!","v":{"$error":"#REF!"}},{"$f":"'Horário Geral (Semana 2)'!#REF!","v":{"$error":"#REF!"}},{"$f":"'Horário Geral (Semana 2)'!#REF!","v":{"$error":"#REF!"}},{"$f":"'Horário Geral (Semana 2)'!#REF!","v":{"$error":"#REF!"}},{"$f":"'Horário Geral (Semana 2)'!#REF!","v":{"$error":"#REF!"}},{"$f":"'Horário Geral (Semana 2)'!#REF!","v":{"$error":"#REF!"}},{"$f":"'Horário Geral (Semana 2)'!#REF!","v":{"$error":"#REF!"}},{"$f":"'Horário Geral (Semana 2)'!#REF!","v":{"$error":"#REF!"}},{"$f":"'Horário Geral (Semana 2)'!#REF!","v":{"$error":"#REF!"}},{"$f":"'Horário Geral (Semana 2)'!#REF!","v":{"$error":"#REF!"}},{"$f":"'Horário Geral (Semana 2)'!#REF!","v":{"$error":"#REF!"}},{"$f":"'Horário Geral (Semana 2)'!#REF!","v":{"$error":"#REF!"}},{"$f":"'Horário Geral (Semana 2)'!#REF!","v":{"$error":"#REF!"}},{"$f":"'Horário Geral (Semana 2)'!#REF!","v":{"$error":"#REF!"}},{"$f":"'Horário Geral (Semana 2)'!#REF!","v":{"$error":"#REF!"}},{"$f":"'Horário Geral (Semana 2)'!#REF!","v":{"$error":"#REF!"}},{"$f":"'Horário Geral (Semana 2)'!#REF!","v":{"$error":"#REF!"}},{"$f":"'Horário Geral (Semana 2)'!#REF!","v":{"$error":"#REF!"}},{"$f":"'Horário Geral (Semana 2)'!#REF!","v":{"$error":"#REF!"}},{"$f":"'Horário Geral (Semana 2)'!#REF!","v":{"$error":"#REF!"}},{"$f":"'Horário Geral (Semana 2)'!#REF!","v":{"$error":"#REF!"}},{"$f":"'Horário Geral (Semana 2)'!#REF!","v":{"$error":"#REF!"}},{"$f":"'Horário Geral (Semana 2)'!#REF!","v":{"$error":"#REF!"}},{"$f":"'Horário Geral (Semana 2)'!#REF!","v":{"$error":"#REF!"}},{"$f":"'Horário Geral (Semana 2)'!#REF!","v":{"$error":"#REF!"}},{"$f":"'Horário Geral (Semana 2)'!#REF!","v":{"$error":"#REF!"}},{"$f":"'Horário Geral (Semana 2)'!#REF!","v":{"$error":"#REF!"}},{"$f":"'Horário Geral (Semana 2)'!#REF!","v":{"$error":"#REF!"}},{"$f":"'Horário Geral (Semana 2)'!#REF!","v":{"$error":"#REF!"}},{"$f":"'Horário Geral (Semana 2)'!#REF!","v":{"$error":"#REF!"}},{"$f":"'Horário Geral (Semana 2)'!#REF!","v":{"$error":"#REF!"}},{"$f":"'Horário Geral (Semana 2)'!#REF!","v":{"$error":"#REF!"}},{"$f":"'Horário Geral (Semana 2)'!#REF!","v":{"$error":"#REF!"}},{"$f":"'Horário Geral (Semana 2)'!#REF!","v":{"$error":"#REF!"}},{"$f":"'Horário Geral (Semana 2)'!#REF!","v":{"$error":"#REF!"}},{"$f":"'Horário Geral (Semana 2)'!#REF!","v":{"$error":"#REF!"}},{"$f":"'Horário Geral (Semana 2)'!#REF!","v":{"$error":"#REF!"}},{"$f":"'Horário Geral (Semana 2)'!#REF!","v":{"$error":"#REF!"}},{"$f":"'Horário Geral (Semana 2)'!#REF!","v":{"$error":"#REF!"}},{"$f":"'Horário Geral (Semana 2)'!#REF!","v":{"$error":"#REF!"}},{"$f":"'Horário Geral (Semana 2)'!#REF!","v":{"$error":"#REF!"}},{"$f":"'Horário Geral (Semana 2)'!#REF!","v":{"$error":"#REF!"}},{"$f":"'Horário Geral (Semana 2)'!#REF!","v":{"$error":"#REF!"}},{"$f":"'Horário Geral (Semana 2)'!#REF!","v":{"$error":"#REF!"}},{"$f":"'Horário Geral (Semana 2)'!#REF!","v":{"$error":"#REF!"}},{"$f":"'Horário Geral (Semana 2)'!#REF!","v":{"$error":"#REF!"}},{"$f":"'Horário Geral (Semana 2)'!#REF!","v":{"$error":"#REF!"}},{"$f":"'Horário Geral (Semana 2)'!#REF!","v":{"$error":"#REF!"}},{"$f":"'Horário Geral (Semana 2)'!#REF!","v":{"$error":"#REF!"}},{"$f":"'Horário Geral (Semana 2)'!#REF!","v":{"$error":"#REF!"}},{"$f":"'Horário Geral (Semana 2)'!#REF!","v":{"$error":"#REF!"}},{"$f":"'Horário Geral (Semana 2)'!#REF!","v":{"$error":"#REF!"}},{"$f":"'Horário Geral (Semana 2)'!#REF!","v":{"$error":"#REF!"}},{"$f":"'Horário Geral (Semana 2)'!#REF!","v":{"$error":"#REF!"}},{"$f":"'Horário Geral (Semana 2)'!#REF!","v":{"$error":"#REF!"}},{"$f":"'Horário Geral (Semana 2)'!#REF!","v":{"$error":"#REF!"}},{"$f":"'Horário Geral (Semana 2)'!#REF!","v":{"$error":"#REF!"}},{"$f":"'Horário Geral (Semana 2)'!#REF!","v":{"$error":"#REF!"}}]
[null,"3ª","19:50:00",{"$f":"'Horário Geral (Semana 2)'!#REF!","v":{"$error":"#REF!"}},{"$f":"'Horário Geral (Semana 2)'!#REF!","v":{"$error":"#REF!"}},{"$f":"'Horário Geral (Semana 2)'!#REF!","v":{"$error":"#REF!"}},{"$f":"'Horário Geral (Semana 2)'!#REF!","v":{"$error":"#REF!"}},{"$f":"'Horário Geral (Semana 2)'!#REF!","v":{"$error":"#REF!"}},{"$f":"'Horário Geral (Semana 2)'!#REF!","v":{"$error":"#REF!"}},{"$f":"'Horário Geral (Semana 2)'!#REF!","v":{"$error":"#REF!"}},{"$f":"'Horário Geral (Semana 2)'!#REF!","v":{"$error":"#REF!"}},{"$f":"'Horário Geral (Semana 2)'!#REF!","v":{"$error":"#REF!"}},{"$f":"'Horário Geral (Semana 2)'!#REF!","v":{"$error":"#REF!"}},{"$f":"'Horário Geral (Semana 2)'!#REF!","v":{"$error":"#REF!"}},{"$f":"'Horário Geral (Semana 2)'!#REF!","v":{"$error":"#REF!"}},{"$f":"'Horário Geral (Semana 2)'!#REF!","v":{"$error":"#REF!"}},{"$f":"'Horário Geral (Semana 2)'!#REF!","v":{"$error":"#REF!"}},{"$f":"'Horário Geral (Semana 2)'!#REF!","v":{"$error":"#REF!"}},{"$f":"'Horário Geral (Semana 2)'!#REF!","v":{"$error":"#REF!"}},{"$f":"'Horário Geral (Semana 2)'!#REF!","v":{"$error":"#REF!"}},{"$f":"'Horário Geral (Semana 2)'!#REF!","v":{"$error":"#REF!"}},{"$f":"'Horário Geral (Semana 2)'!#REF!","v":{"$error":"#REF!"}},{"$f":"'Horário Geral (Semana 2)'!#REF!","v":{"$error":"#REF!"}},{"$f":"'Horário Geral (Semana 2)'!#REF!","v":{"$error":"#REF!"}},{"$f":"'Horário Geral (Semana 2)'!#REF!","v":{"$error":"#REF!"}},{"$f":"'Horário Geral (Semana 2)'!#REF!","v":{"$error":"#REF!"}},{"$f":"'Horário Geral (Semana 2)'!#REF!","v":{"$error":"#REF!"}},{"$f":"'Horário Geral (Semana 2)'!#REF!","v":{"$error":"#REF!"}},{"$f":"'Horário Geral (Semana 2)'!#REF!","v":{"$error":"#REF!"}},{"$f":"'Horário Geral (Semana 2)'!#REF!","v":{"$error":"#REF!"}},{"$f":"'Horário Geral (Semana 2)'!#REF!","v":{"$error":"#REF!"}},{"$f":"'Horário Geral (Semana 2)'!#REF!","v":{"$error":"#REF!"}},{"$f":"'Horário Geral (Semana 2)'!#REF!","v":{"$error":"#REF!"}},{"$f":"'Horário Geral (Semana 2)'!#REF!","v":{"$error":"#REF!"}},{"$f":"'Horário Geral (Semana 2)'!#REF!","v":{"$error":"#REF!"}},{"$f":"'Horário Geral (Semana 2)'!#REF!","v":{"$error":"#REF!"}},{"$f":"'Horário Geral (Semana 2)'!#REF!","v":{"$error":"#REF!"}},{"$f":"'Horário Geral (Semana 2)'!#REF!","v":{"$error":"#REF!"}},{"$f":"'Horário Geral (Semana 2)'!#REF!","v":{"$error":"#REF!"}},{"$f":"'Horário Geral (Semana 2)'!#REF!","v":{"$error":"#REF!"}},{"$f":"'Horário Geral (Semana 2)'!#REF!","v":{"$error":"#REF!"}},{"$f":"'Horário Geral (Semana 2)'!#REF!","v":{"$error":"#REF!"}},{"$f":"'Horário Geral (Semana 2)'!#REF!","v":{"$error":"#REF!"}},{"$f":"'Horário Geral (Semana 2)'!#REF!","v":{"$error":"#REF!"}},{"$f":"'Horário Geral (Semana 2)'!#REF!","v":{"$error":"#REF!"}},{"$f":"'Horário Geral (Semana 2)'!#REF!","v":{"$error":"#REF!"}},{"$f":"'Horário Geral (Semana 2)'!#REF!","v":{"$error":"#REF!"}},{"$f":"'Horário Geral (Semana 2)'!#REF!","v":{"$error":"#REF!"}},{"$f":"'Horário Geral (Semana 2)'!#REF!","v":{"$error":"#REF!"}},{"$f":"'Horário Geral (Semana 2)'!#REF!","v":{"$error":"#REF!"}},{"$f":"'Horário Geral (Semana 2)'!#REF!","v":{"$error":"#REF!"}},{"$f":"'Horário Geral (Semana 2)'!#REF!","v":{"$error":"#REF!"}},{"$f":"'Horário Geral (Semana 2)'!#REF!","v":{"$error":"#REF!"}},{"$f":"'Horário Geral (Semana 2)'!#REF!","v":{"$error":"#REF!"}},{"$f":"'Horário Geral (Semana 2)'!#REF!","v":{"$error":"#REF!"}},{"$f":"'Horário Geral (Semana 2)'!#REF!","v":{"$error":"#REF!"}},{"$f":"'Horário Geral (Semana 2)'!#REF!","v":{"$error":"#REF!"}},{"$f":"'Horário Geral (Semana 2)'!#REF!","v":{"$error":"#REF!"}},{"$f":"'Horário Geral (Semana 2)'!#REF!","v":{"$error":"#REF!"}},{"$f":"'Horário Geral (Semana 2)'!#REF!","v":{"$error":"#REF!"}},{"$f":"'Horário Geral (Semana 2)'!#REF!","v":{"$error":"#REF!"}},{"$f":"'Horário Geral (Semana 2)'!#REF!","v":{"$error":"#REF!"}},{"$f":"'Horário Geral (Semana 2)'!#REF!","v":{"$error":"#REF!"}},{"$f":"'Horário Geral (Semana 2)'!#REF!","v":{"$error":"#REF!"}},{"$f":"'Horário Geral (Semana 2)'!#REF!","v":{"$error":"#REF!"}},{"$f":"'Horário Geral (Semana 2)'!#REF!","v":{"$error":"#REF!"}},{"$f":"'Horário Geral (Semana 2)'!#REF!","v":{"$error":"#REF!"}},{"$f":"'Horário Geral (Semana 2)'!#REF!","v":{"$error":"#REF!"}},{"$f":"'Horário Geral (Semana 2)'!#REF!","v":{"$error":"#REF!"}},{"$f":"'Horário Geral (Semana 2)'!#REF!","v":{"$error":"#REF!"}}]
[null,"4ª","20:55:00",{"$f":"'Horário Geral (Semana 2)'!#REF!","v":{"$error":"#REF!"}},{"$f":"'Horário Geral (Semana 2)'!#REF!","v":{"$error":"#REF!"}},{"$f":"'Horário Geral (Semana 2)'!#REF!","v":{"$error":"#REF!"}},{"$f":"'Horário Geral (Semana 2)'!#REF!","v":{"$error":"#REF!"}},{"$f":"'Horário Geral (Semana 2)'!#REF!","v":{"$error":"#REF!"}},{"$f":"'Horário Geral (Semana 2)'!#REF!","v":{"$error":"#REF!"}},{"$f":"'Horário Geral (Semana 2)'!#REF!","v":{"$error":"#REF!"}},{"$f":"'Horário Geral (Semana 2)'!#REF!","v":{"$error":"#REF!"}},{"$f":"'Horário Geral (Semana 2)'!#REF!","v":{"$error":"#REF!"}},{"$f":"'Horário Geral (Semana 2)'!#REF!","v":{"$error":"#REF!"}},{"$f":"'Horário Geral (Semana 2)'!#REF!","v":{"$error":"#REF!"}},{"$f":"'Horário Geral (Semana 2)'!#REF!","v":{"$error":"#REF!"}},{"$f":"'Horário Geral (Semana 2)'!#REF!","v":{"$error":"#REF!"}},{"$f":"'Horário Geral (Semana 2)'!#REF!","v":{"$error":"#REF!"}},{"$f":"'Horário Geral (Semana 2)'!#REF!","v":{"$error":"#REF!"}},{"$f":"'Horário Geral (Semana 2)'!#REF!","v":{"$error":"#REF!"}},{"$f":"'Horário Geral (Semana 2)'!#REF!","v":{"$error":"#REF!"}},{"$f":"'Horário Geral (Semana 2)'!#REF!","v":{"$error":"#REF!"}},{"$f":"'Horário Geral (Semana 2)'!#REF!","v":{"$error":"#REF!"}},{"$f":"'Horário Geral (Semana 2)'!#REF!","v":{"$error":"#REF!"}},{"$f":"'Horário Geral (Semana 2)'!#REF!","v":{"$error":"#REF!"}},{"$f":"'Horário Geral (Semana 2)'!#REF!","v":{"$error":"#REF!"}},{"$f":"'Horário Geral (Semana 2)'!#REF!","v":{"$error":"#REF!"}},{"$f":"'Horário Geral (Semana 2)'!#REF!","v":{"$error":"#REF!"}},{"$f":"'Horário Geral (Semana 2)'!#REF!","v":{"$error":"#REF!"}},{"$f":"'Horário Geral (Semana 2)'!#REF!","v":{"$error":"#REF!"}},{"$f":"'Horário Geral (Semana 2)'!#REF!","v":{"$error":"#REF!"}},{"$f":"'Horário Geral (Semana 2)'!#REF!","v":{"$error":"#REF!"}},{"$f":"'Horário Geral (Semana 2)'!#REF!","v":{"$error":"#REF!"}},{"$f":"'Horário Geral (Semana 2)'!#REF!","v":{"$error":"#REF!"}},{"$f":"'Horário Geral (Semana 2)'!#REF!","v":{"$error":"#REF!"}},{"$f":"'Horário Geral (Semana 2)'!#REF!","v":{"$error":"#REF!"}},{"$f":"'Horário Geral (Semana 2)'!#REF!","v":{"$error":"#REF!"}},{"$f":"'Horário Geral (Semana 2)'!#REF!","v":{"$error":"#REF!"}},{"$f":"'Horário Geral (Semana 2)'!#REF!","v":{"$error":"#REF!"}},{"$f":"'Horário Geral (Semana 2)'!#REF!","v":{"$error":"#REF!"}},{"$f":"'Horário Geral (Semana 2)'!#REF!","v":{"$error":"#REF!"}},{"$f":"'Horário Geral (Semana 2)'!#REF!","v":{"$error":"#REF!"}},{"$f":"'Horário Geral (Semana 2)'!#REF!","v":{"$error":"#REF!"}},{"$f":"'Horário Geral (Semana 2)'!#REF!","v":{"$error":"#REF!"}},{"$f":"'Horário Geral (Semana 2)'!#REF!","v":{"$error":"#REF!"}},{"$f":"'Horário Geral (Semana 2)'!#REF!","v":{"$error":"#REF!"}},{"$f":"'Horário Geral (Semana 2)'!#REF!","v":{"$error":"#REF!"}},{"$f":"'Horário Geral (Semana 2)'!#REF!","v":{"$error":"#REF!"}},{"$f":"'Horário Geral (Semana 2)'!#REF!","v":{"$error":"#REF!"}},{"$f":"'Horário Geral (Semana 2)'!#REF!","v":{"$error":"#REF!"}},{"$f":"'Horário Geral (Semana 2)'!#REF!","v":{"$error":"#REF!"}},{"$f":"'Horário Geral (Semana 2)'!#REF!","v":{"$error":"#REF!"}},{"$f":"'Horário Geral (Semana 2)'!#REF!","v":{"$error":"#REF!"}},{"$f":"'Horário Geral (Semana 2)'!#REF!","v":{"$error":"#REF!"}},{"$f":"'Horário Geral (Semana 2)'!#REF!","v":{"$error":"#REF!"}},{"$f":"'Horário Geral (Semana 2)'!#REF!","v":{"$error":"#REF!"}},{"$f":"'Horário Geral (Semana 2)'!#REF!","v":{"$error":"#REF!"}},{"$f":"'Horário Geral (Semana 2)'!#REF!","v":{"$error":"#REF!"}},{"$f":"'Horário Geral (Semana 2)'!#REF!","v":{"$error":"#REF!"}},{"$f":"'Horário Geral (Semana 2)'!#REF!","v":{"$error":"#REF!"}},{"$f":"'Horário Geral (Semana 2)'!#REF!","v":{"$error":"#REF!"}},{"$f":"'Horário Geral (Semana 2)'!#REF!","v":{"$error":"#REF!"}},{"$f":"'Horário Geral (Semana 2)'!#REF!","v":{"$error":"#REF!"}},{"$f":"'Horário Geral (Semana 2)'!#REF!","v":{"$error":"#REF!"}},{"$f":"'Horário Geral (Semana 2)'!#REF!","v":{"$error":"#REF!"}},{"$f":"'Horário Geral (Semana 2)'!#REF!","v":{"$error":"#REF!"}},{"$f":"'Horário Geral (Semana 2)'!#REF!","v":{"$error":"#REF!"}},{"$f":"'Horário Geral (Semana 2)'!#REF!","v":{"$error":"#REF!"}},{"$f":"'Horário Geral (Semana 2)'!#REF!","v":{"$error":"#REF!"}},{"$f":"'Horário Geral (Semana 2)'!#REF!","v":{"$error":"#REF!"}},{"$f":"'Horário Geral (Semana 2)'!#REF!","v":{"$error":"#REF!"}}]
[null,"5ª","21:45:00",{"$f":"'Horário Geral (Semana 2)'!#REF!","v":{"$error":"#REF!"}},{"$f":"'Horário Geral (Semana 2)'!#REF!","v":{"$error":"#REF!"}},{"$f":"'Horário Geral (Semana 2)'!#REF!","v":{"$error":"#REF!"}},{"$f":"'Horário Geral (Semana 2)'!#REF!","v":{"$error":"#REF!"}},{"$f":"'Horário Geral (Semana 2)'!#REF!","v":{"$error":"#REF!"}},{"$f":"'Horário Geral (Semana 2)'!#REF!","v":{"$error":"#REF!"}},{"$f":"'Horário Geral (Semana 2)'!#REF!","v":{"$error":"#REF!"}},{"$f":"'Horário Geral (Semana 2)'!#REF!","v":{"$error":"#REF!"}},{"$f":"'Horário Geral (Semana 2)'!#REF!","v":{"$error":"#REF!"}},{"$f":"'Horário Geral (Semana 2)'!#REF!","v":{"$error":"#REF!"}},{"$f":"'Horário Geral (Semana 2)'!#REF!","v":{"$error":"#REF!"}},{"$f":"'Horário Geral (Semana 2)'!#REF!","v":{"$error":"#REF!"}},{"$f":"'Horário Geral (Semana 2)'!#REF!","v":{"$error":"#REF!"}},{"$f":"'Horário Geral (Semana 2)'!#REF!","v":{"$error":"#REF!"}},{"$f":"'Horário Geral (Semana 2)'!#REF!","v":{"$error":"#REF!"}},{"$f":"'Horário Geral (Semana 2)'!#REF!","v":{"$error":"#REF!"}},{"$f":"'Horário Geral (Semana 2)'!#REF!","v":{"$error":"#REF!"}},{"$f":"'Horário Geral (Semana 2)'!#REF!","v":{"$error":"#REF!"}},{"$f":"'Horário Geral (Semana 2)'!#REF!","v":{"$error":"#REF!"}},{"$f":"'Horário Geral (Semana 2)'!#REF!","v":{"$error":"#REF!"}},{"$f":"'Horário Geral (Semana 2)'!#REF!","v":{"$error":"#REF!"}},{"$f":"'Horário Geral (Semana 2)'!#REF!","v":{"$error":"#REF!"}},{"$f":"'Horário Geral (Semana 2)'!#REF!","v":{"$error":"#REF!"}},{"$f":"'Horário Geral (Semana 2)'!#REF!","v":{"$error":"#REF!"}},{"$f":"'Horário Geral (Semana 2)'!#REF!","v":{"$error":"#REF!"}},{"$f":"'Horário Geral (Semana 2)'!#REF!","v":{"$error":"#REF!"}},{"$f":"'Horário Geral (Semana 2)'!#REF!","v":{"$error":"#REF!"}},{"$f":"'Horário Geral (Semana 2)'!#REF!","v":{"$error":"#REF!"}},{"$f":"'Horário Geral (Semana 2)'!#REF!","v":{"$error":"#REF!"}},{"$f":"'Horário Geral (Semana 2)'!#REF!","v":{"$error":"#REF!"}},{"$f":"'Horário Geral (Semana 2)'!#REF!","v":{"$error":"#REF!"}},{"$f":"'Horário Geral (Semana 2)'!#REF!","v":{"$error":"#REF!"}},{"$f":"'Horário Geral (Semana 2)'!#REF!","v":{"$error":"#REF!"}},{"$f":"'Horário Geral (Semana 2)'!#REF!","v":{"$error":"#REF!"}},{"$f":"'Horário Geral (Semana 2)'!#REF!","v":{"$error":"#REF!"}},{"$f":"'Horário Geral (Semana 2)'!#REF!","v":{"$error":"#REF!"}},{"$f":"'Horário Geral (Semana 2)'!#REF!","v":{"$error":"#REF!"}},{"$f":"'Horário Geral (Semana 2)'!#REF!","v":{"$error":"#REF!"}},{"$f":"'Horário Geral (Semana 2)'!#REF!","v":{"$error":"#REF!"}},{"$f":"'Horário Geral (Semana 2)'!#REF!","v":{"$error":"#REF!"}},{"$f":"'Horário Geral (Semana 2)'!#REF!","v":{"$error":"#REF!"}},{"$f":"'Horário Geral (Semana 2)'!#REF!","v":{"$error":"#REF!"}},{"$f":"'Horário Geral (Semana 2)'!#REF!","v":{"$error":"#REF!"}},{"$f":"'Horário Geral (Semana 2)'!#REF!","v":{"$error":"#REF!"}},{"$f":"'Horário Geral (Semana 2)'!#REF!","v":{"$error":"#REF!"}},{"$f":"'Horário Geral (Semana 2)'!#REF!","v":{"$error":"#REF!"}},{"$f":"'Horário Geral (Semana 2)'!#REF!","v":{"$error":"#REF!"}},{"$f":"'Horário Geral (Semana 2)'!#REF!","v":{"$error":"#REF!"}},{"$f":"'Horário Geral (Semana 2)'!#REF!","v":{"$error":"#REF!"}},{"$f":"'Horário Geral (Semana 2)'!#REF!","v":{"$error":"#REF!"}},{"$f":"'Horário Geral (Semana 2)'!#REF!","v":{"$error":"#REF!"}},{"$f":"'Horário Geral (Semana 2)'!#REF!","v":{"$error":"#REF!"}},{"$f":"'Horário Geral (Semana 2)'!#REF!","v":{"$error":"#REF!"}},{"$f":"'Horário Geral (Semana 2)'!#REF!","v":{"$error":"#REF!"}},{"$f":"'Horário Geral (Semana 2)'!#REF!","v":{"$error":"#REF!"}},{"$f":"'Horário Geral (Semana 2)'!#REF!","v":{"$error":"#REF!"}},{"$f":"'Horário Geral (Semana 2)'!#REF!","v":{"$error":"#REF!"}},{"$f":"'Horário Geral (Semana 2)'!#REF!","v":{"$error":"#REF!"}},{"$f":"'Horário Geral (Semana 2)'!#REF!","v":{"$error":"#REF!"}},{"$f":"'Horário Geral (Semana 2)'!#REF!","v":{"$error":"#REF!"}},{"$f":"'Horário Geral (Semana 2)'!#REF!","v":{"$error":"#REF!"}},{"$f":"'Horário Geral (Semana 2)'!#REF!","v":{"$error":"#REF!"}},{"$f":"'Horário Geral (Semana 2)'!#REF!","v":{"$error":"#REF!"}},{"$f":"'Horário Geral (Semana 2)'!#REF!","v":{"$error":"#REF!"}},{"$f":"'Horário Geral (Semana 2)'!#REF!","v":{"$error":"#REF!"}},{"$f":"'Horário Geral (Semana 2)'!#REF!","v":{"$error":"#REF!"}},{"$f":"'Horário Geral (Semana 2)'!#REF!","v":{"$error":"#REF!"}}]
[null,"6º","22:35:00",{"$f":"'Horário Geral (Semana 2)'!#REF!","v":{"$error":"#REF!"}},{"$f":"'Horário Geral (Semana 2)'!#REF!","v":{"$error":"#REF!"}},{"$f":"'Horário Geral (Semana 2)'!#REF!","v":{"$error":"#REF!"}},{"$f":"'Horário Geral (Semana 2)'!#REF!","v":{"$error":"#REF!"}},{"$f":"'Horário Geral (Semana 2)'!#REF!","v":{"$error":"#REF!"}},{"$f":"'Horário Geral (Semana 2)'!#REF!","v":{"$error":"#REF!"}},{"$f":"'Horário Geral (Semana 2)'!#REF!","v":{"$error":"#REF!"}},{"$f":"'Horário Geral (Semana 2)'!#REF!","v":{"$error":"#REF!"}},{"$f":"'Horário Geral (Semana 2)'!#REF!","v":{"$error":"#REF!"}},{"$f":"'Horário Geral (Semana 2)'!#REF!","v":{"$error":"#REF!"}},{"$f":"'Horário Geral (Semana 2)'!#REF!","v":{"$error":"#REF!"}},{"$f":"'Horário Geral (Semana 2)'!#REF!","v":{"$error":"#REF!"}},{"$f":"'Horário Geral (Semana 2)'!#REF!","v":{"$error":"#REF!"}},{"$f":"'Horário Geral (Semana 2)'!#REF!","v":{"$error":"#REF!"}},{"$f":"'Horário Geral (Semana 2)'!#REF!","v":{"$error":"#REF!"}},{"$f":"'Horário Geral (Semana 2)'!#REF!","v":{"$error":"#REF!"}},{"$f":"'Horário Geral (Semana 2)'!#REF!","v":{"$error":"#REF!"}},{"$f":"'Horário Geral (Semana 2)'!#REF!","v":{"$error":"#REF!"}},{"$f":"'Horário Geral (Semana 2)'!#REF!","v":{"$error":"#REF!"}},{"$f":"'Horário Geral (Semana 2)'!#REF!","v":{"$error":"#REF!"}},{"$f":"'Horário Geral (Semana 2)'!#REF!","v":{"$error":"#REF!"}},{"$f":"'Horário Geral (Semana 2)'!#REF!","v":{"$error":"#REF!"}},{"$f":"'Horário Geral (Semana 2)'!#REF!","v":{"$error":"#REF!"}},{"$f":"'Horário Geral (Semana 2)'!#REF!","v":{"$error":"#REF!"}},{"$f":"'Horário Geral (Semana 2)'!#REF!","v":{"$error":"#REF!"}},{"$f":"'Horário Geral (Semana 2)'!#REF!","v":{"$error":"#REF!"}},{"$f":"'Horário Geral (Semana 2)'!#REF!","v":{"$error":"#REF!"}},{"$f":"'Horário Geral (Semana 2)'!#REF!","v":{"$error":"#REF!"}},{"$f":"'Horário Geral (Semana 2)'!#REF!","v":{"$error":"#REF!"}},{"$f":"'Horário Geral (Semana 2)'!#REF!","v":{"$error":"#REF!"}},{"$f":"'Horário Geral (Semana 2)'!#REF!","v":{"$error":"#REF!"}},{"$f":"'Horário Geral (Semana 2)'!#REF!","v":{"$error":"#REF!"}},{"$f":"'Horário Geral (Semana 2)'!#REF!","v":{"$error":"#REF!"}},{"$f":"'Horário Geral (Semana 2)'!#REF!","v":{"$error":"#REF!"}},{"$f":"'Horário Geral (Semana 2)'!#REF!","v":{"$error":"#REF!"}},{"$f":"'Horário Geral (Semana 2)'!#REF!","v":{"$error":"#REF!"}},{"$f":"'Horário Geral (Semana 2)'!#REF!","v":{"$error":"#REF!"}},{"$f":"'Horário Geral (Semana 2)'!#REF!","v":{"$error":"#REF!"}},{"$f":"'Horário Geral (Semana 2)'!#REF!","v":{"$error":"#REF!"}},{"$f":"'Horário Geral (Semana 2)'!#REF!","v":{"$error":"#REF!"}},{"$f":"'Horário Geral (Semana 2)'!#REF!","v":{"$error":"#REF!"}},{"$f":"'Horário Geral (Semana 2)'!#REF!","v":{"$error":"#REF!"}},{"$f":"'Horário Geral (Semana 2)'!#REF!","v":{"$error":"#REF!"}},{"$f":"'Horário Geral (Semana 2)'!#REF!","v":{"$error":"#REF!"}},{"$f":"'Horário Geral (Semana 2)'!#REF!","v":{"$error":"#REF!"}},{"$f":"'Horário Geral (Semana 2)'!#REF!","v":{"$error":"#REF!"}},{"$f":"'Horário Geral (Semana 2)'!#REF!","v":{"$error":"#REF!"}},{"$f":"'Horário Geral (Semana 2)'!#REF!","v":{"$error":"#REF!"}},{"$f":"'Horário Geral (Semana 2)'!#REF!","v":{"$error":"#REF!"}},{"$f":"'Horário Geral (Semana 2)'!#REF!","v":{"$error":"#REF!"}},{"$f":"'Horário Geral (Semana 2)'!#REF!","v":{"$error":"#REF!"}},{"$f":"'Horário Geral (Semana 2)'!#REF!","v":{"$error":"#REF!"}},{"$f":"'Horário Geral (Semana 2)'!#REF!","v":{"$error":"#REF!"}},{"$f":"'Horário Geral (Semana 2)'!#REF!","v":{"$error":"#REF!"}},{"$f":"'Horário Geral (Semana 2)'!#REF!","v":{"$error":"#REF!"}},{"$f":"'Horário Geral (Semana 2)'!#REF!","v":{"$error":"#REF!"}},{"$f":"'Horário Geral (Semana 2)'!#REF!","v":{"$error":"#REF!"}},{"$f":"'Horário Geral (Semana 2)'!#REF!","v":{"$error":"#REF!"}},{"$f":"'Horário Geral (Semana 2)'!#REF!","v":{"$error":"#REF!"}},{"$f":"'Horário Geral (Semana 2)'!#REF!","v":{"$error":"#REF!"}},{"$f":"'Horário Geral (Semana 2)'!#REF!","v":{"$error":"#REF!"}},{"$f":"'Horário Geral (Semana 2)'!#REF!","v":{"$error":"#REF!"}},{"$f":"'Horário Geral (Semana 2)'!#REF!","v":{"$error":"#REF!"}},{"$f":"'Horário Geral (Semana 2)'!#REF!","v":{"$error":"#REF!"}},{"$f":"'Horário Geral (Semana 2)'!#REF!","v":{"$error":"#REF!"}},{"$f":"'Horário Geral (Semana 2)'!#REF!","v":{"$error":"#REF!"}},{"$f":"'Horário Geral (Semana 2)'!#REF!","v":{"$error":"#REF!"}}]
["QUI","1ª","18:10:00",{"$f":"'Horário Geral (Semana 2)'!#REF!","v":{"$error":"#REF!"}},{"$f":"'Horário Geral (Semana 2)'!#REF!","v":{"$error":"#REF!"}},{"$f":"'Horário Geral (Semana 2)'!#REF!","v":{"$error":"#REF!"}},{"$f":"'Horário Geral (Semana 2)'!#REF!","v":{"$error":"#REF!"}},{"$f":"'Horário Geral (Semana 2)'!#REF!","v":{"$error":"#REF!"}},{"$f":"'Horário Geral (Semana 2)'!#REF!","v":{"$error":"#REF!"}},{"$f":"'Horário Geral (Semana 2)'!#REF!","v":{"$error":"#REF!"}},{"$f":"'Horário Geral (Semana 2)'!#REF!","v":{"$error":"#REF!"}},{"$f":"'Horário Geral (Semana 2)'!#REF!","v":{"$error":"#REF!"}},{"$f":"'Horário Geral (Semana 2)'!#REF!","v":{"$error":"#REF!"}},{"$f":"'Horário Geral (Semana 2)'!#REF!","v":{"$error":"#REF!"}},{"$f":"'Horário Geral (Semana 2)'!#REF!","v":{"$error":"#REF!"}},{"$f":"'Horário Geral (Semana 2)'!#REF!","v":{"$error":"#REF!"}},{"$f":"'Horário Geral (Semana 2)'!#REF!","v":{"$error":"#REF!"}},{"$f":"'Horário Geral (Semana 2)'!#REF!","v":{"$error":"#REF!"}},{"$f":"'Horário Geral (Semana 2)'!#REF!","v":{"$error":"#REF!"}},{"$f":"'Horário Geral (Semana 2)'!#REF!","v":{"$error":"#REF!"}},{"$f":"'Horário Geral (Semana 2)'!#REF!","v":{"$error":"#REF!"}},{"$f":"'Horário Geral (Semana 2)'!#REF!","v":{"$error":"#REF!"}},{"$f":"'Horário Geral (Semana 2)'!#REF!","v":{"$error":"#REF!"}},{"$f":"'Horário Geral (Semana 2)'!#REF!","v":{"$error":"#REF!"}},{"$f":"'Horário Geral (Semana 2)'!#REF!","v":{"$error":"#REF!"}},{"$f":"'Horário Geral (Semana 2)'!#REF!","v":{"$error":"#REF!"}},{"$f":"'Horário Geral (Semana 2)'!#REF!","v":{"$error":"#REF!"}},{"$f":"'Horário Geral (Semana 2)'!#REF!","v":{"$error":"#REF!"}},{"$f":"'Horário Geral (Semana 2)'!#REF!","v":{"$error":"#REF!"}},{"$f":"'Horário Geral (Semana 2)'!#REF!","v":{"$error":"#REF!"}},{"$f":"'Horário Geral (Semana 2)'!#REF!","v":{"$error":"#REF!"}},{"$f":"'Horário Geral (Semana 2)'!#REF!","v":{"$error":"#REF!"}},{"$f":"'Horário Geral (Semana 2)'!#REF!","v":{"$error":"#REF!"}},{"$f":"'Horário Geral (Semana 2)'!#REF!","v":{"$error":"#REF!"}},{"$f":"'Horário Geral (Semana 2)'!#REF!","v":{"$error":"#REF!"}},{"$f":"'Horário Geral (Semana 2)'!#REF!","v":{"$error":"#REF!"}},{"$f":"'Horário Geral (Semana 2)'!#REF!","v":{"$error":"#REF!"}},{"$f":"'Horário Geral (Semana 2)'!#REF!","v":{"$error":"#REF!"}},{"$f":"'Horário Geral (Semana 2)'!#REF!","v":{"$error":"#REF!"}},{"$f":"'Horário Geral (Semana 2)'!#REF!","v":{"$error":"#REF!"}},{"$f":"'Horário Geral (Semana 2)'!#REF!","v":{"$error":"#REF!"}},{"$f":"'Horário Geral (Semana 2)'!#REF!","v":{"$error":"#REF!"}},{"$f":"'Horário Geral (Semana 2)'!#REF!","v":{"$error":"#REF!"}},{"$f":"'Horário Geral (Semana 2)'!#REF!","v":{"$error":"#REF!"}},{"$f":"'Horário Geral (Semana 2)'!#REF!","v":{"$error":"#REF!"}},{"$f":"'Horário Geral (Semana 2)'!#REF!","v":{"$error":"#REF!"}},{"$f":"'Horário Geral (Semana 2)'!#REF!","v":{"$error":"#REF!"}},{"$f":"'Horário Geral (Semana 2)'!#REF!","v":{"$error":"#REF!"}},{"$f":"'Horário Geral (Semana 2)'!#REF!","v":{"$error":"#REF!"}},{"$f":"'Horário Geral (Semana 2)'!#REF!","v":{"$error":"#REF!"}},{"$f":"'Horário Geral (Semana 2)'!#REF!","v":{"$error":"#REF!"}},{"$f":"'Horário Geral (Semana 2)'!#REF!","v":{"$error":"#REF!"}},{"$f":"'Horário Geral (Semana 2)'!#REF!","v":{"$error":"#REF!"}},{"$f":"'Horário Geral (Semana 2)'!#REF!","v":{"$error":"#REF!"}},{"$f":"'Horário Geral (Semana 2)'!#REF!","v":{"$error":"#REF!"}},{"$f":"'Horário Geral (Semana 2)'!#REF!","v":{"$error":"#REF!"}},{"$f":"'Horário Geral (Semana 2)'!#REF!","v":{"$error":"#REF!"}},{"$f":"'Horário Geral (Semana 2)'!#REF!","v":{"$error":"#REF!"}},{"$f":"'Horário Geral (Semana 2)'!#REF!","v":{"$error":"#REF!"}},{"$f":"'Horário Geral (Semana 2)'!#REF!","v":{"$error":"#REF!"}},{"$f":"'Horário Geral (Semana 2)'!#REF!","v":{"$error":"#REF!"}},{"$f":"'Horário Geral (Semana 2)'!#REF!","v":{"$error":"#REF!"}},{"$f":"'Horário Geral (Semana 2)'!#REF!","v":{"$error":"#REF!"}},{"$f":"'Horário Geral (Semana 2)'!#REF!","v":{"$error":"#REF!"}},{"$f":"'Horário Geral (Semana 2)'!#REF!","v":{"$error":"#REF!"}},{"$f":"'Horário Geral (Semana 2)'!#REF!","v":{"$error":"#REF!"}},{"$f":"'Horário Geral (Semana 2)'!#REF!","v":{"$error":"#REF!"}},{"$f":"'Horário Geral (Semana 2)'!#REF!","v":{"$error":"#REF!"}},{"$f":"'Horário Geral (Semana 2)'!#REF!","v":{"$error":"#REF!"}},{"$f":"'Horário Geral (Semana 2)'!#REF!","v":{"$error":"#REF!"}}]
[null,"2ª","19:00:00",{"$f":"'Horário Geral (Semana 2)'!#REF!","v":{"$error":"#REF!"}},{"$f":"'Horário Geral (Semana 2)'!#REF!","v":{"$error":"#REF!"}},{"$f":"'Horário Geral (Semana 2)'!#REF!","v":{"$error":"#REF!"}},{"$f":"'Horário Geral (Semana 2)'!#REF!","v":{"$error":"#REF!"}},{"$f":"'Horário Geral (Semana 2)'!#REF!","v":{"$error":"#REF!"}},{"$f":"'Horário Geral (Semana 2)'!#REF!","v":{"$error":"#REF!"}},{"$f":"'Horário Geral (Semana 2)'!#REF!","v":{"$error":"#REF!"}},{"$f":"'Horário Geral (Semana 2)'!#REF!","v":{"$error":"#REF!"}},{"$f":"'Horário Geral (Semana 2)'!#REF!","v":{"$error":"#REF!"}},{"$f":"'Horário Geral (Semana 2)'!#REF!","v":{"$error":"#REF!"}},{"$f":"'Horário Geral (Semana 2)'!#REF!","v":{"$error":"#REF!"}},{"$f":"'Horário Geral (Semana 2)'!#REF!","v":{"$error":"#REF!"}},{"$f":"'Horário Geral (Semana 2)'!#REF!","v":{"$error":"#REF!"}},{"$f":"'Horário Geral (Semana 2)'!#REF!","v":{"$error":"#REF!"}},{"$f":"'Horário Geral (Semana 2)'!#REF!","v":{"$error":"#REF!"}},{"$f":"'Horário Geral (Semana 2)'!#REF!","v":{"$error":"#REF!"}},{"$f":"'Horário Geral (Semana 2)'!#REF!","v":{"$error":"#REF!"}},{"$f":"'Horário Geral (Semana 2)'!#REF!","v":{"$error":"#REF!"}},{"$f":"'Horário Geral (Semana 2)'!#REF!","v":{"$error":"#REF!"}},{"$f":"'Horário Geral (Semana 2)'!#REF!","v":{"$error":"#REF!"}},{"$f":"'Horário Geral (Semana 2)'!#REF!","v":{"$error":"#REF!"}},{"$f":"'Horário Geral (Semana 2)'!#REF!","v":{"$error":"#REF!"}},{"$f":"'Horário Geral (Semana 2)'!#REF!","v":{"$error":"#REF!"}},{"$f":"'Horário Geral (Semana 2)'!#REF!","v":{"$error":"#REF!"}},{"$f":"'Horário Geral (Semana 2)'!#REF!","v":{"$error":"#REF!"}},{"$f":"'Horário Geral (Semana 2)'!#REF!","v":{"$error":"#REF!"}},{"$f":"'Horário Geral (Semana 2)'!#REF!","v":{"$error":"#REF!"}},{"$f":"'Horário Geral (Semana 2)'!#REF!","v":{"$error":"#REF!"}},{"$f":"'Horário Geral (Semana 2)'!#REF!","v":{"$error":"#REF!"}},{"$f":"'Horário Geral (Semana 2)'!#REF!","v":{"$error":"#REF!"}},{"$f":"'Horário Geral (Semana 2)'!#REF!","v":{"$error":"#REF!"}},{"$f":"'Horário Geral (Semana 2)'!#REF!","v":{"$error":"#REF!"}},{"$f":"'Horário Geral (Semana 2)'!#REF!","v":{"$error":"#REF!"}},{"$f":"'Horário Geral (Semana 2)'!#REF!","v":{"$error":"#REF!"}},{"$f":"'Horário Geral (Semana 2)'!#REF!","v":{"$error":"#REF!"}},{"$f":"'Horário Geral (Semana 2)'!#REF!","v":{"$error":"#REF!"}},{"$f":"'Horário Geral (Semana 2)'!#REF!","v":{"$error":"#REF!"}},{"$f":"'Horário Geral (Semana 2)'!#REF!","v":{"$error":"#REF!"}},{"$f":"'Horário Geral (Semana 2)'!#REF!","v":{"$error":"#REF!"}},{"$f":"'Horário Geral (Semana 2)'!#REF!","v":{"$error":"#REF!"}},{"$f":"'Horário Geral (Semana 2)'!#REF!","v":{"$error":"#REF!"}},{"$f":"'Horário Geral (Semana 2)'!#REF!","v":{"$error":"#REF!"}},{"$f":"'Horário Geral (Semana 2)'!#REF!","v":{"$error":"#REF!"}},{"$f":"'Horário Geral (Semana 2)'!#REF!","v":{"$error":"#REF!"}},{"$f":"'Horário Geral (Semana 2)'!#REF!","v":{"$error":"#REF!"}},{"$f":"'Horário Geral (Semana 2)'!#REF!","v":{"$error":"#REF!"}},{"$f":"'Horário Geral (Semana 2)'!#REF!","v":{"$error":"#REF!"}},{"$f":"'Horário Geral (Semana 2)'!#REF!","v":{"$error":"#REF!"}},{"$f":"'Horário Geral (Semana 2)'!#REF!","v":{"$error":"#REF!"}},{"$f":"'Horário Geral (Semana 2)'!#REF!","v":{"$error":"#REF!"}},{"$f":"'Horário Geral (Semana 2)'!#REF!","v":{"$error":"#REF!"}},{"$f":"'Horário Geral (Semana 2)'!#REF!","v":{"$error":"#REF!"}},{"$f":"'Horário Geral (Semana 2)'!#REF!","v":{"$error":"#REF!"}},{"$f":"'Horário Geral (Semana 2)'!#REF!","v":{"$error":"#REF!"}},{"$f":"'Horário Geral (Semana 2)'!#REF!","v":{"$error":"#REF!"}},{"$f":"'Horário Geral (Semana 2)'!#REF!","v":{"$error":"#REF!"}},{"$f":"'Horário Geral (Semana 2)'!#REF!","v":{"$error":"#REF!"}},{"$f":"'Horário Geral (Semana 2)'!#REF!","v":{"$error":"#REF!"}},{"$f":"'Horário Geral (Semana 2)'!#REF!","v":{"$error":"#REF!"}},{"$f":"'Horário Geral (Semana 2)'!#REF!","v":{"$error":"#REF!"}},{"$f":"'Horário Geral (Semana 2)'!#REF!","v":{"$error":"#REF!"}},{"$f":"'Horário Geral (Semana 2)'!#REF!","v":{"$error":"#REF!"}},{"$f":"'Horário Geral (Semana 2)'!#REF!","v":{"$error":"#REF!"}},{"$f":"'Horário Geral (Semana 2)'!#REF!","v":{"$error":"#REF!"}},{"$f":"'Horário Geral (Semana 2)'!#REF!","v":{"$error":"#REF!"}},{"$f":"'Horário Geral (Semana 2)'!#REF!","v":{"$error":"#REF!"}},{"$f":"'Horário Geral (Semana 2)'!#REF!","v":{"$error":"#REF!"}}]
[null,"3ª","19:50:00",{"$f":"'Horário Geral (Semana 2)'!#REF!","v":{"$error":"#REF!"}},{"$f":"'Horário Geral (Semana 2)'!#REF!","v":{"$error":"#REF!"}},{"$f":"'Horário Geral (Semana 2)'!#REF!","v":{"$error":"#REF!"}},{"$f":"'Horário Geral (Semana 2)'!#REF!","v":{"$error":"#REF!"}},{"$f":"'Horário Geral (Semana 2)'!#REF!","v":{"$error":"#REF!"}},{"$f":"'Horário Geral (Semana 2)'!#REF!","v":{"$error":"#REF!"}},{"$f":"'Horário Geral (Semana 2)'!#REF!","v":{"$error":"#REF!"}},{"$f":"'Horário Geral (Semana 2)'!#REF!","v":{"$error":"#REF!"}},{"$f":"'Horário Geral (Semana 2)'!#REF!","v":{"$error":"#REF!"}},{"$f":"'Horário Geral (Semana 2)'!#REF!","v":{"$error":"#REF!"}},{"$f":"'Horário Geral (Semana 2)'!#REF!","v":{"$error":"#REF!"}},{"$f":"'Horário Geral (Semana 2)'!#REF!","v":{"$error":"#REF!"}},{"$f":"'Horário Geral (Semana 2)'!#REF!","v":{"$error":"#REF!"}},{"$f":"'Horário Geral (Semana 2)'!#REF!","v":{"$error":"#REF!"}},{"$f":"'Horário Geral (Semana 2)'!#REF!","v":{"$error":"#REF!"}},{"$f":"'Horário Geral (Semana 2)'!#REF!","v":{"$error":"#REF!"}},{"$f":"'Horário Geral (Semana 2)'!#REF!","v":{"$error":"#REF!"}},{"$f":"'Horário Geral (Semana 2)'!#REF!","v":{"$error":"#REF!"}},{"$f":"'Horário Geral (Semana 2)'!#REF!","v":{"$error":"#REF!"}},{"$f":"'Horário Geral (Semana 2)'!#REF!","v":{"$error":"#REF!"}},{"$f":"'Horário Geral (Semana 2)'!#REF!","v":{"$error":"#REF!"}},{"$f":"'Horário Geral (Semana 2)'!#REF!","v":{"$error":"#REF!"}},{"$f":"'Horário Geral (Semana 2)'!#REF!","v":{"$error":"#REF!"}},{"$f":"'Horário Geral (Semana 2)'!#REF!","v":{"$error":"#REF!"}},{"$f":"'Horário Geral (Semana 2)'!#REF!","v":{"$error":"#REF!"}},{"$f":"'Horário Geral (Semana 2)'!#REF!","v":{"$error":"#REF!"}},{"$f":"'Horário Geral (Semana 2)'!#REF!","v":{"$error":"#REF!"}},{"$f":"'Horário Geral (Semana 2)'!#REF!","v":{"$error":"#REF!"}},{"$f":"'Horário Geral (Semana 2)'!#REF!","v":{"$error":"#REF!"}},{"$f":"'Horário Geral (Semana 2)'!#REF!","v":{"$error":"#REF!"}},{"$f":"'Horário Geral (Semana 2)'!#REF!","v":{"$error":"#REF!"}},{"$f":"'Horário Geral (Semana 2)'!#REF!","v":{"$error":"#REF!"}},{"$f":"'Horário Geral (Semana 2)'!#REF!","v":{"$error":"#REF!"}},{"$f":"'Horário Geral (Semana 2)'!#REF!","v":{"$error":"#REF!"}},{"$f":"'Horário Geral (Semana 2)'!#REF!","v":{"$error":"#REF!"}},{"$f":"'Horário Geral (Semana 2)'!#REF!","v":{"$error":"#REF!"}},{"$f":"'Horário Geral (Semana 2)'!#REF!","v":{"$error":"#REF!"}},{"$f":"'Horário Geral (Semana 2)'!#REF!","v":{"$error":"#REF!"}},{"$f":"'Horário Geral (Semana 2)'!#REF!","v":{"$error":"#REF!"}},{"$f":"'Horário Geral (Semana 2)'!#REF!","v":{"$error":"#REF!"}},{"$f":"'Horário Geral (Semana 2)'!#REF!","v":{"$error":"#REF!"}},{"$f":"'Horário Geral (Semana 2)'!#REF!","v":{"$error":"#REF!"}},{"$f":"'Horário Geral (Semana 2)'!#REF!","v":{"$error":"#REF!"}},{"$f":"'Horário Geral (Semana 2)'!#REF!","v":{"$error":"#REF!"}},{"$f":"'Horário Geral (Semana 2)'!#REF!","v":{"$error":"#REF!"}},{"$f":"'Horário Geral (Semana 2)'!#REF!","v":{"$error":"#REF!"}},{"$f":"'Horário Geral (Semana 2)'!#REF!","v":{"$error":"#REF!"}},{"$f":"'Horário Geral (Semana 2)'!#REF!","v":{"$error":"#REF!"}},{"$f":"'Horário Geral (Semana 2)'!#REF!","v":{"$error":"#REF!"}},{"$f":"'Horário Geral (Semana 2)'!#REF!","v":{"$error":"#REF!"}},{"$f":"'Horário Geral (Semana 2)'!#REF!","v":{"$error":"#REF!"}},{"$f":"'Horário Geral (Semana 2)'!#REF!","v":{"$error":"#REF!"}},{"$f":"'Horário Geral (Semana 2)'!#REF!","v":{"$error":"#REF!"}},{"$f":"'Horário Geral (Semana 2)'!#REF!","v":{"$error":"#REF!"}},{"$f":"'Horário Geral (Semana 2)'!#REF!","v":{"$error":"#REF!"}},{"$f":"'Horário Geral (Semana 2)'!#REF!","v":{"$error":"#REF!"}},{"$f":"'Horário Geral (Semana 2)'!#REF!","v":{"$error":"#REF!"}},{"$f":"'Horário Geral (Semana 2)'!#REF!","v":{"$error":"#REF!"}},{"$f":"'Horário Geral (Semana 2)'!#REF!","v":{"$error":"#REF!"}},{"$f":"'Horário Geral (Semana 2)'!#REF!","v":{"$error":"#REF!"}},{"$f":"'Horário Geral (Semana 2)'!#REF!","v":{"$error":"#REF!"}},{"$f":"'Horário Geral (Semana 2)'!#REF!","v":{"$error":"#REF!"}},{"$f":"'Horário Geral (Semana 2)'!#REF!","v":{"$error":"#REF!"}},{"$f":"'Horário Geral (Semana 2)'!#REF!","v":{"$error":"#REF!"}},{"$f":"'Horário Geral (Semana 2)'!#REF!","v":{"$error":"#REF!"}},{"$f":"'Horário Geral (Semana 2)'!#REF!","v":{"$error":"#REF!"}},{"$f":"'Horário Geral (Semana 2)'!#REF!","v":{"$error":"#REF!"}}]
[null,"4ª","20:55:00",{"$f":"'Horário Geral (Semana 2)'!#REF!","v":{"$error":"#REF!"}},{"$f":"'Horário Geral (Semana 2)'!#REF!","v":{"$error":"#REF!"}},{"$f":"'Horário Geral (Semana 2)'!#REF!","v":{"$error":"#REF!"}},{"$f":"'Horário Geral (Semana 2)'!#REF!","v":{"$error":"#REF!"}},{"$f":"'Horário Geral (Semana 2)'!#REF!","v":{"$error":"#REF!"}},{"$f":"'Horário Geral (Semana 2)'!#REF!","v":{"$error":"#REF!"}},{"$f":"'Horário Geral (Semana 2)'!#REF!","v":{"$error":"#REF!"}},{"$f":"'Horário Geral (Semana 2)'!#REF!","v":{"$error":"#REF!"}},{"$f":"'Horário Geral (Semana 2)'!#REF!","v":{"$error":"#REF!"}},{"$f":"'Horário Geral (Semana 2)'!#REF!","v":{"$error":"#REF!"}},{"$f":"'Horário Geral (Semana 2)'!#REF!","v":{"$error":"#REF!"}},{"$f":"'Horário Geral (Semana 2)'!#REF!","v":{"$error":"#REF!"}},{"$f":"'Horário Geral (Semana 2)'!#REF!","v":{"$error":"#REF!"}},{"$f":"'Horário Geral (Semana 2)'!#REF!","v":{"$error":"#REF!"}},{"$f":"'Horário Geral (Semana 2)'!#REF!","v":{"$error":"#REF!"}},{"$f":"'Horário Geral (Semana 2)'!#REF!","v":{"$error":"#REF!"}},{"$f":"'Horário Geral (Semana 2)'!#REF!","v":{"$error":"#REF!"}},{"$f":"'Horário Geral (Semana 2)'!#REF!","v":{"$error":"#REF!"}},{"$f":"'Horário Geral (Semana 2)'!#REF!","v":{"$error":"#REF!"}},{"$f":"'Horário Geral (Semana 2)'!#REF!","v":{"$error":"#REF!"}},{"$f":"'Horário Geral (Semana 2)'!#REF!","v":{"$error":"#REF!"}},{"$f":"'Horário Geral (Semana 2)'!#REF!","v":{"$error":"#REF!"}},{"$f":"'Horário Geral (Semana 2)'!#REF!","v":{"$error":"#REF!"}},{"$f":"'Horário Geral (Semana 2)'!#REF!","v":{"$error":"#REF!"}},{"$f":"'Horário Geral (Semana 2)'!#REF!","v":{"$error":"#REF!"}},{"$f":"'Horário Geral (Semana 2)'!#REF!","v":{"$error":"#REF!"}},{"$f":"'Horário Geral (Semana 2)'!#REF!","v":{"$error":"#REF!"}},{"$f":"'Horário Geral (Semana 2)'!#REF!","v":{"$error":"#REF!"}},{"$f":"'Horário Geral (Semana 2)'!#REF!","v":{"$error":"#REF!"}},{"$f":"'Horário Geral (Semana 2)'!#REF!","v":{"$error":"#REF!"}},{"$f":"'Horário Geral (Semana 2)'!#REF!","v":{"$error":"#REF!"}},{"$f":"'Horário Geral (Semana 2)'!#REF!","v":{"$error":"#REF!"}},{"$f":"'Horário Geral (Semana 2)'!#REF!","v":{"$error":"#REF!"}},{"$f":"'Horário Geral (Semana 2)'!#REF!","v":{"$error":"#REF!"}},{"$f":"'Horário Geral (Semana 2)'!#REF!","v":{"$error":"#REF!"}},{"$f":"'Horário Geral (Semana 2)'!#REF!","v":{"$error":"#REF!"}},{"$f":"'Horário Geral (Semana 2)'!#REF!","v":{"$error":"#REF!"}},{"$f":"'Horário Geral (Semana 2)'!#REF!","v":{"$error":"#REF!"}},{"$f":"'Horário Geral (Semana 2)'!#REF!","v":{"$error":"#REF!"}},{"$f":"'Horário Geral (Semana 2)'!#REF!","v":{"$error":"#REF!"}},{"$f":"'Horário Geral (Semana 2)'!#REF!","v":{"$error":"#REF!"}},{"$f":"'Horário Geral (Semana 2)'!#REF!","v":{"$error":"#REF!"}},{"$f":"'Horário Geral (Semana 2)'!#REF!","v":{"$error":"#REF!"}},{"$f":"'Horário Geral (Semana 2)'!#REF!","v":{"$error":"#REF!"}},{"$f":"'Horário Geral (Semana 2)'!#REF!","v":{"$error":"#REF!"}},{"$f":"'Horário Geral (Semana 2)'!#REF!","v":{"$error":"#REF!"}},{"$f":"'Horário Geral (Semana 2)'!#REF!","v":{"$error":"#REF!"}},{"$f":"'Horário Geral (Semana 2)'!#REF!","v":{"$error":"#REF!"}},{"$f":"'Horário Geral (Semana 2)'!#REF!","v":{"$error":"#REF!"}},{"$f":"'Horário Geral (Semana 2)'!#REF!","v":{"$error":"#REF!"}},{"$f":"'Horário Geral (Semana 2)'!#REF!","v":{"$error":"#REF!"}},{"$f":"'Horário Geral (Semana 2)'!#REF!","v":{"$error":"#REF!"}},{"$f":"'Horário Geral (Semana 2)'!#REF!","v":{"$error":"#REF!"}},{"$f":"'Horário Geral (Semana 2)'!#REF!","v":{"$error":"#REF!"}},{"$f":"'Horário Geral (Semana 2)'!#REF!","v":{"$error":"#REF!"}},{"$f":"'Horário Geral (Semana 2)'!#REF!","v":{"$error":"#REF!"}},{"$f":"'Horário Geral (Semana 2)'!#REF!","v":{"$error":"#REF!"}},{"$f":"'Horário Geral (Semana 2)'!#REF!","v":{"$error":"#REF!"}},{"$f":"'Horário Geral (Semana 2)'!#REF!","v":{"$error":"#REF!"}},{"$f":"'Horário Geral (Semana 2)'!#REF!","v":{"$error":"#REF!"}},{"$f":"'Horário Geral (Semana 2)'!#REF!","v":{"$error":"#REF!"}},{"$f":"'Horário Geral (Semana 2)'!#REF!","v":{"$error":"#REF!"}},{"$f":"'Horário Geral (Semana 2)'!#REF!","v":{"$error":"#REF!"}},{"$f":"'Horário Geral (Semana 2)'!#REF!","v":{"$error":"#REF!"}},{"$f":"'Horário Geral (Semana 2)'!#REF!","v":{"$error":"#REF!"}},{"$f":"'Horário Geral (Semana 2)'!#REF!","v":{"$error":"#REF!"}},{"$f":"'Horário Geral (Semana 2)'!#REF!","v":{"$error":"#REF!"}}]
[null,"5ª","21:45:00",{"$f":"'Horário Geral (Semana 2)'!#REF!","v":{"$error":"#REF!"}},{"$f":"'Horário Geral (Semana 2)'!#REF!","v":{"$error":"#REF!"}},{"$f":"'Horário Geral (Semana 2)'!#REF!","v":{"$error":"#REF!"}},{"$f":"'Horário Geral (Semana 2)'!#REF!","v":{"$error":"#REF!"}},{"$f":"'Horário Geral (Semana 2)'!#REF!","v":{"$error":"#REF!"}},{"$f":"'Horário Geral (Semana 2)'!#REF!","v":{"$error":"#REF!"}},{"$f":"'Horário Geral (Semana 2)'!#REF!","v":{"$error":"#REF!"}},{"$f":"'Horário Geral (Semana 2)'!#REF!","v":{"$error":"#REF!"}},{"$f":"'Horário Geral (Semana 2)'!#REF!","v":{"$error":"#REF!"}},{"$f":"'Horário Geral (Semana 2)'!#REF!","v":{"$error":"#REF!"}},{"$f":"'Horário Geral (Semana 2)'!#REF!","v":{"$error":"#REF!"}},{"$f":"'Horário Geral (Semana 2)'!#REF!","v":{"$error":"#REF!"}},{"$f":"'Horário Geral (Semana 2)'!#REF!","v":{"$error":"#REF!"}},{"$f":"'Horário Geral (Semana 2)'!#REF!","v":{"$error":"#REF!"}},{"$f":"'Horário Geral (Semana 2)'!#REF!","v":{"$error":"#REF!"}},{"$f":"'Horário Geral (Semana 2)'!#REF!","v":{"$error":"#REF!"}},{"$f":"'Horário Geral (Semana 2)'!#REF!","v":{"$error":"#REF!"}},{"$f":"'Horário Geral (Semana 2)'!#REF!","v":{"$error":"#REF!"}},{"$f":"'Horário Geral (Semana 2)'!#REF!","v":{"$error":"#REF!"}},{"$f":"'Horário Geral (Semana 2)'!#REF!","v":{"$error":"#REF!"}},{"$f":"'Horário Geral (Semana 2)'!#REF!","v":{"$error":"#REF!"}},{"$f":"'Horário Geral (Semana 2)'!#REF!","v":{"$error":"#REF!"}},{"$f":"'Horário Geral (Semana 2)'!#REF!","v":{"$error":"#REF!"}},{"$f":"'Horário Geral (Semana 2)'!#REF!","v":{"$error":"#REF!"}},{"$f":"'Horário Geral (Semana 2)'!#REF!","v":{"$error":"#REF!"}},{"$f":"'Horário Geral (Semana 2)'!#REF!","v":{"$error":"#REF!"}},{"$f":"'Horário Geral (Semana 2)'!#REF!","v":{"$error":"#REF!"}},{"$f":"'Horário Geral (Semana 2)'!#REF!","v":{"$error":"#REF!"}},{"$f":"'Horário Geral (Semana 2)'!#REF!","v":{"$error":"#REF!"}},{"$f":"'Horário Geral (Semana 2)'!#REF!","v":{"$error":"#REF!"}},{"$f":"'Horário Geral (Semana 2)'!#REF!","v":{"$error":"#REF!"}},{"$f":"'Horário Geral (Semana 2)'!#REF!","v":{"$error":"#REF!"}},{"$f":"'Horário Geral (Semana 2)'!#REF!","v":{"$error":"#REF!"}},{"$f":"'Horário Geral (Semana 2)'!#REF!","v":{"$error":"#REF!"}},{"$f":"'Horário Geral (Semana 2)'!#REF!","v":{"$error":"#REF!"}},{"$f":"'Horário Geral (Semana 2)'!#REF!","v":{"$error":"#REF!"}},{"$f":"'Horário Geral (Semana 2)'!#REF!","v":{"$error":"#REF!"}},{"$f":"'Horário Geral (Semana 2)'!#REF!","v":{"$error":"#REF!"}},{"$f":"'Horário Geral (Semana 2)'!#REF!","v":{"$error":"#REF!"}},{"$f":"'Horário Geral (Semana 2)'!#REF!","v":{"$error":"#REF!"}},{"$f":"'Horário Geral (Semana 2)'!#REF!","v":{"$error":"#REF!"}},{"$f":"'Horário Geral (Semana 2)'!#REF!","v":{"$error":"#REF!"}},{"$f":"'Horário Geral (Semana 2)'!#REF!","v":{"$error":"#REF!"}},{"$f":"'Horário Geral (Semana 2)'!#REF!","v":{"$error":"#REF!"}},{"$f":"'Horário Geral (Semana 2)'!#REF!","v":{"$error":"#REF!"}},{"$f":"'Horário Geral (Semana 2)'!#REF!","v":{"$error":"#REF!"}},{"$f":"'Horário Geral (Semana 2)'!#REF!","v":{"$error":"#REF!"}},{"$f":"'Horário Geral (Semana 2)'!#REF!","v":{"$error":"#REF!"}},{"$f":"'Horário Geral (Semana 2)'!#REF!","v":{"$error":"#REF!"}},{"$f":"'Horário Geral (Semana 2)'!#REF!","v":{"$error":"#REF!"}},{"$f":"'Horário Geral (Semana 2)'!#REF!","v":{"$error":"#REF!"}},{"$f":"'Horário Geral (Semana 2)'!#REF!","v":{"$error":"#REF!"}},{"$f":"'Horário Geral (Semana 2)'!#REF!","v":{"$error":"#REF!"}},{"$f":"'Horário Geral (Semana 2)'!#REF!","v":{"$error":"#REF!"}},{"$f":"'Horário Geral (Semana 2)'!#REF!","v":{"$error":"#REF!"}},{"$f":"'Horário Geral (Semana 2)'!#REF!","v":{"$error":"#REF!"}},{"$f":"'Horário Geral (Semana 2)'!#REF!","v":{"$error":"#REF!"}},{"$f":"'Horário Geral (Semana 2)'!#REF!","v":{"$error":"#REF!"}},{"$f":"'Horário Geral (Semana 2)'!#REF!","v":{"$error":"#REF!"}},{"$f":"'Horário Geral (Semana 2)'!#REF!","v":{"$error":"#REF!"}},{"$f":"'Horário Geral (Semana 2)'!#REF!","v":{"$error":"#REF!"}},{"$f":"'Horário Geral (Semana 2)'!#REF!","v":{"$error":"#REF!"}},{"$f":"'Horário Geral (Semana 2)'!#REF!","v":{"$error":"#REF!"}},{"$f":"'Horário Geral (Semana 2)'!#REF!","v":{"$error":"#REF!"}},{"$f":"'Horário Geral (Semana 2)'!#REF!","v":{"$error":"#REF!"}},{"$f":"'Horário Geral (Semana 2)'!#REF!","v":{"$error":"#REF!"}},{"$f":"'Horário Geral (Semana 2)'!#REF!","v":{"$error":"#REF!"}}]
[null,"6º","22:35:00",{"$f":"'Horário Geral (Semana 2)'!#REF!","v":{"$error":"#REF!"}},{"$f":"'Horário Geral (Semana 2)'!#REF!","v":{"$error":"#REF!"}},{"$f":"'Horário Geral (Semana 2)'!#REF!","v":{"$error":"#REF!"}},{"$f":"'Horário Geral (Semana 2)'!#REF!","v":{"$error":"#REF!"}},{"$f":"'Horário Geral (Semana 2)'!#REF!","v":{"$error":"#REF!"}},{"$f":"'Horário Geral (Semana 2)'!#REF!","v":{"$error":"#REF!"}},{"$f":"'Horário Geral (Semana 2)'!#REF!","v":{"$error":"#REF!"}},{"$f":"'Horário Geral (Semana 2)'!#REF!","v":{"$error":"#REF!"}},{"$f":"'Horário Geral (Semana 2)'!#REF!","v":{"$error":"#REF!"}},{"$f":"'Horário Geral (Semana 2)'!#REF!","v":{"$error":"#REF!"}},{"$f":"'Horário Geral (Semana 2)'!#REF!","v":{"$error":"#REF!"}},{"$f":"'Horário Geral (Semana 2)'!#REF!","v":{"$error":"#REF!"}},{"$f":"'Horário Geral (Semana 2)'!#REF!","v":{"$error":"#REF!"}},{"$f":"'Horário Geral (Semana 2)'!#REF!","v":{"$error":"#REF!"}},{"$f":"'Horário Geral (Semana 2)'!#REF!","v":{"$error":"#REF!"}},{"$f":"'Horário Geral (Semana 2)'!#REF!","v":{"$error":"#REF!"}},{"$f":"'Horário Geral (Semana 2)'!#REF!","v":{"$error":"#REF!"}},{"$f":"'Horário Geral (Semana 2)'!#REF!","v":{"$error":"#REF!"}},{"$f":"'Horário Geral (Semana 2)'!#REF!","v":{"$error":"#REF!"}},{"$f":"'Horário Geral (Semana 2)'!#REF!","v":{"$error":"#REF!"}},{"$f":"'Horário Geral (Semana 2)'!#REF!","v":{"$error":"#REF!"}},{"$f":"'Horário Geral (Semana 2)'!#REF!","v":{"$error":"#REF!"}},{"$f":"'Horário Geral (Semana 2)'!#REF!","v":{"$error":"#REF!"}},{"$f":"'Horário Geral (Semana 2)'!#REF!","v":{"$error":"#REF!"}},{"$f":"'Horário Geral (Semana 2)'!#REF!","v":{"$error":"#REF!"}},{"$f":"'Horário Geral (Semana 2)'!#REF!","v":{"$error":"#REF!"}},{"$f":"'Horário Geral (Semana 2)'!#REF!","v":{"$error":"#REF!"}},{"$f":"'Horário Geral (Semana 2)'!#REF!","v":{"$error":"#REF!"}},{"$f":"'Horário Geral (Semana 2)'!#REF!","v":{"$error":"#REF!"}},{"$f":"'Horário Geral (Semana 2)'!#REF!","v":{"$error":"#REF!"}},{"$f":"'Horário Geral (Semana 2)'!#REF!","v":{"$error":"#REF!"}},{"$f":"'Horário Geral (Semana 2)'!#REF!","v":{"$error":"#REF!"}},{"$f":"'Horário Geral (Semana 2)'!#REF!","v":{"$error":"#REF!"}},{"$f":"'Horário Geral (Semana 2)'!#REF!","v":{"$error":"#REF!"}},{"$f":"'Horário Geral (Semana 2)'!#REF!","v":{"$error":"#REF!"}},{"$f":"'Horário Geral (Semana 2)'!#REF!","v":{"$error":"#REF!"}},{"$f":"'Horário Geral (Semana 2)'!#REF!","v":{"$error":"#REF!"}},{"$f":"'Horário Geral (Semana 2)'!#REF!","v":{"$error":"#REF!"}},{"$f":"'Horário Geral (Semana 2)'!#REF!","v":{"$error":"#REF!"}},{"$f":"'Horário Geral (Semana 2)'!#REF!","v":{"$error":"#REF!"}},{"$f":"'Horário Geral (Semana 2)'!#REF!","v":{"$error":"#REF!"}},{"$f":"'Horário Geral (Semana 2)'!#REF!","v":{"$error":"#REF!"}},{"$f":"'Horário Geral (Semana 2)'!#REF!","v":{"$error":"#REF!"}},{"$f":"'Horário Geral (Semana 2)'!#REF!","v":{"$error":"#REF!"}},{"$f":"'Horário Geral (Semana 2)'!#REF!","v":{"$error":"#REF!"}},{"$f":"'Horário Geral (Semana 2)'!#REF!","v":{"$error":"#REF!"}},{"$f":"'Horário Geral (Semana 2)'!#REF!","v":{"$error":"#REF!"}},{"$f":"'Horário Geral (Semana 2)'!#REF!","v":{"$error":"#REF!"}},{"$f":"'Horário Geral (Semana 2)'!#REF!","v":{"$error":"#REF!"}},{"$f":"'Horário Geral (Semana 2)'!#REF!","v":{"$error":"#REF!"}},{"$f":"'Horário Geral (Semana 2)'!#REF!","v":{"$error":"#REF!"}},{"$f":"'Horário Geral (Semana 2)'!#REF!","v":{"$error":"#REF!"}},{"$f":"'Horário Geral (Semana 2)'!#REF!","v":{"$error":"#REF!"}},{"$f":"'Horário Geral (Semana 2)'!#REF!","v":{"$error":"#REF!"}},{"$f":"'Horário Geral (Semana 2)'!#REF!","v":{"$error":"#REF!"}},{"$f":"'Horário Geral (Semana 2)'!#REF!","v":{"$error":"#REF!"}},{"$f":"'Horário Geral (Semana 2)'!#REF!","v":{"$error":"#REF!"}},{"$f":"'Horário Geral (Semana 2)'!#REF!","v":{"$error":"#REF!"}},{"$f":"'Horário Geral (Semana 2)'!#REF!","v":{"$error":"#REF!"}},{"$f":"'Horário Geral (Semana 2)'!#REF!","v":{"$error":"#REF!"}},{"$f":"'Horário Geral (Semana 2)'!#REF!","v":{"$error":"#REF!"}},{"$f":"'Horário Geral (Semana 2)'!#REF!","v":{"$error":"#REF!"}},{"$f":"'Horário Geral (Semana 2)'!#REF!","v":{"$error":"#REF!"}},{"$f":"'Horário Geral (Semana 2)'!#REF!","v":{"$error":"#REF!"}},{"$f":"'Horário Geral (Semana 2)'!#REF!","v":{"$error":"#REF!"}},{"$f":"'Horário Geral (Semana 2)'!#REF!","v":{"$error":"#REF!"}},{"$f":"'Horário Geral (Semana 2)'!#REF!","v":{"$error":"#REF!"}}]
["SEX","1ª","19:00:00",{"$f":"'Horário Geral (Semana 2)'!#REF!","v":{"$error":"#REF!"}},{"$f":"'Horário Geral (Semana 2)'!#REF!","v":{"$error":"#REF!"}},{"$f":"'Horário Geral (Semana 2)'!#REF!","v":{"$error":"#REF!"}},{"$f":"'Horário Geral (Semana 2)'!#REF!","v":{"$error":"#REF!"}},{"$f":"'Horário Geral (Semana 2)'!#REF!","v":{"$error":"#REF!"}},{"$f":"'Horário Geral (Semana 2)'!#REF!","v":{"$error":"#REF!"}},{"$f":"'Horário Geral (Semana 2)'!#REF!","v":{"$error":"#REF!"}},{"$f":"'Horário Geral (Semana 2)'!#REF!","v":{"$error":"#REF!"}},{"$f":"'Horário Geral (Semana 2)'!#REF!","v":{"$error":"#REF!"}},{"$f":"'Horário Geral (Semana 2)'!#REF!","v":{"$error":"#REF!"}},{"$f":"'Horário Geral (Semana 2)'!#REF!","v":{"$error":"#REF!"}},{"$f":"'Horário Geral (Semana 2)'!#REF!","v":{"$error":"#REF!"}},{"$f":"'Horário Geral (Semana 2)'!#REF!","v":{"$error":"#REF!"}},{"$f":"'Horário Geral (Semana 2)'!#REF!","v":{"$error":"#REF!"}},{"$f":"'Horário Geral (Semana 2)'!#REF!","v":{"$error":"#REF!"}},{"$f":"'Horário Geral (Semana 2)'!#REF!","v":{"$error":"#REF!"}},{"$f":"'Horário Geral (Semana 2)'!#REF!","v":{"$error":"#REF!"}},{"$f":"'Horário Geral (Semana 2)'!#REF!","v":{"$error":"#REF!"}},{"$f":"'Horário Geral (Semana 2)'!#REF!","v":{"$error":"#REF!"}},{"$f":"'Horário Geral (Semana 2)'!#REF!","v":{"$error":"#REF!"}},{"$f":"'Horário Geral (Semana 2)'!#REF!","v":{"$error":"#REF!"}},{"$f":"'Horário Geral (Semana 2)'!#REF!","v":{"$error":"#REF!"}},{"$f":"'Horário Geral (Semana 2)'!#REF!","v":{"$error":"#REF!"}},{"$f":"'Horário Geral (Semana 2)'!#REF!","v":{"$error":"#REF!"}},{"$f":"'Horário Geral (Semana 2)'!#REF!","v":{"$error":"#REF!"}},{"$f":"'Horário Geral (Semana 2)'!#REF!","v":{"$error":"#REF!"}},{"$f":"'Horário Geral (Semana 2)'!#REF!","v":{"$error":"#REF!"}},{"$f":"'Horário Geral (Semana 2)'!#REF!","v":{"$error":"#REF!"}},{"$f":"'Horário Geral (Semana 2)'!#REF!","v":{"$error":"#REF!"}},{"$f":"'Horário Geral (Semana 2)'!#REF!","v":{"$error":"#REF!"}},{"$f":"'Horário Geral (Semana 2)'!#REF!","v":{"$error":"#REF!"}},{"$f":"'Horário Geral (Semana 2)'!#REF!","v":{"$error":"#REF!"}},{"$f":"'Horário Geral (Semana 2)'!#REF!","v":{"$error":"#REF!"}},{"$f":"'Horário Geral (Semana 2)'!#REF!","v":{"$error":"#REF!"}},{"$f":"'Horário Geral (Semana 2)'!#REF!","v":{"$error":"#REF!"}},{"$f":"'Horário Geral (Semana 2)'!#REF!","v":{"$error":"#REF!"}},{"$f":"'Horário Geral (Semana 2)'!#REF!","v":{"$error":"#REF!"}},{"$f":"'Horário Geral (Semana 2)'!#REF!","v":{"$error":"#REF!"}},{"$f":"'Horário Geral (Semana 2)'!#REF!","v":{"$error":"#REF!"}},{"$f":"'Horário Geral (Semana 2)'!#REF!","v":{"$error":"#REF!"}},{"$f":"'Horário Geral (Semana 2)'!#REF!","v":{"$error":"#REF!"}},{"$f":"'Horário Geral (Semana 2)'!#REF!","v":{"$error":"#REF!"}},{"$f":"'Horário Geral (Semana 2)'!#REF!","v":{"$error":"#REF!"}},{"$f":"'Horário Geral (Semana 2)'!#REF!","v":{"$error":"#REF!"}},{"$f":"'Horário Geral (Semana 2)'!#REF!","v":{"$error":"#REF!"}},{"$f":"'Horário Geral (Semana 2)'!#REF!","v":{"$error":"#REF!"}},{"$f":"'Horário Geral (Semana 2)'!#REF!","v":{"$error":"#REF!"}},{"$f":"'Horário Geral (Semana 2)'!#REF!","v":{"$error":"#REF!"}},{"$f":"'Horário Geral (Semana 2)'!#REF!","v":{"$error":"#REF!"}},{"$f":"'Horário Geral (Semana 2)'!#REF!","v":{"$error":"#REF!"}},{"$f":"'Horário Geral (Semana 2)'!#REF!","v":{"$error":"#REF!"}},{"$f":"'Horário Geral (Semana 2)'!#REF!","v":{"$error":"#REF!"}},{"$f":"'Horário Geral (Semana 2)'!#REF!","v":{"$error":"#REF!"}},{"$f":"'Horário Geral (Semana 2)'!#REF!","v":{"$error":"#REF!"}},{"$f":"'Horário Geral (Semana 2)'!#REF!","v":{"$error":"#REF!"}},{"$f":"'Horário Geral (Semana 2)'!#REF!","v":{"$error":"#REF!"}},{"$f":"'Horário Geral (Semana 2)'!#REF!","v":{"$error":"#REF!"}},{"$f":"'Horário Geral (Semana 2)'!#REF!","v":{"$error":"#REF!"}},{"$f":"'Horário Geral (Semana 2)'!#REF!","v":{"$error":"#REF!"}},{"$f":"'Horário Geral (Semana 2)'!#REF!","v":{"$error":"#REF!"}},{"$f":"'Horário Geral (Semana 2)'!#REF!","v":{"$error":"#REF!"}},{"$f":"'Horário Geral (Semana 2)'!#REF!","v":{"$error":"#REF!"}},{"$f":"'Horário Geral (Semana 2)'!#REF!","v":{"$error":"#REF!"}},{"$f":"'Horário Geral (Semana 2)'!#REF!","v":{"$error":"#REF!"}},{"$f":"'Horário Geral (Semana 2)'!#REF!","v":{"$error":"#REF!"}},{"$f":"'Horário Geral (Semana 2)'!#REF!","v":{"$error":"#REF!"}},{"$f":"'Horário Geral (Semana 2)'!#REF!","v":{"$error":"#REF!"}}]
[null,"2ª","19:50:00",{"$f":"'Horário Geral (Semana 2)'!#REF!","v":{"$error":"#REF!"}},{"$f":"'Horário Geral (Semana 2)'!#REF!","v":{"$error":"#REF!"}},{"$f":"'Horário Geral (Semana 2)'!#REF!","v":{"$error":"#REF!"}},{"$f":"'Horário Geral (Semana 2)'!#REF!","v":{"$error":"#REF!"}},{"$f":"'Horário Geral (Semana 2)'!#REF!","v":{"$error":"#REF!"}},{"$f":"'Horário Geral (Semana 2)'!#REF!","v":{"$error":"#REF!"}},{"$f":"'Horário Geral (Semana 2)'!#REF!","v":{"$error":"#REF!"}},{"$f":"'Horário Geral (Semana 2)'!#REF!","v":{"$error":"#REF!"}},{"$f":"'Horário Geral (Semana 2)'!#REF!","v":{"$error":"#REF!"}},{"$f":"'Horário Geral (Semana 2)'!#REF!","v":{"$error":"#REF!"}},{"$f":"'Horário Geral (Semana 2)'!#REF!","v":{"$error":"#REF!"}},{"$f":"'Horário Geral (Semana 2)'!#REF!","v":{"$error":"#REF!"}},{"$f":"'Horário Geral (Semana 2)'!#REF!","v":{"$error":"#REF!"}},{"$f":"'Horário Geral (Semana 2)'!#REF!","v":{"$error":"#REF!"}},{"$f":"'Horário Geral (Semana 2)'!#REF!","v":{"$error":"#REF!"}},{"$f":"'Horário Geral (Semana 2)'!#REF!","v":{"$error":"#REF!"}},{"$f":"'Horário Geral (Semana 2)'!#REF!","v":{"$error":"#REF!"}},{"$f":"'Horário Geral (Semana 2)'!#REF!","v":{"$error":"#REF!"}},{"$f":"'Horário Geral (Semana 2)'!#REF!","v":{"$error":"#REF!"}},{"$f":"'Horário Geral (Semana 2)'!#REF!","v":{"$error":"#REF!"}},{"$f":"'Horário Geral (Semana 2)'!#REF!","v":{"$error":"#REF!"}},{"$f":"'Horário Geral (Semana 2)'!#REF!","v":{"$error":"#REF!"}},{"$f":"'Horário Geral (Semana 2)'!#REF!","v":{"$error":"#REF!"}},{"$f":"'Horário Geral (Semana 2)'!#REF!","v":{"$error":"#REF!"}},{"$f":"'Horário Geral (Semana 2)'!#REF!","v":{"$error":"#REF!"}},{"$f":"'Horário Geral (Semana 2)'!#REF!","v":{"$error":"#REF!"}},{"$f":"'Horário Geral (Semana 2)'!#REF!","v":{"$error":"#REF!"}},{"$f":"'Horário Geral (Semana 2)'!#REF!","v":{"$error":"#REF!"}},{"$f":"'Horário Geral (Semana 2)'!#REF!","v":{"$error":"#REF!"}},{"$f":"'Horário Geral (Semana 2)'!#REF!","v":{"$error":"#REF!"}},{"$f":"'Horário Geral (Semana 2)'!#REF!","v":{"$error":"#REF!"}},{"$f":"'Horário Geral (Semana 2)'!#REF!","v":{"$error":"#REF!"}},{"$f":"'Horário Geral (Semana 2)'!#REF!","v":{"$error":"#REF!"}},{"$f":"'Horário Geral (Semana 2)'!#REF!","v":{"$error":"#REF!"}},{"$f":"'Horário Geral (Semana 2)'!#REF!","v":{"$error":"#REF!"}},{"$f":"'Horário Geral (Semana 2)'!#REF!","v":{"$error":"#REF!"}},{"$f":"'Horário Geral (Semana 2)'!#REF!","v":{"$error":"#REF!"}},{"$f":"'Horário Geral (Semana 2)'!#REF!","v":{"$error":"#REF!"}},{"$f":"'Horário Geral (Semana 2)'!#REF!","v":{"$error":"#REF!"}},{"$f":"'Horário Geral (Semana 2)'!#REF!","v":{"$error":"#REF!"}},{"$f":"'Horário Geral (Semana 2)'!#REF!","v":{"$error":"#REF!"}},{"$f":"'Horário Geral (Semana 2)'!#REF!","v":{"$error":"#REF!"}},{"$f":"'Horário Geral (Semana 2)'!#REF!","v":{"$error":"#REF!"}},{"$f":"'Horário Geral (Semana 2)'!#REF!","v":{"$error":"#REF!"}},{"$f":"'Horário Geral (Semana 2)'!#REF!","v":{"$error":"#REF!"}},{"$f":"'Horário Geral (Semana 2)'!#REF!","v":{"$error":"#REF!"}},{"$f":"'Horário Geral (Semana 2)'!#REF!","v":{"$error":"#REF!"}},{"$f":"'Horário Geral (Semana 2)'!#REF!","v":{"$error":"#REF!"}},{"$f":"'Horário Geral (Semana 2)'!#REF!","v":{"$error":"#REF!"}},{"$f":"'Horário Geral (Semana 2)'!#REF!","v":{"$error":"#REF!"}},{"$f":"'Horário Geral (Semana 2)'!#REF!","v":{"$error":"#REF!"}},{"$f":"'Horário Geral (Semana 2)'!#REF!","v":{"$error":"#REF!"}},{"$f":"'Horário Geral (Semana 2)'!#REF!","v":{"$error":"#REF!"}},{"$f":"'Horário Geral (Semana 2)'!#REF!","v":{"$error":"#REF!"}},{"$f":"'Horário Geral (Semana 2)'!#REF!","v":{"$error":"#REF!"}},{"$f":"'Horário Geral (Semana 2)'!#REF!","v":{"$error":"#REF!"}},{"$f":"'Horário Geral (Semana 2)'!#REF!","v":{"$error":"#REF!"}},{"$f":"'Horário Geral (Semana 2)'!#REF!","v":{"$error":"#REF!"}},{"$f":"'Horário Geral (Semana 2)'!#REF!","v":{"$error":"#REF!"}},{"$f":"'Horário Geral (Semana 2)'!#REF!","v":{"$error":"#REF!"}},{"$f":"'Horário Geral (Semana 2)'!#REF!","v":{"$error":"#REF!"}},{"$f":"'Horário Geral (Semana 2)'!#REF!","v":{"$error":"#REF!"}},{"$f":"'Horário Geral (Semana 2)'!#REF!","v":{"$error":"#REF!"}},{"$f":"'Horário Geral (Semana 2)'!#REF!","v":{"$error":"#REF!"}},{"$f":"'Horário Geral (Semana 2)'!#REF!","v":{"$error":"#REF!"}},{"$f":"'Horário Geral (Semana 2)'!#REF!","v":{"$error":"#REF!"}},{"$f":"'Horário Geral (Semana 2)'!#REF!","v":{"$error":"#REF!"}}]
[null,"3ª","20:55:00",{"$f":"'Horário Geral (Semana 2)'!#REF!","v":{"$error":"#REF!"}},{"$f":"'Horário Geral (Semana 2)'!#REF!","v":{"$error":"#REF!"}},{"$f":"'Horário Geral (Semana 2)'!#REF!","v":{"$error":"#REF!"}},{"$f":"'Horário Geral (Semana 2)'!#REF!","v":{"$error":"#REF!"}},{"$f":"'Horário Geral (Semana 2)'!#REF!","v":{"$error":"#REF!"}},{"$f":"'Horário Geral (Semana 2)'!#REF!","v":{"$error":"#REF!"}},{"$f":"'Horário Geral (Semana 2)'!#REF!","v":{"$error":"#REF!"}},{"$f":"'Horário Geral (Semana 2)'!#REF!","v":{"$error":"#REF!"}},{"$f":"'Horário Geral (Semana 2)'!#REF!","v":{"$error":"#REF!"}},{"$f":"'Horário Geral (Semana 2)'!#REF!","v":{"$error":"#REF!"}},{"$f":"'Horário Geral (Semana 2)'!#REF!","v":{"$error":"#REF!"}},{"$f":"'Horário Geral (Semana 2)'!#REF!","v":{"$error":"#REF!"}},{"$f":"'Horário Geral (Semana 2)'!#REF!","v":{"$error":"#REF!"}},{"$f":"'Horário Geral (Semana 2)'!#REF!","v":{"$error":"#REF!"}},{"$f":"'Horário Geral (Semana 2)'!#REF!","v":{"$error":"#REF!"}},{"$f":"'Horário Geral (Semana 2)'!#REF!","v":{"$error":"#REF!"}},{"$f":"'Horário Geral (Semana 2)'!#REF!","v":{"$error":"#REF!"}},{"$f":"'Horário Geral (Semana 2)'!#REF!","v":{"$error":"#REF!"}},{"$f":"'Horário Geral (Semana 2)'!#REF!","v":{"$error":"#REF!"}},{"$f":"'Horário Geral (Semana 2)'!#REF!","v":{"$error":"#REF!"}},{"$f":"'Horário Geral (Semana 2)'!#REF!","v":{"$error":"#REF!"}},{"$f":"'Horário Geral (Semana 2)'!#REF!","v":{"$error":"#REF!"}},{"$f":"'Horário Geral (Semana 2)'!#REF!","v":{"$error":"#REF!"}},{"$f":"'Horário Geral (Semana 2)'!#REF!","v":{"$error":"#REF!"}},{"$f":"'Horário Geral (Semana 2)'!#REF!","v":{"$error":"#REF!"}},{"$f":"'Horário Geral (Semana 2)'!#REF!","v":{"$error":"#REF!"}},{"$f":"'Horário Geral (Semana 2)'!#REF!","v":{"$error":"#REF!"}},{"$f":"'Horário Geral (Semana 2)'!#REF!","v":{"$error":"#REF!"}},{"$f":"'Horário Geral (Semana 2)'!#REF!","v":{"$error":"#REF!"}},{"$f":"'Horário Geral (Semana 2)'!#REF!","v":{"$error":"#REF!"}},{"$f":"'Horário Geral (Semana 2)'!#REF!","v":{"$error":"#REF!"}},{"$f":"'Horário Geral (Semana 2)'!#REF!","v":{"$error":"#REF!"}},{"$f":"'Horário Geral (Semana 2)'!#REF!","v":{"$error":"#REF!"}},{"$f":"'Horário Geral (Semana 2)'!#REF!","v":{"$error":"#REF!"}},{"$f":"'Horário Geral (Semana 2)'!#REF!","v":{"$error":"#REF!"}},{"$f":"'Horário Geral (Semana 2)'!#REF!","v":{"$error":"#REF!"}},{"$f":"'Horário Geral (Semana 2)'!#REF!","v":{"$error":"#REF!"}},{"$f":"'Horário Geral (Semana 2)'!#REF!","v":{"$error":"#REF!"}},{"$f":"'Horário Geral (Semana 2)'!#REF!","v":{"$error":"#REF!"}},{"$f":"'Horário Geral (Semana 2)'!#REF!","v":{"$error":"#REF!"}},{"$f":"'Horário Geral (Semana 2)'!#REF!","v":{"$error":"#REF!"}},{"$f":"'Horário Geral (Semana 2)'!#REF!","v":{"$error":"#REF!"}},{"$f":"'Horário Geral (Semana 2)'!#REF!","v":{"$error":"#REF!"}},{"$f":"'Horário Geral (Semana 2)'!#REF!","v":{"$error":"#REF!"}},{"$f":"'Horário Geral (Semana 2)'!#REF!","v":{"$error":"#REF!"}},{"$f":"'Horário Geral (Semana 2)'!#REF!","v":{"$error":"#REF!"}},{"$f":"'Horário Geral (Semana 2)'!#REF!","v":{"$error":"#REF!"}},{"$f":"'Horário Geral (Semana 2)'!#REF!","v":{"$error":"#REF!"}},{"$f":"'Horário Geral (Semana 2)'!#REF!","v":{"$error":"#REF!"}},{"$f":"'Horário Geral (Semana 2)'!#REF!","v":{"$error":"#REF!"}},{"$f":"'Horário Geral (Semana 2)'!#REF!","v":{"$error":"#REF!"}},{"$f":"'Horário Geral (Semana 2)'!#REF!","v":{"$error":"#REF!"}},{"$f":"'Horário Geral (Semana 2)'!#REF!","v":{"$error":"#REF!"}},{"$f":"'Horário Geral (Semana 2)'!#REF!","v":{"$error":"#REF!"}},{"$f":"'Horário Geral (Semana 2)'!#REF!","v":{"$error":"#REF!"}},{"$f":"'Horário Geral (Semana 2)'!#REF!","v":{"$error":"#REF!"}},{"$f":"'Horário Geral (Semana 2)'!#REF!","v":{"$error":"#REF!"}},{"$f":"'Horário Geral (Semana 2)'!#REF!","v":{"$error":"#REF!"}},{"$f":"'Horário Geral (Semana 2)'!#REF!","v":{"$error":"#REF!"}},{"$f":"'Horário Geral (Semana 2)'!#REF!","v":{"$error":"#REF!"}},{"$f":"'Horário Geral (Semana 2)'!#REF!","v":{"$error":"#REF!"}},{"$f":"'Horário Geral (Semana 2)'!#REF!","v":{"$error":"#REF!"}},{"$f":"'Horário Geral (Semana 2)'!#REF!","v":{"$error":"#REF!"}},{"$f":"'Horário Geral (Semana 2)'!#REF!","v":{"$error":"#REF!"}},{"$f":"'Horário Geral (Semana 2)'!#REF!","v":{"$error":"#REF!"}},{"$f":"'Horário Geral (Semana 2)'!#REF!","v":{"$error":"#REF!"}},{"$f":"'Horário Geral (Semana 2)'!#REF!","v":{"$error":"#REF!"}}]
[null,"4ª","21:45:00",{"$f":"'Horário Geral (Semana 2)'!#REF!","v":{"$error":"#REF!"}},{"$f":"'Horário Geral (Semana 2)'!#REF!","v":{"$error":"#REF!"}},{"$f":"'Horário Geral (Semana 2)'!#REF!","v":{"$error":"#REF!"}},{"$f":"'Horário Geral (Semana 2)'!#REF!","v":{"$error":"#REF!"}},{"$f":"'Horário Geral (Semana 2)'!#REF!","v":{"$error":"#REF!"}},{"$f":"'Horário Geral (Semana 2)'!#REF!","v":{"$error":"#REF!"}},{"$f":"'Horário Geral (Semana 2)'!#REF!","v":{"$error":"#REF!"}},{"$f":"'Horário Geral (Semana 2)'!#REF!","v":{"$error":"#REF!"}},{"$f":"'Horário Geral (Semana 2)'!#REF!","v":{"$error":"#REF!"}},{"$f":"'Horário Geral (Semana 2)'!#REF!","v":{"$error":"#REF!"}},{"$f":"'Horário Geral (Semana 2)'!#REF!","v":{"$error":"#REF!"}},{"$f":"'Horário Geral (Semana 2)'!#REF!","v":{"$error":"#REF!"}},{"$f":"'Horário Geral (Semana 2)'!#REF!","v":{"$error":"#REF!"}},{"$f":"'Horário Geral (Semana 2)'!#REF!","v":{"$error":"#REF!"}},{"$f":"'Horário Geral (Semana 2)'!#REF!","v":{"$error":"#REF!"}},{"$f":"'Horário Geral (Semana 2)'!#REF!","v":{"$error":"#REF!"}},{"$f":"'Horário Geral (Semana 2)'!#REF!","v":{"$error":"#REF!"}},{"$f":"'Horário Geral (Semana 2)'!#REF!","v":{"$error":"#REF!"}},{"$f":"'Horário Geral (Semana 2)'!#REF!","v":{"$error":"#REF!"}},{"$f":"'Horário Geral (Semana 2)'!#REF!","v":{"$error":"#REF!"}},{"$f":"'Horário Geral (Semana 2)'!#REF!","v":{"$error":"#REF!"}},{"$f":"'Horário Geral (Semana 2)'!#REF!","v":{"$error":"#REF!"}},{"$f":"'Horário Geral (Semana 2)'!#REF!","v":{"$error":"#REF!"}},{"$f":"'Horário Geral (Semana 2)'!#REF!","v":{"$error":"#REF!"}},{"$f":"'Horário Geral (Semana 2)'!#REF!","v":{"$error":"#REF!"}},{"$f":"'Horário Geral (Semana 2)'!#REF!","v":{"$error":"#REF!"}},{"$f":"'Horário Geral (Semana 2)'!#REF!","v":{"$error":"#REF!"}},{"$f":"'Horário Geral (Semana 2)'!#REF!","v":{"$error":"#REF!"}},{"$f":"'Horário Geral (Semana 2)'!#REF!","v":{"$error":"#REF!"}},{"$f":"'Horário Geral (Semana 2)'!#REF!","v":{"$error":"#REF!"}},{"$f":"'Horário Geral (Semana 2)'!#REF!","v":{"$error":"#REF!"}},{"$f":"'Horário Geral (Semana 2)'!#REF!","v":{"$error":"#REF!"}},{"$f":"'Horário Geral (Semana 2)'!#REF!","v":{"$error":"#REF!"}},{"$f":"'Horário Geral (Semana 2)'!#REF!","v":{"$error":"#REF!"}},{"$f":"'Horário Geral (Semana 2)'!#REF!","v":{"$error":"#REF!"}},{"$f":"'Horário Geral (Semana 2)'!#REF!","v":{"$error":"#REF!"}},{"$f":"'Horário Geral (Semana 2)'!#REF!","v":{"$error":"#REF!"}},{"$f":"'Horário Geral (Semana 2)'!#REF!","v":{"$error":"#REF!"}},{"$f":"'Horário Geral (Semana 2)'!#REF!","v":{"$error":"#REF!"}},{"$f":"'Horário Geral (Semana 2)'!#REF!","v":{"$error":"#REF!"}},{"$f":"'Horário Geral (Semana 2)'!#REF!","v":{"$error":"#REF!"}},{"$f":"'Horário Geral (Semana 2)'!#REF!","v":{"$error":"#REF!"}},{"$f":"'Horário Geral (Semana 2)'!#REF!","v":{"$error":"#REF!"}},{"$f":"'Horário Geral (Semana 2)'!#REF!","v":{"$error":"#REF!"}},{"$f":"'Horário Geral (Semana 2)'!#REF!","v":{"$error":"#REF!"}},{"$f":"'Horário Geral (Semana 2)'!#REF!","v":{"$error":"#REF!"}},{"$f":"'Horário Geral (Semana 2)'!#REF!","v":{"$error":"#REF!"}},{"$f":"'Horário Geral (Semana 2)'!#REF!","v":{"$error":"#REF!"}},{"$f":"'Horário Geral (Semana 2)'!#REF!","v":{"$error":"#REF!"}},{"$f":"'Horário Geral (Semana 2)'!#REF!","v":{"$error":"#REF!"}},{"$f":"'Horário Geral (Semana 2)'!#REF!","v":{"$error":"#REF!"}},{"$f":"'Horário Geral (Semana 2)'!#REF!","v":{"$error":"#REF!"}},{"$f":"'Horário Geral (Semana 2)'!#REF!","v":{"$error":"#REF!"}},{"$f":"'Horário Geral (Semana 2)'!#REF!","v":{"$error":"#REF!"}},{"$f":"'Horário Geral (Semana 2)'!#REF!","v":{"$error":"#REF!"}},{"$f":"'Horário Geral (Semana 2)'!#REF!","v":{"$error":"#REF!"}},{"$f":"'Horário Geral (Semana 2)'!#REF!","v":{"$error":"#REF!"}},{"$f":"'Horário Geral (Semana 2)'!#REF!","v":{"$error":"#REF!"}},{"$f":"'Horário Geral (Semana 2)'!#REF!","v":{"$error":"#REF!"}},{"$f":"'Horário Geral (Semana 2)'!#REF!","v":{"$error":"#REF!"}},{"$f":"'Horário Geral (Semana 2)'!#REF!","v":{"$error":"#REF!"}},{"$f":"'Horário Geral (Semana 2)'!#REF!","v":{"$error":"#REF!"}},{"$f":"'Horário Geral (Semana 2)'!#REF!","v":{"$error":"#REF!"}},{"$f":"'Horário Geral (Semana 2)'!#REF!","v":{"$error":"#REF!"}},{"$f":"'Horário Geral (Semana 2)'!#REF!","v":{"$error":"#REF!"}},{"$f":"'Horário Geral (Semana 2)'!#REF!","v":{"$error":"#REF!"}},{"$f":"'Horário Geral (Semana 2)'!#REF!","v":{"$error":"#REF!"}}]
[null,"5ª","22:35:00",{"$f":"'Horário Geral (Semana 2)'!#REF!","v":{"$error":"#REF!"}},{"$f":"'Horário Geral (Semana 2)'!#REF!","v":{"$error":"#REF!"}},{"$f":"'Horário Geral (Semana 2)'!#REF!","v":{"$error":"#REF!"}},{"$f":"'Horário Geral (Semana 2)'!#REF!","v":{"$error":"#REF!"}},{"$f":"'Horário Geral (Semana 2)'!#REF!","v":{"$error":"#REF!"}},{"$f":"'Horário Geral (Semana 2)'!#REF!","v":{"$error":"#REF!"}},{"$f":"'Horário Geral (Semana 2)'!#REF!","v":{"$error":"#REF!"}},{"$f":"'Horário Geral (Semana 2)'!#REF!","v":{"$error":"#REF!"}},{"$f":"'Horário Geral (Semana 2)'!#REF!","v":{"$error":"#REF!"}},{"$f":"'Horário Geral (Semana 2)'!#REF!","v":{"$error":"#REF!"}},{"$f":"'Horário Geral (Semana 2)'!#REF!","v":{"$error":"#REF!"}},{"$f":"'Horário Geral (Semana 2)'!#REF!","v":{"$error":"#REF!"}},{"$f":"'Horário Geral (Semana 2)'!#REF!","v":{"$error":"#REF!"}},{"$f":"'Horário Geral (Semana 2)'!#REF!","v":{"$error":"#REF!"}},{"$f":"'Horário Geral (Semana 2)'!#REF!","v":{"$error":"#REF!"}},{"$f":"'Horário Geral (Semana 2)'!#REF!","v":{"$error":"#REF!"}},{"$f":"'Horário Geral (Semana 2)'!#REF!","v":{"$error":"#REF!"}},{"$f":"'Horário Geral (Semana 2)'!#REF!","v":{"$error":"#REF!"}},{"$f":"'Horário Geral (Semana 2)'!#REF!","v":{"$error":"#REF!"}},{"$f":"'Horário Geral (Semana 2)'!#REF!","v":{"$error":"#REF!"}},{"$f":"'Horário Geral (Semana 2)'!#REF!","v":{"$error":"#REF!"}},{"$f":"'Horário Geral (Semana 2)'!#REF!","v":{"$error":"#REF!"}},{"$f":"'Horário Geral (Semana 2)'!#REF!","v":{"$error":"#REF!"}},{"$f":"'Horário Geral (Semana 2)'!#REF!","v":{"$error":"#REF!"}},{"$f":"'Horário Geral (Semana 2)'!#REF!","v":{"$error":"#REF!"}},{"$f":"'Horário Geral (Semana 2)'!#REF!","v":{"$error":"#REF!"}},{"$f":"'Horário Geral (Semana 2)'!#REF!","v":{"$error":"#REF!"}},{"$f":"'Horário Geral (Semana 2)'!#REF!","v":{"$error":"#REF!"}},{"$f":"'Horário Geral (Semana 2)'!#REF!","v":{"$error":"#REF!"}},{"$f":"'Horário Geral (Semana 2)'!#REF!","v":{"$error":"#REF!"}},{"$f":"'Horário Geral (Semana 2)'!#REF!","v":{"$error":"#REF!"}},{"$f":"'Horário Geral (Semana 2)'!#REF!","v":{"$error":"#REF!"}},{"$f":"'Horário Geral (Semana 2)'!#REF!","v":{"$error":"#REF!"}},{"$f":"'Horário Geral (Semana 2)'!#REF!","v":{"$error":"#REF!"}},{"$f":"'Horário Geral (Semana 2)'!#REF!","v":{"$error":"#REF!"}},{"$f":"'Horário Geral (Semana 2)'!#REF!","v":{"$error":"#REF!"}},{"$f":"'Horário Geral (Semana 2)'!#REF!","v":{"$error":"#REF!"}},{"$f":"'Horário Geral (Semana 2)'!#REF!","v":{"$error":"#REF!"}},{"$f":"'Horário Geral (Semana 2)'!#REF!","v":{"$error":"#REF!"}},{"$f":"'Horário Geral (Semana 2)'!#REF!","v":{"$error":"#REF!"}},{"$f":"'Horário Geral (Semana 2)'!#REF!","v":{"$error":"#REF!"}},{"$f":"'Horário Geral (Semana 2)'!#REF!","v":{"$error":"#REF!"}},{"$f":"'Horário Geral (Semana 2)'!#REF!","v":{"$error":"#REF!"}},{"$f":"'Horário Geral (Semana 2)'!#REF!","v":{"$error":"#REF!"}},{"$f":"'Horário Geral (Semana 2)'!#REF!","v":{"$error":"#REF!"}},{"$f":"'Horário Geral (Semana 2)'!#REF!","v":{"$error":"#REF!"}},{"$f":"'Horário Geral (Semana 2)'!#REF!","v":{"$error":"#REF!"}},{"$f":"'Horário Geral (Semana 2)'!#REF!","v":{"$error":"#REF!"}},{"$f":"'Horário Geral (Semana 2)'!#REF!","v":{"$error":"#REF!"}},{"$f":"'Horário Geral (Semana 2)'!#REF!","v":{"$error":"#REF!"}},{"$f":"'Horário Geral (Semana 2)'!#REF!","v":{"$error":"#REF!"}},{"$f":"'Horário Geral (Semana 2)'!#REF!","v":{"$error":"#REF!"}},{"$f":"'Horário Geral (Semana 2)'!#REF!","v":{"$error":"#REF!"}},{"$f":"'Horário Geral (Semana 2)'!#REF!","v":{"$error":"#REF!"}},{"$f":"'Horário Geral (Semana 2)'!#REF!","v":{"$error":"#REF!"}},{"$f":"'Horário Geral (Semana 2)'!#REF!","v":{"$error":"#REF!"}},{"$f":"'Horário Geral (Semana 2)'!#REF!","v":{"$error":"#REF!"}},{"$f":"'Horário Geral (Semana 2)'!#REF!","v":{"$error":"#REF!"}},{"$f":"'Horário Geral (Semana 2)'!#REF!","v":{"$error":"#REF!"}},{"$f":"'Horário Geral (Semana 2)'!#REF!","v":{"$error":"#REF!"}},{"$f":"'Horário Geral (Semana 2)'!#REF!","v":{"$error":"#REF!"}},{"$f":"'Horário Geral (Semana 2)'!#REF!","v":{"$error":"#REF!"}},{"$f":"'Horário Geral (Semana 2)'!#REF!","v":{"$error":"#REF!"}},{"$f":"'Horário Geral (Semana 2)'!#REF!","v":{"$error":"#REF!"}},{"$f":"'Horário Geral (Semana 2)'!#REF!","v":{"$error":"#REF!"}},{"$f":"'Horário Geral (Semana 2)'!#REF!","v":{"$error":"#REF!"}},{"$f":"'Horário Geral (Semana 2)'!#REF!","v":{"$error":"#REF!"}}]
[null,null,null,{"$f":"'Horário Geral (Semana 2)'!#REF!","v":{"$error":"#REF!"}},{"$f":"'Horário Geral (Semana 2)'!#REF!","v":{"$error":"#REF!"}},{"$f":"'Horário Geral (Semana 2)'!#REF!","v":{"$error":"#REF!"}},{"$f":"'Horário Geral (Semana 2)'!#REF!","v":{"$error":"#REF!"}},{"$f":"'Horário Geral (Semana 2)'!#REF!","v":{"$error":"#REF!"}},{"$f":"'Horário Geral (Semana 2)'!#REF!","v":{"$error":"#REF!"}},{"$f":"'Horário Geral (Semana 2)'!#REF!","v":{"$error":"#REF!"}},{"$f":"'Horário Geral (Semana 2)'!#REF!","v":{"$error":"#REF!"}},{"$f":"'Horário Geral (Semana 2)'!#REF!","v":{"$error":"#REF!"}},{"$f":"'Horário Geral (Semana 2)'!#REF!","v":{"$error":"#REF!"}},{"$f":"'Horário Geral (Semana 2)'!#REF!","v":{"$error":"#REF!"}},{"$f":"'Horário Geral (Semana 2)'!#REF!","v":{"$error":"#REF!"}},{"$f":"'Horário Geral (Semana 2)'!#REF!","v":{"$error":"#REF!"}},{"$f":"'Horário Geral (Semana 2)'!#REF!","v":{"$error":"#REF!"}},{"$f":"'Horário Geral (Semana 2)'!#REF!","v":{"$error":"#REF!"}},{"$f":"'Horário Geral (Semana 2)'!#REF!","v":{"$error":"#REF!"}},{"$f":"'Horário Geral (Semana 2)'!#REF!","v":{"$error":"#REF!"}},{"$f":"'Horário Geral (Semana 2)'!#REF!","v":{"$error":"#REF!"}},{"$f":"'Horário Geral (Semana 2)'!#REF!","v":{"$error":"#REF!"}},{"$f":"'Horário Geral (Semana 2)'!#REF!","v":{"$error":"#REF!"}},{"$f":"'Horário Geral (Semana 2)'!#REF!","v":{"$error":"#REF!"}},{"$f":"'Horário Geral (Semana 2)'!#REF!","v":{"$error":"#REF!"}},{"$f":"'Horário Geral (Semana 2)'!#REF!","v":{"$error":"#REF!"}},{"$f":"'Horário Geral (Semana 2)'!#REF!","v":{"$error":"#REF!"}},{"$f":"'Horário Geral (Semana 2)'!#REF!","v":{"$error":"#REF!"}},{"$f":"'Horário Geral (Semana 2)'!#REF!","v":{"$error":"#REF!"}},{"$f":"'Horário Geral (Semana 2)'!#REF!","v":{"$error":"#REF!"}},{"$f":"'Horário Geral (Semana 2)'!#REF!","v":{"$error":"#REF!"}},{"$f":"'Horário Geral (Semana 2)'!#REF!","v":{"$error":"#REF!"}},{"$f":"'Horário Geral (Semana 2)'!#REF!","v":{"$error":"#REF!"}},{"$f":"'Horário Geral (Semana 2)'!#REF!","v":{"$error":"#REF!"}},{"$f":"'Horário Geral (Semana 2)'!#REF!","v":{"$error":"#REF!"}},{"$f":"'Horário Geral (Semana 2)'!#REF!","v":{"$error":"#REF!"}},{"$f":"'Horário Geral (Semana 2)'!#REF!","v":{"$error":"#REF!"}},{"$f":"'Horário Geral (Semana 2)'!#REF!","v":{"$error":"#REF!"}},{"$f":"'Horário Geral (Semana 2)'!#REF!","v":{"$error":"#REF!"}},{"$f":"'Horário Geral (Semana 2)'!#REF!","v":{"$error":"#REF!"}},{"$f":"'Horário Geral (Semana 2)'!#REF!","v":{"$error":"#REF!"}},{"$f":"'Horário Geral (Semana 2)'!#REF!","v":{"$error":"#REF!"}},{"$f":"'Horário Geral (Semana 2)'!#REF!","v":{"$error":"#REF!"}},{"$f":"'Horário Geral (Semana 2)'!#REF!","v":{"$error":"#REF!"}},{"$f":"'Horário Geral (Semana 2)'!#REF!","v":{"$error":"#REF!"}},{"$f":"'Horário Geral (Semana 2)'!#REF!","v":{"$error":"#REF!"}},{"$f":"'Horário Geral (Semana 2)'!#REF!","v":{"$error":"#REF!"}},{"$f":"'Horário Geral (Semana 2)'!#REF!","v":{"$error":"#REF!"}},{"$f":"'Horário Geral (Semana 2)'!#REF!","v":{"$error":"#REF!"}},{"$f":"'Horário Geral (Semana 2)'!#REF!","v":{"$error":"#REF!"}},{"$f":"'Horário Geral (Semana 2)'!#REF!","v":{"$error":"#REF!"}},{"$f":"'Horário Geral (Semana 2)'!#REF!","v":{"$error":"#REF!"}},{"$f":"'Horário Geral (Semana 2)'!#REF!","v":{"$error":"#REF!"}},{"$f":"'Horário Geral (Semana 2)'!#REF!","v":{"$error":"#REF!"}},{"$f":"'Horário Geral (Semana 2)'!#REF!","v":{"$error":"#REF!"}},{"$f":"'Horário Geral (Semana 2)'!#REF!","v":{"$error":"#REF!"}},{"$f":"'Horário Geral (Semana 2)'!#REF!","v":{"$error":"#REF!"}},{"$f":"'Horário Geral (Semana 2)'!#REF!","v":{"$error":"#REF!"}},{"$f":"'Horário Geral (Semana 2)'!#REF!","v":{"$error":"#REF!"}},{"$f":"'Horário Geral (Semana 2)'!#REF!","v":{"$error":"#REF!"}},{"$f":"'Horário Geral (Semana 2)'!#REF!","v":{"$error":"#REF!"}},{"$f":"'Horário Geral (Semana 2)'!#REF!","v":{"$error":"#REF!"}},{"$f":"'Horário Geral (Semana 2)'!#REF!","v":{"$error":"#REF!"}},{"$f":"'Horário Geral (Semana 2)'!#REF!","v":{"$error":"#REF!"}},{"$f":"'Horário Geral (Semana 2)'!#REF!","v":{"$error":"#REF!"}},{"$f":"'Horário Geral (Semana 2)'!#REF!","v":{"$error":"#REF!"}},{"$f":"'Horário Geral (Semana 2)'!#REF!","v":{"$error":"#REF!"}},{"$f":"'Horário Geral (Semana 2)'!#REF!","v":{"$error":"#REF!"}},{"$f":"'Horário Geral (Semana 2)'!#REF!","v":{"$error":"#REF!"}},{"$f":"'Horário Geral (Semana 2)'!#REF!","v":{"$error":"#REF!"}}]

{"sheet":"Plan1","index":7,"n_rows":0,"n_cols":0,"rows_kept":0,"cut":false,"hidden":false,"merged":[]}